{"text_format":"1","workbook":"xlsx","n_sheets":22,"sheets":["MAIN","THP-71","Week 1","week 1 bk","Week 2","week 2 bk","Week 3","week 3 bk","Week 4","week 4 bk","Week 5","week 5 bk","THP-2C Instructions","Update Log","DrugType","ExpType","HideType","Sheet3","Codes","CodesCU","County","CountyCU"],"not_rendered":{"charts":0,"images":0,"macros":1,"external_links":0,"defined_names":26,"comments":0,"pivot_tables":0},"unopened":[],"bounds":{"document_bytes":16777216,"sheet_cells":100000,"rows_first":2000,"rows_last":500,"rows_between":2000,"halvings":0,"cell_chars":16384,"cell_head_chars":4096},"cells_cut":0,"cells_raw":0,"read":"whole","date_system":"1900"}

{"sheet":"MAIN","index":0,"n_rows":445,"n_cols":256,"rows_kept":445,"cut":false,"hidden":false,"merged":[[6,18,6,20],[0,0,0,1]]}
["08/2020 Version 1.1",null,null,null,null,null,null,null,null,null,null,null,null,null,null,null,null,null,null,null,null,null,null,null,null,null,null,null,null,null,null,null,null,null,null,null,null,null,null,null,null,null,null,null,null,null,null,null,null,null,null,null,null,null,null,null,null,null,null,null,null,null,null,null,null,null,null,null,null,null,null,null,null,null,null,null,null,null,null,"MAIN",null,null,null,null,null,null,null,null,null,null,null,null,null,null,null,null,null,null,null,null,null,null,null,null,null,null,null,null,null,null,null,null,null,null,null,null,null,null,null,null,null,null,null,null,null,null,null,null,null,null,null,null,null,null,null,null,null,null,null,null,null,null,null,null,null,null,null,null,null,null,null,null,null,null,null,null,null,null,null,null,null,null,null,null,null,null,null,null,null,null,null,null,null,null,null,null,null,null,null,null,null,null,null,null,null,null,null,null,null,null,null,null,null,null,null,null,null,null,null,null,null,null,null,null,null,null,null,null,null,null,null,null,null,null,null,null,null,null,null,null,null,null,null,null,null,null,null,null,null,null,null,null,null,null,null,null,null,null,null,null,null,null,null,null,null,null,null,null,null,null,null,null,"Where Cecil was raised","Where Cecil was raised","Where Cecil was raised","Where Cecil was raised"]
[]
[]
[]
[]
[]
[]
[]
[]
[]
[]
[]
[]
[]
[]
[]
[]
[]
[]
[]
[]
[]
[]
[]
[]
[]
[]
[]
[]
[]
[]
[]
[]
[]
[]
[]
[]
[]
[]
[]
[]
[]
[]
[]
[]
[]
[]
[]
[]
[]
[]
[]
[]
[]
[]
[]
[]
[]
[]
[]
[]
[]
[]
[]
[]
[]
[]
[]
[]
[]
[]
[]
[]
[]
[]
[]
[]
[]
[]
[]
[]
[]
[]
[]
[]
[]
[]
[]
[]
[]
[]
[]
[]
[]
[]
[]
[]
[]
[]
[]
[]
[]
[]
[]
[]
[]
[]
[]
[]
[]
[]
[]
[]
[]
[]
[]
[]
[]
[]
[]
[]
[]
[]
[]
[]
[]
[]
[]
[]
[]
[]
[]
[]
[]
[]
[]
[]
[]
[]
[]
[]
[]
[]
[]
[]
[]
[]
[]
[]
[]
[]
[]
[]
[]
[]
[]
[]
[]
[]
[]
[]
[]
[]
[]
[]
[]
[]
[]
[]
[]
[]
[]
[]
[]
[]
[]
[]
[]
[]
[]
[]
[]
[]
[]
[]
[]
[]
[]
[]
[]
[]
[]
[]
[]
[]
[]
[]
[]
[]
[]
[]
[]
[]
[]
[]
[]
[]
[]
[]
[]
[]
[]
[]
[]
[]
[]
[]
[]
[]
[]
[]
[]
[]
[]
[]
[]
[]
[]
[]
[]
[]
[]
[]
[]
[]
[]
[]
[]
[]
[]
[]
[]
[]
[]
[]
[]
[]
[]
[]
[]
[]
[]
[]
[]
[]
[]
[]
[]
[]
[]
[]
[]
[]
[]
[]
[]
[]
[]
[]
[]
[]
[]
[]
[]
[]
[]
[]
[]
[]
[]
[]
[]
[]
[]
[]
[]
[]
[]
[]
[]
[]
[]
[]
[]
[]
[]
[]
[]
[]
[]
[]
[]
[]
[]
[]
[]
[]
[]
[]
[]
[]
[]
[]
[]
[]
[]
[]
[]
[]
[]
[]
[]
[]
[]
[]
[]
[]
[]
[]
[]
[]
[]
[]
[]
[]
[]
[]
[]
[]
[]
[]
[]
[]
[]
[]
[]
[]
[]
[]
["ALT",null,"0:15"]
["CTE",null,"0:30"]
["CTT",null,"0:45"]
["EMT",null,"1:00"]
["EOT",null,"1:15"]
["EST",null,"1:30"]
["FFT",null,"1:45"]
["FPT",null,"2:00"]
["HCE",null,"2:15"]
["HCT",null,"2:30"]
["HOB",null,"2:45"]
["JST",null,"3:00"]
["LET",null,"3:15"]
["LWT",null,"3:30"]
["MLT",null,"3:45"]
["OHD",null,"4:00"]
["OHE",null,"4:15"]
["OHT",null,"4:30"]
["OTE",null,"4:45"]
["OTP",null,"5:00"]
["OTT",null,"5:15"]
["RCT",null,"5:30"]
["SAT",null,"5:45"]
["SET",null,"6:00"]
["SLT",null,"6:15"]
["VCT",null,"6:30"]
[null,null,"6:45"]
[null,null,"7:00"]
[null,null,"7:15"]
[null,null,"7:30"]
[null,null,"7:45"]
[null,null,"8:00"]
[null,null,"8:15"]
[null,null,"8:30"]
[null,null,"8:45"]
[null,null,"9:00"]
[null,null,"9:15"]
[null,null,"9:30"]
[null,null,"9:45"]
[null,null,"10:00"]
[null,null,"10:15"]
[null,null,"10:30"]
[null,null,"10:45"]
[null,null,"11:00"]
[null,null,"11:15"]
[null,null,"11:30"]
[null,null,"11:45"]
[null,null,"12:00"]
[null,null,"12:15"]
[null,null,"12:30"]
[null,null,"12:45"]
[null,null,"13:00"]
[null,null,"13:15"]
[null,null,"13:30"]
[null,null,"13:45"]
[null,null,"14:00"]
[null,null,"14:15"]
[null,null,"14:30"]
[null,null,"14:45"]
[null,null,"15:00"]
[null,null,"15:15"]
[null,null,"15:30"]
[null,null,"15:45"]
[null,null,"16:00"]
[null,null,"16:15"]
[null,null,"16:30"]
[null,null,"16:45"]
[null,null,"17:00"]
[null,null,"17:15"]
[null,null,"17:30"]
[null,null,"17:45"]
[null,null,"18:00"]
[null,null,"18:15"]
[null,null,"18:30"]
[null,null,"18:45"]
[null,null,"19:00"]
[null,null,"19:15"]
[null,null,"19:30"]
[null,null,"19:45"]
[null,null,"20:00"]
[null,null,"20:15"]
[null,null,"20:30"]
[null,null,"20:45"]
[null,null,"21:00"]
[null,null,"21:15"]
[null,null,"21:30"]
[null,null,"21:45"]
[null,null,"22:00"]
[null,null,"22:15"]
[null,null,"22:30"]
[null,null,"22:45"]
[null,null,"23:00"]
[null,null,"23:15"]
[null,null,"23:30"]
[null,null,"23:45"]
[null,null,"24:00"]

{"sheet":"THP-71","index":1,"n_rows":58,"n_cols":49,"rows_kept":58,"cut":false,"hidden":false,"merged":[[37,0,37,27],[39,0,39,27],[29,0,29,11],[29,13,29,27],[31,0,31,27],[33,0,33,27],[35,0,35,27],[9,29,10,29],[11,29,12,29],[13,29,14,29],[28,0,28,11],[28,13,28,27],[17,7,17,16],[17,18,17,25],[7,17,7,21],[7,23,7,25],[7,29,8,29],[8,8,8,10],[8,17,8,18],[8,20,8,21],[8,22,8,23],[8,24,8,26],[5,1,5,27],[5,29,6,29],[6,18,6,25],[0,1,0,27],[1,1,1,27],[2,18,2,23],[3,0,3,5],[3,18,3,20],[3,25,3,27],[3,29,4,29],[4,0,4,5],[4,6,4,8],[4,18,4,20],[4,25,4,27]]}
[null,"Texas Highway Patrol",null,null,null,null,null,null,null,null,null,null,null,null,null,null,null,null,null,null,null,null,null,null,null,null,null,null,null,null,null,null,null,null,null,null,null,null,{"$f":"DATE(X4,AK4,1)","v":"2019-09-01"}]
[null,"Overtime Worksheet for Commissioned Employees",null,null,null,null,null,null,null,null,null,null,null,null,null,null,null,null,null,null,null,null,null,null,null,null,null,null,null,null,null,null,null,null,null,null,null,null,null,null,"Week 1"]
[null,null,null,null,null,null,null,null,null,null,null,null,null,null,null,null,null,null,null,null,null,null,null,null,null,null,null,null,null,null,true,false,null,null,"Month","Number",null,null,null,null,{"$f":"IF(NOT(AO5=FALSE),AO5, IF(NOT(AO6=FALSE),AO6, IF(NOT(AO7=FALSE),AO7, IF(NOT(AO8=FALSE),AO8, IF(NOT(AO9=FALSE),AO9, IF(NOT(AO10=FALSE),AO10, IF(NOT(AO11=FALSE),AO11)))))))","v":"2019-09-06"}]
[{"$f":"IF(OR('Week 1'!A7=\"\",'Week 1'!H7=\"\"),\"\",CONCATENATE('Week 1'!A7,\", \",'Week 1'!H7,\" \",'Week 1'!N7))","v":"SMITH, JOE "},null,null,null,null,null,null,{"$f":"IF(Sheet3!D4=\"\",\"\",Sheet3!D4)","v":8888},null,{"$f":"IF('Week 1'!Q7=\"\",\"\",'Week 1'!Q7)","v":1333},null,{"$f":"IF(Sheet3!D8=\"\",\"\",Sheet3!D8)","v":44444},null,{"$f":"IF(Sheet3!D9=\"\",\"\",Sheet3!D9)","v":"C2"},null,{"$f":"IF(Sheet3!D10=\"\",\"\",Sheet3!D10)","v":1},null,null,"September",null,null,null,null,2019,null,null,null,null,null,"Week 1",{"$f":"IF(L10>3,3,L10)","v":0},0,"January",null,"Apr",4,{"$f":"VLOOKUP(S4,AI4:AJ16,2)","v":9},1,31,null,null,null,null,null,"Salary Group",null,"Step #"]
["Employee Name",null,null,null,null,null,"Social Security #",null,null,"ID #",null,"Regular OT Speed Chart #",null,"Salary\nGroup",null,"Step #",null,null,"Month",null,null,null,null,"Year",null,"Date Submitted",null,null,null,null,{"$f":"IF(L10=\"\",\"\",IF(L10<3,0,L10-3))","v":0},{"$f":"L10","v":0},"February",null,"Aug",8,null,2,28,null,{"$f":"IF(AND(WEEKDAY(AM1)=7,MONTH(AM1)=MONTH(AM1+6)),AM1+6,IF(AND(WEEKDAY(AM1)=7,MONTH(AM1)=MONTH(AM1+5)),AM1+5,IF(AND(WEEKDAY(AM1)=7,MONTH(AM1)=MONTH(AM1+4)),AM1+4,IF(AND(WEEKDAY(AM1)=7,MONTH(AM1)=MONTH(AM1+3)),AM1+3,IF(AND(WEEKDAY(AM1)=7,MONTH(AM1)=MONTH(AM1+2)),AM1+2,IF(AND(WEEKDAY(AM1)=7,MONTH(AM1)=MONTH(AM1+1)),AM1+1,IF(WEEKDAY(AM1)=7,AM1)))))))","v":false},null,null,null,"C2",null,1]
[null,"Overtime Calculations",null,null,null,null,null,null,null,null,null,null,null,null,null,null,null,null,null,null,null,null,null,null,null,null,null,null,null,"Week 2",{"$f":"IF(L11>3,3,L11)","v":0},0,"March",null,"Dec",12,null,3,31,null,{"$f":"IF(AND(WEEKDAY(AM1)=1,MONTH(AM1)=MONTH(AM1+5)),AM1+5,IF(AND(WEEKDAY(AM1)=1,MONTH(AM1)=MONTH(AM1+4)),AM1+4,IF(AND(WEEKDAY(AM1)=1,MONTH(AM1)=MONTH(AM1+3)),AM1+3,IF(AND(WEEKDAY(AM1)=1,MONTH(AM1)=MONTH(AM1+2)),AM1+2,IF(AND(WEEKDAY(AM1)=1,MONTH(AM1)=MONTH(AM1+1)),AM1+1,IF(WEEKDAY(AM1)=1,AM1))))))","v":"2019-09-06"},null,null,null,"C3",null,2]
[null,null,null,null,null,null,null,null,null,null,null,null,null,null,null,null,null,null,"Use these totals for the completion of the THP-71A",null,null,null,null,null,null,null,null,null,null,null,{"$f":"IF(L11<3,0,L11-3)","v":0},{"$f":"L11","v":0},"April",null,"Feb",2,null,4,30,null,{"$f":"IF(AND(WEEKDAY(AM1)=2,MONTH(AM1)=MONTH(AM1+4)),AM1+4,IF(AND(WEEKDAY(AM1)=2,MONTH(AM1)=MONTH(AM1+3)),AM1+3,IF(AND(WEEKDAY(AM1)=2,MONTH(AM1)=MONTH(AM1+2)),AM1+2,IF(AND(WEEKDAY(AM1)=2,MONTH(AM1)=MONTH(AM1+1)),AM1+1,IF(WEEKDAY(AM1)=2,AM1)))))","v":false},null,null,null,"C4",null,3,null,"OT 2"]
[null,null,null,null,null,null,null,null,null,null,null,null,null,null,null,null,null,null,null,null,null,null,null,null,null,null,null,null,null,"Week 3",{"$f":"IF(L12>3,3,L12)","v":0},0,"May",null,null,null,null,5,31,null,{"$f":"IF(AND(WEEKDAY(AM1)=3,MONTH(AM1)=MONTH(AM1+3)),AM1+3,IF(AND(WEEKDAY(AM1)=3,MONTH(AM1)=MONTH(AM1+2)),AM1+2,IF(AND(WEEKDAY(AM1)=3,MONTH(AM1)=MONTH(AM1+1)),AM1+1,IF(WEEKDAY(AM1)=3,AM1))))","v":false},null,null,null,"C5",null,4,null,{"$f":"IF(Sheet3!D15=\"\",\"\",Sheet3!D15)","v":4444}]
[null,null,null,"Start Date",null,"End Date",null,"  Actual Hours Worked","Leave Accurals Taken",null,null,"Earned OT Hours ",null,null,null,"Total OTE Hours Paid",null,"Regular OT Speed Chart #",null,null,"# Hours",null,{"$f":"IF(AW8=\"\",\"Add Speed Chart\",CONCATENATE(\"Speed Chart \",AW8, CHAR(10), \"# of Hours\"))","v":"Speed Chart 4444\n# of Hours"},null,"Total # OT Hours",null,null,null,null,null,{"$f":"IF(L12<3,0,L12-3)","v":0},{"$f":"L12","v":0},"June",null,"Jan",1,null,6,30,null,{"$f":"IF(AND(WEEKDAY(AM1)=4,MONTH(AM1)=MONTH(AM1+2)),AM1+2,IF(AND(WEEKDAY(AM1)=4,MONTH(AM1)=MONTH(AM1+1)),AM1+1,IF(WEEKDAY(AM1)=4,AM1)))","v":false},null,null,null,"C6",null,5]
[null,"1st Week",null,{"$f":"AI46","v":"2019-09-01"},null,{"$f":"IFERROR(D10+6,\"\")","v":"2019-09-07"},null,{"$f":"IF(D10=\"\",\"\",'Week 1'!O18)","v":0},null,{"$f":"IF(D10=\"\",\"\",'Week 1'!AU$18)","v":0},null,{"$f":"IF(D10=\"\",\"\",'Week 1'!AX$26-H20-N20)","v":0},null,null,null,{"$f":"IF(H10=\"\",\"\",IF((L10-N10)<0,0,L10-N10))","v":0},null,null,{"$f":"IF(U10=\"\",\"\",IF(U10=0,\"\",$L$4))","v":""},null,{"$f":"IF(P10=\"\",\"\",(IF(P10<12,P10,12)))","v":0},null,null,{"$f":"IF(P10=\"\",\"\",P10-U10)","v":0},null,{"$f":"IF(P10=\"\",\"\",U10+X10)","v":0},null,null,null,"Week 4",{"$f":"IF(L13>3,3,L13)","v":0},0,"July",null,"Jul",7,null,7,31,null,{"$f":"IF(AND(WEEKDAY(AM1)=5,MONTH(AM1)=MONTH(AM1+1)),AM1+1,IF(WEEKDAY(AM1)=5,AM1))","v":false},null,null,null,"C7",null,6]
[null,"2nd Week",null,{"$f":"IF(OR(S4=\"\",X4=\"\"),\"\",F10+1)","v":"2019-09-08"},null,{"$f":"IF(OR(S4=\"\",X4=\"\"),\"\",D11+6)","v":"2019-09-14"},null,{"$f":"IF(D11=\"\",\"\",'Week 2'!O18)","v":0},null,{"$f":"IF(D11=\"\",\"\",'Week 2'!AU$18)","v":0},null,{"$f":"IF(D11=\"\",\"\",'Week 2'!AX$26-H21-N21)","v":0},null,null,null,{"$f":"IF(H11=\"\",\"\",IF((L11-N11)<0,0,L11-N11))","v":0},null,null,{"$f":"IF(U11=\"\",\"\",IF(U11=0,\"\",$L$4))","v":""},null,{"$f":"IF(P11=\"\",\"\",(IF(P10+P11<12,P11,12-U10)))","v":0},null,null,0,null,0,null,null,null,null,{"$f":"IF(L13<3,0,L13-3)","v":0},{"$f":"L13","v":0},"August",null,"Jun",6,null,8,null,null,{"$f":"IF(WEEKDAY(AM1)=6,AM1)","v":false},null,null,null,"C8"]
[null,"3rd Week",null,{"$f":"IF(OR(S4=\"\",X4=\"\"),\"\",F11+1)","v":"2019-09-15"},null,{"$f":"IF(OR(S4=\"\",X4=\"\"),\"\",D12+6)","v":"2019-09-21"},null,{"$f":"IF(D12=\"\",\"\",'Week 3'!O18)","v":0},null,{"$f":"IF(D12=\"\",\"\",'Week 3'!AU$18)","v":0},null,{"$f":"IF(D12=\"\",\"\",'Week 3'!AX$26-H22-N22)","v":0},null,null,null,{"$f":"IF(H12=\"\",\"\",IF((L12-N12)<0,0,L12-N12))","v":0},null,null,"",null,{"$f":"IF(P12=\"\",\"\",(IF(P10+P11+P12<12,P12,12-U10-U11)))","v":0},null,null,0,null,0,null,null,null,"Week 5",{"$f":"IF(L14>3,3,L14)","v":3},0,"September",null,"Mar",3,null,9]
[null,"4th Week",null,{"$f":"IF(OR(S4=\"\",X4=\"\"),\"\",F12+1)","v":"2019-09-22"},null,{"$f":"IF(OR(S4=\"\",X4=\"\",),\"\",D13+6)","v":"2019-09-28"},null,{"$f":"IF(D13=\"\",\"\",'Week 4'!O18)","v":0},null,{"$f":"IF(D13=\"\",\"\",'Week 4'!AU$18)","v":0},null,{"$f":"IF(D13=\"\",\"\",'Week 4'!AX$26-H23-N23)","v":0},null,null,null,{"$f":"IF(H13=\"\",\"\",IF((L13-N13)<0,0,L13-N13))","v":0},null,null,"",null,{"$f":"IF(P13=\"\",\"\",(IF(P10+P11+P12+P13<12,P13,12-U10-U11-U12)))","v":0},null,null,0,null,0,null,null,null,null,{"$f":"IF(L14<3,0,L14-3)","v":{"$error":"#VALUE!"}},{"$f":"L14","v":""},"October",null,"May",5,null,10]
[null,"5th Week",null,{"$f":"IF(F13=AI49,\"\",IF(OR(S4=\"\",X4=\"\"),\"\",IF((MONTH(F13)=MONTH(F13+1)),F13+1,\"\")))","v":""},null,{"$f":"IF(D14=\"\",\"\",D14+6)","v":""},null,{"$f":"IF(D14=\"\",\"\",'Week 5'!O18)","v":""},null,{"$f":"IF(D14=\"\",\"\",'Week 5'!AU$18)","v":""},null,{"$f":"IF(D14=\"\",\"\",'Week 5'!AX$26-H24-N24)","v":""},null,null,null,{"$f":"IF(H14=\"\",\"\",IF((L14-N14)<0,0,L14-N14))","v":""},null,null,"",null,{"$f":"IF(P14=\"\",\"\",(IF(P10+P11+P12+P13+P14<12,P14,12-U10-U11-U12-U13)))","v":""},null,null,"",null,"",null,null,null,"Week 6",{"$f":"IF(L15>3,3,L15)","v":0},0,"November",null,"Nov",11,null,11]
[null,null,null,null,null,null,null,null,null,null,null,null,null,null,null,null,null,null,"",null,{"$f":"IF(P15=\"\",\"\",(IF(P10+P11+P12+P13+P14+P15<12,P15,12-U10-U11-U12-U13-U14)))","v":""},null,null,"",null,"",null,null,null,null,{"$f":"IF(L15<3,0,L15-3)","v":0},{"$f":"L15","v":0},"December",null,"Oct",10,null,12]
[null,null,null,null,null,null,null,null,null,"TOTALS",null,{"$f":"IF(OR(S4=\"\",X4=\"\"),\"\",SUM(L10:L15))","v":0},null,null,null,{"$f":"IF(OR(S4=\"\",X4=\"\"),\"\",SUM(P10:P15))","v":0},null,null,"",{"$f":"IF(OR(S5=\"\",X5=\"\"),\"\",SUM(T10:T15))","v":0},{"$f":"IF(OR(S5=\"\",X5=\"\"),\"\",SUM(U10:U15))","v":0},null,null,0,{"$f":"IF(OR(S5=\"\",X5=\"\"),\"\",SUM(Y10:Y15))","v":0},0,null,null,null,null,null,null,null,null,"Sep",9,null,null,null,{"$f":"IF(OR(S4=\"\",X4=\"\"),0,WEEKDAY(DATE(X4,AK4,VLOOKUP(AK4,AL4:AM15,2))))","v":7}]
[null,null,null,"All OTE is reimbursed at 1 1/2 hours per hour worked.",null,null,null,null,null,null,null,null,null,null,null,null,null,null,null,null,null,null,null,null,null,null,null,null,null,{"$f":"6-COUNTBLANK(D10:D15)","v":4}]
[null,null,null,null,null,null,null,"Special Projects",null,null,null,null,null,null,null,null,null,null,"Compensatory Time Caculation"]
[null,null,null,"Start Date",null,"End Date",null,"Special Project Hours",null,"Special Project Speed Chart #",null,null,null,"Special Project Hours",null,"Special Project Speed Chart #",null,null,"Start Date",null,"End Date",null,null,"Comp Time Earned (CTE)"]
[null,"1st Week",null,{"$f":"D10","v":"2019-09-01"},null,{"$f":"F10","v":"2019-09-07"},null,null,null,null,null,null,null,null,null,null,null,null,{"$f":"D10","v":"2019-09-01"},null,{"$f":"F20","v":"2019-09-07"},null,null,{"$f":"IF(D10=\"\",\"\",'Week 1'!AX27)","v":0},null,"1st Week"]
[null,"2nd Week",null,{"$f":"D11","v":"2019-09-08"},null,{"$f":"F11","v":"2019-09-14"},null,null,null,null,null,null,null,null,null,null,null,null,{"$f":"D11","v":"2019-09-08"},null,{"$f":"F21","v":"2019-09-14"},null,null,{"$f":"IF(D10=\"\",\"\",'Week 2'!AX27)","v":0},null,"2nd Week"]
[null,"3rd Week",null,{"$f":"D12","v":"2019-09-15"},null,{"$f":"F12","v":"2019-09-21"},null,null,null,null,null,null,null,null,null,null,null,null,{"$f":"D12","v":"2019-09-15"},null,{"$f":"F22","v":"2019-09-21"},null,null,{"$f":"IF(D10=\"\",\"\",'Week 3'!AX27)","v":0},null,"3rd Week"]
[null,"4th Week",null,{"$f":"D13","v":"2019-09-22"},null,{"$f":"F13","v":"2019-09-28"},null,null,null,null,null,null,null,null,null,null,null,null,{"$f":"D13","v":"2019-09-22"},null,{"$f":"F23","v":"2019-09-28"},null,null,{"$f":"IF(D10=\"\",\"\",'Week 4'!AX27)","v":0},null,"4th Week"]
[null,"5th Week",null,{"$f":"D14","v":""},null,{"$f":"F14","v":""},null,null,null,null,null,null,null,null,null,null,null,null,{"$f":"D14","v":""},null,{"$f":"F24","v":""},null,null,{"$f":"IF(D10=\"\",\"\",'Week 5'!AX27)","v":0},null,"5th Week"]
[]
[null,null,null,null,null,"TOTALS",null,{"$f":"IF(OR(S4=\"\",X4=\"\"),\"\",SUM(H20:H25))","v":0},null,null,null,null,null,{"$f":"IF(OR(S4=\"\",X4=\"\"),\"\",SUM(N20:N25))","v":0},null,null,null,null,null,null,null,null,null,{"$f":"SUM(X20:X25)","v":0}]
[null,null,null,"All Special Project overtime is reimbursed at 1 1/2 hour per hour worked."]
[]
[]
["Employee's Signature",null,null,null,null,null,null,null,null,null,null,null,null,"Approving Supervisor's Signature"]
[]
["Salary Group:  Prob. Trooper = C2, Trooper/Corporal = C3, Sergeant = C4, Lieutenant = C5, Captain = C6, Assistant Commander = C7, Major = C8"]
[]
["Step #:  Less than 4 years = Step 1, 4 > 8 years = Step 2, 8 > 12 years = Step 3, 12 > 16 years = Step 4, 16 > 20 years = Step 5, 20 > = Step 6"]
[]
["Report any Paid OTE for the employee's assigned index # on an THP-71A for the appropriate reporting month.  Paid OTE is reimbursed at 1 1/2 hours per hour worked."]
[]
["Report any Special Project overtime for the appropriate Speed Chart # on an THP-71A for the appropriate reporting month.  Special Project OT is reimbursed at 1 1/2 hours per hour worked."]
[]
["Reporting Period: Time for this reporting period ends on the last Saturday of the month.  Any time worked or earned during the month and after the last Saturday will be included in the next reporting period."]
[]
[null,null,null,null,null,null,null,null,null,null,null,null,null,null,null,null,null,null,null,null,null,null,null,null,null,null,null,"THP-71 (Rev. 9/2019)",null,null,null,null,null,null,"MONTH","YEAR",null,"NEXT CYCLE MONTH","NEXT CYCLE YEAR"]
[null,null,null,null,null,null,null,null,null,null,null,null,null,null,null,null,null,null,null,null,null,null,null,null,null,null,null,null,null,null,null,null,null,null,{"$f":"IF(S4=\"\",\"\",VLOOKUP(S4,AE44:AF55,2,FALSE))","v":9},{"$f":"IF(X4=\"\",\"\",X4)","v":2019},null,{"$f":"IFERROR(UPPER(TEXT(DATE(2000,AI43+1,1),\"MMMM\")),\"\")","v":"OCTOBER"},{"$f":"IF(AL43=\"JANUARY\",AJ43+1,AJ43)","v":2019}]
[null,null,null,null,null,null,null,null,null,null,null,null,null,null,null,null,null,null,null,null,null,null,null,null,null,null,null,null,null,null,"JANUARY",1]
[null,null,null,null,null,null,null,null,null,null,null,null,null,null,null,null,null,null,null,null,null,null,null,null,null,null,null,null,null,null,"FEBRUARY",2,null,null,{"$f":"IFERROR(DATE(AJ43,AI43,8)-WEEKDAY(DATE(AJ43,AI43,1)),\"\")","v":"2019-09-07"},"FIRST SATURDAY"]
[null,null,null,null,null,null,null,null,null,null,null,null,null,null,null,null,null,null,null,null,null,null,null,null,null,null,null,null,null,null,"MARCH",3,null,null,{"$f":"IFERROR(AI45-6,\"\")","v":"2019-09-01"},"FIRST DAY OF CYCLE"]
[null,null,null,null,null,null,null,null,null,null,null,null,null,null,null,null,null,null,null,null,null,null,null,null,null,null,null,null,null,null,"APRIL",4,null,null,{"$f":"IFERROR(EOMONTH(AI45,0),\"\")","v":"2019-09-30"},"LAST DAY OF MONTH"]
[null,null,null,null,null,null,null,null,null,null,null,null,null,null,null,null,null,null,null,null,null,null,null,null,null,null,null,null,null,null,"MAY",5,null,null,{"$f":"AI47","v":"2019-09-30"},"LAST DAY OF MONTH"]
[null,null,null,null,null,null,null,null,null,null,null,null,null,null,null,null,null,null,null,null,null,null,null,null,null,null,null,null,null,null,"JUNE",6,null,null,{"$f":"IF(TEXT(AI48,\"DDDD\")=\"FRIDAY\",AI47-6,IF(TEXT(AI48,\"DDDD\")=\"THURSDAY\",AI47-5,IF(TEXT(AI48,\"DDDD\")=\"WEDNESDAY\",AI47-4,IF(TEXT(AI48,\"DDDD\")=\"TUESDAY\",AI47-3,IF(TEXT(AI48,\"DDDD\")=\"MONDAY\",AI47-2,IF(TEXT(AI48,\"DDDD\")=\"SUNDAY\",AI47-1,IF(TEXT(AI48,\"DDDD\")=\"SATURDAY\",AI47)))))))","v":"2019-09-28"},"LAST DAY OF CYCLE"]
[null,null,null,null,null,null,null,null,null,null,null,null,null,null,null,null,null,null,null,null,null,null,null,null,null,null,null,null,null,null,"JULY",7,null,null,{"$f":"IF(AI49=FALSE,\"\",AI49+1)","v":"2019-09-29"},"FIRST DAY OF NEXT CYCLE"]
[null,null,null,null,null,null,null,null,null,null,null,null,null,null,null,null,null,null,null,null,null,null,null,null,null,null,null,null,null,null,"AUGUST",8]
[null,null,null,null,null,null,null,null,null,null,null,null,null,null,null,null,null,null,null,null,null,null,null,null,null,null,null,null,null,null,"SEPTEMBER",9]
[null,null,null,null,null,null,null,null,null,null,null,null,null,null,null,null,null,null,null,null,null,null,null,null,null,null,null,null,null,null,"OCTOBER",10,null,null,{"$f":"AI46","v":"2019-09-01"},"WEEK 1 START DATE"]
[null,null,null,null,null,null,null,null,null,null,null,null,null,null,null,null,null,null,null,null,null,null,null,null,null,null,null,null,null,null,"NOVEMBER",11,null,null,{"$f":"IFERROR(AI53+7,\"\")","v":"2019-09-08"},"WEEK 2 START DATE"]
[null,null,null,null,null,null,null,null,null,null,null,null,null,null,null,null,null,null,null,null,null,null,null,null,null,null,null,null,null,null,"DECEMBER",12,null,null,{"$f":"IFERROR(AI54+7,\"\")","v":"2019-09-15"},"WEEK 3 START DATE"]
[null,null,null,null,null,null,null,null,null,null,null,null,null,null,null,null,null,null,null,null,null,null,null,null,null,null,null,null,null,null,{"$f":"IFERROR(TEXT(AE57,\"MMM\"),\"\")","v":"Sep"},{"$f":"IFERROR(TEXT(AE57,\"YYYY\"),\"\")","v":"2019"},null,null,{"$f":"IFERROR(AI55+7,\"\")","v":"2019-09-22"},"WEEK 4 START DATE"]
[null,null,null,null,null,null,null,null,null,null,null,null,null,null,null,null,null,null,null,null,null,null,null,null,null,null,null,null,null,null,{"$f":"IFERROR(DATE(AJ43,AI43,1),\"\")","v":"2019-09-01"},null,null,null,{"$f":"IF(D14=\"\",\"\",AI56+7)","v":""},"WEEK 5 START DATE"]
[null,null,null,null,null,null,null,null,null,null,null,null,null,null,null,null,null,null,null,null,null,null,null,null,null,null,null,null,null,null,{"$f":"IF(Sheet3!D1=\"\",\"\", Sheet3!D1)","v":"SMITH"}]

{"sheet":"Week 1","index":2,"n_rows":460,"n_cols":54,"rows_kept":460,"cut":false,"hidden":false,"merged":[[100,13,100,18],[45,12,45,16],[51,12,51,15],[53,36,53,38],[43,37,43,38],[17,30,18,30],[54,36,54,38],[17,29,18,29],[46,22,46,25],[47,22,47,25],[49,22,49,25],[48,36,48,38],[43,33,43,34],[52,36,52,38],[43,23,43,24],[43,25,43,26],[17,13,18,13],[17,19,18,19],[43,17,43,18],[51,17,51,20],[48,17,48,20],[52,12,52,15],[17,24,18,24],[17,18,18,18],[131,28,131,30],[43,27,43,28],[15,1,15,2],[50,22,50,25],[52,0,53,4],[52,17,52,20],[47,6,47,10],[47,12,47,15],[51,0,51,4],[47,0,47,4],[52,22,52,25],[48,22,48,25],[51,22,51,25],[46,12,46,15],[49,12,49,15],[50,12,50,15],[47,17,47,20],[43,19,43,20],[43,21,43,22],[48,12,48,15],[50,17,50,20],[52,5,53,5],[30,0,30,6],[17,10,18,10],[48,0,48,4],[8,0,9,0],[8,7,9,7],[8,8,9,8],[10,1,10,2],[8,5,9,6],[11,1,11,2],[8,1,9,2],[8,3,9,4],[14,1,14,2],[13,1,13,2],[17,7,18,7],[14,5,14,6],[15,3,15,4],[14,3,14,4],[10,3,10,4],[10,5,10,6],[12,5,12,6],[50,0,50,4],[23,0,23,6],[36,0,36,6],[39,0,39,6],[46,0,46,4],[42,0,43,6],[16,3,16,4],[16,5,16,6],[43,29,43,30],[45,28,45,39],[46,17,46,20],[16,36,16,40],[17,36,18,40],[43,7,43,8],[46,6,46,10],[38,0,38,6],[45,0,45,11],[43,11,43,12],[25,0,25,6],[26,0,26,6],[49,0,49,4],[17,12,18,12],[35,0,35,6],[27,0,27,6],[31,0,31,6],[33,0,33,6],[28,0,28,6],[24,0,24,6],[37,0,37,6],[32,0,32,6],[40,0,40,6],[29,0,29,6],[41,0,41,6],[20,0,22,6],[17,11,18,11],[43,9,43,10],[17,8,18,8],[8,35,9,35],[17,35,18,35],[8,32,9,34],[10,32,10,34],[13,5,13,6],[11,3,11,4],[17,27,18,27],[17,28,18,28],[8,30,9,30],[8,31,9,31],[17,22,18,22],[17,0,18,6],[15,5,15,6],[11,5,11,6],[12,3,12,4],[13,3,13,4],[8,9,9,9],[8,10,9,10],[12,1,12,2],[17,14,18,14],[17,9,18,9],[17,15,18,15],[16,1,16,2],[2,32,2,40],[6,33,6,34],[6,7,6,12],[6,13,6,14],[7,3,7,10],[7,15,7,20],[2,3,2,8],[6,21,6,25],[6,26,6,27],[6,16,6,19],[2,9,2,10],[6,0,6,6],[7,22,7,24],[1,12,2,25],[7,36,7,40],[6,28,6,32],[7,30,7,35],[11,36,11,40],[12,36,12,40],[17,23,18,23],[17,25,18,25],[17,44,18,44],[17,45,18,45],[17,46,18,46],[43,13,43,14],[43,15,43,16],[43,39,43,40],[43,35,43,36],[17,43,18,43],[17,17,18,17],[17,16,18,16],[17,20,18,20],[17,21,18,21],[15,36,15,40],[13,36,13,40],[14,36,14,40],[16,32,16,34],[17,32,18,34],[0,12,0,25],[49,36,49,38],[43,31,43,32],[21,39,21,40],[20,35,20,40],[17,26,18,26],[17,31,18,31],[5,34,5,40],[0,32,0,40],[6,35,6,39],[7,25,7,29],[7,11,7,13],[49,17,49,20],[11,32,11,34],[12,32,12,34],[13,32,13,34],[14,32,14,34],[15,32,15,34],[8,36,9,40],[10,36,10,40]]}
[{"$f":"\"THP-2C (\"&\"\"&(MAIN!A1)&\")\"","v":"THP-2C (08/2020 Version 1.1)"},null,null,null,null,null,null,null,null,null,null,null,"Texas Department of Public Safety",null,null,null,null,null,null,null,null,null,null,null,null,null,null,null,null,null,null,"GRANT OT SPEED CHART #"]
[null,null,null,null,null,null,null,null,null,null,null,null,"TEXAS HIGHWAY PATROL EQUINE WEEKLY REPORT"]
[null,null,"POSITION TITLE ",{"$f":"IF(Sheet3!D11=\"\",\"\",Sheet3!D11)","v":"Trooper II"},null,null,null,null,null,"FUNCTION",null,{"$f":"IF(Sheet3!D12=\"\",\"\",Sheet3!D12)","v":"HP"},null,null,null,null,null,null,null,null,null,null,null,null,null,null,null,null,null,null,null,"GRANT OT SPEED CHART #"]
[]
["                                         "]
[" NAME:  LAST",null,null,null,null,null,null,"FIRST",null,null,null,null,null," INITIAL",null," ID NO.",null,null,null,null," AREA",null,null,null,null,null," REPORTING PERIOD"]
[{"$f":"IF(Sheet3!D1=\"\",\"\",Sheet3!D1)","v":"SMITH"},null,null,null,null,null,null,{"$f":"IF(Sheet3!D2=\"\",\"\",Sheet3!D2)","v":"JOE"},null,null,null,null,null,{"$f":"IF(Sheet3!D3=\"\",\"\",Sheet3!D3)","v":""},null,null,{"$f":"IF(Sheet3!D7=\"\",\"\",Sheet3!D7)","v":1333},null,null,null,null,{"$f":"IF(Sheet3!D5=\"\",\"\",Sheet3!D5)","v":"3EO1"},null,null,null,null,"  FROM:",null,{"$f":"'THP-71'!D10","v":"2019-09-01"},null,null,null,null," THROUGH: ",null,{"$f":"'THP-71'!F10","v":"2019-09-07"}]
["DUTY DAYS",null,null,"HOURS WORKED",null,null,null,null,null,null,null,"GRANT OT WORKED",null,null,"TOTAL DUTY HOURS","ADMINISTRATIVE DUTIES",null,null,null,null,null,null,"ROUTINE DUTIES",null,null,"EQUINE ADMINISTRATIVE",null,null,null,null,"AUTO",null,null,null,null,null,"COUNTY WORKED"]
["DAY","DATE",null,"TIME STARTED WORK",null,"TIME ENDED WORK",null,"HOURS OFF DUTY","REG & OT DAY DUTY HOURS","REG & OT NIGHT DUTY HOURS","TOTAL REG & OT DUTY HOURS","DAY GRANT OT HOURS","NIGHT GRANT OT HOURS","TOTAL GRANT OT HOURS","TOTAL DUTY HOURS","VEHICLE MAINTENANCE","SAFETY / TRAINING PROGRAMS","COURT","BACKGROUND INVESTIGATION","TRAINING","OFFICE DUTY",null,"PATROL ENFORCEMENT","CRASH INVESTIGATION","MOTOR CARRIER WORK","EQUINE TRAINING","EQUINE MAINTENANCE","VETERINARIAN","STABLE, VEHICLE, TRAILER MAINT.","TRAINING CONSTRUCTION","REG & OT DUTY MILES","GRANT OT DUTY MILES","UNIT NUMBER",null,null,"TOTAL DUTY MILES","SELECT COUNTY WHERE 60% OR MORE DUTY TIME SPENT",null,null,null,null,"SCHEDULED DAY OFF","DATE","REG OT","REG + GRANT OT","TIME TAKEN CALC\n(TT2)","TIME TAKEN ACTUAL\n(TT1)","TIME TAKEN","LT 8 HRS DUTY","LT DIFF","Day Off","Total Duty Hours","Total Daily OT"]
[]
["SUN",{"$f":"AC7","v":"2019-09-01"},null,null,null,null,null,null,null,null,{"$f":"IF(OR(D11=\"\",F11=\"\"),\"\",IF(AND(I11=\"\",J11=\"\"),\"\",SUM(I11:J11)))","v":""},null,null,{"$f":"IF(AND(D11=\"\",F11=\"\"),\"\",SUM(L11:M11))","v":""},{"$f":"IF(OR(D11=\"\",F11=\"\"),\"\",IF(AND(G100>0,I100>0),\"*\"&C100&\"*\",IF(G100>0,\"<\"&C100,IF(I100>0,C100&\">\",C100))))","v":""},null,null,null,null,null,null,null,null,null,null,null,null,null,null,null,null,null,null,null,null,{"$f":"IF(SUM(AE11,AF11)=0, \"\", SUM(AE11,AF11))","v":""},null,null,null,null,null,null,{"$f":"B11","v":"2019-09-01"},{"$f":"IF(OR(K11 =\"\",IFERROR((K11-8)<0,0)),0,K11-8)","v":0},{"$f":"IFERROR(IF(OR(O11=\"\",IFERROR((O11-8)<0,0)),0,O11-8),0)","v":0},{"$f":"IF(AD94 = 0,0,AD94)","v":0},{"$f":"IF(AC94 = 0,0,AC94)","v":0},{"$f":"IF((SUMPRODUCT(--((ISNUMBER(SEARCH(AA94,AA$78:AA$91)))),AC$78:AC$91)) > 0,\"Y\",\"N\")","v":"N"},{"$f":"IF(O11 < 8,\"Y\",\"N\")","v":"N"},{"$f":"IF(AW11=\"N\",0,ABS(O11-8))","v":0},{"$f":"IF(AP11<>\"\",\"Y\",\"N\")","v":"N"},{"$f":"IF(O11=\"\",0,IF(ISNUMBER(FIND(\"*\",O11))=TRUE,0,O11))","v":0},{"$f":"AS11","v":0},{"$f":"A11","v":"SUN"}]
["MON",{"$f":"IF(B11=\"\",\"\",B11+1)","v":"2019-09-02"},null,null,null,null,null,null,null,null,"",null,null,"","",null,null,null,null,null,null,null,null,null,null,null,null,null,null,null,null,null,null,null,null,{"$f":"IF(SUM(AE12,AF12)=0, \"\", SUM(AE12,AF12))","v":""},null,null,null,null,null,null,{"$f":"B12","v":"2019-09-02"},{"$f":"IF(OR(K12 =\"\",IFERROR((K12-8)<0,0)),0,K12-8)","v":0},{"$f":"IFERROR(IF(OR(O12=\"\",IFERROR((O12-8)<0,0)),0,O12-8),0)","v":0},{"$f":"IF(AD95 = 0,0,AD95)","v":0},{"$f":"IF(AC95 = 0,0,AC95)","v":0},{"$f":"IF((SUMPRODUCT(--((ISNUMBER(SEARCH(AA95,AA$78:AA$91)))),AC$78:AC$91)) > 0,\"Y\",\"N\")","v":"N"},{"$f":"IF(O12 < 8,\"Y\",\"N\")","v":"N"},{"$f":"IF(AW12=\"N\",0,ABS(O12-8))","v":0},{"$f":"IF(AP12<>\"\",\"Y\",\"N\")","v":"N"},0,{"$f":"AS12","v":0},{"$f":"A12","v":"MON"}]
["TUE",{"$f":"IF(B11=\"\",\"\",B11+2)","v":"2019-09-03"},null,null,null,null,null,null,null,null,"",null,null,"","",null,null,null,null,null,null,null,null,null,null,null,null,null,null,null,null,null,null,null,null,"",null,null,null,null,null,null,"2019-09-03",0,0,0,0,"N","N",0,"N",0,0,"TUE"]
["WED",{"$f":"IF(B11=\"\",\"\",B11+3)","v":"2019-09-04"},null,null,null,null,null,null,null,null,"",null,null,"","",null,null,null,null,null,null,null,null,null,null,null,null,null,null,null,null,null,null,null,null,"",null,null,null,null,null,null,"2019-09-04",0,0,0,0,"N","N",0,"N",0,0,"WED"]
["THU",{"$f":"IF(B11=\"\",\"\",B11+4)","v":"2019-09-05"},null,null,null,null,null,null,null,null,"",null,null,"","",null,null,null,null,null,null,null,null,null,null,null,null,null,null,null,null,null,null,null,null,"",null,null,null,null,null,null,"2019-09-05",0,0,0,0,"N","N",0,"N",0,0,"THU"]
["FRI",{"$f":"IF(B11=\"\",\"\",B11+5)","v":"2019-09-06"},null,null,null,null,null,null,null,null,"",null,null,"","",null,null,null,null,null,null,null,null,null,null,null,null,null,null,null,null,null,null,null,null,"",null,null,null,null,null,null,"2019-09-06",0,0,0,0,"N","N",0,"N",0,0,"FRI"]
["SAT",{"$f":"IF(B11=\"\",\"\",B11+6)","v":"2019-09-07"},null,null,null,null,null,null,null,null,"",null,null,"","",null,null,null,null,null,null,null,null,null,null,null,null,null,null,null,null,null,null,null,null,"",null,null,null,null,null,null,"2019-09-07",0,0,0,0,"N","N",0,"N",{"$f":"IF(O17=\"\",0,IF(ISNUMBER(FIND(\"*\",O17))=TRUE,0,O17))","v":0},0,"SAT"]
["WEEKLY TOTALS",null,null,null,null,null,null,{"$f":"IF(SUM(H11:H17)=0,\"\",SUM(H11:H17))","v":""},"","",{"$f":"IF(SUM(K11:K17)=0,0,SUM(K11:K17))","v":0},"","","",{"$f":"IF(SUM(O11:O17)=0,0,SUM(O11:O17))","v":0},"","","","","","","","","","",{"$f":"IF(SUM(Z11:Z17)=0,\"\",SUM(Z11:Z17))","v":""},"","","","",{"$f":"IF(SUM(AE11:AE17)=0,\"\",SUM(AE11:AE17))","v":""},"",{"$f":"IF(SUM(AI11:AI17)=0,\"\",SUM(AI11:AI17))","v":""},null,null,{"$f":"IF(SUM(AJ11:AJ17)=0,\"\",SUM(AJ11:AJ17))","v":""},null,null,null,null,null,null,null,{"$f":"SUM(AR11:AR17)","v":0},{"$f":"SUM(AS11:AS17)","v":0},{"$f":"SUM(AT11:AT17)","v":0},{"$f":"SUM(AU11:AU17)","v":0}]
[null,null,null,null,null,null,null,null,null,null,null,null,null,null,null,null,null,null,null,null,null,null,null,null,null,null,null,null,null,null,null,null,null,null,null,null,null,null,null,null,null,null,null,null,null,null,null,null,null,null,null,{"$f":"SUM(AZ11:AZ17)","v":0},{"$f":"SUM(BA11:BA17)","v":0}]
[null,null,null,null,null,null,null,"ENFORCEMENT SUMMARY"]
["VIOLATION",null,null,null,null,null,null,"SUNDAY",null,null,null,"MONDAY",null,null,null,"TUESDAY",null,null,null,"WEDNESDAY",null,null,null,"THURSDAY",null,null,null,"FRIDAY",null,null,null,"SATURDAY",null,null,null,"TOTALS"]
[null,null,null,null,null,null,null,"Routine",null,"GRANT OT",null,"Routine",null,"GRANT OT",null,"Routine",null,"GRANT OT",null,"Routine",null,"GRANT OT",null,"Routine",null,"GRANT OT",null,"Routine",null,"GRANT OT",null,"Routine",null,"GRANT OT",null,"Routine",null,"GRANT OT",null,"ALL"]
[null,null,null,null,null,null,null,"A","W","A","W","A","W","A","W","A","W","A","W","A","W","A","W","A","W","A","W","A","W","A","W","A","W","A","W","A","W","A","W","A","W"]
["  SPEEDING",null,null,null,null,null,null,null,null,null,null,null,null,null,null,null,null,null,null,null,null,null,null,null,null,null,null,null,null,null,null,null,null,null,null,{"$f":"SUM(H24+L24+P24+T24+X24+AB24+AF24)","v":0},{"$f":"SUM(I24+M24+Q24+U24+Y24+AC24+AG24)","v":0},{"$f":"SUM(J24+N24+R24+V24+Z24+AD24+AH24)","v":0},{"$f":"SUM(K24+O24+S24+W24+AA24+AE24+AI24)","v":0},{"$f":"AJ24+AL24","v":0},{"$f":"AK24+AM24","v":0},null,null,null,null,null,null,null,"Total Daily OT:",{"$f":"BA19","v":0}]
["  DWI",null,null,null,null,null,null,null,null,null,null,null,null,null,null,null,null,null,null,null,null,null,null,null,null,null,null,null,null,null,null,null,null,null,null,{"$f":"SUM(H25+L25+P25+T25+X25+AB25+AF25)","v":0},null,{"$f":"SUM(J25+N25+R25+V25+Z25+AD25+AH25)","v":0},null,{"$f":"AJ25+AL25","v":0},null,null,null,null,null,null,null,null,"Total Weekly OT:",{"$f":"IF((AZ19-BA19-40)<0,0,AZ19-BA19-40)","v":0}]
["  DUI - MINOR",null,null,null,null,null,null,null,null,null,null,null,null,null,null,null,null,null,null,null,null,null,null,null,null,null,null,null,null,null,null,null,null,null,null,0,null,0,null,0,null,null,null,null,null,null,null,null,"Total OT:",{"$f":"IF((AZ19-BA19-40)<0,BA19,AZ19-40)","v":0}]
["  ADULT RESTRAINT VIOLATIONS",null,null,null,null,null,null,null,null,null,null,null,null,null,null,null,null,null,null,null,null,null,null,null,null,null,null,null,null,null,null,null,null,null,null,0,{"$f":"SUM(AG27,AC27,Y27,U27,Q27,M27,I27)","v":0},0,{"$f":"SUM(K27+O27+S27+W27+AA27+AE27+AI27)","v":0},0,{"$f":"AK27+AM27","v":0},null,null,null,null,null,null,null,"Total CTE:",{"$f":"IF(OR((AZ19+AU18-AX26)<40,(AZ19+AU18-AX26)=40),0,(AZ19+AU18-AX26)-40)","v":0}]
["  CHILD RESTRAINT VIOLATIONS",null,null,null,null,null,null,null,null,null,null,null,null,null,null,null,null,null,null,null,null,null,null,null,null,null,null,null,null,null,null,null,null,null,null,0,{"$f":"SUM(AG28,AC28,Y28,U28,Q28,M28,I28)","v":0},0,0,0,0]
["  HAZMAT (CVE ONLY)",null,null,null,null,null,null,null,null,null,null,null,null,null,null,null,null,null,null,null,null,null,null,null,null,null,null,null,null,null,null,null,null,null,null,0,{"$f":"SUM(AG29,AC29,Y29,U29,Q29,M29,I29)","v":0},0,0,0,0]
["  OVERSIZE",null,null,null,null,null,null,null,null,null,null,null,null,null,null,null,null,null,null,null,null,null,null,null,null,null,null,null,null,null,null,null,null,null,null,0,{"$f":"SUM(AG30,AC30,Y30,U30,Q30,M30,I30)","v":0},0,0,0,0]
["  OVERWEIGHT (CVE ONLY)",null,null,null,null,null,null,null,null,null,null,null,null,null,null,null,null,null,null,null,null,null,null,null,null,null,null,null,null,null,null,null,null,null,null,0,{"$f":"SUM(I31+M31+Q31+U31+Y31+AC31+AG31)","v":0},0,0,0,0]
["  NO INSURANCE OR MC AUTH",null,null,null,null,null,null,null,null,null,null,null,null,null,null,null,null,null,null,null,null,null,null,null,null,null,null,null,null,null,null,null,null,null,null,0,0,0,0,0,0]
["  FMCSR DRIVER",null,null,null,null,null,null,null,null,null,null,null,null,null,null,null,null,null,null,null,null,null,null,null,null,null,null,null,null,null,null,null,null,null,null,0,0,0,0,0,0]
["  DRIVER LICENSE / DWLI ",null,null,null,null,null,null,null,null,null,null,null,null,null,null,null,null,null,null,null,null,null,null,null,null,null,null,null,null,null,null,null,null,null,null,0,0,0,0,0,0]
["  REGISTRATION",null,null,null,null,null,null,null,null,null,null,null,null,null,null,null,null,null,null,null,null,null,null,null,null,null,null,null,null,null,null,null,null,null,null,0,0,0,0,0,0]
["  EQUIPMENT ",null,null,null,null,null,null,null,null,null,null,null,null,null,null,null,null,null,null,null,null,null,null,null,null,null,null,null,null,null,null,null,null,null,null,{"$f":"SUM(H36+L36+P36+T36+X36+AB36+AF36)","v":0},0,{"$f":"SUM(J36+N36+R36+V36+Z36+AD36+AH36)","v":0},{"$f":"SUM(K36+O36+S36+W36+AA36+AE36+AI36)","v":0},{"$f":"AJ36+AL36","v":0},{"$f":"AK36+AM36","v":0}]
["  CRIMINAL (FELONY)",null,null,null,null,null,null,null,null,null,null,null,null,null,null,null,null,null,null,null,null,null,null,null,null,null,null,null,null,null,null,null,null,null,null,0,null,{"$f":"SUM(J37+N37+R37+V37+Z37+AD37+AH37)","v":0},null,{"$f":"AJ37+AL37","v":0}]
["  CRIMINAL (MISDEMEANOR)",null,null,null,null,null,null,null,null,null,null,null,null,null,null,null,null,null,null,null,null,null,null,null,null,null,null,null,null,null,null,null,null,null,null,0,null,{"$f":"SUM(J38+N38+R38+V38+Z38+AD38+AH38)","v":0},null,{"$f":"AJ38+AL38","v":0}]
["  FUGITIVE (FELONY)",null,null,null,null,null,null,null,null,null,null,null,null,null,null,null,null,null,null,null,null,null,null,null,null,null,null,null,null,null,null,null,null,null,null,0,null,{"$f":"SUM(J39+N39+R39+V39+Z39+AD39+AH39)","v":0},null,{"$f":"AJ39+AL39","v":0}]
["  FUGITIVE (MISDEMEANOR)",null,null,null,null,null,null,null,null,null,null,null,null,null,null,null,null,null,null,null,null,null,null,null,null,null,null,null,null,null,null,null,null,null,null,0,null,{"$f":"SUM(J40+N40+R40+V40+Z40+AD40+AH40)","v":0},null,{"$f":"AJ40+AL40","v":0}]
["  ALL OTHER VIOLATIONS",null,null,null,null,null,null,null,null,null,null,null,null,null,null,null,null,null,null,null,null,null,null,null,null,null,null,null,null,null,null,null,null,null,null,0,{"$f":"SUM(I41+M41+Q41+U41+Y41+AC41+AG41)","v":0},{"$f":"SUM(J41+N41+R41+V41+Z41+AD41+AH41)","v":0},{"$f":"SUM(K41+O41+S41+W41+AA41+AE41+AI41)","v":0},{"$f":"AJ41+AL41","v":0},{"$f":"AK41+AM41","v":0}]
["  TOTALS",null,null,null,null,null,null,{"$f":"IF(SUM(H24:H41)<1,\"\", SUM(H24:H41))","v":""},"","","","","","","","","","","","","","","","","","","","","","","","","","","","","","","","",""]
["TOTAL NUMBER OF VEHICLES \nSTOPPED WITH ENFORCEMENT ACTION"]
[null,null,null,null,null,null,null,null,null,null,null,null,null,null,null,null,null,null,null,null,null,null,null,null,null,null,null,null,null,null,null,null,null,null,null,{"$f":"SUM(H44+L44+P44+T44+X44+AB44+AF44)","v":0},null,{"$f":"SUM(J44+N44+R44+V44+Z44+AD44+AH44)","v":0},null,{"$f":"IF(SUM(AJ44+AL44)=0,\"\",SUM(AJ44+AL44))","v":""}]
[]
["ACTIVITIES",null,null,null,null,null,null,null,null,null,null,null,"MOTOR CARRIER",null,null,null,null,null,null,null,null,null,null,null,null,null,null,null,"BE SURE TO CHECK SECONDARY EMPLOYMENT ON BACK"]
["  CRASHES INVESTIGATED",null,null,null,null,null,"  BACKGROUND INV.",null,null,null,null,null," LEVEL 2 INSPECTION"]
["  AGENCY ASSISTS",null,null,null,null,null,"  STOLEN VEH. RECOVERED",null,null,null,null,null," VEHICLE O.O.S."]
["    # TRAFFIC OPS  (W/ OTHER AGENCY)",null,null,null,null,null,"  WARRANTS SERVED",null,null,null,null,null," DRIVER O.O.S."]
["  SCHOOLS VISITED",null,null,null,null,null,"  HQ-35 SEIZURES",null,null,null,null,null,"VEHICLES CHECKED",null,null,null,null,null,null,null,null,null,null,null,null,null,null,null,"TROOPER'S SIGNATURE",null,null,null,null,null,null,null,"DATE"]
["  MOTORIST ASSISTS",null,null,null,null,null,"  INTEL HITS (WATCHLIST)"]
["  SAFETY PROGRAMS",null,null,null,null,null,"  INTEL REPORTS SUBMITTED"]
["  TRAINING PROGRAMS \n  FOR OTHER LE AGENCIES ",null,null,null,null,null,"  VEHICLE PURSUITS"]
[null,null,null,null,null,null,"# OF TASKS",null,null,null,null,null,null,null,null,null,null,null,null,null,null,null,null,null,null,null,null,null,"SUPERVISOR'S SIGNATURE",null,null,null,null,null,null,null,"    DATE"]
[]
[]
[]
[]
[]
[]
[null,"ALT","CAT","CDT","CTT","DBT","DOT","DMT","EMT","EST","FFT","FPT"]
[1,{"$f":"IF('week 1 bk'!AJ13=\"ALT\",'week 1 bk'!AL13,0)","v":0},{"$f":"IF('week 1 bk'!AJ13=\"CAT\",'week 1 bk'!AL13,0)","v":0},{"$f":"IF('week 1 bk'!AJ13=\"CDT\",'week 1 bk'!AL13,0)","v":0},{"$f":"IF('week 1 bk'!AJ13=\"CTT\",'week 1 bk'!AL13,0)","v":0},{"$f":"IF('week 1 bk'!AJ13=\"DBT\",'week 1 bk'!AL13,0)","v":0},{"$f":"IF('week 1 bk'!AJ13=\"DOT\",'week 1 bk'!AL13,0)","v":0},{"$f":"IF('week 1 bk'!AJ13=\"DMT\",'week 1 bk'!AL13,0)","v":0},{"$f":"IF('week 1 bk'!AJ13=\"EMT\",'week 1 bk'!AL13,0)","v":0},{"$f":"IF('week 1 bk'!AJ13=\"EST\",'week 1 bk'!AL13,0)","v":0},{"$f":"IF('week 1 bk'!AJ13=\"FFT\",'week 1 bk'!AL13,0)","v":0},{"$f":"IF('week 1 bk'!AJ13=\"FPT\",'week 1 bk'!AL13,0)","v":0}]
[2,{"$f":"IF('week 1 bk'!AJ14=\"ALT\",'week 1 bk'!AL14,0)","v":0},{"$f":"IF('week 1 bk'!AJ14=\"CAT\",'week 1 bk'!AL14,0)","v":0},{"$f":"IF('week 1 bk'!AJ14=\"CDT\",'week 1 bk'!AL14,0)","v":0},{"$f":"IF('week 1 bk'!AJ14=\"CTT\",'week 1 bk'!AL14,0)","v":0},{"$f":"IF('week 1 bk'!AJ14=\"DBT\",'week 1 bk'!AL14,0)","v":0},{"$f":"IF('week 1 bk'!AJ14=\"DOT\",'week 1 bk'!AL14,0)","v":0},{"$f":"IF('week 1 bk'!AJ14=\"DMT\",'week 1 bk'!AL14,0)","v":0},{"$f":"IF('week 1 bk'!AJ14=\"EMT\",'week 1 bk'!AL14,0)","v":0},{"$f":"IF('week 1 bk'!AJ14=\"EST\",'week 1 bk'!AL14,0)","v":0},{"$f":"IF('week 1 bk'!AJ14=\"FFT\",'week 1 bk'!AL14,0)","v":0},{"$f":"IF('week 1 bk'!AJ14=\"FPT\",'week 1 bk'!AL14,0)","v":0},"HCT","HOB","JST","LDT","LET","LPT","MLT","OHT","OTT","RCT","SAT","SET","SLT","VCT"]
[3,{"$f":"IF('week 1 bk'!AJ15=\"ALT\",'week 1 bk'!AL15,0)","v":0},{"$f":"IF('week 1 bk'!AJ15=\"CAT\",'week 1 bk'!AL15,0)","v":0},{"$f":"IF('week 1 bk'!AJ15=\"CDT\",'week 1 bk'!AL15,0)","v":0},{"$f":"IF('week 1 bk'!AJ15=\"CTT\",'week 1 bk'!AL15,0)","v":0},{"$f":"IF('week 1 bk'!AJ15=\"DBT\",'week 1 bk'!AL15,0)","v":0},{"$f":"IF('week 1 bk'!AJ15=\"DOT\",'week 1 bk'!AL15,0)","v":0},{"$f":"IF('week 1 bk'!AJ15=\"DMT\",'week 1 bk'!AL15,0)","v":0},{"$f":"IF('week 1 bk'!AJ15=\"EMT\",'week 1 bk'!AL15,0)","v":0},{"$f":"IF('week 1 bk'!AJ15=\"EST\",'week 1 bk'!AL15,0)","v":0},{"$f":"IF('week 1 bk'!AJ15=\"FFT\",'week 1 bk'!AL15,0)","v":0},{"$f":"IF('week 1 bk'!AJ15=\"FPT\",'week 1 bk'!AL15,0)","v":0},{"$f":"IF('week 1 bk'!AJ13=\"HCT\",'week 1 bk'!AL13,0)","v":0},{"$f":"IF('week 1 bk'!AJ13=\"HOB\",'week 1 bk'!AL13,0)","v":0},{"$f":"IF('week 1 bk'!AJ13=\"JST\",'week 1 bk'!AL13,0)","v":0},{"$f":"IF('week 1 bk'!AJ13=\"LDT\",'week 1 bk'!AL13,0)","v":0},{"$f":"IF('week 1 bk'!AJ13=\"LET\",'week 1 bk'!AL13,0)","v":0},{"$f":"IF('week 1 bk'!AJ13=\"LPT\",'week 1 bk'!AL13,0)","v":0},{"$f":"IF('week 1 bk'!AJ13=\"MLT\",'week 1 bk'!AL13,0)","v":0},{"$f":"IF('week 1 bk'!AJ13=\"OHT\",'week 1 bk'!AL13,0)","v":0},{"$f":"IF('week 1 bk'!AJ13=\"OTT\",'week 1 bk'!AL13,0)","v":0},{"$f":"IF('week 1 bk'!AJ13=\"RCT\",'week 1 bk'!AL13,0)","v":0},{"$f":"IF('week 1 bk'!AJ13=\"SAT\",'week 1 bk'!AL13,0)","v":0},{"$f":"IF('week 1 bk'!AJ13=\"SET\",'week 1 bk'!AL13,0)","v":0},{"$f":"IF('week 1 bk'!AJ13=\"SLT\",'week 1 bk'!AL13,0)","v":0},{"$f":"IF('week 1 bk'!AJ13=\"VCT\",'week 1 bk'!AL13,0)","v":0}]
[4,{"$f":"IF('week 1 bk'!AJ16=\"ALT\",'week 1 bk'!AL16,0)","v":0},{"$f":"IF('week 1 bk'!AJ16=\"CAT\",'week 1 bk'!AL16,0)","v":0},{"$f":"IF('week 1 bk'!AJ16=\"CDT\",'week 1 bk'!AL16,0)","v":0},{"$f":"IF('week 1 bk'!AJ16=\"CTT\",'week 1 bk'!AL16,0)","v":0},{"$f":"IF('week 1 bk'!AJ16=\"DBT\",'week 1 bk'!AL16,0)","v":0},{"$f":"IF('week 1 bk'!AJ16=\"DOT\",'week 1 bk'!AL16,0)","v":0},{"$f":"IF('week 1 bk'!AJ16=\"DMT\",'week 1 bk'!AL16,0)","v":0},{"$f":"IF('week 1 bk'!AJ16=\"EMT\",'week 1 bk'!AL16,0)","v":0},{"$f":"IF('week 1 bk'!AJ16=\"EST\",'week 1 bk'!AL16,0)","v":0},{"$f":"IF('week 1 bk'!AJ16=\"FFT\",'week 1 bk'!AL16,0)","v":0},{"$f":"IF('week 1 bk'!AJ16=\"FPT\",'week 1 bk'!AL16,0)","v":0},{"$f":"IF('week 1 bk'!AJ14=\"HCT\",'week 1 bk'!AL14,0)","v":0},{"$f":"IF('week 1 bk'!AJ14=\"HOB\",'week 1 bk'!AL14,0)","v":0},{"$f":"IF('week 1 bk'!AJ14=\"JST\",'week 1 bk'!AL14,0)","v":0},{"$f":"IF('week 1 bk'!AJ14=\"LDT\",'week 1 bk'!AL14,0)","v":0},{"$f":"IF('week 1 bk'!AJ14=\"LET\",'week 1 bk'!AL14,0)","v":0},{"$f":"IF('week 1 bk'!AJ14=\"LPT\",'week 1 bk'!AL14,0)","v":0},{"$f":"IF('week 1 bk'!AJ14=\"MLT\",'week 1 bk'!AL14,0)","v":0},{"$f":"IF('week 1 bk'!AJ14=\"OHT\",'week 1 bk'!AL14,0)","v":0},{"$f":"IF('week 1 bk'!AJ14=\"OTT\",'week 1 bk'!AL14,0)","v":0},{"$f":"IF('week 1 bk'!AJ14=\"RCT\",'week 1 bk'!AL14,0)","v":0},{"$f":"IF('week 1 bk'!AJ14=\"SAT\",'week 1 bk'!AL14,0)","v":0},{"$f":"IF('week 1 bk'!AJ14=\"SET\",'week 1 bk'!AL14,0)","v":0},{"$f":"IF('week 1 bk'!AJ14=\"SLT\",'week 1 bk'!AL14,0)","v":0},{"$f":"IF('week 1 bk'!AJ14=\"VCT\",'week 1 bk'!AL14,0)","v":0}]
[5,{"$f":"IF('week 1 bk'!AJ17=\"ALT\",'week 1 bk'!AL17,0)","v":0},{"$f":"IF('week 1 bk'!AJ17=\"CAT\",'week 1 bk'!AL17,0)","v":0},{"$f":"IF('week 1 bk'!AJ17=\"CDT\",'week 1 bk'!AL17,0)","v":0},{"$f":"IF('week 1 bk'!AJ17=\"CTT\",'week 1 bk'!AL17,0)","v":0},{"$f":"IF('week 1 bk'!AJ17=\"DBT\",'week 1 bk'!AL17,0)","v":0},{"$f":"IF('week 1 bk'!AJ17=\"DOT\",'week 1 bk'!AL17,0)","v":0},{"$f":"IF('week 1 bk'!AJ17=\"DMT\",'week 1 bk'!AL17,0)","v":0},{"$f":"IF('week 1 bk'!AJ17=\"EMT\",'week 1 bk'!AL17,0)","v":0},{"$f":"IF('week 1 bk'!AJ17=\"EST\",'week 1 bk'!AL17,0)","v":0},{"$f":"IF('week 1 bk'!AJ17=\"FFT\",'week 1 bk'!AL17,0)","v":0},{"$f":"IF('week 1 bk'!AJ17=\"FPT\",'week 1 bk'!AL17,0)","v":0},{"$f":"IF('week 1 bk'!AJ15=\"HCT\",'week 1 bk'!AL15,0)","v":0},{"$f":"IF('week 1 bk'!AJ15=\"HOB\",'week 1 bk'!AL15,0)","v":0},{"$f":"IF('week 1 bk'!AJ15=\"JST\",'week 1 bk'!AL15,0)","v":0},{"$f":"IF('week 1 bk'!AJ15=\"LDT\",'week 1 bk'!AL15,0)","v":0},{"$f":"IF('week 1 bk'!AJ15=\"LET\",'week 1 bk'!AL15,0)","v":0},{"$f":"IF('week 1 bk'!AJ15=\"LPT\",'week 1 bk'!AL15,0)","v":0},{"$f":"IF('week 1 bk'!AJ15=\"MLT\",'week 1 bk'!AL15,0)","v":0},{"$f":"IF('week 1 bk'!AJ15=\"OHT\",'week 1 bk'!AL15,0)","v":0},{"$f":"IF('week 1 bk'!AJ15=\"OTT\",'week 1 bk'!AL15,0)","v":0},{"$f":"IF('week 1 bk'!AJ15=\"RCT\",'week 1 bk'!AL15,0)","v":0},{"$f":"IF('week 1 bk'!AJ15=\"SAT\",'week 1 bk'!AL15,0)","v":0},{"$f":"IF('week 1 bk'!AJ15=\"SET\",'week 1 bk'!AL15,0)","v":0},{"$f":"IF('week 1 bk'!AJ15=\"SLT\",'week 1 bk'!AL15,0)","v":0},{"$f":"IF('week 1 bk'!AJ15=\"VCT\",'week 1 bk'!AL15,0)","v":0}]
[6,{"$f":"IF('week 1 bk'!AJ18=\"ALT\",'week 1 bk'!AL18,0)","v":0},{"$f":"IF('week 1 bk'!AJ18=\"CAT\",'week 1 bk'!AL18,0)","v":0},{"$f":"IF('week 1 bk'!AJ18=\"CDT\",'week 1 bk'!AL18,0)","v":0},{"$f":"IF('week 1 bk'!AJ18=\"CTT\",'week 1 bk'!AL18,0)","v":0},{"$f":"IF('week 1 bk'!AJ18=\"DBT\",'week 1 bk'!AL18,0)","v":0},{"$f":"IF('week 1 bk'!AJ18=\"DOT\",'week 1 bk'!AL18,0)","v":0},{"$f":"IF('week 1 bk'!AJ18=\"DMT\",'week 1 bk'!AL18,0)","v":0},{"$f":"IF('week 1 bk'!AJ18=\"EMT\",'week 1 bk'!AL18,0)","v":0},{"$f":"IF('week 1 bk'!AJ18=\"EST\",'week 1 bk'!AL18,0)","v":0},{"$f":"IF('week 1 bk'!AJ18=\"FFT\",'week 1 bk'!AL18,0)","v":0},{"$f":"IF('week 1 bk'!AJ18=\"FPT\",'week 1 bk'!AL18,0)","v":0},{"$f":"IF('week 1 bk'!AJ16=\"HCT\",'week 1 bk'!AL16,0)","v":0},{"$f":"IF('week 1 bk'!AJ16=\"HOB\",'week 1 bk'!AL16,0)","v":0},{"$f":"IF('week 1 bk'!AJ16=\"JST\",'week 1 bk'!AL16,0)","v":0},{"$f":"IF('week 1 bk'!AJ16=\"LDT\",'week 1 bk'!AL16,0)","v":0},{"$f":"IF('week 1 bk'!AJ16=\"LET\",'week 1 bk'!AL16,0)","v":0},{"$f":"IF('week 1 bk'!AJ16=\"LPT\",'week 1 bk'!AL16,0)","v":0},{"$f":"IF('week 1 bk'!AJ16=\"MLT\",'week 1 bk'!AL16,0)","v":0},{"$f":"IF('week 1 bk'!AJ16=\"OHT\",'week 1 bk'!AL16,0)","v":0},{"$f":"IF('week 1 bk'!AJ16=\"OTT\",'week 1 bk'!AL16,0)","v":0},{"$f":"IF('week 1 bk'!AJ16=\"RCT\",'week 1 bk'!AL16,0)","v":0},{"$f":"IF('week 1 bk'!AJ16=\"SAT\",'week 1 bk'!AL16,0)","v":0},{"$f":"IF('week 1 bk'!AJ16=\"SET\",'week 1 bk'!AL16,0)","v":0},{"$f":"IF('week 1 bk'!AJ16=\"SLT\",'week 1 bk'!AL16,0)","v":0},{"$f":"IF('week 1 bk'!AJ16=\"VCT\",'week 1 bk'!AL16,0)","v":0}]
[7,{"$f":"IF('week 1 bk'!AJ19=\"ALT\",'week 1 bk'!AL19,0)","v":0},{"$f":"IF('week 1 bk'!AJ19=\"CAT\",'week 1 bk'!AL19,0)","v":0},{"$f":"IF('week 1 bk'!AJ19=\"CDT\",'week 1 bk'!AL19,0)","v":0},{"$f":"IF('week 1 bk'!AJ19=\"CTT\",'week 1 bk'!AL19,0)","v":0},{"$f":"IF('week 1 bk'!AJ19=\"DBT\",'week 1 bk'!AL19,0)","v":0},{"$f":"IF('week 1 bk'!AJ19=\"DOT\",'week 1 bk'!AL19,0)","v":0},{"$f":"IF('week 1 bk'!AJ19=\"DMT\",'week 1 bk'!AL19,0)","v":0},{"$f":"IF('week 1 bk'!AJ19=\"EMT\",'week 1 bk'!AL19,0)","v":0},{"$f":"IF('week 1 bk'!AJ19=\"EST\",'week 1 bk'!AL19,0)","v":0},{"$f":"IF('week 1 bk'!AJ19=\"FFT\",'week 1 bk'!AL19,0)","v":0},{"$f":"IF('week 1 bk'!AJ19=\"FPT\",'week 1 bk'!AL19,0)","v":0},{"$f":"IF('week 1 bk'!AJ17=\"HCT\",'week 1 bk'!AL17,0)","v":0},{"$f":"IF('week 1 bk'!AJ17=\"HOB\",'week 1 bk'!AL17,0)","v":0},{"$f":"IF('week 1 bk'!AJ17=\"JST\",'week 1 bk'!AL17,0)","v":0},{"$f":"IF('week 1 bk'!AJ17=\"LDT\",'week 1 bk'!AL17,0)","v":0},{"$f":"IF('week 1 bk'!AJ17=\"LET\",'week 1 bk'!AL17,0)","v":0},{"$f":"IF('week 1 bk'!AJ17=\"LPT\",'week 1 bk'!AL17,0)","v":0},{"$f":"IF('week 1 bk'!AJ17=\"MLT\",'week 1 bk'!AL17,0)","v":0},{"$f":"IF('week 1 bk'!AJ17=\"OHT\",'week 1 bk'!AL17,0)","v":0},{"$f":"IF('week 1 bk'!AJ17=\"OTT\",'week 1 bk'!AL17,0)","v":0},{"$f":"IF('week 1 bk'!AJ17=\"RCT\",'week 1 bk'!AL17,0)","v":0},{"$f":"IF('week 1 bk'!AJ17=\"SAT\",'week 1 bk'!AL17,0)","v":0},{"$f":"IF('week 1 bk'!AJ17=\"SET\",'week 1 bk'!AL17,0)","v":0},{"$f":"IF('week 1 bk'!AJ17=\"SLT\",'week 1 bk'!AL17,0)","v":0},{"$f":"IF('week 1 bk'!AJ17=\"VCT\",'week 1 bk'!AL17,0)","v":0}]
[8,{"$f":"IF('week 1 bk'!AJ20=\"ALT\",'week 1 bk'!AL20,0)","v":0},{"$f":"IF('week 1 bk'!AJ20=\"CAT\",'week 1 bk'!AL20,0)","v":0},{"$f":"IF('week 1 bk'!AJ20=\"CDT\",'week 1 bk'!AL20,0)","v":0},{"$f":"IF('week 1 bk'!AJ20=\"CTT\",'week 1 bk'!AL20,0)","v":0},{"$f":"IF('week 1 bk'!AJ20=\"DBT\",'week 1 bk'!AL20,0)","v":0},{"$f":"IF('week 1 bk'!AJ20=\"DOT\",'week 1 bk'!AL20,0)","v":0},{"$f":"IF('week 1 bk'!AJ20=\"DMT\",'week 1 bk'!AL20,0)","v":0},{"$f":"IF('week 1 bk'!AJ20=\"EMT\",'week 1 bk'!AL20,0)","v":0},{"$f":"IF('week 1 bk'!AJ20=\"EST\",'week 1 bk'!AL20,0)","v":0},{"$f":"IF('week 1 bk'!AJ20=\"FFT\",'week 1 bk'!AL20,0)","v":0},{"$f":"IF('week 1 bk'!AJ20=\"FPT\",'week 1 bk'!AL20,0)","v":0},{"$f":"IF('week 1 bk'!AJ18=\"HCT\",'week 1 bk'!AL18,0)","v":0},{"$f":"IF('week 1 bk'!AJ18=\"HOB\",'week 1 bk'!AL18,0)","v":0},{"$f":"IF('week 1 bk'!AJ18=\"JST\",'week 1 bk'!AL18,0)","v":0},{"$f":"IF('week 1 bk'!AJ18=\"LDT\",'week 1 bk'!AL18,0)","v":0},{"$f":"IF('week 1 bk'!AJ18=\"LET\",'week 1 bk'!AL18,0)","v":0},{"$f":"IF('week 1 bk'!AJ18=\"LPT\",'week 1 bk'!AL18,0)","v":0},{"$f":"IF('week 1 bk'!AJ18=\"MLT\",'week 1 bk'!AL18,0)","v":0},{"$f":"IF('week 1 bk'!AJ18=\"OHT\",'week 1 bk'!AL18,0)","v":0},{"$f":"IF('week 1 bk'!AJ18=\"OTT\",'week 1 bk'!AL18,0)","v":0},{"$f":"IF('week 1 bk'!AJ18=\"RCT\",'week 1 bk'!AL18,0)","v":0},{"$f":"IF('week 1 bk'!AJ18=\"SAT\",'week 1 bk'!AL18,0)","v":0},{"$f":"IF('week 1 bk'!AJ18=\"SET\",'week 1 bk'!AL18,0)","v":0},{"$f":"IF('week 1 bk'!AJ18=\"SLT\",'week 1 bk'!AL18,0)","v":0},{"$f":"IF('week 1 bk'!AJ18=\"VCT\",'week 1 bk'!AL18,0)","v":0}]
[9,{"$f":"IF('week 1 bk'!AJ21=\"ALT\",'week 1 bk'!AL21,0)","v":0},{"$f":"IF('week 1 bk'!AJ21=\"CAT\",'week 1 bk'!AL21,0)","v":0},{"$f":"IF('week 1 bk'!AJ21=\"CDT\",'week 1 bk'!AL21,0)","v":0},{"$f":"IF('week 1 bk'!AJ21=\"CTT\",'week 1 bk'!AL21,0)","v":0},{"$f":"IF('week 1 bk'!AJ21=\"DBT\",'week 1 bk'!AL21,0)","v":0},{"$f":"IF('week 1 bk'!AJ21=\"DOT\",'week 1 bk'!AL21,0)","v":0},{"$f":"IF('week 1 bk'!AJ21=\"DMT\",'week 1 bk'!AL21,0)","v":0},{"$f":"IF('week 1 bk'!AJ21=\"EMT\",'week 1 bk'!AL21,0)","v":0},{"$f":"IF('week 1 bk'!AJ21=\"EST\",'week 1 bk'!AL21,0)","v":0},{"$f":"IF('week 1 bk'!AJ21=\"FFT\",'week 1 bk'!AL21,0)","v":0},{"$f":"IF('week 1 bk'!AJ21=\"FPT\",'week 1 bk'!AL21,0)","v":0},{"$f":"IF('week 1 bk'!AJ19=\"HCT\",'week 1 bk'!AL19,0)","v":0},{"$f":"IF('week 1 bk'!AJ19=\"HOB\",'week 1 bk'!AL19,0)","v":0},{"$f":"IF('week 1 bk'!AJ19=\"JST\",'week 1 bk'!AL19,0)","v":0},{"$f":"IF('week 1 bk'!AJ19=\"LDT\",'week 1 bk'!AL19,0)","v":0},{"$f":"IF('week 1 bk'!AJ19=\"LET\",'week 1 bk'!AL19,0)","v":0},{"$f":"IF('week 1 bk'!AJ19=\"LPT\",'week 1 bk'!AL19,0)","v":0},{"$f":"IF('week 1 bk'!AJ19=\"MLT\",'week 1 bk'!AL19,0)","v":0},{"$f":"IF('week 1 bk'!AJ19=\"OHT\",'week 1 bk'!AL19,0)","v":0},{"$f":"IF('week 1 bk'!AJ19=\"OTT\",'week 1 bk'!AL19,0)","v":0},{"$f":"IF('week 1 bk'!AJ19=\"RCT\",'week 1 bk'!AL19,0)","v":0},{"$f":"IF('week 1 bk'!AJ19=\"SAT\",'week 1 bk'!AL19,0)","v":0},{"$f":"IF('week 1 bk'!AJ19=\"SET\",'week 1 bk'!AL19,0)","v":0},{"$f":"IF('week 1 bk'!AJ19=\"SLT\",'week 1 bk'!AL19,0)","v":0},{"$f":"IF('week 1 bk'!AJ19=\"VCT\",'week 1 bk'!AL19,0)","v":0}]
[10,{"$f":"IF('week 1 bk'!AJ22=\"ALT\",'week 1 bk'!AL22,0)","v":0},{"$f":"IF('week 1 bk'!AJ22=\"CAT\",'week 1 bk'!AL22,0)","v":0},{"$f":"IF('week 1 bk'!AJ22=\"CDT\",'week 1 bk'!AL22,0)","v":0},{"$f":"IF('week 1 bk'!AJ22=\"CTT\",'week 1 bk'!AL22,0)","v":0},{"$f":"IF('week 1 bk'!AJ22=\"DBT\",'week 1 bk'!AL22,0)","v":0},{"$f":"IF('week 1 bk'!AJ22=\"DOT\",'week 1 bk'!AL22,0)","v":0},{"$f":"IF('week 1 bk'!AJ22=\"DMT\",'week 1 bk'!AL22,0)","v":0},{"$f":"IF('week 1 bk'!AJ22=\"EMT\",'week 1 bk'!AL22,0)","v":0},{"$f":"IF('week 1 bk'!AJ22=\"EST\",'week 1 bk'!AL22,0)","v":0},{"$f":"IF('week 1 bk'!AJ22=\"FFT\",'week 1 bk'!AL22,0)","v":0},{"$f":"IF('week 1 bk'!AJ22=\"FPT\",'week 1 bk'!AL22,0)","v":0},{"$f":"IF('week 1 bk'!AJ20=\"HCT\",'week 1 bk'!AL20,0)","v":0},{"$f":"IF('week 1 bk'!AJ20=\"HOB\",'week 1 bk'!AL20,0)","v":0},{"$f":"IF('week 1 bk'!AJ20=\"JST\",'week 1 bk'!AL20,0)","v":0},{"$f":"IF('week 1 bk'!AJ20=\"LDT\",'week 1 bk'!AL20,0)","v":0},{"$f":"IF('week 1 bk'!AJ20=\"LET\",'week 1 bk'!AL20,0)","v":0},{"$f":"IF('week 1 bk'!AJ20=\"LPT\",'week 1 bk'!AL20,0)","v":0},{"$f":"IF('week 1 bk'!AJ20=\"MLT\",'week 1 bk'!AL20,0)","v":0},{"$f":"IF('week 1 bk'!AJ20=\"OHT\",'week 1 bk'!AL20,0)","v":0},{"$f":"IF('week 1 bk'!AJ20=\"OTT\",'week 1 bk'!AL20,0)","v":0},{"$f":"IF('week 1 bk'!AJ20=\"RCT\",'week 1 bk'!AL20,0)","v":0},{"$f":"IF('week 1 bk'!AJ20=\"SAT\",'week 1 bk'!AL20,0)","v":0},{"$f":"IF('week 1 bk'!AJ20=\"SET\",'week 1 bk'!AL20,0)","v":0},{"$f":"IF('week 1 bk'!AJ20=\"SLT\",'week 1 bk'!AL20,0)","v":0},{"$f":"IF('week 1 bk'!AJ20=\"VCT\",'week 1 bk'!AL20,0)","v":0}]
[11,{"$f":"IF('week 1 bk'!AJ23=\"ALT\",'week 1 bk'!AL23,0)","v":0},{"$f":"IF('week 1 bk'!AJ23=\"CAT\",'week 1 bk'!AL23,0)","v":0},{"$f":"IF('week 1 bk'!AJ23=\"CDT\",'week 1 bk'!AL23,0)","v":0},{"$f":"IF('week 1 bk'!AJ23=\"CTT\",'week 1 bk'!AL23,0)","v":0},{"$f":"IF('week 1 bk'!AJ23=\"DBT\",'week 1 bk'!AL23,0)","v":0},{"$f":"IF('week 1 bk'!AJ23=\"DOT\",'week 1 bk'!AL23,0)","v":0},{"$f":"IF('week 1 bk'!AJ23=\"DMT\",'week 1 bk'!AL23,0)","v":0},{"$f":"IF('week 1 bk'!AJ23=\"EMT\",'week 1 bk'!AL23,0)","v":0},{"$f":"IF('week 1 bk'!AJ23=\"EST\",'week 1 bk'!AL23,0)","v":0},{"$f":"IF('week 1 bk'!AJ23=\"FFT\",'week 1 bk'!AL23,0)","v":0},{"$f":"IF('week 1 bk'!AJ23=\"FPT\",'week 1 bk'!AL23,0)","v":0},{"$f":"IF('week 1 bk'!AJ21=\"HCT\",'week 1 bk'!AL21,0)","v":0},{"$f":"IF('week 1 bk'!AJ21=\"HOB\",'week 1 bk'!AL21,0)","v":0},{"$f":"IF('week 1 bk'!AJ21=\"JST\",'week 1 bk'!AL21,0)","v":0},{"$f":"IF('week 1 bk'!AJ21=\"LDT\",'week 1 bk'!AL21,0)","v":0},{"$f":"IF('week 1 bk'!AJ21=\"LET\",'week 1 bk'!AL21,0)","v":0},{"$f":"IF('week 1 bk'!AJ21=\"LPT\",'week 1 bk'!AL21,0)","v":0},{"$f":"IF('week 1 bk'!AJ21=\"MLT\",'week 1 bk'!AL21,0)","v":0},{"$f":"IF('week 1 bk'!AJ21=\"OHT\",'week 1 bk'!AL21,0)","v":0},{"$f":"IF('week 1 bk'!AJ21=\"OTT\",'week 1 bk'!AL21,0)","v":0},{"$f":"IF('week 1 bk'!AJ21=\"RCT\",'week 1 bk'!AL21,0)","v":0},{"$f":"IF('week 1 bk'!AJ21=\"SAT\",'week 1 bk'!AL21,0)","v":0},{"$f":"IF('week 1 bk'!AJ21=\"SET\",'week 1 bk'!AL21,0)","v":0},{"$f":"IF('week 1 bk'!AJ21=\"SLT\",'week 1 bk'!AL21,0)","v":0},{"$f":"IF('week 1 bk'!AJ21=\"VCT\",'week 1 bk'!AL21,0)","v":0}]
[12,{"$f":"IF('week 1 bk'!AJ24=\"ALT\",'week 1 bk'!AL24,0)","v":0},{"$f":"IF('week 1 bk'!AJ24=\"CAT\",'week 1 bk'!AL24,0)","v":0},{"$f":"IF('week 1 bk'!AJ24=\"CDT\",'week 1 bk'!AL24,0)","v":0},{"$f":"IF('week 1 bk'!AJ24=\"CTT\",'week 1 bk'!AL24,0)","v":0},{"$f":"IF('week 1 bk'!AJ24=\"DBT\",'week 1 bk'!AL24,0)","v":0},{"$f":"IF('week 1 bk'!AJ24=\"DOT\",'week 1 bk'!AL24,0)","v":0},{"$f":"IF('week 1 bk'!AJ24=\"DMT\",'week 1 bk'!AL24,0)","v":0},{"$f":"IF('week 1 bk'!AJ24=\"EMT\",'week 1 bk'!AL24,0)","v":0},{"$f":"IF('week 1 bk'!AJ24=\"EST\",'week 1 bk'!AL24,0)","v":0},{"$f":"IF('week 1 bk'!AJ24=\"FFT\",'week 1 bk'!AL24,0)","v":0},{"$f":"IF('week 1 bk'!AJ24=\"FPT\",'week 1 bk'!AL24,0)","v":0},{"$f":"IF('week 1 bk'!AJ22=\"HCT\",'week 1 bk'!AL22,0)","v":0},{"$f":"IF('week 1 bk'!AJ22=\"HOB\",'week 1 bk'!AL22,0)","v":0},{"$f":"IF('week 1 bk'!AJ22=\"JST\",'week 1 bk'!AL22,0)","v":0},{"$f":"IF('week 1 bk'!AJ22=\"LDT\",'week 1 bk'!AL22,0)","v":0},{"$f":"IF('week 1 bk'!AJ22=\"LET\",'week 1 bk'!AL22,0)","v":0},{"$f":"IF('week 1 bk'!AJ22=\"LPT\",'week 1 bk'!AL22,0)","v":0},{"$f":"IF('week 1 bk'!AJ22=\"MLT\",'week 1 bk'!AL22,0)","v":0},{"$f":"IF('week 1 bk'!AJ22=\"OHT\",'week 1 bk'!AL22,0)","v":0},{"$f":"IF('week 1 bk'!AJ22=\"OTT\",'week 1 bk'!AL22,0)","v":0},{"$f":"IF('week 1 bk'!AJ22=\"RCT\",'week 1 bk'!AL22,0)","v":0},{"$f":"IF('week 1 bk'!AJ22=\"SAT\",'week 1 bk'!AL22,0)","v":0},{"$f":"IF('week 1 bk'!AJ22=\"SET\",'week 1 bk'!AL22,0)","v":0},{"$f":"IF('week 1 bk'!AJ22=\"SLT\",'week 1 bk'!AL22,0)","v":0},{"$f":"IF('week 1 bk'!AJ22=\"VCT\",'week 1 bk'!AL22,0)","v":0}]
[13,{"$f":"IF('week 1 bk'!AJ25=\"ALT\",'week 1 bk'!AL25,0)","v":0},{"$f":"IF('week 1 bk'!AJ25=\"CAT\",'week 1 bk'!AL25,0)","v":0},{"$f":"IF('week 1 bk'!AJ25=\"CDT\",'week 1 bk'!AL25,0)","v":0},{"$f":"IF('week 1 bk'!AJ25=\"CTT\",'week 1 bk'!AL25,0)","v":0},{"$f":"IF('week 1 bk'!AJ25=\"DBT\",'week 1 bk'!AL25,0)","v":0},{"$f":"IF('week 1 bk'!AJ25=\"DOT\",'week 1 bk'!AL25,0)","v":0},{"$f":"IF('week 1 bk'!AJ25=\"DMT\",'week 1 bk'!AL25,0)","v":0},{"$f":"IF('week 1 bk'!AJ25=\"EMT\",'week 1 bk'!AL25,0)","v":0},{"$f":"IF('week 1 bk'!AJ25=\"EST\",'week 1 bk'!AL25,0)","v":0},{"$f":"IF('week 1 bk'!AJ25=\"FFT\",'week 1 bk'!AL25,0)","v":0},{"$f":"IF('week 1 bk'!AJ25=\"FPT\",'week 1 bk'!AL25,0)","v":0},{"$f":"IF('week 1 bk'!AJ23=\"HCT\",'week 1 bk'!AL23,0)","v":0},{"$f":"IF('week 1 bk'!AJ23=\"HOB\",'week 1 bk'!AL23,0)","v":0},{"$f":"IF('week 1 bk'!AJ23=\"JST\",'week 1 bk'!AL23,0)","v":0},{"$f":"IF('week 1 bk'!AJ23=\"LDT\",'week 1 bk'!AL23,0)","v":0},{"$f":"IF('week 1 bk'!AJ23=\"LET\",'week 1 bk'!AL23,0)","v":0},{"$f":"IF('week 1 bk'!AJ23=\"LPT\",'week 1 bk'!AL23,0)","v":0},{"$f":"IF('week 1 bk'!AJ23=\"MLT\",'week 1 bk'!AL23,0)","v":0},{"$f":"IF('week 1 bk'!AJ23=\"OHT\",'week 1 bk'!AL23,0)","v":0},{"$f":"IF('week 1 bk'!AJ23=\"OTT\",'week 1 bk'!AL23,0)","v":0},{"$f":"IF('week 1 bk'!AJ23=\"RCT\",'week 1 bk'!AL23,0)","v":0},{"$f":"IF('week 1 bk'!AJ23=\"SAT\",'week 1 bk'!AL23,0)","v":0},{"$f":"IF('week 1 bk'!AJ23=\"SET\",'week 1 bk'!AL23,0)","v":0},{"$f":"IF('week 1 bk'!AJ23=\"SLT\",'week 1 bk'!AL23,0)","v":0},{"$f":"IF('week 1 bk'!AJ23=\"VCT\",'week 1 bk'!AL23,0)","v":0}]
[14,{"$f":"IF('week 1 bk'!AJ26=\"ALT\",'week 1 bk'!AL26,0)","v":0},{"$f":"IF('week 1 bk'!AJ26=\"CAT\",'week 1 bk'!AL26,0)","v":0},{"$f":"IF('week 1 bk'!AJ26=\"CDT\",'week 1 bk'!AL26,0)","v":0},{"$f":"IF('week 1 bk'!AJ26=\"CTT\",'week 1 bk'!AL26,0)","v":0},{"$f":"IF('week 1 bk'!AJ26=\"DBT\",'week 1 bk'!AL26,0)","v":0},{"$f":"IF('week 1 bk'!AJ26=\"DOT\",'week 1 bk'!AL26,0)","v":0},{"$f":"IF('week 1 bk'!AJ26=\"DMT\",'week 1 bk'!AL26,0)","v":0},{"$f":"IF('week 1 bk'!AJ26=\"EMT\",'week 1 bk'!AL26,0)","v":0},{"$f":"IF('week 1 bk'!AJ26=\"EST\",'week 1 bk'!AL26,0)","v":0},{"$f":"IF('week 1 bk'!AJ26=\"FFT\",'week 1 bk'!AL26,0)","v":0},{"$f":"IF('week 1 bk'!AJ26=\"FPT\",'week 1 bk'!AL26,0)","v":0},{"$f":"IF('week 1 bk'!AJ24=\"HCT\",'week 1 bk'!AL24,0)","v":0},{"$f":"IF('week 1 bk'!AJ24=\"HOB\",'week 1 bk'!AL24,0)","v":0},{"$f":"IF('week 1 bk'!AJ24=\"JST\",'week 1 bk'!AL24,0)","v":0},{"$f":"IF('week 1 bk'!AJ24=\"LDT\",'week 1 bk'!AL24,0)","v":0},{"$f":"IF('week 1 bk'!AJ24=\"LET\",'week 1 bk'!AL24,0)","v":0},{"$f":"IF('week 1 bk'!AJ24=\"LPT\",'week 1 bk'!AL24,0)","v":0},{"$f":"IF('week 1 bk'!AJ24=\"MLT\",'week 1 bk'!AL24,0)","v":0},{"$f":"IF('week 1 bk'!AJ24=\"OHT\",'week 1 bk'!AL24,0)","v":0},{"$f":"IF('week 1 bk'!AJ24=\"OTT\",'week 1 bk'!AL24,0)","v":0},{"$f":"IF('week 1 bk'!AJ24=\"RCT\",'week 1 bk'!AL24,0)","v":0},{"$f":"IF('week 1 bk'!AJ24=\"SAT\",'week 1 bk'!AL24,0)","v":0},{"$f":"IF('week 1 bk'!AJ24=\"SET\",'week 1 bk'!AL24,0)","v":0},{"$f":"IF('week 1 bk'!AJ24=\"SLT\",'week 1 bk'!AL24,0)","v":0},{"$f":"IF('week 1 bk'!AJ24=\"VCT\",'week 1 bk'!AL24,0)","v":0}]
[null,null,null,null,null,null,null,null,null,null,null,null,{"$f":"IF('week 1 bk'!AJ25=\"HCT\",'week 1 bk'!AL25,0)","v":0},{"$f":"IF('week 1 bk'!AJ25=\"HOB\",'week 1 bk'!AL25,0)","v":0},{"$f":"IF('week 1 bk'!AJ25=\"JST\",'week 1 bk'!AL25,0)","v":0},{"$f":"IF('week 1 bk'!AJ25=\"LDT\",'week 1 bk'!AL25,0)","v":0},{"$f":"IF('week 1 bk'!AJ25=\"LET\",'week 1 bk'!AL25,0)","v":0},{"$f":"IF('week 1 bk'!AJ25=\"LPT\",'week 1 bk'!AL25,0)","v":0},{"$f":"IF('week 1 bk'!AJ25=\"MLT\",'week 1 bk'!AL25,0)","v":0},{"$f":"IF('week 1 bk'!AJ25=\"OHT\",'week 1 bk'!AL25,0)","v":0},{"$f":"IF('week 1 bk'!AJ25=\"OTT\",'week 1 bk'!AL25,0)","v":0},{"$f":"IF('week 1 bk'!AJ25=\"RCT\",'week 1 bk'!AL25,0)","v":0},{"$f":"IF('week 1 bk'!AJ25=\"SAT\",'week 1 bk'!AL25,0)","v":0},{"$f":"IF('week 1 bk'!AJ25=\"SET\",'week 1 bk'!AL25,0)","v":0},{"$f":"IF('week 1 bk'!AJ25=\"SLT\",'week 1 bk'!AL25,0)","v":0},{"$f":"IF('week 1 bk'!AJ25=\"VCT\",'week 1 bk'!AL25,0)","v":0}]
[null,null,null,null,null,null,null,null,null,null,null,null,{"$f":"IF('week 1 bk'!AJ26=\"HCT\",'week 1 bk'!AL26,0)","v":0},{"$f":"IF('week 1 bk'!AJ26=\"HOB\",'week 1 bk'!AL26,0)","v":0},{"$f":"IF('week 1 bk'!AJ26=\"JST\",'week 1 bk'!AL26,0)","v":0},{"$f":"IF('week 1 bk'!AJ26=\"LDT\",'week 1 bk'!AL26,0)","v":0},{"$f":"IF('week 1 bk'!AJ26=\"LET\",'week 1 bk'!AL26,0)","v":0},{"$f":"IF('week 1 bk'!AJ26=\"LPT\",'week 1 bk'!AL26,0)","v":0},{"$f":"IF('week 1 bk'!AJ26=\"MLT\",'week 1 bk'!AL26,0)","v":0},{"$f":"IF('week 1 bk'!AJ26=\"OHT\",'week 1 bk'!AL26,0)","v":0},{"$f":"IF('week 1 bk'!AJ26=\"OTT\",'week 1 bk'!AL26,0)","v":0},{"$f":"IF('week 1 bk'!AJ26=\"RCT\",'week 1 bk'!AL26,0)","v":0},{"$f":"IF('week 1 bk'!AJ26=\"SAT\",'week 1 bk'!AL26,0)","v":0},{"$f":"IF('week 1 bk'!AJ26=\"SET\",'week 1 bk'!AL26,0)","v":0},{"$f":"IF('week 1 bk'!AJ26=\"SLT\",'week 1 bk'!AL26,0)","v":0},{"$f":"IF('week 1 bk'!AJ26=\"VCT\",'week 1 bk'!AL26,0)","v":0}]
[null,null,null,null,null,null,null,null,null,null,null,null,null,null,null,null,null,null,null,null,null,null,null,null,null,null,{"$f":"IF('week 1 bk'!AN13=\"\",\"\",IF(AB78=FALSE,\"\",('week 1 bk'!AN13)))","v":""},{"$f":"SUMPRODUCT(--ISNUMBER(SEARCH(TakenRng,'week 1 bk'!AJ13)))>0","v":false},{"$f":"'week 1 bk'!AL13","v":0}]
[null,null,null,null,null,null,null,null,null,null,null,null,null,null,null,null,null,null,null,null,null,null,null,null,null,null,{"$f":"IF('week 1 bk'!AN14=\"\",\"\",IF(AB79=FALSE,\"\",('week 1 bk'!AN14)))","v":""},{"$f":"SUMPRODUCT(--ISNUMBER(SEARCH(TakenRng,'week 1 bk'!AJ14)))>0","v":false},{"$f":"'week 1 bk'!AL14","v":0}]
[null,null,null,null,null,null,null,null,null,null,null,null,null,null,null,null,null,null,null,null,null,null,null,null,null,null,{"$f":"IF('week 1 bk'!AN15=\"\",\"\",IF(AB80=FALSE,\"\",('week 1 bk'!AN15)))","v":""},{"$f":"SUMPRODUCT(--ISNUMBER(SEARCH(TakenRng,'week 1 bk'!AJ15)))>0","v":false},{"$f":"'week 1 bk'!AL15","v":0}]
[null,null,null,null,null,null,null,null,null,null,null,null,null,null,null,null,null,null,null,null,null,null,null,null,null,null,{"$f":"IF('week 1 bk'!AN16=\"\",\"\",IF(AB81=FALSE,\"\",('week 1 bk'!AN16)))","v":""},{"$f":"SUMPRODUCT(--ISNUMBER(SEARCH(TakenRng,'week 1 bk'!AJ16)))>0","v":false},{"$f":"'week 1 bk'!AL16","v":0}]
[null,null,null,null,null,null,null,null,null,null,null,null,null,null,null,null,null,null,null,null,null,null,null,null,null,null,{"$f":"IF('week 1 bk'!AN17=\"\",\"\",IF(AB82=FALSE,\"\",('week 1 bk'!AN17)))","v":""},{"$f":"SUMPRODUCT(--ISNUMBER(SEARCH(TakenRng,'week 1 bk'!AJ17)))>0","v":false},{"$f":"'week 1 bk'!AL17","v":0}]
[null,null,null,null,null,null,null,null,null,null,null,null,null,null,null,null,null,null,null,null,null,null,null,null,null,null,{"$f":"IF('week 1 bk'!AN18=\"\",\"\",IF(AB83=FALSE,\"\",('week 1 bk'!AN18)))","v":""},{"$f":"SUMPRODUCT(--ISNUMBER(SEARCH(TakenRng,'week 1 bk'!AJ18)))>0","v":false},{"$f":"'week 1 bk'!AL18","v":0}]
[null,null,null,null,null,null,null,null,null,null,null,null,null,null,null,null,null,null,null,null,null,null,null,null,null,null,{"$f":"IF('week 1 bk'!AN19=\"\",\"\",IF(AB84=FALSE,\"\",('week 1 bk'!AN19)))","v":""},{"$f":"SUMPRODUCT(--ISNUMBER(SEARCH(TakenRng,'week 1 bk'!AJ19)))>0","v":false},{"$f":"'week 1 bk'!AL19","v":0}]
[null,null,null,null,null,null,null,null,null,null,null,null,null,null,null,null,null,null,null,null,null,null,null,null,null,null,{"$f":"IF('week 1 bk'!AN20=\"\",\"\",IF(AB85=FALSE,\"\",('week 1 bk'!AN20)))","v":""},{"$f":"SUMPRODUCT(--ISNUMBER(SEARCH(TakenRng,'week 1 bk'!AJ20)))>0","v":false},{"$f":"'week 1 bk'!AL20","v":0}]
[null,null,null,null,null,null,null,null,null,null,null,null,null,null,null,null,null,null,null,null,null,null,null,null,null,null,{"$f":"IF('week 1 bk'!AN21=\"\",\"\",IF(AB86=FALSE,\"\",('week 1 bk'!AN21)))","v":""},{"$f":"SUMPRODUCT(--ISNUMBER(SEARCH(TakenRng,'week 1 bk'!AJ21)))>0","v":false},{"$f":"'week 1 bk'!AL21","v":0}]
[null,null,null,null,null,null,null,null,null,null,null,null,null,null,null,null,null,null,null,null,null,null,null,null,null,null,{"$f":"IF('week 1 bk'!AN22=\"\",\"\",IF(AB87=FALSE,\"\",('week 1 bk'!AN22)))","v":""},{"$f":"SUMPRODUCT(--ISNUMBER(SEARCH(TakenRng,'week 1 bk'!AJ22)))>0","v":false},{"$f":"'week 1 bk'!AL22","v":0}]
[null,null,null,null,null,null,null,null,null,null,null,null,null,null,null,null,null,null,null,null,null,null,null,null,null,null,{"$f":"IF('week 1 bk'!AN23=\"\",\"\",IF(AB88=FALSE,\"\",('week 1 bk'!AN23)))","v":""},{"$f":"SUMPRODUCT(--ISNUMBER(SEARCH(TakenRng,'week 1 bk'!AJ23)))>0","v":false},{"$f":"'week 1 bk'!AL23","v":0}]
[null,null,null,null,null,null,null,null,null,null,null,null,null,null,null,null,null,null,null,null,null,null,null,null,null,null,{"$f":"IF('week 1 bk'!AN24=\"\",\"\",IF(AB89=FALSE,\"\",('week 1 bk'!AN24)))","v":""},{"$f":"SUMPRODUCT(--ISNUMBER(SEARCH(TakenRng,'week 1 bk'!AJ24)))>0","v":false},{"$f":"'week 1 bk'!AL24","v":0}]
[null,null,null,null,null,null,null,null,null,null,null,null,null,null,null,null,null,null,null,null,null,null,null,null,null,null,{"$f":"IF('week 1 bk'!AN25=\"\",\"\",IF(AB90=FALSE,\"\",('week 1 bk'!AN25)))","v":""},{"$f":"SUMPRODUCT(--ISNUMBER(SEARCH(TakenRng,'week 1 bk'!AJ25)))>0","v":false},{"$f":"'week 1 bk'!AL25","v":0}]
[null,null,null,null,null,null,null,null,null,null,null,null,null,null,null,null,null,null,null,null,null,null,null,null,null,null,{"$f":"IF('week 1 bk'!AN26=\"\",\"\",IF(AB91=FALSE,\"\",('week 1 bk'!AN26)))","v":""},{"$f":"SUMPRODUCT(--ISNUMBER(SEARCH(TakenRng,'week 1 bk'!AJ26)))>0","v":false},{"$f":"'week 1 bk'!AL26","v":0}]
[]
[null,null,null,null,null,null,null,null,null,null,null,null,null,null,null,null,null,null,null,null,null,null,null,null,null,null,"Date","TT","TT1","TT2"]
[null,null,null,null,null,null,null,null,null,null,null,null,null,null,null,null,null,null,null,null,null,null,null,null,null,null,{"$f":"AQ11","v":"2019-09-01"},{"$f":"IF((SUMPRODUCT(--((ISNUMBER(SEARCH(AA94,AA$78:AA$91)))),AC$78:AC$91)) > 0,\"Y\",\"N\")","v":"N"},{"$f":"SUMPRODUCT(--((ISNUMBER(SEARCH(AA94,AA$78:AA$91)))),AC$78:AC$91)","v":0},{"$f":"IF(O11=\"\",AU11,IF(OR(O11<8,O11=8),(IF(AB94=\"Y\",8-O11,IF(AB94=\"Y\",8,0)))-IF(OR(O11=8,O11<8),0,O11),IF(O11>8,0,(IF(AB94=\"Y\",AB94,0)))))","v":0}]
[null,null,null,null,null,null,null,null,null,null,null,null,null,null,null,null,null,null,null,null,null,null,null,null,null,null,{"$f":"AQ12","v":"2019-09-02"},{"$f":"IF((SUMPRODUCT(--((ISNUMBER(SEARCH(AA95,AA$78:AA$91)))),AC$78:AC$91)) > 0,\"Y\",\"N\")","v":"N"},{"$f":"SUMPRODUCT(--((ISNUMBER(SEARCH(AA95,AA$78:AA$91)))),AC$78:AC$91)","v":0},{"$f":"IF(O12=\"\",AU12,IF(OR(O12<8,O12=8),(IF(AB95=\"Y\",8-O12,IF(AB95=\"Y\",8,0)))-IF(OR(O12=8,O12<8),0,O12),IF(O12>8,0,(IF(AB95=\"Y\",AB95,0)))))","v":0}]
[null,null,null,null,null,null,null,null,null,null,null,null,null,null,null,null,null,null,null,null,null,null,null,null,null,null,"2019-09-03","N",0,0]
[null,null,null,null,null,null,null,null,null,null,null,null,null,null,null,null,null,null,null,null,null,null,null,null,null,null,"2019-09-04","N",0,0]
[null,null,null,null,null,null,null,null,null,null,null,null,null,null,null,null,null,null,null,null,null,null,null,null,null,null,"2019-09-05","N",0,0]
["DAY OF WEEK","TTL HRS MINUS TIME OFF IN TIME FORMAT","TTL HRS CONVERTED TO DECIMALS","SUM REGULAR DAY & NIGHT ","SUM STEP DAY & NIGHT ","SUM REG & STEP TTLS","DAY/NIGHT COMPARED TO TTL HRS","TTL DIST OF DUTY TIME","DIST HRS COMPARED TO TTL HRS","IF TIME BEGIN MINUS TIME ENDED =< 24 HRS","24 HRS OF DUTY","MORE THAN 24 HR SPAN IN A DAY",null,null,null,null,null,null,null,null,null,null,null,null,null,null,"2019-09-06","N",0,0]
["SUN",{"$f":"IF(F11<D11,(24-D11)+F11,F11-D11)","v":0},{"$f":"IF(OR(D11=\"\",F11=\"\"),0,IF(D11=F11,J100,IF((VALUE(HOUR(B100))+VALUE(MINUTE(B100))/60)-H11=0,0,(VALUE(HOUR(B100))+VALUE(MINUTE(B100))/60)-H11)))","v":0},{"$f":"SUM(I11:J11)","v":0},{"$f":"SUM(L11:M11)","v":0},{"$f":"SUM(K11,N11)","v":0},{"$f":"IF(C100=F100,0,1)","v":0},{"$f":"IF(SUM(P11:Y11,AE11:AH11)=0,\"\",SUM(P11:Y11,AE11:AH11))","v":""},{"$f":"IF(C100=H100,0,1)","v":1},{"$f":"IF(D11=F11,K100-H11,C100)","v":24},{"$f":"(B100+24)","v":24},{"$f":"IF(AND(D11<>\"\",F11<>\"\",K100>24),1,0)","v":0},null,null,null,null,null,null,null,null,null,null,null,null,null,null,"2019-09-07","N",0,0]
["MON",0,0,0,0,0,0,{"$f":"IF(SUM(P12:Y12,AE12:AH12)=0,\"\",SUM(P12:Y12,AE12:AH12))","v":""},1,24,24,0,null,"TIME ACCRUED/TAKEN CONVERSION & VALIDATION"]
["TUES",0,0,0,0,0,0,{"$f":"IF(SUM(P13:Y13,AE13:AH13)=0,\"\",SUM(P13:Y13,AE13:AH13))","v":""},1,24,24,0,null,{"$f":"VALUE(AE47)*24","v":0},{"$f":"CODE(N102)","v":48},{"$f":"IF(AE47=\"\",1,CODE(AE47))","v":1},{"$f":"IF(O102=P102,0,1)","v":1},{"$f":"IF(O102-P102=0,0,1)","v":1},{"$f":"SUM(Q102:R102)","v":2},null,null,null,null,null,null,null,"TT1","Time Taken entered on weekly"]
["WED",0,0,0,0,0,0,{"$f":"IF(SUM(P14:Y14,AE14:AH14)=0,\"\",SUM(P14:Y14,AE14:AH14))","v":""},1,24,24,0,null,{"$f":"VALUE(AE48)*24","v":0},{"$f":"CODE(N103)","v":48},{"$f":"IF(AE48=\"\",1,CODE(AE48))","v":1},{"$f":"IF(O103=P103,0,1)","v":1},{"$f":"IF(O103-P103=0,0,1)","v":1},{"$f":"SUM(Q103:R103)","v":2},null,null,null,null,null,null,null,"TT2","Caculated Time Taken (based upon duty time entry)"]
["THU",0,0,0,0,0,0,{"$f":"IF(SUM(P15:Y15,AE15:AI15)=0,\"\",SUM(P15:Y15,AE15:AI15))","v":""},1,24,24,0,null,{"$f":"VALUE(AE49)*24","v":0},{"$f":"CODE(N104)","v":48},{"$f":"IF(AE49=\"\",1,CODE(AE49))","v":1},{"$f":"IF(O104=P104,0,1)","v":1},{"$f":"IF(O104-P104=0,0,1)","v":1},{"$f":"SUM(Q104:R104)","v":2}]
["FRI",0,0,0,0,0,0,"",1,24,24,0,null,{"$f":"VALUE(AE50)*24","v":0},{"$f":"CODE(N105)","v":48},{"$f":"IF(AE50=\"\",1,CODE(AE50))","v":1},{"$f":"IF(O105=P105,0,1)","v":1},{"$f":"IF(O105-P105=0,0,1)","v":1},{"$f":"SUM(Q105:R105)","v":2}]
["SAT",0,0,0,0,0,0,"",1,24,24,0]
[null,"SUM",{"$f":"SUM(C100:C106)","v":0},{"$f":"A87","v":0},{"$f":"IF(B87>999, \"0.0\", B87)","v":0},{"$f":"SUM(F100:F106)","v":0},{"$f":"SUM(G100:G106)","v":0},{"$f":"SUM(H100:H106)","v":0},{"$f":"SUM(I100:I106)","v":7}]
[null,null,{"$f":"MIN(C100:C106)","v":0},{"$f":"SUM(D100:D106)-D107+E151","v":0},{"$f":"SUM(E100:E106)","v":0}]
[]
[]
[]
[]
[]
[]
[]
[]
[]
[]
[]
[]
[]
[]
[]
[]
[]
[]
[]
[null,null,null,null,null,null,null,null,null,null,null,null,null,null,null,null,null,null,null,null,null,null,null,null,null,null,null,null,null,null,null,null,null,null,null,null,null,null,"LIST OF ACCEPTABLE CODES"]
[null,null,null,null,null,null,null,null,null,null,null,null,null,null,null,null,null,null,null,null,null,null,null,null,null,null,null,null,null,null,null,null,null,null,null,null,null,null,"USED FOR BACK OF WEEK"]
[null,null,null,null,null,null,null,null,null,null,null,null,null,null,null,null,null,null,null,null,null,null,null,null,null,null,null,null,null,null,null,null,null,null,null,null,null,null,"ALT"]
[null,null,null,null,null,null,null,null,null,null,null,null,null,null,null,null,null,null,null,null,null,null,null,null,null,null,null,null,null,null,null,null,null,null,null,null,null,null,"CAT"]
[null,null,null,null,null,null,null,null,null,null,null,null,null,null,null,null,null,null,null,null,null,null,null,null,null,null,null,null,"NO MILES OVER 1000/DAY OR ON R1 DAYS",null,null,null,null,null,null,null,null,null,"CDE"]
[null,null,null,null,null,null,null,null,null,null,null,null,null,null,null,null,null,null,null,null,null,null,null,null,null,null,null,null,{"$f":"IF(AND(E202=\"R1,R2\",Z11<>\"\"),0)","v":false},{"$f":"IF(Z11>1000,1,0)","v":0},{"$f":"SUM(AC133:AD133)","v":0},null,null,null,null,null,null,null,"CDT"]
[null,null,null,null,null,null,null,null,null,null,null,null,null,null,null,null,null,null,null,null,null,null,null,null,null,null,null,null,{"$f":"IF(AND(E203=\"R1\",Z12<>\"\"),0)","v":false},0,0,null,null,null,null,null,null,null,"CTE"]
[null,null,null,null,null,null,null,null,null,null,null,null,null,null,null,null,null,null,null,null,null,null,null,null,null,null,null,null,false,0,0,null,null,null,null,null,null,null,"CTT"]
[null,null,null,null,null,null,null,null,null,null,null,null,null,null,null,null,null,null,null,null,null,null,null,null,null,null,null,null,false,0,0,null,null,null,null,null,null,null,"DBT"]
[null,null,null,null,null,null,null,null,null,null,null,null,null,null,null,null,null,null,null,null,null,null,null,null,null,null,null,null,false,0,0,null,null,null,null,null,null,null,"DOT"]
[null,null,null,null,null,null,null,null,null,null,null,null,null,null,null,null,null,null,null,null,null,null,null,null,null,null,null,null,false,0,0,null,null,null,null,null,null,null,"DMT"]
[null,null,null,null,null,null,null,null,null,null,null,null,null,null,null,null,null,null,null,null,null,null,null,null,null,null,null,null,false,0,0,null,null,null,null,null,null,null,"EMT"]
[null,null,null,null,null,null,null,null,null,null,null,null,null,null,null,null,null,null,null,null,null,null,null,null,null,null,null,null,null,null,null,null,null,null,null,null,null,null,"EST"]
[null,null,null,null,null,null,null,null,null,null,null,null,null,null,null,null,null,null,null,null,null,null,null,null,null,null,null,null,null,null,null,null,null,null,null,null,null,null,"FFT"]
[null,null,null,null,null,null,null,null,null,null,null,null,null,null,null,null,null,null,null,null,null,null,null,null,null,null,null,null,null,null,null,null,null,null,null,null,null,null,"FPT"]
[null,null,null,null,null,null,null,null,null,null,null,null,null,null,null,null,null,null,null,null,null,null,null,null,null,null,null,null,null,null,null,null,null,null,null,null,null,null,"HCE"]
[null,null,null,null,null,null,null,null,null,null,null,null,null,null,null,null,null,null,null,null,null,null,null,null,null,null,null,null,null,null,null,null,null,null,null,null,null,null,"HCT"]
[null,null,null,null,null,null,null,null,null,null,null,null,null,null,null,null,null,null,null,null,null,null,null,null,null,null,null,null,null,null,null,null,null,null,null,null,null,null,"HOB"]
[null,null,null,null,null,null,null,null,null,null,null,null,null,null,null,null,null,null,null,null,null,null,null,null,null,null,null,null,null,null,null,null,null,null,null,null,null,null,"JST"]
[null,null,null,null,null,null,null,null,null,null,null,null,null,null,null,null,null,null,null,null,null,null,null,null,null,null,null,null,null,null,null,null,null,null,null,null,null,null,"LDT"]
[null,null,null,null,null,null,null,null,null,null,null,null,null,null,null,null,null,null,null,null,null,null,null,null,null,null,null,null,null,null,null,null,null,null,null,null,null,null,"LET"]
[null,null,null,null,null,null,null,null,null,null,null,null,null,null,null,null,null,null,null,null,null,null,null,null,null,null,null,null,null,null,null,null,null,null,null,null,null,null,"LPA"]
[null,null,null,null,null,null,null,null,null,null,null,null,null,null,null,null,null,null,null,null,null,null,null,null,null,null,null,null,null,null,null,null,null,null,null,null,null,null,"LPT"]
[null,null,null,null,null,null,null,null,null,null,null,null,null,null,null,null,null,null,null,null,null,null,null,null,null,null,null,null,null,null,null,null,null,null,null,null,null,null,"LWT"]
[null,null,null,null,null,null,null,null,null,null,null,null,null,null,null,null,null,null,null,null,null,null,null,null,null,null,null,null,null,null,null,null,null,null,null,null,null,null,"MLT"]
[null,null,null,null,null,null,null,null,null,null,null,null,null,null,null,null,null,null,null,null,null,null,null,null,null,null,null,null,null,null,null,null,null,null,null,null,null,null,"OHE"]
[null,null,null,null,null,null,null,null,null,null,null,null,null,null,null,null,null,null,null,null,null,null,null,null,null,null,null,null,null,null,null,null,null,null,null,null,null,null,"OHT"]
[null,null,null,null,null,null,null,null,null,null,null,null,null,null,null,null,null,null,null,null,null,null,null,null,null,null,null,null,null,null,null,null,null,null,null,null,null,null,"OTE"]
[null,null,null,null,null,null,null,null,null,null,null,null,null,null,null,null,null,null,null,null,null,null,null,null,null,null,null,null,null,null,null,null,null,null,null,null,null,null,"OTP"]
[null,null,null,null,null,null,null,null,null,null,null,null,null,null,null,null,null,null,null,null,null,null,null,null,null,null,null,null,null,null,null,null,null,null,null,null,null,null,"OTT"]
[null,null,null,null,null,null,null,null,null,null,null,null,null,null,null,null,null,null,null,null,null,null,null,null,null,null,null,null,null,null,null,null,null,null,null,null,null,null,"RCT"]
[null,null,null,null,null,null,null,null,null,null,null,null,null,null,null,null,null,null,null,null,null,null,null,null,null,null,null,null,null,null,null,null,null,null,null,null,null,null,"SAT"]
[null,null,null,null,null,null,null,null,null,null,null,null,null,null,null,null,null,null,null,null,null,null,null,null,null,null,null,null,null,null,null,null,null,null,null,null,null,null,"SET"]
[null,null,null,null,null,null,null,null,null,null,null,null,null,null,null,null,null,null,null,null,null,null,null,null,null,null,null,null,null,null,null,null,null,null,null,null,null,null,"SLT"]
[null,null,null,null,null,null,null,null,null,null,null,null,null,null,null,null,null,null,null,null,null,null,null,null,null,null,null,null,null,null,null,null,null,null,null,null,null,null,"VCT"]
[]
[]
[]
[]
[]
[]
[]
[]
[]
[null,null,null,null,null,null,null,null,null,null,null,null,null,null,null,null,null,null,null,null,null,null,null,null,null,null,null,null,"Hours Worked"]
[null,null,null,null,null,null,null,null,null,null,null,null,null,null,null,null,null,null,null,null,null,null,null,null,null,null,null,null,0.25]
[null,null,null,null,null,null,null,null,null,null,null,null,null,null,null,null,null,null,null,null,null,null,null,null,null,null,null,null,0.5]
[null,null,null,null,null,null,null,null,null,null,null,null,null,null,null,null,null,null,null,null,null,null,null,null,null,null,null,null,0.75]
[null,null,null,null,null,null,null,null,null,null,null,null,null,null,null,null,null,null,null,null,null,null,null,null,null,null,null,null,1]
[null,null,null,null,null,null,null,null,null,null,null,null,null,null,null,null,null,null,null,null,null,null,null,null,null,null,null,null,1.25]
[null,null,null,null,null,null,null,null,null,null,null,null,null,null,null,null,null,null,null,null,null,null,null,null,null,null,null,null,1.5]
[null,null,null,null,null,null,null,null,null,null,null,null,null,null,null,null,null,null,null,null,null,null,null,null,null,null,null,null,1.75]
[null,null,null,null,null,null,null,null,null,null,null,null,null,null,null,null,null,null,null,null,null,null,null,null,null,null,null,null,2]
[null,null,null,null,null,null,null,null,null,null,null,null,null,null,null,null,null,null,null,null,null,null,null,null,null,null,null,null,2.25]
[null,null,null,null,null,null,null,null,null,null,null,null,null,null,null,null,null,null,null,null,null,null,null,null,null,null,null,null,2.5]
[null,null,null,null,null,null,null,null,null,null,null,null,null,null,null,null,null,null,null,null,null,null,null,null,null,null,null,null,2.75]
[null,null,null,null,null,null,null,null,null,null,null,null,null,null,null,null,null,null,null,null,null,null,null,null,null,null,null,null,3]
[null,null,null,null,null,null,null,null,null,null,null,null,null,null,null,null,null,null,null,null,null,null,null,null,null,null,null,null,3.25]
[null,null,null,null,null,null,null,null,null,null,null,null,null,null,null,null,null,null,null,null,null,null,null,null,null,null,null,null,3.5]
[null,null,null,null,null,null,null,null,null,null,null,null,null,null,null,null,null,null,null,null,null,null,null,null,null,null,null,null,3.75]
[null,null,null,null,null,null,null,null,null,null,null,null,null,null,null,null,null,null,null,null,null,null,null,null,null,null,null,null,4]
[null,null,null,null,null,null,null,null,null,null,null,null,null,null,null,null,null,null,null,null,null,null,null,null,null,null,null,null,4.25]
[null,null,null,null,null,null,null,null,null,null,null,null,null,null,null,null,null,null,null,null,null,null,null,null,null,null,null,null,4.5]
[null,null,null,null,null,null,null,null,null,null,null,null,null,null,null,null,null,null,null,null,null,null,null,null,null,null,null,null,4.75]
[null,null,null,null,null,null,null,null,null,null,null,null,null,null,null,null,null,null,null,null,null,null,null,null,null,null,null,null,5]
[null,null,null,null,null,null,null,null,null,null,null,null,null,null,null,null,null,null,null,null,null,null,null,null,null,null,null,null,5.25]
[null,null,null,null,null,null,null,null,null,null,null,null,null,null,null,null,null,null,null,null,null,null,null,null,null,null,null,null,5.5]
[null,null,null,null,null,null,null,null,null,null,null,null,null,null,null,null,null,null,null,null,null,null,null,null,null,null,null,null,5.75]
[null,null,null,null,null,null,null,null,null,null,null,null,null,null,null,null,null,null,null,null,null,null,null,null,null,null,null,null,6]
[null,null,null,null,null,null,null,null,null,null,null,null,null,null,null,null,null,null,null,null,null,null,null,null,null,null,null,null,6.25]
[null,null,null,null,null,null,null,null,null,null,null,null,null,null,null,null,null,null,null,null,null,null,null,null,null,null,null,null,6.5]
[null,null,null,null,null,null,null,null,null,null,null,null,null,null,null,null,null,null,null,null,null,null,null,null,null,null,null,null,6.75]
[null,null,null,null,null,null,null,null,null,null,null,null,null,null,null,null,null,null,null,null,null,null,null,null,null,null,null,null,7]
[null,null,null,null,null,null,null,null,null,null,null,null,null,null,null,null,null,null,null,null,null,null,null,null,null,null,null,null,7.25]
[null,null,null,null,null,null,null,null,null,null,null,null,null,null,null,null,null,null,null,null,null,null,null,null,null,null,null,null,7.5]
[null,null,null,null,null,null,null,null,null,null,null,null,null,null,null,null,null,null,null,null,null,null,null,null,null,null,null,null,7.75]
[null,null,null,null,null,null,null,null,null,null,null,null,null,null,null,null,null,null,null,null,null,null,null,null,null,null,null,null,8]
[null,null,null,null,null,null,null,null,null,null,null,null,null,null,null,null,null,null,null,null,null,null,null,null,null,null,null,null,8.25]
[null,null,null,null,null,null,null,null,null,null,null,null,null,null,null,null,null,null,null,null,null,null,null,null,null,null,null,null,8.5]
[null,null,null,null,null,null,null,null,null,null,null,null,null,null,null,null,null,null,null,null,null,null,null,null,null,null,null,null,8.75]
[null,null,null,null,null,null,null,null,null,null,null,null,null,null,null,null,null,null,null,null,null,null,null,null,null,null,null,null,9]
[null,null,null,null,null,null,null,null,null,null,null,null,null,null,null,null,null,null,null,null,null,null,null,null,null,null,null,null,9.25]
[null,null,null,null,null,null,null,null,null,null,null,null,null,null,null,null,null,null,null,null,null,null,null,null,null,null,null,null,9.5]
[null,null,null,null,null,null,null,null,null,null,null,null,null,null,null,null,null,null,null,null,null,null,null,null,null,null,null,null,9.75]
[null,null,null,null,null,null,null,null,null,null,null,null,null,null,null,null,null,null,null,null,null,null,null,null,null,null,null,null,10]
[null,null,null,null,null,null,null,null,null,null,null,null,null,null,null,null,null,null,null,null,null,null,null,null,null,null,null,null,10.25]
[null,null,null,null,null,null,null,null,null,null,null,null,null,null,null,null,null,null,null,null,null,null,null,null,null,null,null,null,10.5]
[null,null,null,null,null,null,null,null,null,null,null,null,null,null,null,null,null,null,null,null,null,null,null,null,null,null,null,null,10.75]
[null,null,null,null,null,null,null,null,null,null,null,null,null,null,null,null,null,null,null,null,null,null,null,null,null,null,null,null,11]
[null,null,null,null,null,null,null,null,null,null,null,null,null,null,null,null,null,null,null,null,null,null,null,null,null,null,null,null,11.25]
[null,null,null,null,null,null,null,null,null,null,null,null,null,null,null,null,null,null,null,null,null,null,null,null,null,null,null,null,11.5]
[null,null,null,null,null,null,null,null,null,null,null,null,null,null,null,null,null,null,null,null,null,null,null,null,null,null,null,null,11.75]
[null,null,null,null,null,null,null,null,null,null,null,null,null,null,null,null,null,null,null,null,null,null,null,null,null,null,null,null,12]
[null,null,null,null,null,null,null,null,null,null,null,null,null,null,null,null,null,null,null,null,null,null,null,null,null,null,null,null,12.25]
[null,null,null,null,null,null,null,null,null,null,null,null,null,null,null,null,null,null,null,null,null,null,null,null,null,null,null,null,12.5]
[null,null,null,null,null,null,null,null,null,null,null,null,null,null,null,null,null,null,null,null,null,null,null,null,null,null,null,null,12.75]
[null,null,null,null,null,null,null,null,null,null,null,null,null,null,null,null,null,null,null,null,null,null,null,null,null,null,null,null,13]
[null,null,null,null,null,null,null,null,null,null,null,null,null,null,null,null,null,null,null,null,null,null,null,null,null,null,null,null,13.25]
[null,null,null,null,null,null,null,null,null,null,null,null,null,null,null,null,null,null,null,null,null,null,null,null,null,null,null,null,13.5]
[null,null,null,null,null,null,null,null,null,null,null,null,null,null,null,null,null,null,null,null,null,null,null,null,null,null,null,null,13.75]
[null,null,null,null,null,null,null,null,null,null,null,null,null,null,null,null,null,null,null,null,null,null,null,null,null,null,null,null,14]
[null,null,null,null,null,null,null,null,null,null,null,null,null,null,null,null,null,null,null,null,null,null,null,null,null,null,null,null,14.25]
[null,null,null,null,null,null,null,null,null,null,null,null,null,null,null,null,null,null,null,null,null,null,null,null,null,null,null,null,14.5]
[null,null,null,null,null,null,null,null,null,null,null,null,null,null,null,null,null,null,null,null,null,null,null,null,null,null,null,null,14.75]
[null,null,null,null,null,null,null,null,null,null,null,null,null,null,null,null,null,null,null,null,null,null,null,null,null,null,null,null,15]
[null,null,null,null,null,null,null,null,null,null,null,null,null,null,null,null,null,null,null,null,null,null,null,null,null,null,null,null,15.25]
[null,null,null,null,null,null,null,null,null,null,null,null,null,null,null,null,null,null,null,null,null,null,null,null,null,null,null,null,15.5]
[null,null,null,"TIME VALUES",null,null,null,null,null,null,null,null,null,null,null,null,null,null,null,null,null,null,null,null,null,null,null,null,15.75]
[null,null,null,"06:00:00",null,null,null,null,null,null,null,null,null,null,null,"HOURS LEAVE",null,null,null,null,null,null,null,null,null,null,null,null,16]
[null,null,null,"06:15:00",null,null,null,null,null,null,null,null,null,null,null,null,"0:15",0.25,null,null,null,null,null,null,null,null,null,null,16.25]
[null,null,null,"06:30:00",null,null,null,null,null,null,null,null,null,null,null,null,"0:30",0.5,null,null,null,null,null,null,null,null,null,null,16.5]
[null,null,null,"06:45:00",null,null,null,null,null,null,null,null,null,null,null,null,"0:45",0.75,null,null,null,null,null,null,null,null,null,null,16.75]
[null,null,null,"07:00:00",null,null,null,null,null,null,null,null,null,null,null,null,"1:00",1,null,null,null,null,null,null,null,null,null,null,17]
[null,null,null,"07:15:00",null,null,null,null,null,null,null,null,null,null,null,null,"1:15",1.25,null,null,null,null,null,null,null,null,null,null,17.25]
[null,null,null,"07:30:00",null,null,null,null,null,null,null,null,null,null,null,null,"1:30",1.5,null,null,null,null,null,null,null,null,null,null,17.5]
[null,null,null,"07:45:00",null,null,null,null,null,null,null,null,null,null,null,null,"1:45",1.75,null,null,null,null,null,null,null,null,null,null,17.75]
[null,null,null,"08:00:00",null,null,null,null,null,null,null,null,null,null,null,null,"2:00",2,null,null,null,null,null,null,null,null,null,null,18]
[null,null,null,"08:15:00",null,null,null,null,null,null,null,null,null,null,null,null,"2:15",2.25,null,null,null,null,null,null,null,null,null,null,18.25]
[null,null,null,"08:30:00",null,null,null,null,null,null,null,null,null,null,null,null,"2:30",2.5,null,null,null,null,null,null,null,null,null,null,18.5]
[null,null,null,"08:45:00",null,null,null,null,null,null,null,null,null,null,null,null,"2:45",2.75,null,null,null,null,null,null,null,null,null,null,18.75]
[null,null,null,"09:00:00",null,null,null,null,null,null,null,null,null,null,null,null,"3:00",3,null,null,null,null,null,null,null,null,null,null,19]
[null,null,null,"09:15:00",null,null,null,null,null,null,null,null,null,null,null,null,"3:15",3.25,null,null,null,null,null,null,null,null,null,null,19.25]
[null,null,null,"09:30:00",null,null,null,null,null,null,null,null,null,null,null,null,"3:30",3.5,null,null,null,null,null,null,null,null,null,null,19.5]
[null,null,null,"09:45:00",null,null,null,null,null,null,null,null,null,null,null,null,"3:45",3.75,null,null,null,null,null,null,null,null,null,null,19.75]
[null,null,null,"10:00:00",null,null,null,null,null,null,null,null,null,null,null,null,"4:00",4,null,null,null,null,null,null,null,null,null,null,20]
[null,null,null,"10:15:00",null,null,null,null,null,null,null,null,null,null,null,null,"4:15",4.25,null,null,null,null,null,null,null,null,null,null,20.25]
[null,null,null,"10:30:00",null,null,null,null,null,null,null,null,null,null,null,null,"4:30",4.5,null,null,null,null,null,null,null,null,null,null,20.5]
[null,null,null,"10:45:00",null,null,null,null,null,null,null,null,null,null,null,null,"4:45",4.75,null,null,null,null,null,null,null,null,null,null,20.75]
[null,null,null,"11:00:00",null,null,null,null,null,null,null,null,null,null,null,null,"5:00",5,null,null,null,null,null,null,null,null,null,null,21]
[null,null,null,"11:15:00",null,null,null,null,null,null,null,null,null,null,null,null,"5:15",5.25,null,null,null,null,null,null,null,null,null,null,21.25]
[null,null,null,"11:30:00",null,null,null,null,null,null,null,null,null,null,null,null,"5:30",5.5,null,null,null,null,null,null,null,null,null,null,21.5]
[null,null,null,"11:45:00",null,null,null,null,null,null,null,null,null,null,null,null,"5:45",5.75,null,null,null,null,null,null,null,null,null,null,21.75]
[null,null,null,"12:00:00",null,null,null,null,null,null,null,null,null,null,null,null,"6:00",6,null,null,null,null,null,null,null,null,null,null,22]
[null,null,null,"12:15:00",null,null,null,null,null,null,null,null,null,null,null,null,"6:15",6.25,null,null,null,null,null,null,null,null,null,null,22.25]
[null,null,null,"12:30:00",null,null,null,null,null,null,null,null,null,null,null,null,"6:30",6.5,null,null,null,null,null,null,null,null,null,null,22.5]
[null,null,null,"12:45:00",null,null,null,null,null,null,null,null,null,null,null,null,"6:45",6.75,null,null,null,null,null,null,null,null,null,null,22.75]
[null,null,null,"13:00:00",null,null,null,null,null,null,null,null,null,null,null,null,"7:00",7,null,null,null,null,null,null,null,null,null,null,23]
[null,null,null,"13:15:00",null,null,null,null,null,null,null,null,null,null,null,null,"7:15",7.25,null,null,null,null,null,null,null,null,null,null,23.25]
[null,null,null,"13:30:00",null,null,null,null,null,null,null,null,null,null,null,null,"7:30",7.5,null,null,null,null,null,null,null,null,null,null,23.5]
[null,null,null,"13:45:00",null,null,null,null,null,null,null,null,null,null,null,null,"7:45",7.75,null,null,null,null,null,null,null,null,null,null,23.75]
[null,null,null,"14:00:00",null,null,null,null,null,null,null,null,null,null,null,null,0.33333333333333331,8,null,null,null,null,null,null,null,null,null,null,24]
[null,null,null,"14:15:00",null,null,null,null,null,null,null,null,null,null,null,null,"8:15",8.25]
[null,null,null,"14:30:00",null,null,null,null,null,null,null,null,null,null,null,null,"8:30",8.5]
[null,null,null,"14:45:00",null,null,null,null,null,null,null,null,null,null,null,null,"8:45",{"$f":"R270+0.25","v":8.75}]
[null,null,null,"15:00:00",null,null,null,null,null,null,null,null,null,null,null,null,"9:00",9]
[null,null,null,"15:15:00",null,null,null,null,null,null,null,null,null,null,null,null,"9:15",9.25]
[null,null,null,"15:30:00",null,null,null,null,null,null,null,null,null,null,null,null,"9:30",9.5]
[null,null,null,"15:45:00",null,null,null,null,null,null,null,null,null,null,null,null,"9:45",9.75]
[null,null,null,"16:00:00",null,null,null,null,null,null,null,null,null,null,null,null,"10:00",10]
[null,null,null,"16:15:00",null,null,null,null,null,null,null,null,null,null,null,null,"10:15",10.25]
[null,null,null,"16:30:00",null,null,null,null,null,null,null,null,null,null,null,null,"10:30",10.5]
[null,null,null,"16:45:00",null,null,null,null,null,null,null,null,null,null,null,null,"10:45",10.75]
[null,null,null,"17:00:00",null,null,null,null,null,null,null,null,null,null,null,null,"11:00",11]
[null,null,null,"17:15:00",null,null,null,null,null,null,null,null,null,null,null,null,"11:15",11.25]
[null,null,null,"17:30:00",null,null,null,null,null,null,null,null,null,null,null,null,"11:30",11.5]
[null,null,null,"17:45:00",null,null,null,null,null,null,null,null,null,null,null,null,"11:45",11.75]
[null,null,null,"18:00:00",null,null,null,null,null,null,null,null,null,null,null,null,"12:00",12]
[null,null,null,"18:15:00",null,null,null,null,null,null,null,null,null,null,null,null,"12:15",12.25]
[null,null,null,"18:30:00",null,null,null,null,null,null,null,null,null,null,null,null,"12:30",12.5]
[null,null,null,"18:45:00",null,null,null,null,null,null,null,null,null,null,null,null,"12:45",12.75]
[null,null,null,"19:00:00",null,null,null,null,null,null,null,null,null,null,null,null,"13:00",13]
[null,null,null,"19:15:00",null,null,null,null,null,null,null,null,null,null,null,null,"13:15",13.25]
[null,null,null,"19:30:00",null,null,null,null,null,null,null,null,null,null,null,null,"13:30",13.5]
[null,null,null,"19:45:00",null,null,null,null,null,null,null,null,null,null,null,null,"13:45",13.75]
[null,null,null,"20:00:00",null,null,null,null,null,null,null,null,null,null,null,null,"14:00",14]
[null,null,null,"20:15:00",null,null,null,null,null,null,null,null,null,null,null,null,"14:15",14.25]
[null,null,null,"20:30:00",null,null,null,null,null,null,null,null,null,null,null,null,"14:30",14.5]
[null,null,null,"20:45:00",null,null,null,null,null,null,null,null,null,null,null,null,"14:45",14.75]
[null,null,null,"21:00:00",null,null,null,null,null,null,null,null,null,null,null,null,"15:00",15]
[null,null,null,"21:15:00",null,null,null,null,null,null,null,null,null,null,null,null,"15:15",15.25]
[null,null,null,"21:30:00",null,null,null,null,null,null,null,null,null,null,null,null,"15:30",15.5]
[null,null,null,"21:45:00",null,null,null,null,null,null,null,null,null,null,null,null,"15:45",15.75]
[null,null,null,"22:00:00",null,null,null,null,null,null,null,null,null,null,null,null,"16:00",16]
[null,null,null,"22:15:00",null,null,null,null,null,null,null,null,null,null,null,null,"16:15",16.25]
[null,null,null,"22:30:00",null,null,null,null,null,null,null,null,null,null,null,null,"16:30",16.5]
[null,null,null,"22:45:00",null,null,null,null,null,null,null,null,null,null,null,null,"16:45",{"$f":"R302+0.25","v":16.75}]
[null,null,null,"23:00:00",null,null,null,null,null,null,null,null,null,null,null,null,"17:00",17]
[null,null,null,"23:15:00",null,null,null,null,null,null,null,null,null,null,null,null,"17:15",17.25]
[null,null,null,"23:30:00",null,null,null,null,null,null,null,null,null,null,null,null,"17:30",17.5]
[null,null,null,"23:45:00",null,null,null,null,null,null,null,null,null,null,null,null,"17:45",17.75]
[null,null,null,"00:00:00",null,null,null,null,null,null,null,null,null,null,null,null,"18:00",18]
[null,null,null,"00:15:00",null,null,null,null,null,null,null,null,null,null,null,null,"18:15",18.25]
[null,null,null,"00:30:00",null,null,null,null,null,null,null,null,null,null,null,null,"18:30",18.5]
[null,null,null,"00:45:00",null,null,null,null,null,null,null,null,null,null,null,null,"18:45",18.75]
[null,null,null,"01:00:00",null,null,null,null,null,null,null,null,null,null,null,null,"19:00",19]
[null,null,null,"01:15:00",null,null,null,null,null,null,null,null,null,null,null,null,"19:15",19.25]
[null,null,null,"01:30:00",null,null,null,null,null,null,null,null,null,null,null,null,"19:30",19.5]
[null,null,null,"01:45:00",null,null,null,null,null,null,null,null,null,null,null,null,"19:45",19.75]
[null,null,null,"02:00:00",null,null,null,null,null,null,null,null,null,null,null,null,"20:00",20]
[null,null,null,"02:15:00",null,null,null,null,null,null,null,null,null,null,null,null,"20:15",20.25]
[null,null,null,"02:30:00",null,null,null,null,null,null,null,null,null,null,null,null,"20:30",20.5]
[null,null,null,"02:45:00",null,null,null,null,null,null,null,null,null,null,null,null,"20:45",20.75]
[null,null,null,"03:00:00",null,null,null,null,null,null,null,null,null,null,null,null,"21:00",21]
[null,null,null,"03:15:00",null,null,null,null,null,null,null,null,null,null,null,null,"21:15",21.25]
[null,null,null,"03:30:00",null,null,null,null,null,null,null,null,null,null,null,null,"21:30",21.5]
[null,null,null,"03:45:00",null,null,null,null,null,null,null,null,null,null,null,null,"21:45",21.75]
[null,null,null,"04:00:00",null,null,null,null,null,null,null,null,null,null,null,null,"22:00",22]
[null,null,null,"04:15:00",null,null,null,null,null,null,null,null,null,null,null,null,"22:15",22.25]
[null,null,null,"04:30:00",null,null,null,null,null,null,null,null,null,null,null,null,"22:30",22.5]
[null,null,null,"04:45:00",null,null,null,null,null,null,null,null,null,null,null,null,"22:45",22.75]
[null,null,null,"05:00:00",null,null,null,null,null,null,null,null,null,null,null,null,"23:00",23]
[null,null,null,"05:15:00",null,null,null,null,null,null,null,null,null,null,null,null,"23:15",23.25]
[null,null,null,"05:30:00",null,null,null,null,null,null,null,null,null,null,null,null,"23:30",23.5]
[null,null,null,"05:45:00",null,null,null,null,null,null,null,null,null,null,null,null,"23:45",23.75]
[null,null,null,null,null,null,null,null,null,null,null,null,null,null,null,null,"24:00",24]
[null,null,null,null,null,null,null,null,null,null,null,null,null,null,null,null,"24:15",24.25]
[null,null,null,null,null,null,null,null,null,null,null,null,null,null,null,null,"24:30",24.5]
[null,null,null,null,null,null,null,null,null,null,null,null,null,null,null,null,"24:45",{"$f":"R334+0.25","v":24.75}]
[null,null,null,null,null,null,null,null,null,null,null,null,null,null,null,null,"25:00",25]
[null,null,null,null,null,null,null,null,null,null,null,null,null,null,null,null,"25:15",25.25]
[null,null,null,null,null,null,null,null,null,null,null,null,null,null,null,null,"25:30",25.5]
[null,null,null,null,null,null,null,null,null,null,null,null,null,null,null,null,"25:45",25.75]
[null,null,null,null,null,null,null,null,null,null,null,null,null,null,null,null,"26:00",26]
[null,null,null,null,null,null,null,null,null,null,null,null,null,null,null,null,"26:15",26.25]
[null,null,null,null,null,null,null,null,null,null,null,null,null,null,null,null,"26:30",26.5]
[null,null,null,null,null,null,null,null,null,null,null,null,null,null,null,null,"26:45",26.75]
[null,null,null,null,null,null,null,null,null,null,null,null,null,null,null,null,"27:00",27]
[null,null,null,null,null,null,null,null,null,null,null,null,null,null,null,null,"27:15",27.25]
[null,null,null,null,null,null,null,null,null,null,null,null,null,null,null,null,"27:30",27.5]
[null,null,null,null,null,null,null,null,null,null,null,null,null,null,null,null,"27:45",27.75]
[null,null,null,null,null,null,null,null,null,null,null,null,null,null,null,null,"28:00",28]
[null,null,null,null,null,null,null,null,null,null,null,null,null,null,null,null,"28:15",28.25]
[null,null,null,null,null,null,null,null,null,null,null,null,null,null,null,null,"28:30",28.5]
[null,null,null,null,null,null,null,null,null,null,null,null,null,null,null,null,"28:45",28.75]
[null,null,null,null,null,null,null,null,null,null,null,null,null,null,null,null,"29:00",29]
[null,null,null,null,null,null,null,null,null,null,null,null,null,null,null,null,"29:15",29.25]
[null,null,null,null,null,null,null,null,null,null,null,null,null,null,null,null,"29:30",29.5]
[null,null,null,null,null,null,null,null,null,null,null,null,null,null,null,null,"29:45",29.75]
[null,null,null,null,null,null,null,null,null,null,null,null,null,null,null,null,"30:00",30]
[null,null,null,null,null,null,null,null,null,null,null,null,null,null,null,null,"30:15",30.25]
[null,null,null,null,null,null,null,null,null,null,null,null,null,null,null,null,"30:30",30.5]
[null,null,null,null,null,null,null,null,null,null,null,null,null,null,null,null,"30:45",30.75]
[null,null,null,null,null,null,null,null,null,null,null,null,null,null,null,null,"31:00",31]
[null,null,null,null,null,null,null,null,null,null,null,null,null,null,null,null,"31:15",31.25]
[null,null,null,null,null,null,null,null,null,null,null,null,null,null,null,null,"31:30",31.5]
[null,null,null,null,null,null,null,null,null,null,null,null,null,null,null,null,"31:45",31.75]
[null,null,null,null,null,null,null,null,null,null,null,null,null,null,null,null,"32:00",32]
[null,null,null,null,null,null,null,null,null,null,null,null,null,null,null,null,"32:15",32.25]
[null,null,null,null,null,null,null,null,null,null,null,null,null,null,null,null,"32:30",32.5]
[null,null,null,null,null,null,null,null,null,null,null,null,null,null,null,null,"32:45",{"$f":"R366+0.25","v":32.75}]
[null,null,null,null,null,null,null,null,null,null,null,null,null,null,null,null,"33:00",33]
[null,null,null,null,null,null,null,null,null,null,null,null,null,null,null,null,"33:15",33.25]
[null,null,null,null,null,null,null,null,null,null,null,null,null,null,null,null,"33:30",33.5]
[null,null,null,null,null,null,null,null,null,null,null,null,null,null,null,null,"33:45",33.75]
[null,null,null,null,null,null,null,null,null,null,null,null,null,null,null,null,"34:00",34]
[null,null,null,null,null,null,null,null,null,null,null,null,null,null,null,null,"34:15",34.25]
[null,null,null,null,null,null,null,null,null,null,null,null,null,null,null,null,"34:30",34.5]
[null,null,null,null,null,null,null,null,null,null,null,null,null,null,null,null,"34:45",34.75]
[null,null,null,null,null,null,null,null,null,null,null,null,null,null,null,null,"35:00",35]
[null,null,null,null,null,null,null,null,null,null,null,null,null,null,null,null,"35:15",35.25]
[null,null,null,null,null,null,null,null,null,null,null,null,null,null,null,null,"35:30",35.5]
[null,null,null,null,null,null,null,null,null,null,null,null,null,null,null,null,"35:45",35.75]
[null,null,null,null,null,null,null,null,null,null,null,null,null,null,null,null,"36:00",36]
[null,null,null,null,null,null,null,null,null,null,null,null,null,null,null,null,"36:15",36.25]
[null,null,null,null,null,null,null,null,null,null,null,null,null,null,null,null,"36:30",36.5]
[null,null,null,null,null,null,null,null,null,null,null,null,null,null,null,null,"36:45",36.75]
[null,null,null,null,null,null,null,null,null,null,null,null,null,null,null,null,"37:00",37]
[null,null,null,null,null,null,null,null,null,null,null,null,null,null,null,null,"37:15",37.25]
[null,null,null,null,null,null,null,null,null,null,null,null,null,null,null,null,"37:30",37.5]
[null,null,null,null,null,null,null,null,null,null,null,null,null,null,null,null,"37:45",37.75]
[null,null,null,null,null,null,null,null,null,null,null,null,null,null,null,null,"38:00",38]
[null,null,null,null,null,null,null,null,null,null,null,null,null,null,null,null,"38:15",38.25]
[null,null,null,null,null,null,null,null,null,null,null,null,null,null,null,null,"38:30",38.5]
[null,null,null,null,null,null,null,null,null,null,null,null,null,null,null,null,"38:45",38.75]
[null,null,null,null,null,null,null,null,null,null,null,null,null,null,null,null,"39:00",39]
[null,null,null,null,null,null,null,null,null,null,null,null,null,null,null,null,"39:15",39.25]
[null,null,null,null,null,null,null,null,null,null,null,null,null,null,null,null,"39:30",39.5]
[null,null,null,null,null,null,null,null,null,null,null,null,null,null,null,null,"39:45",39.75]
[null,null,null,null,null,null,null,null,null,null,null,null,null,null,null,null,"40:00",40]
[null,null,null,null,null,null,null,null,null,null,null,null,null,null,null,null,"40:15"]
[null,null,null,null,null,null,null,null,null,null,null,null,null,null,null,null,"40:30"]
[null,null,null,null,null,null,null,null,null,null,null,null,null,null,null,null,"40:45"]
[null,null,null,null,null,null,null,null,null,null,null,null,null,null,null,null,"41:00"]
[null,null,null,null,null,null,null,null,null,null,null,null,null,null,null,null,"41:15"]
[null,null,null,null,null,null,null,null,null,null,null,null,null,null,null,null,"41:30"]
[null,null,null,null,null,null,null,null,null,null,null,null,null,null,null,null,"41:45"]
[null,null,null,null,null,null,null,null,null,null,null,null,null,null,null,null,"42:00"]
[null,null,null,null,null,null,null,null,null,null,null,null,null,null,null,null,"42:15"]
[null,null,null,null,null,null,null,null,null,null,null,null,null,null,null,null,"42:30"]
[null,null,null,null,null,null,null,null,null,null,null,null,null,null,null,null,"42:45"]
[null,null,null,null,null,null,null,null,null,null,null,null,null,null,null,null,"43:00"]
[null,null,null,null,null,null,null,null,null,null,null,null,null,null,null,null,"43:15"]
[null,null,null,null,null,null,null,null,null,null,null,null,null,null,null,null,"43:30"]
[null,null,null,null,null,null,null,null,null,null,null,null,null,null,null,null,"43:45"]
[null,null,null,null,null,null,null,null,null,null,null,null,null,null,null,null,"44:00"]
[null,null,null,null,null,null,null,null,null,null,null,null,null,null,null,null,"44:15"]
[null,null,null,null,null,null,null,null,null,null,null,null,null,null,null,null,"44:30"]
[null,null,null,null,null,null,null,null,null,null,null,null,null,null,null,null,"44:45"]
[null,null,null,null,null,null,null,null,null,null,null,null,null,null,null,null,"45:00"]
[null,null,null,null,null,null,null,null,null,null,null,null,null,null,null,null,"45:15"]
[null,null,null,null,null,null,null,null,null,null,null,null,null,null,null,null,"45:30"]
[null,null,null,null,null,null,null,null,null,null,null,null,null,null,null,null,"45:45"]
[null,null,null,null,null,null,null,null,null,null,null,null,null,null,null,null,"46:00"]
[null,null,null,null,null,null,null,null,null,null,null,null,null,null,null,null,"46:15"]
[null,null,null,null,null,null,null,null,null,null,null,null,null,null,null,null,"46:30"]
[null,null,null,null,null,null,null,null,null,null,null,null,null,null,null,null,"46:45"]
[null,null,null,null,null,null,null,null,null,null,null,null,null,null,null,null,"47:00"]
[null,null,null,null,null,null,null,null,null,null,null,null,null,null,null,null,"47:15"]
[null,null,null,null,null,null,null,null,null,null,null,null,null,null,null,null,"47:30"]
[null,null,null,null,null,null,null,null,null,null,null,null,null,null,null,null,"47:45"]
[null,null,null,null,null,null,null,null,null,null,null,null,null,null,null,null,"48:00"]
[null,null,null,null,null,null,null,null,null,null,null,null,null,null,null,null,"48:15"]
[null,null,null,null,null,null,null,null,null,null,null,null,null,null,null,null,"48:30"]
[null,null,null,null,null,null,null,null,null,null,null,null,null,null,null,null,"48:45"]
[null,null,null,null,null,null,null,null,null,null,null,null,null,null,null,null,"49:00"]
[null,null,null,null,null,null,null,null,null,null,null,null,null,null,null,null,"49:15"]
[null,null,null,null,null,null,null,null,null,null,null,null,null,null,null,null,"49:30"]
[null,null,null,null,null,null,null,null,null,null,null,null,null,null,null,null,"49:45"]
[null,null,null,null,null,null,null,null,null,null,null,null,null,null,null,null,"50:00"]
[null,null,null,null,null,null,null,null,null,null,null,null,null,null,null,null,"50:15"]
[null,null,null,null,null,null,null,null,null,null,null,null,null,null,null,null,"50:30"]
[null,null,null,null,null,null,null,null,null,null,null,null,null,null,null,null,"50:45"]
[null,null,null,null,null,null,null,null,null,null,null,null,null,null,null,null,"51:00"]
[null,null,null,null,null,null,null,null,null,null,null,null,null,null,null,null,"51:15"]
[null,null,null,null,null,null,null,null,null,null,null,null,null,null,null,null,"51:30"]
[null,null,null,null,null,null,null,null,null,null,null,null,null,null,null,null,"51:45"]
[null,null,null,null,null,null,null,null,null,null,null,null,null,null,null,null,"52:00"]
[null,null,null,null,null,null,null,null,null,null,null,null,null,null,null,null,"52:15"]
[null,null,null,null,null,null,null,null,null,null,null,null,null,null,null,null,"52:30"]
[null,null,null,null,null,null,null,null,null,null,null,null,null,null,null,null,"52:45"]
[null,null,null,null,null,null,null,null,null,null,null,null,null,null,null,null,"53:00"]
[null,null,null,null,null,null,null,null,null,null,null,null,null,null,null,null,"53:15"]
[null,null,null,null,null,null,null,null,null,null,null,null,null,null,null,null,"53:30"]
[null,null,null,null,null,null,null,null,null,null,null,null,null,null,null,null,"53:45"]
[null,null,null,null,null,null,null,null,null,null,null,null,null,null,null,null,"54:00"]
[null,null,null,null,null,null,null,null,null,null,null,null,null,null,null,null,"54:15"]
[null,null,null,null,null,null,null,null,null,null,null,null,null,null,null,null,"54:30"]
[null,null,null,null,null,null,null,null,null,null,null,null,null,null,null,null,"54:45"]
[null,null,null,null,null,null,null,null,null,null,null,null,null,null,null,null,"55:00"]
[null,null,null,null,null,null,null,null,null,null,null,null,null,null,null,null,"55:15"]
[null,null,null,null,null,null,null,null,null,null,null,null,null,null,null,null,"55:30"]
[null,null,null,null,null,null,null,null,null,null,null,null,null,null,null,null,"55:45"]
[null,null,null,null,null,null,null,null,null,null,null,null,null,null,null,null,"56:00"]

{"sheet":"week 1 bk","index":3,"n_rows":444,"n_cols":61,"rows_kept":444,"cut":false,"hidden":false,"merged":[[34,6,34,9],[29,10,29,13],[30,10,30,13],[31,10,31,13],[32,10,32,13],[33,10,33,13],[34,10,34,13],[10,49,10,55],[11,49,11,55],[12,49,12,55],[13,49,13,55],[14,49,14,55],[15,49,15,55],[16,49,16,55],[17,49,17,55],[18,49,18,55],[26,41,27,41],[21,39,21,40],[22,35,22,36],[21,37,21,38],[21,35,21,36],[15,37,15,38],[31,6,31,9],[32,6,32,9],[33,6,33,9],[19,35,19,36],[19,37,19,38],[19,39,19,40],[12,24,13,34],[16,24,17,34],[18,24,19,34],[12,18,13,19],[26,2,27,5],[14,8,15,9],[16,8,17,9],[12,6,13,7],[14,6,15,7],[12,10,13,11],[12,12,13,13],[14,24,15,34],[12,4,13,5],[16,6,17,7],[12,14,13,15],[14,14,15,15],[16,14,17,15],[24,6,25,7],[24,8,25,9],[22,18,23,19],[26,0,27,1],[26,6,26,13],[27,6,27,9],[27,10,27,13],[26,14,27,15],[26,16,27,25],[26,26,27,40],[18,2,19,3],[18,4,19,5],[18,16,19,17],[18,14,19,15],[24,0,25,1],[24,2,25,3],[24,16,25,17],[24,24,25,34],[22,14,23,15],[24,14,25,15],[24,10,25,11],[22,12,23,13],[20,0,21,1],[20,2,21,3],[20,14,21,15],[20,10,21,11],[24,4,25,5],[8,42,8,43],[8,44,8,47],[9,42,9,43],[9,44,9,47],[8,49,8,55],[9,49,9,55],[6,42,6,43],[6,44,6,47],[7,42,7,43],[7,44,7,47],[6,49,6,55],[7,49,7,55],[4,42,4,43],[4,44,4,47],[5,42,5,43],[5,44,5,47],[4,49,4,55],[5,49,5,55],[2,42,2,43],[2,44,2,47],[3,42,3,43],[3,44,3,47],[2,49,2,55],[3,49,3,55],[0,42,0,43],[0,44,0,47],[1,42,1,43],[1,44,1,47],[0,49,0,55],[1,49,1,55],[48,0,48,1],[48,20,48,23],[48,26,48,27],[48,33,48,34],[48,35,48,36],[48,37,48,38],[48,39,48,43],[48,44,48,45],[48,48,48,49],[47,0,47,1],[47,20,47,23],[47,26,47,27],[47,33,47,34],[47,35,47,36],[47,37,47,38],[47,39,47,43],[47,44,47,45],[47,48,47,49],[46,0,46,1],[46,20,46,23],[46,26,46,27],[46,33,46,34],[46,35,46,36],[46,37,46,38],[46,39,46,43],[46,44,46,45],[46,48,46,49],[45,0,45,1],[45,20,45,23],[45,26,45,27],[45,33,45,34],[45,35,45,36],[45,37,45,38],[45,39,45,43],[45,44,45,45],[45,48,45,49],[44,0,44,1],[44,20,44,23],[44,26,44,27],[44,33,44,34],[44,35,44,36],[44,37,44,38],[44,39,44,43],[44,44,44,45],[44,48,44,49],[42,37,42,38],[42,39,42,43],[42,44,42,45],[42,48,42,49],[43,0,43,1],[43,20,43,23],[43,26,43,27],[43,33,43,34],[43,35,43,36],[43,37,43,38],[43,39,43,43],[43,44,43,45],[43,48,43,49],[42,4,42,7],[42,10,42,11],[42,14,42,15],[42,16,42,17],[42,18,42,19],[42,20,42,23],[42,26,42,27],[42,33,42,34],[42,35,42,36],[42,2,42,3],[40,48,40,49],[41,10,41,11],[41,14,41,15],[41,16,41,17],[41,18,41,19],[41,20,41,23],[41,26,41,27],[41,33,41,34],[41,35,41,36],[41,37,41,38],[41,39,41,43],[41,44,41,45],[41,48,41,49],[40,16,40,17],[40,18,40,19],[40,20,40,23],[40,26,40,27],[40,33,40,34],[40,35,40,36],[40,37,40,38],[40,39,40,43],[40,44,40,45],[38,48,38,49],[39,0,39,1],[39,2,39,3],[39,4,39,7],[39,10,39,11],[39,14,39,15],[39,16,39,17],[39,18,39,19],[39,20,39,23],[39,26,39,27],[39,33,39,34],[39,35,39,36],[39,37,39,38],[39,39,39,43],[39,44,39,45],[39,48,39,49],[38,16,38,17],[38,18,38,19],[38,20,38,23],[38,26,38,27],[38,33,38,34],[38,35,38,36],[38,37,38,38],[38,39,38,43],[38,44,38,45],[10,35,11,36],[10,37,11,38],[17,35,17,36],[17,37,17,38],[17,39,17,40],[24,37,24,38],[24,39,24,40],[11,44,11,47],[14,42,14,43],[14,44,14,47],[10,42,10,43],[10,44,10,47],[22,37,22,38],[20,35,20,36],[20,37,20,38],[20,39,20,40],[22,39,22,40],[23,35,23,36],[23,37,23,38],[23,39,23,40],[18,35,18,36],[18,37,18,38],[18,39,18,40],[0,0,0,1],[1,0,1,1],[1,2,1,6],[1,7,1,12],[0,26,0,34],[11,14,11,15],[11,16,11,17],[11,20,11,21],[11,22,11,23],[10,12,10,23],[11,4,11,5],[11,6,11,7],[11,8,11,9],[5,26,5,34],[6,26,6,34],[11,12,11,13],[10,2,11,3],[11,10,11,11],[9,0,9,1],[9,2,9,6],[9,7,9,12],[10,0,11,1],[10,4,10,11],[9,13,9,18],[1,35,1,40],[2,0,2,1],[2,2,2,6],[2,7,2,12],[2,13,2,18],[2,19,2,20],[2,21,2,25],[2,26,2,34],[2,35,2,40],[1,13,1,18],[1,19,1,20],[1,21,1,25],[1,26,1,34],[5,35,5,40],[5,19,5,20],[5,21,5,25],[5,0,5,1],[5,2,5,6],[5,7,5,12],[5,13,5,18],[3,26,3,34],[3,35,3,40],[4,19,4,20],[4,21,4,25],[4,26,4,34],[4,35,4,40],[3,19,3,20],[3,21,3,25],[3,2,3,6],[3,7,3,12],[3,13,3,18],[4,0,4,1],[4,2,4,6],[4,7,4,12],[4,13,4,18],[3,0,3,1],[8,2,8,6],[8,7,8,12],[8,13,8,18],[6,19,6,20],[6,21,6,25],[6,0,6,1],[6,2,6,6],[6,7,6,12],[6,13,6,18],[7,0,7,1],[7,2,7,6],[7,7,7,12],[7,13,7,18],[8,19,8,20],[8,21,8,25],[7,19,7,20],[7,21,7,25],[8,0,8,1],[10,39,11,40],[11,18,11,19],[18,18,19,19],[15,39,15,40],[12,35,12,36],[12,37,12,38],[12,39,12,40],[16,35,16,36],[6,35,6,40],[7,26,7,34],[7,35,7,40],[8,26,8,34],[8,35,8,40],[16,37,16,38],[16,39,16,40],[13,35,13,36],[13,37,13,38],[13,39,13,40],[14,35,14,36],[14,37,14,38],[14,39,14,40],[15,35,15,36],[22,4,23,5],[20,6,21,7],[22,6,23,7],[14,4,15,5],[16,4,17,5],[14,0,15,1],[14,2,15,3],[18,0,19,1],[9,35,9,40],[9,19,9,20],[9,21,9,25],[9,26,9,34],[16,18,17,19],[16,10,17,11],[18,6,19,7],[14,18,15,19],[10,24,11,34],[14,20,15,21],[14,22,15,23],[14,16,15,17],[16,16,17,17],[12,16,13,17],[14,10,15,11],[12,8,13,9],[22,20,23,21],[24,12,25,13],[20,18,21,19],[20,16,21,17],[22,16,23,17],[20,24,21,34],[22,24,23,34],[12,20,13,21],[12,0,13,1],[12,2,13,3],[22,10,23,11],[14,12,15,13],[16,12,17,13],[18,12,19,13],[20,12,21,13],[16,0,17,1],[16,2,17,3],[22,0,23,1],[22,2,23,3],[18,10,19,11],[18,8,19,9],[20,8,21,9],[22,8,23,9],[20,4,21,5],[28,6,28,9],[28,10,28,13],[28,2,28,5],[28,0,28,1],[29,6,29,9],[30,6,30,9],[28,14,28,15],[30,16,30,25],[29,14,29,15],[29,16,29,25],[34,0,34,1],[34,2,34,5],[12,22,13,23],[16,22,17,23],[18,22,19,23],[20,22,21,23],[22,22,23,23],[33,16,33,25],[34,14,34,15],[34,16,34,25],[32,0,32,1],[32,2,32,5],[33,2,33,5],[16,20,17,21],[18,20,19,21],[20,20,21,21],[33,14,33,15],[33,0,33,1],[31,2,31,5],[30,14,30,15],[29,0,29,1],[29,2,29,5],[30,0,30,1],[30,2,30,5],[31,0,31,1],[98,8,98,9],[35,0,36,5],[98,10,98,11],[98,12,98,13],[36,6,36,15],[98,6,98,7],[98,14,98,15],[41,0,41,1],[41,2,41,3],[41,4,41,7],[35,6,35,9],[35,10,35,13],[38,0,38,1],[38,2,38,3],[38,4,38,7],[38,10,38,11],[38,14,38,15],[40,0,40,1],[40,2,40,3],[40,4,40,7],[40,10,40,11],[40,14,40,15],[42,0,42,1],[35,21,35,22],[36,21,36,22],[35,16,36,17],[35,14,35,15],[31,16,31,25],[25,35,25,36],[32,26,32,40],[30,26,30,40],[29,26,29,40],[28,16,28,25],[35,18,36,20],[32,14,32,15],[32,16,32,25],[33,26,33,40],[34,26,34,40],[28,26,28,40],[31,26,31,40],[31,14,31,15],[24,20,25,21],[24,22,25,23],[25,37,25,38],[25,39,25,40],[24,35,24,36],[24,18,25,19],[12,42,12,43],[12,44,12,47],[13,42,13,43],[13,44,13,47],[18,42,18,43],[18,44,18,47],[15,42,15,43],[15,44,15,47],[16,42,16,43],[16,44,16,47],[22,42,22,43],[22,44,22,47],[19,42,19,43],[19,44,19,47],[20,42,20,43],[20,44,20,47],[19,49,19,55],[20,49,20,55],[21,49,21,55],[22,49,22,55],[23,42,23,43],[23,44,23,47],[24,42,24,43],[24,44,24,47],[23,49,23,55],[24,49,24,55],[25,49,25,55],[32,42,32,43],[32,44,32,47],[29,42,29,43],[29,44,29,47],[30,42,30,43],[30,44,30,47],[31,49,31,55],[26,49,27,55],[28,49,28,55],[29,49,29,55],[30,49,30,55],[26,44,27,47],[26,48,27,48],[28,42,28,43],[28,44,28,47],[26,42,27,43],[33,44,33,47],[34,44,34,47],[33,49,33,55],[34,49,34,55],[35,49,35,55],[36,49,37,55],[0,35,0,40],[36,41,37,41],[36,42,37,43],[36,44,37,47],[36,48,37,48],[35,42,35,43],[35,44,35,47],[33,42,33,43],[34,42,34,43],[31,42,31,43],[31,44,31,47],[25,42,25,43],[25,44,25,47],[21,42,21,43],[21,44,21,47],[17,42,17,43],[17,44,17,47],[11,42,11,43]]}
["DATE",null," ACTIVITY ",null,null,null,null," IDENTIFICATION ",null,null,null,null,null," LOCATION ",null,null,null,null,null,"DATE",null," ACTIVITY ",null,null,null,null," IDENTIFICATION ",null,null,null,null,null,null,null,null," LOCATION ",null,null,null,null,null,"EXERCISE","DATE",null,"EXERCISE",null,null,null,"HORSE","DETAILS"]
[null,null,null,null,null,null,null,null,null,null,null,null,null,null,null,null,null,null,null,null,null,null,null,null,null,null,null,null,null,null,null,null,null,null,null,null,null,null,null,null,null,1]
[null,null,null,null,null,null,null,null,null,null,null,null,null,null,null,null,null,null,null,null,null,null,null,null,null,null,null,null,null,null,null,null,null,null,null,null,null,null,null,null,null,2]
[null,null,null,null,null,null,null,null,null,null,null,null,null,null,null,null,null,null,null,null,null,null,null,null,null,null,null,null,null,null,null,null,null,null,null,null,null,null,null,null,null,3]
[null,null,null,null,null,null,null,null,null,null,null,null,null,null,null,null,null,null,null,null,null,null,null,null,null,null,null,null,null,null,null,null,null,null,null,null,null,null,null,null,null,4]
[null,null,null,null,null,null,null,null,null,null,null,null,null,null,null,null,null,null,null,null,null,null,null,null,null,null,null,null,null,null,null,null,null,null,null,null,null,null,null,null,null,5]
[null,null,null,null,null,null,null,null,null,null,null,null,null,null,null,null,null,null,null,null,null,null,null,null,null,null,null,null,null,null,null,null,null,null,null,null,null,null,null,null,null,6]
[null,null,null,null,null,null,null,null,null,null,null,null,null,null,null,null,null,null,null,null,null,null,null,null,null,null,null,null,null,null,null,null,null,null,null,null,null,null,null,null,null,7]
[null,null,null,null,null,null,null,null,null,null,null,null,null,null,null,null,null,null,null,null,null,null,null,null,null,null,null,null,null,null,null,null,null,null,null,null,null,null,null,null,null,8]
[null,null,null,null,null,null,null,null,null,null,null,null,null,null,null,null,null,null,null,null,null,null,null,null,null,null,null,null,null,null,null,null,null,null,null,null,null,null,null,null,null,9]
["DAY",null,"DATE",null,"OVERTIME",null,null,null,null,null,null,null,"AWAY FROM DUTY STATION",null,null,null,null,null,null,null,null,null,null,null,"EXPLANATION OF DUTIES PERFORMED, AREA WORKED, JUSTIFICATION FOR OVERTIME",null,null,null,null,null,null,null,null,null,null,"CODE",null,"HOURS\n(DECIMAL)",null,"DATE",null,10]
[null,null,null,null,"OT PROJECT",null,"SPEED CHART #",null,"SHIFT WORKED",null,"# OT HOURS",null,"TIME LEFT",null,"ARRIVED BACK",null,"HOURS AWAY",null,"MEALS",null,"ROOMS & OTHER",null,"TOTAL EXPENSE",null,null,null,null,null,null,null,null,null,null,null,null,null,null,null,null,null,null,11,null,null,null,null,null,null,null,null,null,null,null,null,null,null,null,null,null,null,{"$f":"C13","v":"2019-09-01"}]
["SUN",null,{"$f":"IF('Week 1'!B11=\"\",\"\",'Week 1'!B11)","v":"2019-09-01"},null,null,null,null,null,null,null,null,null,null,null,null,null,null,null,null,null,null,null,{"$f":"IF(SUM(S13+U13)=0,\"\",SUM(S13+U13))","v":""},null,null,null,null,null,null,null,null,null,null,null,null,null,null,null,null,null,null,12,null,null,null,null,null,null,null,null,null,null,null,null,null,null,null,null,null,null,{"$f":"C25","v":"2019-09-07"}]
[null,null,null,null,null,null,null,null,null,null,null,null,null,null,null,null,null,null,null,null,null,null,null,null,null,null,null,null,null,null,null,null,null,null,null,null,null,null,null,null,null,13]
["MON",null,{"$f":"IF('Week 1'!B12=\"\",\"\",'Week 1'!B12)","v":"2019-09-02"},null,null,null,null,null,null,null,null,null,null,null,null,null,null,null,null,null,null,null,{"$f":"IF(SUM(S15+U15)=0,\"\",SUM(S15+U15))","v":""},null,null,null,null,null,null,null,null,null,null,null,null,null,null,null,null,null,null,14]
[null,null,null,null,null,null,null,null,null,null,null,null,null,null,null,null,null,null,null,null,null,null,null,null,null,null,null,null,null,null,null,null,null,null,null,null,null,null,null,null,null,15]
["TUE",null,{"$f":"IF('Week 1'!B13=\"\",\"\",'Week 1'!B13)","v":"2019-09-03"},null,null,null,null,null,null,null,null,null,null,null,null,null,null,null,null,null,null,null,{"$f":"IF(SUM(S17+U17)=0,\"\",SUM(S17+U17))","v":""},null,null,null,null,null,null,null,null,null,null,null,null,null,null,null,null,null,null,16]
[null,null,null,null,null,null,null,null,null,null,null,null,null,null,null,null,null,null,null,null,null,null,null,null,null,null,null,null,null,null,null,null,null,null,null,null,null,null,null,null,null,17]
["WED",null,{"$f":"IF('Week 1'!B14=\"\",\"\",'Week 1'!B14)","v":"2019-09-04"},null,null,null,null,null,null,null,null,null,null,null,null,null,null,null,null,null,null,null,{"$f":"IF(SUM(S19+U19)=0,\"\",SUM(S19+U19))","v":""},null,null,null,null,null,null,null,null,null,null,null,null,null,null,null,null,null,null,18]
[null,null,null,null,null,null,null,null,null,null,null,null,null,null,null,null,null,null,null,null,null,null,null,null,null,null,null,null,null,null,null,null,null,null,null,null,null,null,null,null,null,19]
["THU",null,{"$f":"IF('Week 1'!B15=\"\",\"\",'Week 1'!B15)","v":"2019-09-05"},null,null,null,null,null,null,null,null,null,null,null,null,null,null,null,null,null,null,null,{"$f":"IF(SUM(S21+U21)=0,\"\",SUM(S21+U21))","v":""},null,null,null,null,null,null,null,null,null,null,null,null,null,null,null,null,null,null,20]
[null,null,null,null,null,null,null,null,null,null,null,null,null,null,null,null,null,null,null,null,null,null,null,null,null,null,null,null,null,null,null,null,null,null,null,null,null,null,null,null,null,21]
["FRI",null,{"$f":"IF('Week 1'!B16=\"\",\"\",'Week 1'!B16)","v":"2019-09-06"},null,null,null,null,null,null,null,null,null,null,null,null,null,null,null,null,null,null,null,{"$f":"IF(SUM(S23+U23)=0,\"\",SUM(S23+U23))","v":""},null,null,null,null,null,null,null,null,null,null,null,null,null,null,null,null,null,null,22]
[null,null,null,null,null,null,null,null,null,null,null,null,null,null,null,null,null,null,null,null,null,null,null,null,null,null,null,null,null,null,null,null,null,null,null,null,null,null,null,null,null,23]
["SAT",null,{"$f":"IF('Week 1'!B17=\"\",\"\",'Week 1'!B17)","v":"2019-09-07"},null,null,null,null,null,null,null,null,null,null,null,null,null,null,null,null,null,null,null,{"$f":"IF(SUM(S25+U25)=0,\"\",SUM(S25+U25))","v":""},null,null,null,null,null,null,null,null,null,null,null,null,null,null,null,null,null,null,24]
[null,null,null,null,null,null,null,null,null,null,null,null,null,null,null,null,null,null,null,null,null,null,null,null,null,null,null,null,null,null,null,null,null,null,null,null,null,null,null,null,null,25]
["DAY          DATE",null,"SECONDARY EMPLOYMENT SHIFT",null,null,null,"HOURS WORKED",null,null,null,null,null,null,null,"LEAVE\nHOURS\n(DECIMAL)",null," BUSINESS NAME AND LOCATION ",null,null,null,null,null,null,null,null,null," OTHER REMARKS ",null,null,null,null,null,null,null,null,null,null,null,null,null,null,26]
[null,null,null,null,null,null,"SECONDARY EMPLORMENT",null,null,null,"ALL DPS HOURS"]
[{"$f":"IF('Week 1'!B11=\"\",\"\",'Week 1'!B11)","v":"2019-09-01"},null,null,null,null,null,null,null,null,null,{"$f":"'Week 1'!O11","v":""},null,null,null,null,null,null,null,null,null,null,null,null,null,null,null,null,null,null,null,null,null,null,null,null,null,null,null,null,null,null,27]
[{"$f":"IF('Week 1'!B12=\"\",\"\",'Week 1'!B12)","v":"2019-09-02"},null,null,null,null,null,null,null,null,null,{"$f":"'Week 1'!O12","v":""},null,null,null,null,null,null,null,null,null,null,null,null,null,null,null,null,null,null,null,null,null,null,null,null,null,null,null,null,null,null,28]
[{"$f":"IF('Week 1'!B13=\"\",\"\",'Week 1'!B13)","v":"2019-09-03"},null,null,null,null,null,null,null,null,null,{"$f":"'Week 1'!O13","v":""},null,null,null,null,null,null,null,null,null,null,null,null,null,null,null,null,null,null,null,null,null,null,null,null,null,null,null,null,null,null,29]
[{"$f":"IF('Week 1'!B14=\"\",\"\",'Week 1'!B14)","v":"2019-09-04"},null,null,null,null,null,null,null,null,null,{"$f":"'Week 1'!O14","v":""},null,null,null,null,null,null,null,null,null,null,null,null,null,null,null,null,null,null,null,null,null,null,null,null,null,null,null,null,null,null,30]
[{"$f":"IF('Week 1'!B15=\"\",\"\",'Week 1'!B15)","v":"2019-09-05"},null,null,null,null,null,null,null,null,null,{"$f":"'Week 1'!O15","v":""},null,null,null,null,null,null,null,null,null,null,null,null,null,null,null,null,null,null,null,null,null,null,null,null,null,null,null,null,null,null,31]
[{"$f":"IF('Week 1'!B16=\"\",\"\",'Week 1'!B16)","v":"2019-09-06"},null,null,null,null,null,null,null,null,null,{"$f":"'Week 1'!O16","v":""},null,null,null,null,null,null,null,null,null,null,null,null,null,null,null,null,null,null,null,null,null,null,null,null,null,null,null,null,null,null,32]
[{"$f":"IF('Week 1'!B17=\"\",\"\",'Week 1'!B17)","v":"2019-09-07"},null,null,null,null,null,null,null,null,null,{"$f":"'Week 1'!O17","v":""},null,null,null,null,null,null,null,null,null,null,null,null,null,null,null,null,null,null,null,null,null,null,null,null,null,null,null,null,null,null,33]
["MAXIMUM 62 HRS (DPS + SECONDARY EMPLOYMENT) A WEEKLY PERIOD",null,null,null,null,null,{"$f":"IF(SUM(G29:G35)=0,\"\",SUM(G29:G35))","v":""},null,null,null,{"$f":"IF(SUM(K29:K35)=0,\"\",SUM(K29:K35))","v":""},null,null,null,{"$f":"IF(SUM(O29:O35)=0,\"\",SUM(O29:O35))","v":""},null,{"$f":"IFERROR(62-(SUM(G36:K36)),\"\")","v":62},null,"TOTAL HOURS AVAILABLE TO WORK",null,null,"INITIALS",null,"INITIALS IN BOX CERTIFIES THAT NO SECONDARY",null,null,null,null,null,null,null,null,null,null," *TOTAL HOURS WORKED SHOULD NOT",null,null,null,null,null,null,34]
[null,null,null,null,null,null,"62 - (SECONDARY  EMPLOYMENT HRS + ALL DPS HRS) = ",null,null,null,null,null,null,null,null,null,null,null,null,null,null,null,null,"EMPLOYMENT WAS PERFORMED DURING THIS PERIOD",null,null,null,null,null,null,null,null,null,null," EXCEED 16 HOURS IN ANY 24 HOUR PERIOD",null,null,null,null,null,null,35]
[]
[]
[]
[]
[]
[]
[null,null,null,null,null,null,null,null,"TYPE","RATING",null,"DRUG",null,"EXP",null,null,null,"HIDE","END","UNKNOWN"]
[null,null,"BURIED AID",null,null,null,null,null,"DRUG","S",null,"M",null,1,"C-4 Taged",null,null,"HDS","P","X"]
[null,null,"QUARTERING",null,null,null,null,null,"EXP","U",null,"PMT",null,2,"C-4 Untaged",null,null,"HDM","R"]
[null,null,"POINT TO POINT",null,null,null,null,null,null,"B",null,"PC",null,3,"Semtex Taged",null,null,"HDL","S"]
[null,null,"EXTERIOR WALL",null,null,null,null,null,null,null,null,"PH",null,4,"DS PETN Taged",null,null,"LDS"]
[null,null,"INTERIOR WALL",null,null,null,null,null,null,null,null,"C",null,5,"DS RDX Taged",null,null,"LDM"]
[null,null,"PASSENGER VEHICLE INTERIOR",null,null,null,null,null,null,null,null,"H",null,6,"Comp B",null,null,"LDL"]
[null,null,"COMMERCIAL VEHICLE INTERIOR",null,null,null,null,null,null,null,null,"MT",null,7,"ANFO",null,null,"T"]
[null,null,"PASSENGER VEHICLE EXTERIOR",null,null,null,null,null,null,null,null,null,null,8,"Cast Booster",null,null,"HT"]
[null,null,"COMMERCIAL VEHICLE EXTERIOR",null,null,null,null,null,null,null,null,null,null,9,"Unigel"]
[null,null,"LUGGAGE",null,null,null,null,null,null,null,null,null,null,10,"DC PETN"]
[null,null,"FREIGHT",null,null,null,null,null,null,null,null,null,null,11,"DC RDX"]
[null,null,"BUILDING INTERIOR",null,null,null,null,null,null,null,null,null,null,12,"Watergel"]
[null,null,"BUILDING EXTERIOR",null,null,null,null,null,null,null,null,null,null,13,"TNT Granular"]
[null,null,"BASIC RETRIEVE",null,null,null,null,null,null,null,null,null,null,14,"Slip-on Booster"]
[null,null,"CONTROLLED RETRIEVE (SIGHT)",null,null,null,null,null,null,null,null,null,null,15,"Nitro Dynamite"]
[null,null,"CONTROLLED RETRIEVE (SCENT)",null,null,null,null,null,null,null,null,null,null,16,"Nitro Methane"]
[null,null,"VESSELS",null,null,null,null,null,null,null,null,null,null,17,"Black Powder"]
[null,null,"AIRCRAFT",null,null,null,null,null,null,null,null,null,null,18,"AN Prills"]
[null,null,"OTHER",null,null,null,null,null,null,null,null,null,null,19,"AP"]
[null,null,"DROP AID",null,null,null,null,null,null,null,null,null,null,20,"PP"]
[null,null,null,null,null,null,null,null,null,null,null,null,null,21,"Pyrodex"]
[null,null,null,null,null,null,null,null,null,null,null,null,null,22,"SP Single Base"]
[null,null,null,null,null,null,null,null,null,null,null,null,null,23,"SP Double Base"]
[null,null,null,null,null,null,null,null,null,null,null,null,null,24,"Safety Fuse"]
[]
[]
[]
[]
[]
[]
[]
[]
[]
[]
[]
[]
[]
[]
[]
[]
[]
[]
[]
[]
[]
[null,null,"SUN",{"$f":"IF(G20<E20,(24-E20)+G20,G20-E20)","v":"00:00:00"},{"$f":"IF((VALUE(HOUR(D90))+VALUE(MINUTE(D90))/60)=0,\"\",(VALUE(HOUR(D90))+VALUE(MINUTE(D90))/60))","v":""}]
[null,null,"MON",{"$f":"IF(G21<E21,(24-E21)+G21,IF(E21<G21,G21-E21,IF(E21=0,24-G21,IF(G21=0,24-E21))))","v":24},"","CONVERSIONS"]
[null,null,"TUES",24,"","AND CALCULATIONS"]
[null,null,"WED",24,"","FOR TIME LEFT &"]
[null,null,"THU",24,"","RETURNED & TIME"]
[null,null,"FRI",24,"","AWAY FROM DUTY"]
[null,null,"SAT",24,"","STATION"]
[]
[]
[null,null,null,null,null,null,{"$f":"IF(SUM(G29:G35)=0,0,SUM(G29:G35))","v":0},null,{"$f":"IF(SUM(K29:K35)=0,0,SUM(K29:K35))","v":0},null,{"$f":"IF(I99>40,\"0\",((40)-(I99)))","v":40},null,{"$f":"IF(SUM(O29:O35)=0,0,SUM(O29:O35))","v":0},null,{"$f":"24+K99","v":64}]
[null,null,null,null,null,null,"SUBTOTAL   +",null,"SUBTOTAL   =",null,"GRAND TOTAL",null," -  LEAVE  =",null,"HOURS"]
[]
[]
[]
[]
[]
[]
[]
[]
[]
[]
[]
[]
[]
[]
[]
[]
[]
[]
[]
[]
[]
[]
[]
[]
[]
[]
[]
[]
[]
[]
[]
[]
[]
[]
[]
[]
[]
[]
[]
[]
[]
[]
[null,null,null,null,null,null,null,null,null,null,null,null,"LIST OF ACCEPTABLE CODES"]
[]
[null,null,null,null,null,null,null,null,null,null,null,null,"ALT"]
[null,null,null,null,null,null,null,null,null,null,null,null,"CAT"]
[null,null,null,null,null,null,null,null,null,null,null,null,"CDT"]
[null,null,null,null,null,null,null,null,null,null,null,null,"CTT"]
[null,null,null,null,null,null,null,null,null,null,null,null,"DBT"]
[null,null,null,null,null,null,null,null,null,null,null,null,"DOT"]
[null,null,null,null,null,null,null,null,null,null,null,null,"DMT"]
[null,null,null,null,null,null,null,null,null,null,null,null,"EMT"]
[null,null,null,null,null,null,null,null,null,null,null,null,"EST"]
[null,null,null,null,null,null,null,null,null,null,null,null,"FFT"]
[null,null,null,null,null,null,null,null,null,null,null,null,"FPT"]
[null,null,null,null,null,null,null,null,null,null,null,null,"HCT"]
[null,null,null,null,null,null,null,null,null,null,null,null,"HOB"]
[null,null,null,null,null,null,null,null,null,null,null,null,"JST"]
[null,null,null,null,null,null,null,null,null,null,null,null,"LDT"]
[null,null,null,null,null,null,null,null,null,null,null,null,"LET"]
[null,null,null,null,null,null,null,null,null,null,null,null,"LPT"]
[null,null,null,null,null,null,null,null,null,null,null,null,"LWT"]
[null,null,null,null,null,null,null,null,null,null,null,null,"MLT"]
[null,null,null,null,null,null,null,null,null,null,null,null,"OHT"]
[null,null,null,null,null,null,null,null,null,null,null,null,"OTT"]
[null,null,null,null,null,null,null,null,null,null,null,null,"RCT"]
[null,null,null,null,null,null,null,null,null,null,null,null,"SAT"]
[null,null,null,null,null,null,null,null,null,null,null,null,"SET"]
[null,null,null,null,null,null,null,null,null,null,null,null,"SLT"]
[null,null,null,null,null,null,null,null,null,null,null,null,"VCT"]
[]
[]
[]
[]
[]
[]
[]
[]
[]
[]
[]
[]
[]
[]
[]
[]
[]
[]
[null,null,null,null,null,null,null,null,null,null,null,null,null,null,null,null,null,null,null,null,null,null,null,null,null,null,null,null,null,null,null,null,null,null,null,null,null,null,null,null,null,null,null,null,null,null,null,null,null,null,null,null,null,"HOURS WORKED"]
[null,null,null,null,null,null,null,null,null,null,null,null,null,null,null,null,null,null,null,null,null,null,null,null,null,null,null,null,null,null,null,null,null,null,null,null,null,null,null,null,null,null,null,null,null,null,null,null,null,null,null,null,null,0.25]
[null,null,null,null,null,null,null,null,null,null,null,null,null,null,null,null,null,null,null,null,null,null,null,null,null,null,null,null,null,null,null,null,null,null,null,null,null,null,null,null,null,null,null,null,null,null,null,null,null,null,null,null,null,0.5]
[null,null,null,null,null,null,null,null,null,null,null,null,null,null,null,null,null,null,null,null,null,null,null,null,null,null,null,null,null,null,null,null,null,null,null,null,null,null,null,null,null,null,null,null,null,null,null,null,null,null,null,null,null,0.75]
[null,null,null,null,null,null,null,null,null,null,null,null,null,null,null,null,null,null,null,null,null,null,null,null,null,null,null,null,null,null,null,null,null,null,null,null,null,null,null,null,null,null,null,null,null,null,null,null,null,null,null,null,null,1]
[null,null,null,null,null,null,null,null,null,null,null,null,null,null,null,null,null,null,null,null,null,null,null,null,null,null,null,null,null,null,null,null,null,null,null,null,null,null,null,null,null,null,null,null,null,null,null,null,null,null,null,null,null,1.25]
[null,null,null,null,null,null,null,null,null,null,null,null,null,null,null,null,null,null,null,null,null,null,null,null,null,null,null,null,null,null,null,null,null,null,null,null,null,null,null,null,null,null,null,null,null,null,null,null,null,null,null,null,null,1.5]
[null,null,null,null,null,null,null,null,null,null,null,null,null,null,null,null,null,null,null,null,null,null,null,null,null,null,null,null,null,null,null,null,null,null,null,null,null,null,null,null,null,null,null,null,null,null,null,null,null,null,null,null,null,1.75]
[null,null,null,null,null,null,null,null,null,null,null,null,null,null,null,null,null,null,null,null,null,null,null,null,null,null,null,null,null,null,null,null,null,null,null,null,null,null,null,null,null,null,null,null,null,null,null,null,null,null,null,null,null,2]
[null,null,null,null,null,null,null,null,null,null,null,null,null,null,null,null,null,null,null,null,null,null,null,null,null,null,null,null,null,null,null,null,null,null,null,null,null,null,null,null,null,null,null,null,null,null,null,null,null,null,null,null,null,2.25]
[null,null,null,null,null,null,null,null,null,null,null,null,null,null,null,null,null,null,null,null,null,null,null,null,null,null,null,null,null,null,null,null,null,null,null,null,null,null,null,null,null,null,null,null,null,null,null,null,null,null,null,null,null,2.5]
[null,null,null,null,null,null,null,null,null,null,null,null,null,null,null,null,null,null,null,null,null,null,null,null,null,null,null,null,null,null,null,null,null,null,null,null,null,null,null,null,null,null,null,null,null,null,null,null,null,null,null,null,null,2.75]
[null,null,null,null,null,null,null,null,null,null,null,null,null,null,null,null,null,null,null,null,null,null,null,null,null,null,null,null,null,null,null,null,null,null,null,null,null,null,null,null,null,null,null,null,null,null,null,null,null,null,null,null,null,3]
[null,null,null,null,null,null,null,null,null,null,null,null,null,null,null,null,null,null,null,null,null,null,null,null,null,null,null,null,null,null,null,null,null,null,null,null,null,null,null,null,null,null,null,null,null,null,null,null,null,null,null,null,null,3.25]
[null,null,null,null,null,null,null,null,null,null,null,null,null,null,null,null,null,null,null,null,null,null,null,null,null,null,null,null,null,null,null,null,null,null,null,null,null,null,null,null,null,null,null,null,null,null,null,null,null,null,null,null,null,3.5]
[null,null,null,null,null,null,null,null,null,null,null,null,null,null,null,null,null,null,null,null,null,null,null,null,null,null,null,null,null,null,null,null,null,null,null,null,null,null,null,null,null,null,null,null,null,null,null,null,null,null,null,null,null,3.75]
[null,null,null,null,null,null,null,null,null,null,null,null,null,null,null,null,null,null,null,null,null,null,null,null,null,null,null,null,null,null,null,null,null,null,null,null,null,null,null,null,null,null,null,null,null,null,null,null,null,null,null,null,null,4]
[null,null,null,null,null,null,null,null,null,null,null,null,null,null,null,null,null,null,null,null,null,null,null,null,null,null,null,null,null,null,null,null,null,null,null,null,null,null,null,null,null,null,null,null,null,null,null,null,null,null,null,null,null,4.25]
[null,null,null,null,null,null,null,null,null,null,null,null,null,null,null,null,null,null,null,null,null,null,null,null,null,null,null,null,null,null,null,null,null,null,null,null,null,null,null,null,null,null,null,null,null,null,null,null,null,null,null,null,null,4.5]
[null,null,null,null,null,null,null,null,null,null,null,null,null,null,null,null,null,null,null,null,null,null,null,null,null,null,null,null,null,null,null,null,null,null,null,null,null,null,null,null,null,null,null,null,null,null,null,null,null,null,null,null,null,4.75]
[null,null,null,null,null,null,null,null,null,null,null,null,null,null,null,null,null,null,null,null,null,null,null,null,null,null,null,null,null,null,null,null,null,null,null,null,null,null,null,null,null,null,null,null,null,null,null,null,null,null,null,null,null,5]
[null,null,null,null,null,"TIME VALUES",null,null,null,null,null,null,null,null,null,null,null,null,null,null,null,null,null,null,null,null,null,null,null,null,null,null,null,null,null,null,null,null,null,null,null,null,null,null,null,null,null,null,null,null,null,null,null,5.25]
[null,null,null,null,null,"06:00:00",null,null,null,null,null,null,null,null,null,null,null,null,null,null,null,null,null,null,null,null,null,null,null,null,null,null,null,null,null,null,null,null,null,null,null,null,null,null,null,null,null,null,null,null,null,null,null,5.5]
[null,null,null,null,null,"06:15:00",null,null,null,null,null,null,null,null,null,null,null,null,null,null,null,null,null,null,null,null,null,null,null,null,null,null,null,null,null,null,null,null,null,null,null,null,null,null,null,null,null,null,null,null,null,null,null,5.75]
[null,null,null,null,null,"06:30:00",null,null,null,null,null,null,null,null,null,null,null,null,null,null,null,null,null,null,null,null,null,null,null,null,null,null,null,null,null,null,null,null,null,null,null,null,null,null,null,null,null,null,null,null,null,null,null,6]
[null,null,null,null,null,"06:45:00",null,null,null,null,null,null,null,null,null,null,null,null,null,null,null,null,null,null,null,null,null,null,null,null,null,null,null,null,null,null,null,null,null,null,null,null,null,null,null,null,null,null,null,null,null,null,null,6.25]
[null,null,null,null,null,"07:00:00",null,null,null,null,null,null,null,null,null,null,null,null,null,null,null,null,null,null,null,null,null,null,null,null,null,null,null,null,null,null,null,null,null,null,null,null,null,null,null,null,null,null,null,null,null,null,null,6.5]
[null,null,null,null,null,"07:15:00",null,null,null,null,null,null,null,null,null,null,null,null,null,null,null,null,null,null,null,null,null,null,null,null,null,null,null,null,null,null,null,null,null,null,null,null,null,null,null,null,null,null,null,null,null,null,null,6.75]
[null,null,null,null,null,"07:30:00",null,null,null,null,null,null,null,null,null,null,null,null,null,null,null,null,null,null,null,null,null,null,null,null,null,null,null,null,null,null,null,null,null,null,null,null,null,null,null,null,null,null,null,null,null,null,null,7]
[null,null,null,null,null,"07:45:00",null,null,null,null,null,null,null,null,null,null,null,null,null,null,null,null,null,null,null,null,null,null,null,null,null,null,null,null,null,null,null,null,null,null,null,null,null,null,null,null,null,null,null,null,null,null,null,7.25]
[null,null,null,null,null,"08:00:00",null,null,null,null,null,null,null,null,null,null,null,null,null,null,null,null,null,null,null,null,null,null,null,null,null,null,null,null,null,null,null,null,null,null,null,null,null,null,null,null,null,null,null,null,null,null,null,7.5]
[null,null,null,null,null,"08:15:00",null,null,null,null,null,null,null,null,null,null,"HOURS LEAVE",null,null,null,null,null,null,null,null,null,null,null,null,null,null,null,null,null,null,null,null,null,null,null,null,null,null,null,null,null,null,null,null,null,null,null,null,7.75]
[null,null,null,null,null,"08:30:00",null,null,null,null,null,null,null,null,null,null,null,"0:15",0.25,null,null,null,null,null,null,null,null,null,null,null,null,null,null,null,null,null,null,null,null,null,null,null,null,null,null,null,null,null,null,null,null,null,null,8]
[null,null,null,null,null,"08:45:00",null,null,null,null,null,null,null,null,null,null,null,"0:30",0.5,null,null,null,null,null,null,null,null,null,null,null,null,null,null,null,null,null,null,null,null,null,null,null,null,null,null,null,null,null,null,null,null,null,null,8.25]
[null,null,null,null,null,"09:00:00",null,null,null,null,null,null,null,null,null,null,null,"0:45",0.75,null,null,null,null,null,null,null,null,null,null,null,null,null,null,null,null,null,null,null,null,null,null,null,null,null,null,null,null,null,null,null,null,null,null,8.5]
[null,null,null,null,null,"09:15:00",null,null,null,null,null,null,null,null,null,null,null,"1:00",1,null,null,null,null,null,null,null,null,null,null,null,null,null,null,null,null,null,null,null,null,null,null,null,null,null,null,null,null,null,null,null,null,null,null,8.75]
[null,null,null,null,null,"09:30:00",null,null,null,null,null,null,null,null,null,null,null,"1:15",1.25,null,null,null,null,null,null,null,null,null,null,null,null,null,null,null,null,null,null,null,null,null,null,null,null,null,null,null,null,null,null,null,null,null,null,9]
[null,null,null,null,null,"09:45:00",null,null,null,null,null,null,null,null,null,null,null,"1:30",1.5,null,null,null,null,null,null,null,null,null,null,null,null,null,null,null,null,null,null,null,null,null,null,null,null,null,null,null,null,null,null,null,null,null,null,9.25]
[null,null,null,null,null,"10:00:00",null,null,null,null,null,null,null,null,null,null,null,"1:45",1.75,null,null,null,null,null,null,null,null,null,null,null,null,null,null,null,null,null,null,null,null,null,null,null,null,null,null,null,null,null,null,null,null,null,null,9.5]
[null,null,null,null,null,"10:15:00",null,null,null,null,null,null,null,null,null,null,null,"2:00",2,null,null,null,null,null,null,null,null,null,null,null,null,null,null,null,null,null,null,null,null,null,null,null,null,null,null,null,null,null,null,null,null,null,null,9.75]
[null,null,null,null,null,"10:30:00",null,null,null,null,null,null,null,null,null,null,null,"2:15",2.25,null,null,null,null,null,null,null,null,null,null,null,null,null,null,null,null,null,null,null,null,null,null,null,null,null,null,null,null,null,null,null,null,null,null,10]
[null,null,null,null,null,"10:45:00",null,null,null,null,null,null,null,null,null,null,null,"2:30",2.5,null,null,null,null,null,null,null,null,null,null,null,null,null,null,null,null,null,null,null,null,null,null,null,null,null,null,null,null,null,null,null,null,null,null,10.25]
[null,null,null,null,null,"11:00:00",null,null,null,null,null,null,null,null,null,null,null,"2:45",2.75,null,null,null,null,null,null,null,null,null,null,null,null,null,null,null,null,null,null,null,null,null,null,null,null,null,null,null,null,null,null,null,null,null,null,10.5]
[null,null,null,null,null,"11:15:00",null,null,null,null,null,null,null,null,null,null,null,"3:00",3,null,null,null,null,null,null,null,null,null,null,null,null,null,null,null,null,null,null,null,null,null,null,null,null,null,null,null,null,null,null,null,null,null,null,10.75]
[null,null,null,null,null,"11:30:00",null,null,null,null,null,null,null,null,null,null,null,"3:15",3.25,null,null,null,null,null,null,null,null,null,null,null,null,null,null,null,null,null,null,null,null,null,null,null,null,null,null,null,null,null,null,null,null,null,null,11]
[null,null,null,null,null,"11:45:00",null,null,null,null,null,null,null,null,null,null,null,"3:30",3.5,null,null,null,null,null,null,null,null,null,null,null,null,null,null,null,null,null,null,null,null,null,null,null,null,null,null,null,null,null,null,null,null,null,null,11.25]
[null,null,null,null,null,"12:00:00",null,null,null,null,null,null,null,null,null,null,null,"3:45",3.75,null,null,null,null,null,null,null,null,null,null,null,null,null,null,null,null,null,null,null,null,null,null,null,null,null,null,null,null,null,null,null,null,null,null,11.5]
[null,null,null,null,null,"12:15:00",null,null,null,null,null,null,null,null,null,null,null,"4:00",4,null,null,null,null,null,null,null,null,null,null,null,null,null,null,null,null,null,null,null,null,null,null,null,null,null,null,null,null,null,null,null,null,null,null,11.75]
[null,null,null,null,null,"12:30:00",null,null,null,null,null,null,null,null,null,null,null,"4:15",4.25,null,null,null,null,null,null,null,null,null,null,null,null,null,null,null,null,null,null,null,null,null,null,null,null,null,null,null,null,null,null,null,null,null,null,12]
[null,null,null,null,null,"12:45:00",null,null,null,null,null,null,null,null,null,null,null,"4:30",4.5,null,null,null,null,null,null,null,null,null,null,null,null,null,null,null,null,null,null,null,null,null,null,null,null,null,null,null,null,null,null,null,null,null,null,12.25]
[null,null,null,null,null,"13:00:00",null,null,null,null,null,null,null,null,null,null,null,"4:45",4.75,null,null,null,null,null,null,null,null,null,null,null,null,null,null,null,null,null,null,null,null,null,null,null,null,null,null,null,null,null,null,null,null,null,null,12.5]
[null,null,null,null,null,"13:15:00",null,null,null,null,null,null,null,null,null,null,null,"5:00",5,null,null,null,null,null,null,null,null,null,null,null,null,null,null,null,null,null,null,null,null,null,null,null,null,null,null,null,null,null,null,null,null,null,null,12.75]
[null,null,null,null,null,"13:30:00",null,null,null,null,null,null,null,null,null,null,null,"5:15",5.25,null,null,null,null,null,null,null,null,null,null,null,null,null,null,null,null,null,null,null,null,null,null,null,null,null,null,null,null,null,null,null,null,null,null,13]
[null,null,null,null,null,"13:45:00",null,null,null,null,null,null,null,null,null,null,null,"5:30",5.5,null,null,null,null,null,null,null,null,null,null,null,null,null,null,null,null,null,null,null,null,null,null,null,null,null,null,null,null,null,null,null,null,null,null,13.25]
[null,null,null,null,null,"14:00:00",null,null,null,null,null,null,null,null,null,null,null,"5:45",5.75,null,null,null,null,null,null,null,null,null,null,null,null,null,null,null,null,null,null,null,null,null,null,null,null,null,null,null,null,null,null,null,null,null,null,13.5]
[null,null,null,null,null,"14:15:00",null,null,null,null,null,null,null,null,null,null,null,"6:00",6,null,null,null,null,null,null,null,null,null,null,null,null,null,null,null,null,null,null,null,null,null,null,null,null,null,null,null,null,null,null,null,null,null,null,13.75]
[null,null,null,null,null,"14:30:00",null,null,null,null,null,null,null,null,null,null,null,"6:15",6.25,null,null,null,null,null,null,null,null,null,null,null,null,null,null,null,null,null,null,null,null,null,null,null,null,null,null,null,null,null,null,null,null,null,null,14]
[null,null,null,null,null,"14:45:00",null,null,null,null,null,null,null,null,null,null,null,"6:30",6.5,null,null,null,null,null,null,null,null,null,null,null,null,null,null,null,null,null,null,null,null,null,null,null,null,null,null,null,null,null,null,null,null,null,null,14.25]
[null,null,null,null,null,"15:00:00",null,null,null,null,null,null,null,null,null,null,null,"6:45",6.75,null,null,null,null,null,null,null,null,null,null,null,null,null,null,null,null,null,null,null,null,null,null,null,null,null,null,null,null,null,null,null,null,null,null,14.5]
[null,null,null,null,null,"15:15:00",null,null,null,null,null,null,null,null,null,null,null,"7:00",7,null,null,null,null,null,null,null,null,null,null,null,null,null,null,null,null,null,null,null,null,null,null,null,null,null,null,null,null,null,null,null,null,null,null,14.75]
[null,null,null,null,null,"15:30:00",null,null,null,null,null,null,null,null,null,null,null,"7:15",7.25,null,null,null,null,null,null,null,null,null,null,null,null,null,null,null,null,null,null,null,null,null,null,null,null,null,null,null,null,null,null,null,"LIST OF TIME CODES",null,null,15]
[null,null,null,null,null,"15:45:00",null,null,null,null,null,null,null,null,null,null,null,"7:30",7.5,null,null,null,null,null,null,null,null,null,null,null,null,null,null,null,null,null,null,null,null,null,null,null,null,null,null,null,null,null,null,null,"ALT",null,null,15.25]
[null,null,null,null,null,"16:00:00",null,null,null,null,null,null,null,null,null,null,null,"7:45",7.75,null,null,null,null,null,null,null,null,null,null,null,null,null,null,null,null,null,null,null,null,null,null,null,null,null,null,null,null,null,null,null,"CTT",null,null,15.5]
[null,null,null,null,null,"16:15:00",null,null,null,null,null,null,null,null,null,null,null,0.33333333333333331,8,null,null,null,null,null,null,null,null,null,null,null,null,null,null,null,null,null,null,null,null,null,null,null,null,null,null,null,null,null,null,null,"EMT",null,null,15.75]
[null,null,null,null,null,"16:30:00",null,null,null,null,null,null,null,null,null,null,null,"8:15",8.25,null,null,null,null,null,null,null,null,null,null,null,null,null,null,null,null,null,null,null,null,null,null,null,null,null,null,null,null,null,null,null,"EOT",null,null,16]
[null,null,null,null,null,"16:45:00",null,null,null,null,null,null,null,null,null,null,null,"8:30",8.5,null,null,null,null,null,null,null,null,null,null,null,null,null,null,null,null,null,null,null,null,null,null,null,null,null,null,null,null,null,null,null,"EST",null,null,16.25]
[null,null,null,null,null,"17:00:00",null,null,null,null,null,null,null,null,null,null,null,"8:45",{"$f":"S254+0.25","v":8.75},null,null,null,null,null,null,null,null,null,null,null,null,null,null,null,null,null,null,null,null,null,null,null,null,null,null,null,null,null,null,null,"FFT",null,null,16.5]
[null,null,null,null,null,"17:15:00",null,null,null,null,null,null,null,null,null,null,null,"9:00",9,null,null,null,null,null,null,null,null,null,null,null,null,null,null,null,null,null,null,null,null,null,null,null,null,null,null,null,null,null,null,null,"FPT",null,null,16.75]
[null,null,null,null,null,"17:30:00",null,null,null,null,null,null,null,null,null,null,null,"9:15",9.25,null,null,null,null,null,null,null,null,null,null,null,null,null,null,null,null,null,null,null,null,null,null,null,null,null,null,null,null,null,null,null,"HCT",null,null,17]
[null,null,null,null,null,"17:45:00",null,null,null,null,null,null,null,null,null,null,null,"9:30",9.5,null,null,null,null,null,null,null,null,null,null,null,null,null,null,null,null,null,null,null,null,null,null,null,null,null,null,null,null,null,null,null,"HOB",null,null,17.25]
[null,null,null,null,null,"18:00:00",null,null,null,null,null,null,null,null,null,null,null,"9:45",9.75,null,null,null,null,null,null,null,null,null,null,null,null,null,null,null,null,null,null,null,null,null,null,null,null,null,null,null,null,null,null,null,"JST",null,null,17.5]
[null,null,null,null,null,"18:15:00",null,null,null,null,null,null,null,null,null,null,null,"10:00",10,null,null,null,null,null,null,null,null,null,null,null,null,null,null,null,null,null,null,null,null,null,null,null,null,null,null,null,null,null,null,null,"LET",null,null,17.75]
[null,null,null,null,null,"18:30:00",null,null,null,null,null,null,null,null,null,null,null,"10:15",10.25,null,null,null,null,null,null,null,null,null,null,null,null,null,null,null,null,null,null,null,null,null,null,null,null,null,null,null,null,null,null,null,"LWT",null,null,18]
[null,null,null,null,null,"18:45:00",null,null,null,null,null,null,null,null,null,null,null,"10:30",10.5,null,null,null,null,null,null,null,null,null,null,null,null,null,null,null,null,null,null,null,null,null,null,null,null,null,null,null,null,null,null,null,"MLT",null,null,18.25]
[null,null,null,null,null,"19:00:00",null,null,null,null,null,null,null,null,null,null,null,"10:45",10.75,null,null,null,null,null,null,null,null,null,null,null,null,null,null,null,null,null,null,null,null,null,null,null,null,null,null,null,null,null,null,null,"OHD",null,null,18.5]
[null,null,null,null,null,"19:15:00",null,null,null,null,null,null,null,null,null,null,null,"11:00",11,null,null,null,null,null,null,null,null,null,null,null,null,null,null,null,null,null,null,null,null,null,null,null,null,null,null,null,null,null,null,null,"OHT",null,null,18.75]
[null,null,null,null,null,"19:30:00",null,null,null,null,null,null,null,null,null,null,null,"11:15",11.25,null,null,null,null,null,null,null,null,null,null,null,null,null,null,null,null,null,null,null,null,null,null,null,null,null,null,null,null,null,null,null,"OTP",null,null,19]
[null,null,null,null,null,"19:45:00",null,null,null,null,null,null,null,null,null,null,null,"11:30",11.5,null,null,null,null,null,null,null,null,null,null,null,null,null,null,null,null,null,null,null,null,null,null,null,null,null,null,null,null,null,null,null,"OTT",null,null,19.25]
[null,null,null,null,null,"20:00:00",null,null,null,null,null,null,null,null,null,null,null,"11:45",11.75,null,null,null,null,null,null,null,null,null,null,null,null,null,null,null,null,null,null,null,null,null,null,null,null,null,null,null,null,null,null,null,"RCT",null,null,19.5]
[null,null,null,null,null,"20:15:00",null,null,null,null,null,null,null,null,null,null,null,"12:00",12,null,null,null,null,null,null,null,null,null,null,null,null,null,null,null,null,null,null,null,null,null,null,null,null,null,null,null,null,null,null,null,"SAT",null,null,19.75]
[null,null,null,null,null,"20:30:00",null,null,null,null,null,null,null,null,null,null,null,"12:15",12.25,null,null,null,null,null,null,null,null,null,null,null,null,null,null,null,null,null,null,null,null,null,null,null,null,null,null,null,null,null,null,null,"SET",null,null,20]
[null,null,null,null,null,"20:45:00",null,null,null,null,null,null,null,null,null,null,null,"12:30",12.5,null,null,null,null,null,null,null,null,null,null,null,null,null,null,null,null,null,null,null,null,null,null,null,null,null,null,null,null,null,null,null,"SLT",null,null,20.25]
[null,null,null,null,null,"21:00:00",null,null,null,null,null,null,null,null,null,null,null,"12:45",12.75,null,null,null,null,null,null,null,null,null,null,null,null,null,null,null,null,null,null,null,null,null,null,null,null,null,null,null,null,null,null,null,"VCT",null,null,20.5]
[null,null,null,null,null,"21:15:00",null,null,null,null,null,null,null,null,null,null,null,"13:00",13,null,null,null,null,null,null,null,null,null,null,null,null,null,null,null,null,null,null,null,null,null,null,null,null,null,null,null,null,null,null,null,null,null,null,20.75]
[null,null,null,null,null,"21:30:00",null,null,null,null,null,null,null,null,null,null,null,"13:15",13.25,null,null,null,null,null,null,null,null,null,null,null,null,null,null,null,null,null,null,null,null,null,null,null,null,null,null,null,null,null,null,null,null,null,null,21]
[null,null,null,null,null,"21:45:00",null,null,null,null,null,null,null,null,null,null,null,"13:30",13.5,null,null,null,null,null,null,null,null,null,null,null,null,null,null,null,null,null,null,null,null,null,null,null,null,null,null,null,null,null,null,null,null,null,null,21.25]
[null,null,null,null,null,"22:00:00",null,null,null,null,null,null,null,null,null,null,null,"13:45",13.75,null,null,null,null,null,null,null,null,null,null,null,null,null,null,null,null,null,null,null,null,null,null,null,null,null,null,null,null,null,null,null,null,null,null,21.5]
[null,null,null,null,null,"22:15:00",null,null,null,null,null,null,null,null,null,null,null,"14:00",14,null,null,null,null,null,null,null,null,null,null,null,null,null,null,null,null,null,null,null,null,null,null,null,null,null,null,null,null,null,null,null,null,null,null,21.75]
[null,null,null,null,null,"22:30:00",null,null,null,null,null,null,null,null,null,null,null,"14:15",14.25,null,null,null,null,null,null,null,null,null,null,null,null,null,null,null,null,null,null,null,null,null,null,null,null,null,null,null,null,null,null,null,null,null,null,22]
[null,null,null,null,null,"22:45:00",null,null,null,null,null,null,null,null,null,null,null,"14:30",14.5,null,null,null,null,null,null,null,null,null,null,null,null,null,null,null,null,null,null,null,null,null,null,null,null,null,null,null,null,null,null,null,null,null,null,22.25]
[null,null,null,null,null,"23:00:00",null,null,null,null,null,null,null,null,null,null,null,"14:45",14.75,null,null,null,null,null,null,null,null,null,null,null,null,null,null,null,null,null,null,null,null,null,null,null,null,null,null,null,null,null,null,null,null,null,null,22.5]
[null,null,null,null,null,"23:15:00",null,null,null,null,null,null,null,null,null,null,null,"15:00",15,null,null,null,null,null,null,null,null,null,null,null,null,null,null,null,null,null,null,null,null,null,null,null,null,null,null,null,null,null,null,null,null,null,null,22.75]
[null,null,null,null,null,"23:30:00",null,null,null,null,null,null,null,null,null,null,null,"15:15",15.25,null,null,null,null,null,null,null,null,null,null,null,null,null,null,null,null,null,null,null,null,null,null,null,null,null,null,null,null,null,null,null,null,null,null,23]
[null,null,null,null,null,"23:45:00",null,null,null,null,null,null,null,null,null,null,null,"15:30",15.5,null,null,null,null,null,null,null,null,null,null,null,null,null,null,null,null,null,null,null,null,null,null,null,null,null,null,null,null,null,null,null,null,null,null,23.25]
[null,null,null,null,null,"00:00:00",null,null,null,null,null,null,null,null,null,null,null,"15:45",15.75,null,null,null,null,null,null,null,null,null,null,null,null,null,null,null,null,null,null,null,null,null,null,null,null,null,null,null,null,null,null,null,null,null,null,23.5]
[null,null,null,null,null,"00:15:00",null,null,null,null,null,null,null,null,null,null,null,"16:00",16,null,null,null,null,null,null,null,null,null,null,null,null,null,null,null,null,null,null,null,null,null,null,null,null,null,null,null,null,null,null,null,null,null,null,23.75]
[null,null,null,null,null,"00:30:00",null,null,null,null,null,null,null,null,null,null,null,"16:15",16.25,null,null,null,null,null,null,null,null,null,null,null,null,null,null,null,null,null,null,null,null,null,null,null,null,null,null,null,null,null,null,null,null,null,null,24]
[null,null,null,null,null,"00:45:00",null,null,null,null,null,null,null,null,null,null,null,"16:30",16.5]
[null,null,null,null,null,"01:00:00",null,null,null,null,null,null,null,null,null,null,null,"16:45",{"$f":"S286+0.25","v":16.75}]
[null,null,null,null,null,"01:15:00",null,null,null,null,null,null,null,null,null,null,null,"17:00",17]
[null,null,null,null,null,"01:30:00",null,null,null,null,null,null,null,null,null,null,null,"17:15",17.25]
[null,null,null,null,null,"01:45:00",null,null,null,null,null,null,null,null,null,null,null,"17:30",17.5]
[null,null,null,null,null,"02:00:00",null,null,null,null,null,null,null,null,null,null,null,"17:45",17.75]
[null,null,null,null,null,"02:15:00",null,null,null,null,null,null,null,null,null,null,null,"18:00",18]
[null,null,null,null,null,"02:30:00",null,null,null,null,null,null,null,null,null,null,null,"18:15",18.25]
[null,null,null,null,null,"02:45:00",null,null,null,null,null,null,null,null,null,null,null,"18:30",18.5]
[null,null,null,null,null,"03:00:00",null,null,null,null,null,null,null,null,null,null,null,"18:45",18.75]
[null,null,null,null,null,"03:15:00",null,null,null,null,null,null,null,null,null,null,null,"19:00",19]
[null,null,null,null,null,"03:30:00",null,null,null,null,null,null,null,null,null,null,null,"19:15",19.25]
[null,null,null,null,null,"03:45:00",null,null,null,null,null,null,null,null,null,null,null,"19:30",19.5]
[null,null,null,null,null,"04:00:00",null,null,null,null,null,null,null,null,null,null,null,"19:45",19.75]
[null,null,null,null,null,"04:15:00",null,null,null,null,null,null,null,null,null,null,null,"20:00",20]
[null,null,null,null,null,"04:30:00",null,null,null,null,null,null,null,null,null,null,null,"20:15",20.25]
[null,null,null,null,null,"04:45:00",null,null,null,null,null,null,null,null,null,null,null,"20:30",20.5]
[null,null,null,null,null,"05:00:00",null,null,null,null,null,null,null,null,null,null,null,"20:45",20.75]
[null,null,null,null,null,"05:15:00",null,null,null,null,null,null,null,null,null,null,null,"21:00",21]
[null,null,null,null,null,"05:30:00",null,null,null,null,null,null,null,null,null,null,null,"21:15",21.25]
[null,null,null,null,null,"05:45:00",null,null,null,null,null,null,null,null,null,null,null,"21:30",21.5]
[null,null,null,null,null,null,null,null,null,null,null,null,null,null,null,null,null,"21:45",21.75]
[null,null,null,null,null,null,null,null,null,null,null,null,null,null,null,null,null,"22:00",22]
[null,null,null,null,null,null,null,null,null,null,null,null,null,null,null,null,null,"22:15",22.25]
[null,null,null,null,null,null,null,null,null,null,null,null,null,null,null,null,null,"22:30",22.5]
[null,null,null,null,null,null,null,null,null,null,null,null,null,null,null,null,null,"22:45",22.75]
[null,null,null,null,null,null,null,null,null,null,null,null,null,null,null,null,null,"23:00",23]
[null,null,null,null,null,null,null,null,null,null,null,null,null,null,null,null,null,"23:15",23.25]
[null,null,null,null,null,null,null,null,null,null,null,null,null,null,null,null,null,"23:30",23.5]
[null,null,null,null,null,null,null,null,null,null,null,null,null,null,null,null,null,"23:45",23.75]
[null,null,null,null,null,null,null,null,null,null,null,null,null,null,null,null,null,"24:00",24]
[null,null,null,null,null,null,null,null,null,null,null,null,null,null,null,null,null,"24:15",24.25]
[null,null,null,null,null,null,null,null,null,null,null,null,null,null,null,null,null,"24:30",24.5]
[null,null,null,null,null,null,null,null,null,null,null,null,null,null,null,null,null,"24:45",{"$f":"S318+0.25","v":24.75}]
[null,null,null,null,null,null,null,null,null,null,null,null,null,null,null,null,null,"25:00",25]
[null,null,null,null,null,null,null,null,null,null,null,null,null,null,null,null,null,"25:15",25.25]
[null,null,null,null,null,null,null,null,null,null,null,null,null,null,null,null,null,"25:30",25.5]
[null,null,null,null,null,null,null,null,null,null,null,null,null,null,null,null,null,"25:45",25.75]
[null,null,null,null,null,null,null,null,null,null,null,null,null,null,null,null,null,"26:00",26]
[null,null,null,null,null,null,null,null,null,null,null,null,null,null,null,null,null,"26:15",26.25]
[null,null,null,null,null,null,null,null,null,null,null,null,null,null,null,null,null,"26:30",26.5]
[null,null,null,null,null,null,null,null,null,null,null,null,null,null,null,null,null,"26:45",26.75]
[null,null,null,null,null,null,null,null,null,null,null,null,null,null,null,null,null,"27:00",27]
[null,null,null,null,null,null,null,null,null,null,null,null,null,null,null,null,null,"27:15",27.25]
[null,null,null,null,null,null,null,null,null,null,null,null,null,null,null,null,null,"27:30",27.5]
[null,null,null,null,null,null,null,null,null,null,null,null,null,null,null,null,null,"27:45",27.75]
[null,null,null,null,null,null,null,null,null,null,null,null,null,null,null,null,null,"28:00",28]
[null,null,null,null,null,null,null,null,null,null,null,null,null,null,null,null,null,"28:15",28.25]
[null,null,null,null,null,null,null,null,null,null,null,null,null,null,null,null,null,"28:30",28.5]
[null,null,null,null,null,null,null,null,null,null,null,null,null,null,null,null,null,"28:45",28.75]
[null,null,null,null,null,null,null,null,null,null,null,null,null,null,null,null,null,"29:00",29]
[null,null,null,null,null,null,null,null,null,null,null,null,null,null,null,null,null,"29:15",29.25]
[null,null,null,null,null,null,null,null,null,null,null,null,null,null,null,null,null,"29:30",29.5]
[null,null,null,null,null,null,null,null,null,null,null,null,null,null,null,null,null,"29:45",29.75]
[null,null,null,null,null,null,null,null,null,null,null,null,null,null,null,null,null,"30:00",30]
[null,null,null,null,null,null,null,null,null,null,null,null,null,null,null,null,null,"30:15",30.25]
[null,null,null,null,null,null,null,null,null,null,null,null,null,null,null,null,null,"30:30",30.5]
[null,null,null,null,null,null,null,null,null,null,null,null,null,null,null,null,null,"30:45",30.75]
[null,null,null,null,null,null,null,null,null,null,null,null,null,null,null,null,null,"31:00",31]
[null,null,null,null,null,null,null,null,null,null,null,null,null,null,null,null,null,"31:15",31.25]
[null,null,null,null,null,null,null,null,null,null,null,null,null,null,null,null,null,"31:30",31.5]
[null,null,null,null,null,null,null,null,null,null,null,null,null,null,null,null,null,"31:45",31.75]
[null,null,null,null,null,null,null,null,null,null,null,null,null,null,null,null,null,"32:00",32]
[null,null,null,null,null,null,null,null,null,null,null,null,null,null,null,null,null,"32:15",32.25]
[null,null,null,null,null,null,null,null,null,null,null,null,null,null,null,null,null,"32:30",32.5]
[null,null,null,null,null,null,null,null,null,null,null,null,null,null,null,null,null,"32:45",{"$f":"S350+0.25","v":32.75}]
[null,null,null,null,null,null,null,null,null,null,null,null,null,null,null,null,null,"33:00",33]
[null,null,null,null,null,null,null,null,null,null,null,null,null,null,null,null,null,"33:15",33.25]
[null,null,null,null,null,null,null,null,null,null,null,null,null,null,null,null,null,"33:30",33.5]
[null,null,null,null,null,null,null,null,null,null,null,null,null,null,null,null,null,"33:45",33.75]
[null,null,null,null,null,null,null,null,null,null,null,null,null,null,null,null,null,"34:00",34]
[null,null,null,null,null,null,null,null,null,null,null,null,null,null,null,null,null,"34:15",34.25]
[null,null,null,null,null,null,null,null,null,null,null,null,null,null,null,null,null,"34:30",34.5]
[null,null,null,null,null,null,null,null,null,null,null,null,null,null,null,null,null,"34:45",34.75]
[null,null,null,null,null,null,null,null,null,null,null,null,null,null,null,null,null,"35:00",35]
[null,null,null,null,null,null,null,null,null,null,null,null,null,null,null,null,null,"35:15",35.25]
[null,null,null,null,null,null,null,null,null,null,null,null,null,null,null,null,null,"35:30",35.5]
[null,null,null,null,null,null,null,null,null,null,null,null,null,null,null,null,null,"35:45",35.75]
[null,null,null,null,null,null,null,null,null,null,null,null,null,null,null,null,null,"36:00",36]
[null,null,null,null,null,null,null,null,null,null,null,null,null,null,null,null,null,"36:15",36.25]
[null,null,null,null,null,null,null,null,null,null,null,null,null,null,null,null,null,"36:30",36.5]
[null,null,null,null,null,null,null,null,null,null,null,null,null,null,null,null,null,"36:45",36.75]
[null,null,null,null,null,null,null,null,null,null,null,null,null,null,null,null,null,"37:00",37]
[null,null,null,null,null,null,null,null,null,null,null,null,null,null,null,null,null,"37:15",37.25]
[null,null,null,null,null,null,null,null,null,null,null,null,null,null,null,null,null,"37:30",37.5]
[null,null,null,null,null,null,null,null,null,null,null,null,null,null,null,null,null,"37:45",37.75]
[null,null,null,null,null,null,null,null,null,null,null,null,null,null,null,null,null,"38:00",38]
[null,null,null,null,null,null,null,null,null,null,null,null,null,null,null,null,null,"38:15",38.25]
[null,null,null,null,null,null,null,null,null,null,null,null,null,null,null,null,null,"38:30",38.5]
[null,null,null,null,null,null,null,null,null,null,null,null,null,null,null,null,null,"38:45",38.75]
[null,null,null,null,null,null,null,null,null,null,null,null,null,null,null,null,null,"39:00",39]
[null,null,null,null,null,null,null,null,null,null,null,null,null,null,null,null,null,"39:15",39.25]
[null,null,null,null,null,null,null,null,null,null,null,null,null,null,null,null,null,"39:30",39.5]
[null,null,null,null,null,null,null,null,null,null,null,null,null,null,null,null,null,"39:45",39.75]
[null,null,null,null,null,null,null,null,null,null,null,null,null,null,null,null,null,"40:00",40]
[null,null,null,null,null,null,null,null,null,null,null,null,null,null,null,null,null,"40:15"]
[null,null,null,null,null,null,null,null,null,null,null,null,null,null,null,null,null,"40:30"]
[null,null,null,null,null,null,null,null,null,null,null,null,null,null,null,null,null,"40:45"]
[null,null,null,null,null,null,null,null,null,null,null,null,null,null,null,null,null,"41:00"]
[null,null,null,null,null,null,null,null,null,null,null,null,null,null,null,null,null,"41:15"]
[null,null,null,null,null,null,null,null,null,null,null,null,null,null,null,null,null,"41:30"]
[null,null,null,null,null,null,null,null,null,null,null,null,null,null,null,null,null,"41:45"]
[null,null,null,null,null,null,null,null,null,null,null,null,null,null,null,null,null,"42:00"]
[null,null,null,null,null,null,null,null,null,null,null,null,null,null,null,null,null,"42:15"]
[null,null,null,null,null,null,null,null,null,null,null,null,null,null,null,null,null,"42:30"]
[null,null,null,null,null,null,null,null,null,null,null,null,null,null,null,null,null,"42:45"]
[null,null,null,null,null,null,null,null,null,null,null,null,null,null,null,null,null,"43:00"]
[null,null,null,null,null,null,null,null,null,null,null,null,null,null,null,null,null,"43:15"]
[null,null,null,null,null,null,null,null,null,null,null,null,null,null,null,null,null,"43:30"]
[null,null,null,null,null,null,null,null,null,null,null,null,null,null,null,null,null,"43:45"]
[null,null,null,null,null,null,null,null,null,null,null,null,null,null,null,null,null,"44:00"]
[null,null,null,null,null,null,null,null,null,null,null,null,null,null,null,null,null,"44:15"]
[null,null,null,null,null,null,null,null,null,null,null,null,null,null,null,null,null,"44:30"]
[null,null,null,null,null,null,null,null,null,null,null,null,null,null,null,null,null,"44:45"]
[null,null,null,null,null,null,null,null,null,null,null,null,null,null,null,null,null,"45:00"]
[null,null,null,null,null,null,null,null,null,null,null,null,null,null,null,null,null,"45:15"]
[null,null,null,null,null,null,null,null,null,null,null,null,null,null,null,null,null,"45:30"]
[null,null,null,null,null,null,null,null,null,null,null,null,null,null,null,null,null,"45:45"]
[null,null,null,null,null,null,null,null,null,null,null,null,null,null,null,null,null,"46:00"]
[null,null,null,null,null,null,null,null,null,null,null,null,null,null,null,null,null,"46:15"]
[null,null,null,null,null,null,null,null,null,null,null,null,null,null,null,null,null,"46:30"]
[null,null,null,null,null,null,null,null,null,null,null,null,null,null,null,null,null,"46:45"]
[null,null,null,null,null,null,null,null,null,null,null,null,null,null,null,null,null,"47:00"]
[null,null,null,null,null,null,null,null,null,null,null,null,null,null,null,null,null,"47:15"]
[null,null,null,null,null,null,null,null,null,null,null,null,null,null,null,null,null,"47:30"]
[null,null,null,null,null,null,null,null,null,null,null,null,null,null,null,null,null,"47:45"]
[null,null,null,null,null,null,null,null,null,null,null,null,null,null,null,null,null,"48:00"]
[null,null,null,null,null,null,null,null,null,null,null,null,null,null,null,null,null,"48:15"]
[null,null,null,null,null,null,null,null,null,null,null,null,null,null,null,null,null,"48:30"]
[null,null,null,null,null,null,null,null,null,null,null,null,null,null,null,null,null,"48:45"]
[null,null,null,null,null,null,null,null,null,null,null,null,null,null,null,null,null,"49:00"]
[null,null,null,null,null,null,null,null,null,null,null,null,null,null,null,null,null,"49:15"]
[null,null,null,null,null,null,null,null,null,null,null,null,null,null,null,null,null,"49:30"]
[null,null,null,null,null,null,null,null,null,null,null,null,null,null,null,null,null,"49:45"]
[null,null,null,null,null,null,null,null,null,null,null,null,null,null,null,null,null,"50:00"]
[null,null,null,null,null,null,null,null,null,null,null,null,null,null,null,null,null,"50:15"]
[null,null,null,null,null,null,null,null,null,null,null,null,null,null,null,null,null,"50:30"]
[null,null,null,null,null,null,null,null,null,null,null,null,null,null,null,null,null,"50:45"]
[null,null,null,null,null,null,null,null,null,null,null,null,null,null,null,null,null,"51:00"]
[null,null,null,null,null,null,null,null,null,null,null,null,null,null,null,null,null,"51:15"]
[null,null,null,null,null,null,null,null,null,null,null,null,null,null,null,null,null,"51:30"]
[null,null,null,null,null,null,null,null,null,null,null,null,null,null,null,null,null,"51:45"]
[null,null,null,null,null,null,null,null,null,null,null,null,null,null,null,null,null,"52:00"]
[null,null,null,null,null,null,null,null,null,null,null,null,null,null,null,null,null,"52:15"]
[null,null,null,null,null,null,null,null,null,null,null,null,null,null,null,null,null,"52:30"]
[null,null,null,null,null,null,null,null,null,null,null,null,null,null,null,null,null,"52:45"]
[null,null,null,null,null,null,null,null,null,null,null,null,null,null,null,null,null,"53:00"]
[null,null,null,null,null,null,null,null,null,null,null,null,null,null,null,null,null,"53:15"]
[null,null,null,null,null,null,null,null,null,null,null,null,null,null,null,null,null,"53:30"]
[null,null,null,null,null,null,null,null,null,null,null,null,null,null,null,null,null,"53:45"]
[null,null,null,null,null,null,null,null,null,null,null,null,null,null,null,null,null,"54:00"]
[null,null,null,null,null,null,null,null,null,null,null,null,null,null,null,null,null,"54:15"]
[null,null,null,null,null,null,null,null,null,null,null,null,null,null,null,null,null,"54:30"]
[null,null,null,null,null,null,null,null,null,null,null,null,null,null,null,null,null,"54:45"]
[null,null,null,null,null,null,null,null,null,null,null,null,null,null,null,null,null,"55:00"]
[null,null,null,null,null,null,null,null,null,null,null,null,null,null,null,null,null,"55:15"]
[null,null,null,null,null,null,null,null,null,null,null,null,null,null,null,null,null,"55:30"]
[null,null,null,null,null,null,null,null,null,null,null,null,null,null,null,null,null,"55:45"]
[null,null,null,null,null,null,null,null,null,null,null,null,null,null,null,null,null,"56:00"]

{"sheet":"Week 2","index":4,"n_rows":460,"n_cols":60,"rows_kept":460,"cut":false,"hidden":false,"merged":[[0,32,0,40],[2,32,2,40],[10,32,10,34],[10,36,10,40],[7,25,7,29],[5,34,5,40],[6,21,6,25],[7,22,7,24],[6,35,6,39],[6,26,6,27],[6,28,6,32],[6,33,6,34],[7,30,7,35],[7,36,7,40],[11,32,11,34],[11,36,11,40],[12,32,12,34],[12,36,12,40],[13,32,13,34],[13,36,13,40],[14,32,14,34],[14,36,14,40],[2,9,2,10],[8,30,9,30],[8,31,9,31],[8,32,9,34],[8,35,9,35],[8,36,9,40],[8,3,9,4],[8,5,9,6],[8,7,9,7],[6,0,6,6],[6,7,6,12],[8,1,9,2],[7,3,7,10],[6,16,6,19],[2,3,2,8],[8,8,9,8],[8,0,9,0],[8,9,9,9],[8,10,9,10],[7,15,7,20],[6,13,6,14],[7,11,7,13],[10,5,10,6],[11,3,11,4],[11,5,11,6],[12,3,12,4],[12,5,12,6],[13,3,13,4],[13,5,13,6],[14,3,14,4],[14,5,14,6],[131,28,131,30],[43,11,43,12],[46,17,46,20],[47,17,47,20],[100,13,100,18],[43,21,43,22],[47,0,47,4],[46,12,46,15],[51,17,51,20],[43,29,43,30],[49,22,49,25],[46,22,46,25],[50,0,50,4],[48,12,48,15],[43,9,43,10],[45,0,45,11],[46,0,46,4],[43,25,43,26],[52,22,52,25],[48,22,48,25],[51,22,51,25],[43,23,43,24],[48,0,48,4],[49,0,49,4],[38,0,38,6],[39,0,39,6],[46,6,46,10],[17,18,18,18],[17,14,18,14],[17,17,18,17],[17,10,18,10],[17,11,18,11],[17,9,18,9],[17,15,18,15],[17,12,18,12],[17,13,18,13],[25,0,25,6],[26,0,26,6],[30,0,30,6],[31,0,31,6],[40,0,40,6],[41,0,41,6],[32,0,32,6],[35,0,35,6],[36,0,36,6],[17,8,18,8],[17,0,18,6],[43,7,43,8],[23,0,23,6],[54,36,54,38],[49,36,49,38],[53,36,53,38],[48,36,48,38],[45,28,45,39],[43,27,43,28],[43,37,43,38],[52,36,52,38],[47,22,47,25],[43,33,43,34],[52,0,53,4],[51,0,51,4],[52,5,53,5],[52,12,52,15],[51,12,51,15],[49,12,49,15],[47,12,47,15],[47,6,47,10],[42,0,43,6],[37,0,37,6],[33,0,33,6],[50,17,50,20],[50,22,50,25],[17,43,18,43],[20,35,20,40],[17,31,18,31],[21,39,21,40],[17,29,18,29],[17,30,18,30],[43,39,43,40],[43,31,43,32],[43,35,43,36],[17,32,18,34],[17,35,18,35],[17,36,18,40],[52,17,52,20],[17,16,18,16],[17,23,18,23],[48,17,48,20],[49,17,49,20],[43,13,43,14],[17,20,18,20],[17,21,18,21],[43,15,43,16],[45,12,45,16],[17,19,18,19],[43,19,43,20],[50,12,50,15],[43,17,43,18],[17,7,18,7],[17,26,18,26],[17,22,18,22],[15,32,15,34],[15,36,15,40],[16,32,16,34],[16,36,16,40],[17,27,18,27],[17,28,18,28],[29,0,29,6],[20,0,22,6],[27,0,27,6],[0,12,0,25],[1,12,2,25],[17,46,18,46],[28,0,28,6],[24,0,24,6],[16,1,16,2],[10,1,10,2],[14,1,14,2],[11,1,11,2],[12,1,12,2],[13,1,13,2],[15,1,15,2],[16,3,16,4],[16,5,16,6],[15,3,15,4],[15,5,15,6],[10,3,10,4],[17,44,18,44],[17,45,18,45],[17,24,18,24],[17,25,18,25]]}
[{"$f":"\"THP-2C (\"&\"\"&(MAIN!A1)&\")\"","v":"THP-2C (08/2020 Version 1.1)"},null,null,null,null,null,null,null,null,null,null,null,"Texas Department of Public Safety",null,null,null,null,null,null,null,null,null,null,null,null,null,null,null,null,null,null,"GRANT OT SPEED CHART #"]
[null,null,null,null,null,null,null,null,null,null,null,null,"TEXAS HIGHWAY PATROL EQUINE WEEKLY REPORT"]
[null,null,"POSITION TITLE ",{"$f":"IF('Week 1'!D3=\"\",\"\",'Week 1'!D3)","v":"Trooper II"},null,null,null,null,null,"FUNCTION",null,{"$f":"IF('Week 1'!L3=\"\",\"\",'Week 1'!L3)","v":"HP"},null,null,null,null,null,null,null,null,null,null,null,null,null,null,null,null,null,null,null,"GRANT OT SPEED CHART #"]
[]
["                                         "]
[" NAME:  LAST",null,null,null,null,null,null,"FIRST",null,null,null,null,null," INITIAL",null," ID NO.",null,null,null,null," AREA",null,null,null,null,null," REPORTING PERIOD"]
[{"$f":"IF('Week 1'!A7:G7=\"\",\"\",'Week 1'!A7:G7)","v":"SMITH"},null,null,null,null,null,null,{"$f":"IF('Week 1'!H7:M7=\"\",\"\",'Week 1'!H7:M7)","v":"JOE"},null,null,null,null,null,{"$f":"IF('Week 1'!N7:O7=\"\",\"\",'Week 1'!N7:O7)","v":""},null,null,{"$f":"IF('Week 1'!Q7:T7=\"\",\"\",'Week 1'!Q7:T7)","v":1333},null,null,null,null,{"$f":"IF('Week 1'!V7:Z7=\"\",\"\",'Week 1'!V7:Z7)","v":"3EO1"},null,null,null,null,"  FROM:",null,{"$f":"'THP-71'!D11","v":"2019-09-08"},null,null,null,null," THROUGH: ",null,{"$f":"'THP-71'!F11","v":"2019-09-14"}]
["DUTY DAYS",null,null,"HOURS WORKED",null,null,null,null,null,null,null,"GRANT OT WORKED",null,null,"TOTAL DUTY HOURS","ADMINISTRATIVE DUTIES",null,null,null,null,null,null,"ROUTINE DUTIES",null,null,"EQUINE ADMINISTRATIVE",null,null,null,null,"AUTO",null,null,null,null,null,"COUNTY WORKED"]
["DAY","DATE",null,"TIME STARTED WORK",null,"TIME ENDED WORK",null,"HOURS OFF DUTY","REG & OT DAY DUTY HOURS","REG & OT NIGHT DUTY HOURS","TOTAL REG & OT DUTY HOURS","DAY GRANT OT HOURS","NIGHT GRANT OT HOURS","TOTAL GRANT OT HOURS","TOTAL DUTY HOURS","VEHICLE MAINTENANCE","SAFETY / TRAINING PROGRAMS","COURT","BACKGROUND INVESTIGATION","TRAINING","OFFICE DUTY",null,"PATROL ENFORCEMENT","CRASH INVESTIGATION","MOTOR CARRIER WORK","EQUINE TRAINING","EQUINE MAINTENANCE","VETERINARIAN","STABLE, VEHICLE, TRAILER MAINT.","TRAINING CONSTRUCTION","REG & OT DUTY MILES","GRANT OT DUTY MILES","UNIT NUMBER",null,null,"TOTAL DUTY MILES","SELECT COUNTY WHERE 60% OR MORE DUTY TIME SPENT",null,null,null,null,"SCHEDULED DAY OFF","DATE","REG OT","REG + GRANT OT","TIME TAKEN CALC\n(TT2)","TIME TAKEN ACTUAL\n(TT1)","TIME TAKEN","LT 8 HRS DUTY","LT DIFF","Day Off","Total Duty Hours","Total Daily OT"]
[]
["SUN",{"$f":"AC7","v":"2019-09-08"},null,null,null,null,null,null,null,null,{"$f":"IF(OR(D11=\"\",F11=\"\"),\"\",IF(AND(I11=\"\",J11=\"\"),\"\",SUM(I11:J11)))","v":""},null,null,{"$f":"IF(AND(D11=\"\",F11=\"\"),\"\",SUM(L11:M11))","v":""},{"$f":"IF(OR(D11=\"\",F11=\"\"),\"\",IF(AND(G100>0,I100>0),\"*\"&C100&\"*\",IF(G100>0,\"<\"&C100,IF(I100>0,C100&\">\",C100))))","v":""},null,null,null,null,null,null,null,null,null,null,null,null,null,null,null,null,null,null,null,null,{"$f":"IF(SUM(AE11,AF11)=0, \"\", SUM(AE11,AF11))","v":""},null,null,null,null,null,null,{"$f":"B11","v":"2019-09-08"},{"$f":"IF(OR(K11 =\"\",IFERROR((K11-8)<0,0)),0,K11-8)","v":0},{"$f":"IFERROR(IF(OR(O11=\"\",IFERROR((O11-8)<0,0)),0,O11-8),0)","v":0},{"$f":"IF(AD94 = 0,0,AD94)","v":0},{"$f":"IF(AC94 = 0,0,AC94)","v":0},{"$f":"IF((SUMPRODUCT(--((ISNUMBER(SEARCH(AA94,AA$78:AA$91)))),AC$78:AC$91)) > 0,\"Y\",\"N\")","v":"N"},{"$f":"IF(O11 < 8,\"Y\",\"N\")","v":"N"},{"$f":"IF(AW11=\"N\",0,ABS(O11-8))","v":0},{"$f":"IF(AP11<>\"\",\"Y\",\"N\")","v":"N"},{"$f":"IF(O11=\"\",0,IF(ISNUMBER(FIND(\"*\",O11))=TRUE,0,O11))","v":0},{"$f":"AS11","v":0},{"$f":"A11","v":"SUN"}]
["MON",{"$f":"IF(B11=\"\",\"\",B11+1)","v":"2019-09-09"},null,null,null,null,null,null,null,null,"",null,null,"","",null,null,null,null,null,null,null,null,null,null,null,null,null,null,null,null,null,null,null,null,{"$f":"IF(SUM(AE12,AF12)=0, \"\", SUM(AE12,AF12))","v":""},null,null,null,null,null,null,{"$f":"B12","v":"2019-09-09"},{"$f":"IF(OR(K12 =\"\",IFERROR((K12-8)<0,0)),0,K12-8)","v":0},{"$f":"IFERROR(IF(OR(O12=\"\",IFERROR((O12-8)<0,0)),0,O12-8),0)","v":0},{"$f":"IF(AD95 = 0,0,AD95)","v":0},{"$f":"IF(AC95 = 0,0,AC95)","v":0},{"$f":"IF((SUMPRODUCT(--((ISNUMBER(SEARCH(AA95,AA$78:AA$91)))),AC$78:AC$91)) > 0,\"Y\",\"N\")","v":"N"},{"$f":"IF(O12 < 8,\"Y\",\"N\")","v":"N"},{"$f":"IF(AW12=\"N\",0,ABS(O12-8))","v":0},{"$f":"IF(AP12<>\"\",\"Y\",\"N\")","v":"N"},0,{"$f":"AS12","v":0},{"$f":"A12","v":"MON"}]
["TUE",{"$f":"IF(B11=\"\",\"\",B11+2)","v":"2019-09-10"},null,null,null,null,null,null,null,null,"",null,null,"","",null,null,null,null,null,null,null,null,null,null,null,null,null,null,null,null,null,null,null,null,"",null,null,null,null,null,null,"2019-09-10",0,0,0,0,"N","N",0,"N",0,0,"TUE"]
["WED",{"$f":"IF(B11=\"\",\"\",B11+3)","v":"2019-09-11"},null,null,null,null,null,null,null,null,"",null,null,"","",null,null,null,null,null,null,null,null,null,null,null,null,null,null,null,null,null,null,null,null,"",null,null,null,null,null,null,"2019-09-11",0,0,0,0,"N","N",0,"N",0,0,"WED"]
["THU",{"$f":"IF(B11=\"\",\"\",B11+4)","v":"2019-09-12"},null,null,null,null,null,null,null,null,"",null,null,"","",null,null,null,null,null,null,null,null,null,null,null,null,null,null,null,null,null,null,null,null,"",null,null,null,null,null,null,"2019-09-12",0,0,0,0,"N","N",0,"N",0,0,"THU"]
["FRI",{"$f":"IF(B11=\"\",\"\",B11+5)","v":"2019-09-13"},null,null,null,null,null,null,null,null,"",null,null,"","",null,null,null,null,null,null,null,null,null,null,null,null,null,null,null,null,null,null,null,null,"",null,null,null,null,null,null,"2019-09-13",0,0,0,0,"N","N",0,"N",0,0,"FRI"]
["SAT",{"$f":"IF(B11=\"\",\"\",B11+6)","v":"2019-09-14"},null,null,null,null,null,null,null,null,"",null,null,"","",null,null,null,null,null,null,null,null,null,null,null,null,null,null,null,null,null,null,null,null,"",null,null,null,null,null,null,"2019-09-14",0,0,0,0,"N","N",0,"N",{"$f":"IF(O17=\"\",0,IF(ISNUMBER(FIND(\"*\",O17))=TRUE,0,O17))","v":0},0,"SAT"]
["WEEKLY TOTALS",null,null,null,null,null,null,{"$f":"IF(SUM(H11:H17)=0,\"\",SUM(H11:H17))","v":""},"","",{"$f":"IF(SUM(K11:K17)=0,0,SUM(K11:K17))","v":0},"","","",{"$f":"IF(SUM(O11:O17)=0,0,SUM(O11:O17))","v":0},"","","","","","","","","","",{"$f":"IF(SUM(Z11:Z17)=0,\"\",SUM(Z11:Z17))","v":""},"","","","","","",{"$f":"IF(SUM(AI11:AI17)=0,\"\",SUM(AI11:AI17))","v":""},null,null,{"$f":"IF(SUM(AJ11:AJ17)=0,\"\",SUM(AJ11:AJ17))","v":""},null,null,null,null,null,null,null,{"$f":"SUM(AR11:AR17)","v":0},{"$f":"SUM(AS11:AS17)","v":0},{"$f":"SUM(AT11:AT17)","v":0},{"$f":"SUM(AU11:AU17)","v":0}]
[null,null,null,null,null,null,null,null,null,null,null,null,null,null,null,null,null,null,null,null,null,null,null,null,null,null,null,null,null,null,null,null,null,null,null,null,null,null,null,null,null,null,null,null,null,null,null,null,null,null,null,{"$f":"SUM(AZ11:AZ17)","v":0},{"$f":"SUM(BA11:BA17)","v":0}]
[null,null,null,null,null,null,null,"ENFORCEMENT SUMMARY"]
["VIOLATION",null,null,null,null,null,null,"SUNDAY",null,null,null,"MONDAY",null,null,null,"TUESDAY",null,null,null,"WEDNESDAY",null,null,null,"THURSDAY",null,null,null,"FRIDAY",null,null,null,"SATURDAY",null,null,null,"TOTALS"]
[null,null,null,null,null,null,null,"Routine",null,"GRANT OT",null,"Routine",null,"GRANT OT",null,"Routine",null,"GRANT OT",null,"Routine",null,"GRANT OT",null,"Routine",null,"GRANT OT",null,"Routine",null,"GRANT OT",null,"Routine",null,"GRANT OT",null,"Routine",null,"GRANT OT",null,"ALL"]
[null,null,null,null,null,null,null,"A","W","A","W","A","W","A","W","A","W","A","W","A","W","A","W","A","W","A","W","A","W","A","W","A","W","A","W","A","W","A","W","A","W"]
["  SPEEDING",null,null,null,null,null,null,null,null,null,null,null,null,null,null,null,null,null,null,null,null,null,null,null,null,null,null,null,null,null,null,null,null,null,null,{"$f":"SUM(H24+L24+P24+T24+X24+AB24+AF24)","v":0},{"$f":"SUM(I24+M24+Q24+U24+Y24+AC24+AG24)","v":0},{"$f":"SUM(J24+N24+R24+V24+Z24+AD24+AH24)","v":0},{"$f":"SUM(K24+O24+S24+W24+AA24+AE24+AI24)","v":0},{"$f":"AJ24+AL24","v":0},{"$f":"AK24+AM24","v":0},null,null,null,null,null,null,null,"Total Daily OT:",{"$f":"BA19","v":0}]
["  DWI",null,null,null,null,null,null,null,null,null,null,null,null,null,null,null,null,null,null,null,null,null,null,null,null,null,null,null,null,null,null,null,null,null,null,{"$f":"SUM(H25+L25+P25+T25+X25+AB25+AF25)","v":0},null,{"$f":"SUM(J25+N25+R25+V25+Z25+AD25+AH25)","v":0},null,{"$f":"AJ25+AL25","v":0},null,null,null,null,null,null,null,null,"Total Weekly OT:",{"$f":"IF((AZ19-BA19-40)<0,0,AZ19-BA19-40)","v":0}]
["  DUI - MINOR",null,null,null,null,null,null,null,null,null,null,null,null,null,null,null,null,null,null,null,null,null,null,null,null,null,null,null,null,null,null,null,null,null,null,0,null,0,null,0,null,null,null,null,null,null,null,null,"Total OT:",{"$f":"IF((AZ19-BA19-40)<0,BA19,AZ19-40)","v":0}]
["  ADULT RESTRAINT VIOLATIONS",null,null,null,null,null,null,null,null,null,null,null,null,null,null,null,null,null,null,null,null,null,null,null,null,null,null,null,null,null,null,null,null,null,null,0,{"$f":"SUM(AG27,AC27,Y27,U27,Q27,M27,I27)","v":0},0,{"$f":"SUM(K27+O27+S27+W27+AA27+AE27+AI27)","v":0},0,{"$f":"AK27+AM27","v":0},null,null,null,null,null,null,null,"Total CTE:",{"$f":"IF(OR((AZ19+AU18-AX26)<40,(AZ19+AU18-AX26)=40),0,(AZ19+AU18-AX26)-40)","v":0}]
["  CHILD RESTRAINT VIOLATIONS",null,null,null,null,null,null,null,null,null,null,null,null,null,null,null,null,null,null,null,null,null,null,null,null,null,null,null,null,null,null,null,null,null,null,0,{"$f":"SUM(AG28,AC28,Y28,U28,Q28,M28,I28)","v":0},0,0,0,0]
["  HAZMAT (CVE ONLY)",null,null,null,null,null,null,null,null,null,null,null,null,null,null,null,null,null,null,null,null,null,null,null,null,null,null,null,null,null,null,null,null,null,null,0,{"$f":"SUM(AG29,AC29,Y29,U29,Q29,M29,I29)","v":0},0,0,0,0]
["  OVERSIZE",null,null,null,null,null,null,null,null,null,null,null,null,null,null,null,null,null,null,null,null,null,null,null,null,null,null,null,null,null,null,null,null,null,null,0,{"$f":"SUM(AG30,AC30,Y30,U30,Q30,M30,I30)","v":0},0,0,0,0]
["  OVERWEIGHT (CVE ONLY)",null,null,null,null,null,null,null,null,null,null,null,null,null,null,null,null,null,null,null,null,null,null,null,null,null,null,null,null,null,null,null,null,null,null,0,{"$f":"SUM(I31+M31+Q31+U31+Y31+AC31+AG31)","v":0},0,0,0,0]
["  NO INSURANCE OR MC AUTH",null,null,null,null,null,null,null,null,null,null,null,null,null,null,null,null,null,null,null,null,null,null,null,null,null,null,null,null,null,null,null,null,null,null,0,0,0,0,0,0]
["  FMCSR DRIVER",null,null,null,null,null,null,null,null,null,null,null,null,null,null,null,null,null,null,null,null,null,null,null,null,null,null,null,null,null,null,null,null,null,null,0,0,0,0,0,0]
["  DRIVER LICENSE / DWLI ",null,null,null,null,null,null,null,null,null,null,null,null,null,null,null,null,null,null,null,null,null,null,null,null,null,null,null,null,null,null,null,null,null,null,0,0,0,0,0,0]
["  REGISTRATION",null,null,null,null,null,null,null,null,null,null,null,null,null,null,null,null,null,null,null,null,null,null,null,null,null,null,null,null,null,null,null,null,null,null,0,0,0,0,0,0]
["  EQUIPMENT ",null,null,null,null,null,null,null,null,null,null,null,null,null,null,null,null,null,null,null,null,null,null,null,null,null,null,null,null,null,null,null,null,null,null,{"$f":"SUM(H36+L36+P36+T36+X36+AB36+AF36)","v":0},0,{"$f":"SUM(J36+N36+R36+V36+Z36+AD36+AH36)","v":0},{"$f":"SUM(K36+O36+S36+W36+AA36+AE36+AI36)","v":0},{"$f":"AJ36+AL36","v":0},{"$f":"AK36+AM36","v":0}]
["  CRIMINAL (FELONY)",null,null,null,null,null,null,null,null,null,null,null,null,null,null,null,null,null,null,null,null,null,null,null,null,null,null,null,null,null,null,null,null,null,null,0,null,{"$f":"SUM(J37+N37+R37+V37+Z37+AD37+AH37)","v":0},null,{"$f":"AJ37+AL37","v":0}]
["  CRIMINAL (MISDEMEANOR)",null,null,null,null,null,null,null,null,null,null,null,null,null,null,null,null,null,null,null,null,null,null,null,null,null,null,null,null,null,null,null,null,null,null,0,null,{"$f":"SUM(J38+N38+R38+V38+Z38+AD38+AH38)","v":0},null,{"$f":"AJ38+AL38","v":0}]
["  FUGITIVE (FELONY)",null,null,null,null,null,null,null,null,null,null,null,null,null,null,null,null,null,null,null,null,null,null,null,null,null,null,null,null,null,null,null,null,null,null,0,null,{"$f":"SUM(J39+N39+R39+V39+Z39+AD39+AH39)","v":0},null,{"$f":"AJ39+AL39","v":0}]
["  FUGITIVE (MISDEMEANOR)",null,null,null,null,null,null,null,null,null,null,null,null,null,null,null,null,null,null,null,null,null,null,null,null,null,null,null,null,null,null,null,null,null,null,0,null,{"$f":"SUM(J40+N40+R40+V40+Z40+AD40+AH40)","v":0},null,{"$f":"AJ40+AL40","v":0}]
["  ALL OTHER VIOLATIONS",null,null,null,null,null,null,null,null,null,null,null,null,null,null,null,null,null,null,null,null,null,null,null,null,null,null,null,null,null,null,null,null,null,null,0,{"$f":"SUM(I41+M41+Q41+U41+Y41+AC41+AG41)","v":0},{"$f":"SUM(J41+N41+R41+V41+Z41+AD41+AH41)","v":0},{"$f":"SUM(K41+O41+S41+W41+AA41+AE41+AI41)","v":0},{"$f":"AJ41+AL41","v":0},{"$f":"AK41+AM41","v":0}]
["  TOTALS",null,null,null,null,null,null,{"$f":"IF(SUM(H24:H41)<1,\"\", SUM(H24:H41))","v":""},"","","","","","","","","","","","","","","","","","","","","","","","","","","","","","","","",""]
["TOTAL NUMBER OF VEHICLES \nSTOPPED WITH ENFORCEMENT ACTION"]
[null,null,null,null,null,null,null,null,null,null,null,null,null,null,null,null,null,null,null,null,null,null,null,null,null,null,null,null,null,null,null,null,null,null,null,{"$f":"SUM(H44+L44+P44+T44+X44+AB44+AF44)","v":0},null,{"$f":"SUM(J44+N44+R44+V44+Z44+AD44+AH44)","v":0},null,{"$f":"IF(SUM(AJ44+AL44)=0,\"\",SUM(AJ44+AL44))","v":""}]
[]
["ACTIVITIES",null,null,null,null,null,null,null,null,null,null,null,"MOTOR CARRIER",null,null,null,null,null,null,null,null,null,null,null,null,null,null,null,"BE SURE TO CHECK SECONDARY EMPLOYMENT ON BACK"]
["  CRASHES INVESTIGATED",null,null,null,null,null,"  BACKGROUND INV.",null,null,null,null,null," LEVEL 2 INSPECTION"]
["  AGENCY ASSISTS",null,null,null,null,null,"  STOLEN VEH. RECOVERED",null,null,null,null,null," VEHICLE O.O.S."]
["    # TRAFFIC OPS  (W/ OTHER AGENCY)",null,null,null,null,null,"  WARRANTS SERVED",null,null,null,null,null," DRIVER O.O.S."]
["  SCHOOLS VISITED",null,null,null,null,null,"  HQ-35 SEIZURES",null,null,null,null,null,"VEHICLES CHECKED",null,null,null,null,null,null,null,null,null,null,null,null,null,null,null,"TROOPER'S SIGNATURE",null,null,null,null,null,null,null,"DATE"]
["  MOTORIST ASSISTS",null,null,null,null,null,"  INTEL HITS (WATCHLIST)"]
["  SAFETY PROGRAMS",null,null,null,null,null,"  INTEL REPORTS SUBMITTED"]
["  TRAINING PROGRAMS \n  FOR OTHER LE AGENCIES ",null,null,null,null,null,"  VEHICLE PURSUITS"]
[null,null,null,null,null,null,"# OF TASKS",null,null,null,null,null,null,null,null,null,null,null,null,null,null,null,null,null,null,null,null,null,"SUPERVISOR'S SIGNATURE",null,null,null,null,null,null,null,"    DATE"]
[]
[]
[]
[]
[]
[]
[null,"ALT","CAT","CDT","CTT","DBT","DOT","DMT","EMT","EST","FFT","FPT"]
[1,{"$f":"IF('week 2 bk'!AJ13=\"ALT\",'week 2 bk'!AL13,0)","v":0},{"$f":"IF('week 2 bk'!AJ13=\"CAT\",'week 2 bk'!AL13,0)","v":0},{"$f":"IF('week 2 bk'!AJ13=\"CDT\",'week 2 bk'!AL13,0)","v":0},{"$f":"IF('week 2 bk'!AJ13=\"CTT\",'week 2 bk'!AL13,0)","v":0},{"$f":"IF('week 2 bk'!AJ13=\"DBT\",'week 2 bk'!AL13,0)","v":0},{"$f":"IF('week 2 bk'!AJ13=\"DOT\",'week 2 bk'!AL13,0)","v":0},{"$f":"IF('week 2 bk'!AJ13=\"DMT\",'week 2 bk'!AL13,0)","v":0},{"$f":"IF('week 2 bk'!AJ13=\"EMT\",'week 2 bk'!AL13,0)","v":0},{"$f":"IF('week 2 bk'!AJ13=\"EST\",'week 2 bk'!AL13,0)","v":0},{"$f":"IF('week 2 bk'!AJ13=\"FFT\",'week 2 bk'!AL13,0)","v":0},{"$f":"IF('week 2 bk'!AJ13=\"FPT\",'week 2 bk'!AL13,0)","v":0}]
[2,{"$f":"IF('week 2 bk'!AJ14=\"ALT\",'week 2 bk'!AL14,0)","v":0},{"$f":"IF('week 2 bk'!AJ14=\"CAT\",'week 2 bk'!AL14,0)","v":0},{"$f":"IF('week 2 bk'!AJ14=\"CDT\",'week 2 bk'!AL14,0)","v":0},{"$f":"IF('week 2 bk'!AJ14=\"CTT\",'week 2 bk'!AL14,0)","v":0},{"$f":"IF('week 2 bk'!AJ14=\"DBT\",'week 2 bk'!AL14,0)","v":0},{"$f":"IF('week 2 bk'!AJ14=\"DOT\",'week 2 bk'!AL14,0)","v":0},{"$f":"IF('week 2 bk'!AJ14=\"DMT\",'week 2 bk'!AL14,0)","v":0},{"$f":"IF('week 2 bk'!AJ14=\"EMT\",'week 2 bk'!AL14,0)","v":0},{"$f":"IF('week 2 bk'!AJ14=\"EST\",'week 2 bk'!AL14,0)","v":0},{"$f":"IF('week 2 bk'!AJ14=\"FFT\",'week 2 bk'!AL14,0)","v":0},{"$f":"IF('week 2 bk'!AJ14=\"FPT\",'week 2 bk'!AL14,0)","v":0},"HCT","HOB","JST","LDT","LET","LPT","MLT","OHT","OTT","RCT","SAT","SET","SLT","VCT"]
[3,{"$f":"IF('week 2 bk'!AJ15=\"ALT\",'week 2 bk'!AL15,0)","v":0},{"$f":"IF('week 2 bk'!AJ15=\"CAT\",'week 2 bk'!AL15,0)","v":0},{"$f":"IF('week 2 bk'!AJ15=\"CDT\",'week 2 bk'!AL15,0)","v":0},{"$f":"IF('week 2 bk'!AJ15=\"CTT\",'week 2 bk'!AL15,0)","v":0},{"$f":"IF('week 2 bk'!AJ15=\"DBT\",'week 2 bk'!AL15,0)","v":0},{"$f":"IF('week 2 bk'!AJ15=\"DOT\",'week 2 bk'!AL15,0)","v":0},{"$f":"IF('week 2 bk'!AJ15=\"DMT\",'week 2 bk'!AL15,0)","v":0},{"$f":"IF('week 2 bk'!AJ15=\"EMT\",'week 2 bk'!AL15,0)","v":0},{"$f":"IF('week 2 bk'!AJ15=\"EST\",'week 2 bk'!AL15,0)","v":0},{"$f":"IF('week 2 bk'!AJ15=\"FFT\",'week 2 bk'!AL15,0)","v":0},{"$f":"IF('week 2 bk'!AJ15=\"FPT\",'week 2 bk'!AL15,0)","v":0},{"$f":"IF('week 2 bk'!AJ13=\"HCT\",'week 2 bk'!AL13,0)","v":0},{"$f":"IF('week 2 bk'!AJ13=\"HOB\",'week 2 bk'!AL13,0)","v":0},{"$f":"IF('week 2 bk'!AJ13=\"JST\",'week 2 bk'!AL13,0)","v":0},{"$f":"IF('week 2 bk'!AJ13=\"LDT\",'week 2 bk'!AL13,0)","v":0},{"$f":"IF('week 2 bk'!AJ13=\"LET\",'week 2 bk'!AL13,0)","v":0},{"$f":"IF('week 2 bk'!AJ13=\"LPT\",'week 2 bk'!AL13,0)","v":0},{"$f":"IF('week 2 bk'!AJ13=\"MLT\",'week 2 bk'!AL13,0)","v":0},{"$f":"IF('week 2 bk'!AJ13=\"OHT\",'week 2 bk'!AL13,0)","v":0},{"$f":"IF('week 2 bk'!AJ13=\"OTT\",'week 2 bk'!AL13,0)","v":0},{"$f":"IF('week 2 bk'!AJ13=\"RCT\",'week 2 bk'!AL13,0)","v":0},{"$f":"IF('week 2 bk'!AJ13=\"SAT\",'week 2 bk'!AL13,0)","v":0},{"$f":"IF('week 2 bk'!AJ13=\"SET\",'week 2 bk'!AL13,0)","v":0},{"$f":"IF('week 2 bk'!AJ13=\"SLT\",'week 2 bk'!AL13,0)","v":0},{"$f":"IF('week 2 bk'!AJ13=\"VCT\",'week 2 bk'!AL13,0)","v":0}]
[4,{"$f":"IF('week 2 bk'!AJ16=\"ALT\",'week 2 bk'!AL16,0)","v":0},{"$f":"IF('week 2 bk'!AJ16=\"CAT\",'week 2 bk'!AL16,0)","v":0},{"$f":"IF('week 2 bk'!AJ16=\"CDT\",'week 2 bk'!AL16,0)","v":0},{"$f":"IF('week 2 bk'!AJ16=\"CTT\",'week 2 bk'!AL16,0)","v":0},{"$f":"IF('week 2 bk'!AJ16=\"DBT\",'week 2 bk'!AL16,0)","v":0},{"$f":"IF('week 2 bk'!AJ16=\"DOT\",'week 2 bk'!AL16,0)","v":0},{"$f":"IF('week 2 bk'!AJ16=\"DMT\",'week 2 bk'!AL16,0)","v":0},{"$f":"IF('week 2 bk'!AJ16=\"EMT\",'week 2 bk'!AL16,0)","v":0},{"$f":"IF('week 2 bk'!AJ16=\"EST\",'week 2 bk'!AL16,0)","v":0},{"$f":"IF('week 2 bk'!AJ16=\"FFT\",'week 2 bk'!AL16,0)","v":0},{"$f":"IF('week 2 bk'!AJ16=\"FPT\",'week 2 bk'!AL16,0)","v":0},{"$f":"IF('week 2 bk'!AJ14=\"HCT\",'week 2 bk'!AL14,0)","v":0},{"$f":"IF('week 2 bk'!AJ14=\"HOB\",'week 2 bk'!AL14,0)","v":0},{"$f":"IF('week 2 bk'!AJ14=\"JST\",'week 2 bk'!AL14,0)","v":0},{"$f":"IF('week 2 bk'!AJ14=\"LDT\",'week 2 bk'!AL14,0)","v":0},{"$f":"IF('week 2 bk'!AJ14=\"LET\",'week 2 bk'!AL14,0)","v":0},{"$f":"IF('week 2 bk'!AJ14=\"LPT\",'week 2 bk'!AL14,0)","v":0},{"$f":"IF('week 2 bk'!AJ14=\"MLT\",'week 2 bk'!AL14,0)","v":0},{"$f":"IF('week 2 bk'!AJ14=\"OHT\",'week 2 bk'!AL14,0)","v":0},{"$f":"IF('week 2 bk'!AJ14=\"OTT\",'week 2 bk'!AL14,0)","v":0},{"$f":"IF('week 2 bk'!AJ14=\"RCT\",'week 2 bk'!AL14,0)","v":0},{"$f":"IF('week 2 bk'!AJ14=\"SAT\",'week 2 bk'!AL14,0)","v":0},{"$f":"IF('week 2 bk'!AJ14=\"SET\",'week 2 bk'!AL14,0)","v":0},{"$f":"IF('week 2 bk'!AJ14=\"SLT\",'week 2 bk'!AL14,0)","v":0},{"$f":"IF('week 2 bk'!AJ14=\"VCT\",'week 2 bk'!AL14,0)","v":0}]
[5,{"$f":"IF('week 2 bk'!AJ17=\"ALT\",'week 2 bk'!AL17,0)","v":0},{"$f":"IF('week 2 bk'!AJ17=\"CAT\",'week 2 bk'!AL17,0)","v":0},{"$f":"IF('week 2 bk'!AJ17=\"CDT\",'week 2 bk'!AL17,0)","v":0},{"$f":"IF('week 2 bk'!AJ17=\"CTT\",'week 2 bk'!AL17,0)","v":0},{"$f":"IF('week 2 bk'!AJ17=\"DBT\",'week 2 bk'!AL17,0)","v":0},{"$f":"IF('week 2 bk'!AJ17=\"DOT\",'week 2 bk'!AL17,0)","v":0},{"$f":"IF('week 2 bk'!AJ17=\"DMT\",'week 2 bk'!AL17,0)","v":0},{"$f":"IF('week 2 bk'!AJ17=\"EMT\",'week 2 bk'!AL17,0)","v":0},{"$f":"IF('week 2 bk'!AJ17=\"EST\",'week 2 bk'!AL17,0)","v":0},{"$f":"IF('week 2 bk'!AJ17=\"FFT\",'week 2 bk'!AL17,0)","v":0},{"$f":"IF('week 2 bk'!AJ17=\"FPT\",'week 2 bk'!AL17,0)","v":0},{"$f":"IF('week 2 bk'!AJ15=\"HCT\",'week 2 bk'!AL15,0)","v":0},{"$f":"IF('week 2 bk'!AJ15=\"HOB\",'week 2 bk'!AL15,0)","v":0},{"$f":"IF('week 2 bk'!AJ15=\"JST\",'week 2 bk'!AL15,0)","v":0},{"$f":"IF('week 2 bk'!AJ15=\"LDT\",'week 2 bk'!AL15,0)","v":0},{"$f":"IF('week 2 bk'!AJ15=\"LET\",'week 2 bk'!AL15,0)","v":0},{"$f":"IF('week 2 bk'!AJ15=\"LPT\",'week 2 bk'!AL15,0)","v":0},{"$f":"IF('week 2 bk'!AJ15=\"MLT\",'week 2 bk'!AL15,0)","v":0},{"$f":"IF('week 2 bk'!AJ15=\"OHT\",'week 2 bk'!AL15,0)","v":0},{"$f":"IF('week 2 bk'!AJ15=\"OTT\",'week 2 bk'!AL15,0)","v":0},{"$f":"IF('week 2 bk'!AJ15=\"RCT\",'week 2 bk'!AL15,0)","v":0},{"$f":"IF('week 2 bk'!AJ15=\"SAT\",'week 2 bk'!AL15,0)","v":0},{"$f":"IF('week 2 bk'!AJ15=\"SET\",'week 2 bk'!AL15,0)","v":0},{"$f":"IF('week 2 bk'!AJ15=\"SLT\",'week 2 bk'!AL15,0)","v":0},{"$f":"IF('week 2 bk'!AJ15=\"VCT\",'week 2 bk'!AL15,0)","v":0}]
[6,{"$f":"IF('week 2 bk'!AJ18=\"ALT\",'week 2 bk'!AL18,0)","v":0},{"$f":"IF('week 2 bk'!AJ18=\"CAT\",'week 2 bk'!AL18,0)","v":0},{"$f":"IF('week 2 bk'!AJ18=\"CDT\",'week 2 bk'!AL18,0)","v":0},{"$f":"IF('week 2 bk'!AJ18=\"CTT\",'week 2 bk'!AL18,0)","v":0},{"$f":"IF('week 2 bk'!AJ18=\"DBT\",'week 2 bk'!AL18,0)","v":0},{"$f":"IF('week 2 bk'!AJ18=\"DOT\",'week 2 bk'!AL18,0)","v":0},{"$f":"IF('week 2 bk'!AJ18=\"DMT\",'week 2 bk'!AL18,0)","v":0},{"$f":"IF('week 2 bk'!AJ18=\"EMT\",'week 2 bk'!AL18,0)","v":0},{"$f":"IF('week 2 bk'!AJ18=\"EST\",'week 2 bk'!AL18,0)","v":0},{"$f":"IF('week 2 bk'!AJ18=\"FFT\",'week 2 bk'!AL18,0)","v":0},{"$f":"IF('week 2 bk'!AJ18=\"FPT\",'week 2 bk'!AL18,0)","v":0},{"$f":"IF('week 2 bk'!AJ16=\"HCT\",'week 2 bk'!AL16,0)","v":0},{"$f":"IF('week 2 bk'!AJ16=\"HOB\",'week 2 bk'!AL16,0)","v":0},{"$f":"IF('week 2 bk'!AJ16=\"JST\",'week 2 bk'!AL16,0)","v":0},{"$f":"IF('week 2 bk'!AJ16=\"LDT\",'week 2 bk'!AL16,0)","v":0},{"$f":"IF('week 2 bk'!AJ16=\"LET\",'week 2 bk'!AL16,0)","v":0},{"$f":"IF('week 2 bk'!AJ16=\"LPT\",'week 2 bk'!AL16,0)","v":0},{"$f":"IF('week 2 bk'!AJ16=\"MLT\",'week 2 bk'!AL16,0)","v":0},{"$f":"IF('week 2 bk'!AJ16=\"OHT\",'week 2 bk'!AL16,0)","v":0},{"$f":"IF('week 2 bk'!AJ16=\"OTT\",'week 2 bk'!AL16,0)","v":0},{"$f":"IF('week 2 bk'!AJ16=\"RCT\",'week 2 bk'!AL16,0)","v":0},{"$f":"IF('week 2 bk'!AJ16=\"SAT\",'week 2 bk'!AL16,0)","v":0},{"$f":"IF('week 2 bk'!AJ16=\"SET\",'week 2 bk'!AL16,0)","v":0},{"$f":"IF('week 2 bk'!AJ16=\"SLT\",'week 2 bk'!AL16,0)","v":0},{"$f":"IF('week 2 bk'!AJ16=\"VCT\",'week 2 bk'!AL16,0)","v":0}]
[7,{"$f":"IF('week 2 bk'!AJ19=\"ALT\",'week 2 bk'!AL19,0)","v":0},{"$f":"IF('week 2 bk'!AJ19=\"CAT\",'week 2 bk'!AL19,0)","v":0},{"$f":"IF('week 2 bk'!AJ19=\"CDT\",'week 2 bk'!AL19,0)","v":0},{"$f":"IF('week 2 bk'!AJ19=\"CTT\",'week 2 bk'!AL19,0)","v":0},{"$f":"IF('week 2 bk'!AJ19=\"DBT\",'week 2 bk'!AL19,0)","v":0},{"$f":"IF('week 2 bk'!AJ19=\"DOT\",'week 2 bk'!AL19,0)","v":0},{"$f":"IF('week 2 bk'!AJ19=\"DMT\",'week 2 bk'!AL19,0)","v":0},{"$f":"IF('week 2 bk'!AJ19=\"EMT\",'week 2 bk'!AL19,0)","v":0},{"$f":"IF('week 2 bk'!AJ19=\"EST\",'week 2 bk'!AL19,0)","v":0},{"$f":"IF('week 2 bk'!AJ19=\"FFT\",'week 2 bk'!AL19,0)","v":0},{"$f":"IF('week 2 bk'!AJ19=\"FPT\",'week 2 bk'!AL19,0)","v":0},{"$f":"IF('week 2 bk'!AJ17=\"HCT\",'week 2 bk'!AL17,0)","v":0},{"$f":"IF('week 2 bk'!AJ17=\"HOB\",'week 2 bk'!AL17,0)","v":0},{"$f":"IF('week 2 bk'!AJ17=\"JST\",'week 2 bk'!AL17,0)","v":0},{"$f":"IF('week 2 bk'!AJ17=\"LDT\",'week 2 bk'!AL17,0)","v":0},{"$f":"IF('week 2 bk'!AJ17=\"LET\",'week 2 bk'!AL17,0)","v":0},{"$f":"IF('week 2 bk'!AJ17=\"LPT\",'week 2 bk'!AL17,0)","v":0},{"$f":"IF('week 2 bk'!AJ17=\"MLT\",'week 2 bk'!AL17,0)","v":0},{"$f":"IF('week 2 bk'!AJ17=\"OHT\",'week 2 bk'!AL17,0)","v":0},{"$f":"IF('week 2 bk'!AJ17=\"OTT\",'week 2 bk'!AL17,0)","v":0},{"$f":"IF('week 2 bk'!AJ17=\"RCT\",'week 2 bk'!AL17,0)","v":0},{"$f":"IF('week 2 bk'!AJ17=\"SAT\",'week 2 bk'!AL17,0)","v":0},{"$f":"IF('week 2 bk'!AJ17=\"SET\",'week 2 bk'!AL17,0)","v":0},{"$f":"IF('week 2 bk'!AJ17=\"SLT\",'week 2 bk'!AL17,0)","v":0},{"$f":"IF('week 2 bk'!AJ17=\"VCT\",'week 2 bk'!AL17,0)","v":0}]
[8,{"$f":"IF('week 2 bk'!AJ20=\"ALT\",'week 2 bk'!AL20,0)","v":0},{"$f":"IF('week 2 bk'!AJ20=\"CAT\",'week 2 bk'!AL20,0)","v":0},{"$f":"IF('week 2 bk'!AJ20=\"CDT\",'week 2 bk'!AL20,0)","v":0},{"$f":"IF('week 2 bk'!AJ20=\"CTT\",'week 2 bk'!AL20,0)","v":0},{"$f":"IF('week 2 bk'!AJ20=\"DBT\",'week 2 bk'!AL20,0)","v":0},{"$f":"IF('week 2 bk'!AJ20=\"DOT\",'week 2 bk'!AL20,0)","v":0},{"$f":"IF('week 2 bk'!AJ20=\"DMT\",'week 2 bk'!AL20,0)","v":0},{"$f":"IF('week 2 bk'!AJ20=\"EMT\",'week 2 bk'!AL20,0)","v":0},{"$f":"IF('week 2 bk'!AJ20=\"EST\",'week 2 bk'!AL20,0)","v":0},{"$f":"IF('week 2 bk'!AJ20=\"FFT\",'week 2 bk'!AL20,0)","v":0},{"$f":"IF('week 2 bk'!AJ20=\"FPT\",'week 2 bk'!AL20,0)","v":0},{"$f":"IF('week 2 bk'!AJ18=\"HCT\",'week 2 bk'!AL18,0)","v":0},{"$f":"IF('week 2 bk'!AJ18=\"HOB\",'week 2 bk'!AL18,0)","v":0},{"$f":"IF('week 2 bk'!AJ18=\"JST\",'week 2 bk'!AL18,0)","v":0},{"$f":"IF('week 2 bk'!AJ18=\"LDT\",'week 2 bk'!AL18,0)","v":0},{"$f":"IF('week 2 bk'!AJ18=\"LET\",'week 2 bk'!AL18,0)","v":0},{"$f":"IF('week 2 bk'!AJ18=\"LPT\",'week 2 bk'!AL18,0)","v":0},{"$f":"IF('week 2 bk'!AJ18=\"MLT\",'week 2 bk'!AL18,0)","v":0},{"$f":"IF('week 2 bk'!AJ18=\"OHT\",'week 2 bk'!AL18,0)","v":0},{"$f":"IF('week 2 bk'!AJ18=\"OTT\",'week 2 bk'!AL18,0)","v":0},{"$f":"IF('week 2 bk'!AJ18=\"RCT\",'week 2 bk'!AL18,0)","v":0},{"$f":"IF('week 2 bk'!AJ18=\"SAT\",'week 2 bk'!AL18,0)","v":0},{"$f":"IF('week 2 bk'!AJ18=\"SET\",'week 2 bk'!AL18,0)","v":0},{"$f":"IF('week 2 bk'!AJ18=\"SLT\",'week 2 bk'!AL18,0)","v":0},{"$f":"IF('week 2 bk'!AJ18=\"VCT\",'week 2 bk'!AL18,0)","v":0}]
[9,{"$f":"IF('week 2 bk'!AJ21=\"ALT\",'week 2 bk'!AL21,0)","v":0},{"$f":"IF('week 2 bk'!AJ21=\"CAT\",'week 2 bk'!AL21,0)","v":0},{"$f":"IF('week 2 bk'!AJ21=\"CDT\",'week 2 bk'!AL21,0)","v":0},{"$f":"IF('week 2 bk'!AJ21=\"CTT\",'week 2 bk'!AL21,0)","v":0},{"$f":"IF('week 2 bk'!AJ21=\"DBT\",'week 2 bk'!AL21,0)","v":0},{"$f":"IF('week 2 bk'!AJ21=\"DOT\",'week 2 bk'!AL21,0)","v":0},{"$f":"IF('week 2 bk'!AJ21=\"DMT\",'week 2 bk'!AL21,0)","v":0},{"$f":"IF('week 2 bk'!AJ21=\"EMT\",'week 2 bk'!AL21,0)","v":0},{"$f":"IF('week 2 bk'!AJ21=\"EST\",'week 2 bk'!AL21,0)","v":0},{"$f":"IF('week 2 bk'!AJ21=\"FFT\",'week 2 bk'!AL21,0)","v":0},{"$f":"IF('week 2 bk'!AJ21=\"FPT\",'week 2 bk'!AL21,0)","v":0},{"$f":"IF('week 2 bk'!AJ19=\"HCT\",'week 2 bk'!AL19,0)","v":0},{"$f":"IF('week 2 bk'!AJ19=\"HOB\",'week 2 bk'!AL19,0)","v":0},{"$f":"IF('week 2 bk'!AJ19=\"JST\",'week 2 bk'!AL19,0)","v":0},{"$f":"IF('week 2 bk'!AJ19=\"LDT\",'week 2 bk'!AL19,0)","v":0},{"$f":"IF('week 2 bk'!AJ19=\"LET\",'week 2 bk'!AL19,0)","v":0},{"$f":"IF('week 2 bk'!AJ19=\"LPT\",'week 2 bk'!AL19,0)","v":0},{"$f":"IF('week 2 bk'!AJ19=\"MLT\",'week 2 bk'!AL19,0)","v":0},{"$f":"IF('week 2 bk'!AJ19=\"OHT\",'week 2 bk'!AL19,0)","v":0},{"$f":"IF('week 2 bk'!AJ19=\"OTT\",'week 2 bk'!AL19,0)","v":0},{"$f":"IF('week 2 bk'!AJ19=\"RCT\",'week 2 bk'!AL19,0)","v":0},{"$f":"IF('week 2 bk'!AJ19=\"SAT\",'week 2 bk'!AL19,0)","v":0},{"$f":"IF('week 2 bk'!AJ19=\"SET\",'week 2 bk'!AL19,0)","v":0},{"$f":"IF('week 2 bk'!AJ19=\"SLT\",'week 2 bk'!AL19,0)","v":0},{"$f":"IF('week 2 bk'!AJ19=\"VCT\",'week 2 bk'!AL19,0)","v":0}]
[10,{"$f":"IF('week 2 bk'!AJ22=\"ALT\",'week 2 bk'!AL22,0)","v":0},{"$f":"IF('week 2 bk'!AJ22=\"CAT\",'week 2 bk'!AL22,0)","v":0},{"$f":"IF('week 2 bk'!AJ22=\"CDT\",'week 2 bk'!AL22,0)","v":0},{"$f":"IF('week 2 bk'!AJ22=\"CTT\",'week 2 bk'!AL22,0)","v":0},{"$f":"IF('week 2 bk'!AJ22=\"DBT\",'week 2 bk'!AL22,0)","v":0},{"$f":"IF('week 2 bk'!AJ22=\"DOT\",'week 2 bk'!AL22,0)","v":0},{"$f":"IF('week 2 bk'!AJ22=\"DMT\",'week 2 bk'!AL22,0)","v":0},{"$f":"IF('week 2 bk'!AJ22=\"EMT\",'week 2 bk'!AL22,0)","v":0},{"$f":"IF('week 2 bk'!AJ22=\"EST\",'week 2 bk'!AL22,0)","v":0},{"$f":"IF('week 2 bk'!AJ22=\"FFT\",'week 2 bk'!AL22,0)","v":0},{"$f":"IF('week 2 bk'!AJ22=\"FPT\",'week 2 bk'!AL22,0)","v":0},{"$f":"IF('week 2 bk'!AJ20=\"HCT\",'week 2 bk'!AL20,0)","v":0},{"$f":"IF('week 2 bk'!AJ20=\"HOB\",'week 2 bk'!AL20,0)","v":0},{"$f":"IF('week 2 bk'!AJ20=\"JST\",'week 2 bk'!AL20,0)","v":0},{"$f":"IF('week 2 bk'!AJ20=\"LDT\",'week 2 bk'!AL20,0)","v":0},{"$f":"IF('week 2 bk'!AJ20=\"LET\",'week 2 bk'!AL20,0)","v":0},{"$f":"IF('week 2 bk'!AJ20=\"LPT\",'week 2 bk'!AL20,0)","v":0},{"$f":"IF('week 2 bk'!AJ20=\"MLT\",'week 2 bk'!AL20,0)","v":0},{"$f":"IF('week 2 bk'!AJ20=\"OHT\",'week 2 bk'!AL20,0)","v":0},{"$f":"IF('week 2 bk'!AJ20=\"OTT\",'week 2 bk'!AL20,0)","v":0},{"$f":"IF('week 2 bk'!AJ20=\"RCT\",'week 2 bk'!AL20,0)","v":0},{"$f":"IF('week 2 bk'!AJ20=\"SAT\",'week 2 bk'!AL20,0)","v":0},{"$f":"IF('week 2 bk'!AJ20=\"SET\",'week 2 bk'!AL20,0)","v":0},{"$f":"IF('week 2 bk'!AJ20=\"SLT\",'week 2 bk'!AL20,0)","v":0},{"$f":"IF('week 2 bk'!AJ20=\"VCT\",'week 2 bk'!AL20,0)","v":0}]
[11,{"$f":"IF('week 2 bk'!AJ23=\"ALT\",'week 2 bk'!AL23,0)","v":0},{"$f":"IF('week 2 bk'!AJ23=\"CAT\",'week 2 bk'!AL23,0)","v":0},{"$f":"IF('week 2 bk'!AJ23=\"CDT\",'week 2 bk'!AL23,0)","v":0},{"$f":"IF('week 2 bk'!AJ23=\"CTT\",'week 2 bk'!AL23,0)","v":0},{"$f":"IF('week 2 bk'!AJ23=\"DBT\",'week 2 bk'!AL23,0)","v":0},{"$f":"IF('week 2 bk'!AJ23=\"DOT\",'week 2 bk'!AL23,0)","v":0},{"$f":"IF('week 2 bk'!AJ23=\"DMT\",'week 2 bk'!AL23,0)","v":0},{"$f":"IF('week 2 bk'!AJ23=\"EMT\",'week 2 bk'!AL23,0)","v":0},{"$f":"IF('week 2 bk'!AJ23=\"EST\",'week 2 bk'!AL23,0)","v":0},{"$f":"IF('week 2 bk'!AJ23=\"FFT\",'week 2 bk'!AL23,0)","v":0},{"$f":"IF('week 2 bk'!AJ23=\"FPT\",'week 2 bk'!AL23,0)","v":0},{"$f":"IF('week 2 bk'!AJ21=\"HCT\",'week 2 bk'!AL21,0)","v":0},{"$f":"IF('week 2 bk'!AJ21=\"HOB\",'week 2 bk'!AL21,0)","v":0},{"$f":"IF('week 2 bk'!AJ21=\"JST\",'week 2 bk'!AL21,0)","v":0},{"$f":"IF('week 2 bk'!AJ21=\"LDT\",'week 2 bk'!AL21,0)","v":0},{"$f":"IF('week 2 bk'!AJ21=\"LET\",'week 2 bk'!AL21,0)","v":0},{"$f":"IF('week 2 bk'!AJ21=\"LPT\",'week 2 bk'!AL21,0)","v":0},{"$f":"IF('week 2 bk'!AJ21=\"MLT\",'week 2 bk'!AL21,0)","v":0},{"$f":"IF('week 2 bk'!AJ21=\"OHT\",'week 2 bk'!AL21,0)","v":0},{"$f":"IF('week 2 bk'!AJ21=\"OTT\",'week 2 bk'!AL21,0)","v":0},{"$f":"IF('week 2 bk'!AJ21=\"RCT\",'week 2 bk'!AL21,0)","v":0},{"$f":"IF('week 2 bk'!AJ21=\"SAT\",'week 2 bk'!AL21,0)","v":0},{"$f":"IF('week 2 bk'!AJ21=\"SET\",'week 2 bk'!AL21,0)","v":0},{"$f":"IF('week 2 bk'!AJ21=\"SLT\",'week 2 bk'!AL21,0)","v":0},{"$f":"IF('week 2 bk'!AJ21=\"VCT\",'week 2 bk'!AL21,0)","v":0}]
[12,{"$f":"IF('week 2 bk'!AJ24=\"ALT\",'week 2 bk'!AL24,0)","v":0},{"$f":"IF('week 2 bk'!AJ24=\"CAT\",'week 2 bk'!AL24,0)","v":0},{"$f":"IF('week 2 bk'!AJ24=\"CDT\",'week 2 bk'!AL24,0)","v":0},{"$f":"IF('week 2 bk'!AJ24=\"CTT\",'week 2 bk'!AL24,0)","v":0},{"$f":"IF('week 2 bk'!AJ24=\"DBT\",'week 2 bk'!AL24,0)","v":0},{"$f":"IF('week 2 bk'!AJ24=\"DOT\",'week 2 bk'!AL24,0)","v":0},{"$f":"IF('week 2 bk'!AJ24=\"DMT\",'week 2 bk'!AL24,0)","v":0},{"$f":"IF('week 2 bk'!AJ24=\"EMT\",'week 2 bk'!AL24,0)","v":0},{"$f":"IF('week 2 bk'!AJ24=\"EST\",'week 2 bk'!AL24,0)","v":0},{"$f":"IF('week 2 bk'!AJ24=\"FFT\",'week 2 bk'!AL24,0)","v":0},{"$f":"IF('week 2 bk'!AJ24=\"FPT\",'week 2 bk'!AL24,0)","v":0},{"$f":"IF('week 2 bk'!AJ22=\"HCT\",'week 2 bk'!AL22,0)","v":0},{"$f":"IF('week 2 bk'!AJ22=\"HOB\",'week 2 bk'!AL22,0)","v":0},{"$f":"IF('week 2 bk'!AJ22=\"JST\",'week 2 bk'!AL22,0)","v":0},{"$f":"IF('week 2 bk'!AJ22=\"LDT\",'week 2 bk'!AL22,0)","v":0},{"$f":"IF('week 2 bk'!AJ22=\"LET\",'week 2 bk'!AL22,0)","v":0},{"$f":"IF('week 2 bk'!AJ22=\"LPT\",'week 2 bk'!AL22,0)","v":0},{"$f":"IF('week 2 bk'!AJ22=\"MLT\",'week 2 bk'!AL22,0)","v":0},{"$f":"IF('week 2 bk'!AJ22=\"OHT\",'week 2 bk'!AL22,0)","v":0},{"$f":"IF('week 2 bk'!AJ22=\"OTT\",'week 2 bk'!AL22,0)","v":0},{"$f":"IF('week 2 bk'!AJ22=\"RCT\",'week 2 bk'!AL22,0)","v":0},{"$f":"IF('week 2 bk'!AJ22=\"SAT\",'week 2 bk'!AL22,0)","v":0},{"$f":"IF('week 2 bk'!AJ22=\"SET\",'week 2 bk'!AL22,0)","v":0},{"$f":"IF('week 2 bk'!AJ22=\"SLT\",'week 2 bk'!AL22,0)","v":0},{"$f":"IF('week 2 bk'!AJ22=\"VCT\",'week 2 bk'!AL22,0)","v":0}]
[13,{"$f":"IF('week 2 bk'!AJ25=\"ALT\",'week 2 bk'!AL25,0)","v":0},{"$f":"IF('week 2 bk'!AJ25=\"CAT\",'week 2 bk'!AL25,0)","v":0},{"$f":"IF('week 2 bk'!AJ25=\"CDT\",'week 2 bk'!AL25,0)","v":0},{"$f":"IF('week 2 bk'!AJ25=\"CTT\",'week 2 bk'!AL25,0)","v":0},{"$f":"IF('week 2 bk'!AJ25=\"DBT\",'week 2 bk'!AL25,0)","v":0},{"$f":"IF('week 2 bk'!AJ25=\"DOT\",'week 2 bk'!AL25,0)","v":0},{"$f":"IF('week 2 bk'!AJ25=\"DMT\",'week 2 bk'!AL25,0)","v":0},{"$f":"IF('week 2 bk'!AJ25=\"EMT\",'week 2 bk'!AL25,0)","v":0},{"$f":"IF('week 2 bk'!AJ25=\"EST\",'week 2 bk'!AL25,0)","v":0},{"$f":"IF('week 2 bk'!AJ25=\"FFT\",'week 2 bk'!AL25,0)","v":0},{"$f":"IF('week 2 bk'!AJ25=\"FPT\",'week 2 bk'!AL25,0)","v":0},{"$f":"IF('week 2 bk'!AJ23=\"HCT\",'week 2 bk'!AL23,0)","v":0},{"$f":"IF('week 2 bk'!AJ23=\"HOB\",'week 2 bk'!AL23,0)","v":0},{"$f":"IF('week 2 bk'!AJ23=\"JST\",'week 2 bk'!AL23,0)","v":0},{"$f":"IF('week 2 bk'!AJ23=\"LDT\",'week 2 bk'!AL23,0)","v":0},{"$f":"IF('week 2 bk'!AJ23=\"LET\",'week 2 bk'!AL23,0)","v":0},{"$f":"IF('week 2 bk'!AJ23=\"LPT\",'week 2 bk'!AL23,0)","v":0},{"$f":"IF('week 2 bk'!AJ23=\"MLT\",'week 2 bk'!AL23,0)","v":0},{"$f":"IF('week 2 bk'!AJ23=\"OHT\",'week 2 bk'!AL23,0)","v":0},{"$f":"IF('week 2 bk'!AJ23=\"OTT\",'week 2 bk'!AL23,0)","v":0},{"$f":"IF('week 2 bk'!AJ23=\"RCT\",'week 2 bk'!AL23,0)","v":0},{"$f":"IF('week 2 bk'!AJ23=\"SAT\",'week 2 bk'!AL23,0)","v":0},{"$f":"IF('week 2 bk'!AJ23=\"SET\",'week 2 bk'!AL23,0)","v":0},{"$f":"IF('week 2 bk'!AJ23=\"SLT\",'week 2 bk'!AL23,0)","v":0},{"$f":"IF('week 2 bk'!AJ23=\"VCT\",'week 2 bk'!AL23,0)","v":0}]
[14,{"$f":"IF('week 2 bk'!AJ26=\"ALT\",'week 2 bk'!AL26,0)","v":0},{"$f":"IF('week 2 bk'!AJ26=\"CAT\",'week 2 bk'!AL26,0)","v":0},{"$f":"IF('week 2 bk'!AJ26=\"CDT\",'week 2 bk'!AL26,0)","v":0},{"$f":"IF('week 2 bk'!AJ26=\"CTT\",'week 2 bk'!AL26,0)","v":0},{"$f":"IF('week 2 bk'!AJ26=\"DBT\",'week 2 bk'!AL26,0)","v":0},{"$f":"IF('week 2 bk'!AJ26=\"DOT\",'week 2 bk'!AL26,0)","v":0},{"$f":"IF('week 2 bk'!AJ26=\"DMT\",'week 2 bk'!AL26,0)","v":0},{"$f":"IF('week 2 bk'!AJ26=\"EMT\",'week 2 bk'!AL26,0)","v":0},{"$f":"IF('week 2 bk'!AJ26=\"EST\",'week 2 bk'!AL26,0)","v":0},{"$f":"IF('week 2 bk'!AJ26=\"FFT\",'week 2 bk'!AL26,0)","v":0},{"$f":"IF('week 2 bk'!AJ26=\"FPT\",'week 2 bk'!AL26,0)","v":0},{"$f":"IF('week 2 bk'!AJ24=\"HCT\",'week 2 bk'!AL24,0)","v":0},{"$f":"IF('week 2 bk'!AJ24=\"HOB\",'week 2 bk'!AL24,0)","v":0},{"$f":"IF('week 2 bk'!AJ24=\"JST\",'week 2 bk'!AL24,0)","v":0},{"$f":"IF('week 2 bk'!AJ24=\"LDT\",'week 2 bk'!AL24,0)","v":0},{"$f":"IF('week 2 bk'!AJ24=\"LET\",'week 2 bk'!AL24,0)","v":0},{"$f":"IF('week 2 bk'!AJ24=\"LPT\",'week 2 bk'!AL24,0)","v":0},{"$f":"IF('week 2 bk'!AJ24=\"MLT\",'week 2 bk'!AL24,0)","v":0},{"$f":"IF('week 2 bk'!AJ24=\"OHT\",'week 2 bk'!AL24,0)","v":0},{"$f":"IF('week 2 bk'!AJ24=\"OTT\",'week 2 bk'!AL24,0)","v":0},{"$f":"IF('week 2 bk'!AJ24=\"RCT\",'week 2 bk'!AL24,0)","v":0},{"$f":"IF('week 2 bk'!AJ24=\"SAT\",'week 2 bk'!AL24,0)","v":0},{"$f":"IF('week 2 bk'!AJ24=\"SET\",'week 2 bk'!AL24,0)","v":0},{"$f":"IF('week 2 bk'!AJ24=\"SLT\",'week 2 bk'!AL24,0)","v":0},{"$f":"IF('week 2 bk'!AJ24=\"VCT\",'week 2 bk'!AL24,0)","v":0}]
[null,null,null,null,null,null,null,null,null,null,null,null,{"$f":"IF('week 2 bk'!AJ25=\"HCT\",'week 2 bk'!AL25,0)","v":0},{"$f":"IF('week 2 bk'!AJ25=\"HOB\",'week 2 bk'!AL25,0)","v":0},{"$f":"IF('week 2 bk'!AJ25=\"JST\",'week 2 bk'!AL25,0)","v":0},{"$f":"IF('week 2 bk'!AJ25=\"LDT\",'week 2 bk'!AL25,0)","v":0},{"$f":"IF('week 2 bk'!AJ25=\"LET\",'week 2 bk'!AL25,0)","v":0},{"$f":"IF('week 2 bk'!AJ25=\"LPT\",'week 2 bk'!AL25,0)","v":0},{"$f":"IF('week 2 bk'!AJ25=\"MLT\",'week 2 bk'!AL25,0)","v":0},{"$f":"IF('week 2 bk'!AJ25=\"OHT\",'week 2 bk'!AL25,0)","v":0},{"$f":"IF('week 2 bk'!AJ25=\"OTT\",'week 2 bk'!AL25,0)","v":0},{"$f":"IF('week 2 bk'!AJ25=\"RCT\",'week 2 bk'!AL25,0)","v":0},{"$f":"IF('week 2 bk'!AJ25=\"SAT\",'week 2 bk'!AL25,0)","v":0},{"$f":"IF('week 2 bk'!AJ25=\"SET\",'week 2 bk'!AL25,0)","v":0},{"$f":"IF('week 2 bk'!AJ25=\"SLT\",'week 2 bk'!AL25,0)","v":0},{"$f":"IF('week 2 bk'!AJ25=\"VCT\",'week 2 bk'!AL25,0)","v":0}]
[null,null,null,null,null,null,null,null,null,null,null,null,{"$f":"IF('week 2 bk'!AJ26=\"HCT\",'week 2 bk'!AL26,0)","v":0},{"$f":"IF('week 2 bk'!AJ26=\"HOB\",'week 2 bk'!AL26,0)","v":0},{"$f":"IF('week 2 bk'!AJ26=\"JST\",'week 2 bk'!AL26,0)","v":0},{"$f":"IF('week 2 bk'!AJ26=\"LDT\",'week 2 bk'!AL26,0)","v":0},{"$f":"IF('week 2 bk'!AJ26=\"LET\",'week 2 bk'!AL26,0)","v":0},{"$f":"IF('week 2 bk'!AJ26=\"LPT\",'week 2 bk'!AL26,0)","v":0},{"$f":"IF('week 2 bk'!AJ26=\"MLT\",'week 2 bk'!AL26,0)","v":0},{"$f":"IF('week 2 bk'!AJ26=\"OHT\",'week 2 bk'!AL26,0)","v":0},{"$f":"IF('week 2 bk'!AJ26=\"OTT\",'week 2 bk'!AL26,0)","v":0},{"$f":"IF('week 2 bk'!AJ26=\"RCT\",'week 2 bk'!AL26,0)","v":0},{"$f":"IF('week 2 bk'!AJ26=\"SAT\",'week 2 bk'!AL26,0)","v":0},{"$f":"IF('week 2 bk'!AJ26=\"SET\",'week 2 bk'!AL26,0)","v":0},{"$f":"IF('week 2 bk'!AJ26=\"SLT\",'week 2 bk'!AL26,0)","v":0},{"$f":"IF('week 2 bk'!AJ26=\"VCT\",'week 2 bk'!AL26,0)","v":0}]
[null,null,null,null,null,null,null,null,null,null,null,null,null,null,null,null,null,null,null,null,null,null,null,null,null,null,{"$f":"IF('week 2 bk'!AN13=\"\",\"\",IF(AB78=FALSE,\"\",('week 2 bk'!AN13)))","v":""},{"$f":"SUMPRODUCT(--ISNUMBER(SEARCH(TakenRng,'week 2 bk'!AJ13)))>0","v":false},{"$f":"'week 2 bk'!AL13","v":0}]
[null,null,null,null,null,null,null,null,null,null,null,null,null,null,null,null,null,null,null,null,null,null,null,null,null,null,{"$f":"IF('week 2 bk'!AN14=\"\",\"\",IF(AB79=FALSE,\"\",('week 2 bk'!AN14)))","v":""},{"$f":"SUMPRODUCT(--ISNUMBER(SEARCH(TakenRng,'week 2 bk'!AJ14)))>0","v":false},{"$f":"'week 2 bk'!AL14","v":0}]
[null,null,null,null,null,null,null,null,null,null,null,null,null,null,null,null,null,null,null,null,null,null,null,null,null,null,{"$f":"IF('week 2 bk'!AN15=\"\",\"\",IF(AB80=FALSE,\"\",('week 2 bk'!AN15)))","v":""},{"$f":"SUMPRODUCT(--ISNUMBER(SEARCH(TakenRng,'week 2 bk'!AJ15)))>0","v":false},{"$f":"'week 2 bk'!AL15","v":0}]
[null,null,null,null,null,null,null,null,null,null,null,null,null,null,null,null,null,null,null,null,null,null,null,null,null,null,{"$f":"IF('week 2 bk'!AN16=\"\",\"\",IF(AB81=FALSE,\"\",('week 2 bk'!AN16)))","v":""},{"$f":"SUMPRODUCT(--ISNUMBER(SEARCH(TakenRng,'week 2 bk'!AJ16)))>0","v":false},{"$f":"'week 2 bk'!AL16","v":0}]
[null,null,null,null,null,null,null,null,null,null,null,null,null,null,null,null,null,null,null,null,null,null,null,null,null,null,{"$f":"IF('week 2 bk'!AN17=\"\",\"\",IF(AB82=FALSE,\"\",('week 2 bk'!AN17)))","v":""},{"$f":"SUMPRODUCT(--ISNUMBER(SEARCH(TakenRng,'week 2 bk'!AJ17)))>0","v":false},{"$f":"'week 2 bk'!AL17","v":0}]
[null,null,null,null,null,null,null,null,null,null,null,null,null,null,null,null,null,null,null,null,null,null,null,null,null,null,{"$f":"IF('week 2 bk'!AN18=\"\",\"\",IF(AB83=FALSE,\"\",('week 2 bk'!AN18)))","v":""},{"$f":"SUMPRODUCT(--ISNUMBER(SEARCH(TakenRng,'week 2 bk'!AJ18)))>0","v":false},{"$f":"'week 2 bk'!AL18","v":0}]
[null,null,null,null,null,null,null,null,null,null,null,null,null,null,null,null,null,null,null,null,null,null,null,null,null,null,{"$f":"IF('week 2 bk'!AN19=\"\",\"\",IF(AB84=FALSE,\"\",('week 2 bk'!AN19)))","v":""},{"$f":"SUMPRODUCT(--ISNUMBER(SEARCH(TakenRng,'week 2 bk'!AJ19)))>0","v":false},{"$f":"'week 2 bk'!AL19","v":0}]
[null,null,null,null,null,null,null,null,null,null,null,null,null,null,null,null,null,null,null,null,null,null,null,null,null,null,{"$f":"IF('week 2 bk'!AN20=\"\",\"\",IF(AB85=FALSE,\"\",('week 2 bk'!AN20)))","v":""},{"$f":"SUMPRODUCT(--ISNUMBER(SEARCH(TakenRng,'week 2 bk'!AJ20)))>0","v":false},{"$f":"'week 2 bk'!AL20","v":0}]
[null,null,null,null,null,null,null,null,null,null,null,null,null,null,null,null,null,null,null,null,null,null,null,null,null,null,{"$f":"IF('week 2 bk'!AN21=\"\",\"\",IF(AB86=FALSE,\"\",('week 2 bk'!AN21)))","v":""},{"$f":"SUMPRODUCT(--ISNUMBER(SEARCH(TakenRng,'week 2 bk'!AJ21)))>0","v":false},{"$f":"'week 2 bk'!AL21","v":0}]
[null,null,null,null,null,null,null,null,null,null,null,null,null,null,null,null,null,null,null,null,null,null,null,null,null,null,{"$f":"IF('week 2 bk'!AN22=\"\",\"\",IF(AB87=FALSE,\"\",('week 2 bk'!AN22)))","v":""},{"$f":"SUMPRODUCT(--ISNUMBER(SEARCH(TakenRng,'week 2 bk'!AJ22)))>0","v":false},{"$f":"'week 2 bk'!AL22","v":0}]
[null,null,null,null,null,null,null,null,null,null,null,null,null,null,null,null,null,null,null,null,null,null,null,null,null,null,{"$f":"IF('week 2 bk'!AN23=\"\",\"\",IF(AB88=FALSE,\"\",('week 2 bk'!AN23)))","v":""},{"$f":"SUMPRODUCT(--ISNUMBER(SEARCH(TakenRng,'week 2 bk'!AJ23)))>0","v":false},{"$f":"'week 2 bk'!AL23","v":0}]
[null,null,null,null,null,null,null,null,null,null,null,null,null,null,null,null,null,null,null,null,null,null,null,null,null,null,{"$f":"IF('week 2 bk'!AN24=\"\",\"\",IF(AB89=FALSE,\"\",('week 2 bk'!AN24)))","v":""},{"$f":"SUMPRODUCT(--ISNUMBER(SEARCH(TakenRng,'week 2 bk'!AJ24)))>0","v":false},{"$f":"'week 2 bk'!AL24","v":0}]
[null,null,null,null,null,null,null,null,null,null,null,null,null,null,null,null,null,null,null,null,null,null,null,null,null,null,{"$f":"IF('week 2 bk'!AN25=\"\",\"\",IF(AB90=FALSE,\"\",('week 2 bk'!AN25)))","v":""},{"$f":"SUMPRODUCT(--ISNUMBER(SEARCH(TakenRng,'week 2 bk'!AJ25)))>0","v":false},{"$f":"'week 2 bk'!AL25","v":0}]
[null,null,null,null,null,null,null,null,null,null,null,null,null,null,null,null,null,null,null,null,null,null,null,null,null,null,{"$f":"IF('week 2 bk'!AN26=\"\",\"\",IF(AB91=FALSE,\"\",('week 2 bk'!AN26)))","v":""},{"$f":"SUMPRODUCT(--ISNUMBER(SEARCH(TakenRng,'week 2 bk'!AJ26)))>0","v":false},{"$f":"'week 2 bk'!AL26","v":0}]
[]
[null,null,null,null,null,null,null,null,null,null,null,null,null,null,null,null,null,null,null,null,null,null,null,null,null,null,"Date","TT","TT1","TT2"]
[null,null,null,null,null,null,null,null,null,null,null,null,null,null,null,null,null,null,null,null,null,null,null,null,null,null,{"$f":"AQ11","v":"2019-09-08"},{"$f":"IF((SUMPRODUCT(--((ISNUMBER(SEARCH(AA94,AA$78:AA$91)))),AC$78:AC$91)) > 0,\"Y\",\"N\")","v":"N"},{"$f":"SUMPRODUCT(--((ISNUMBER(SEARCH(AA94,AA$78:AA$91)))),AC$78:AC$91)","v":0},{"$f":"IF(O11=\"\",AU11,IF(OR(O11<8,O11=8),(IF(AB94=\"Y\",8-O11,IF(AB94=\"Y\",8,0)))-IF(OR(O11=8,O11<8),0,O11),IF(O11>8,0,(IF(AB94=\"Y\",AB94,0)))))","v":0}]
[null,null,null,null,null,null,null,null,null,null,null,null,null,null,null,null,null,null,null,null,null,null,null,null,null,null,{"$f":"AQ12","v":"2019-09-09"},{"$f":"IF((SUMPRODUCT(--((ISNUMBER(SEARCH(AA95,AA$78:AA$91)))),AC$78:AC$91)) > 0,\"Y\",\"N\")","v":"N"},{"$f":"SUMPRODUCT(--((ISNUMBER(SEARCH(AA95,AA$78:AA$91)))),AC$78:AC$91)","v":0},{"$f":"IF(O12=\"\",AU12,IF(OR(O12<8,O12=8),(IF(AB95=\"Y\",8-O12,IF(AB95=\"Y\",8,0)))-IF(OR(O12=8,O12<8),0,O12),IF(O12>8,0,(IF(AB95=\"Y\",AB95,0)))))","v":0}]
[null,null,null,null,null,null,null,null,null,null,null,null,null,null,null,null,null,null,null,null,null,null,null,null,null,null,"2019-09-10","N",0,0]
[null,null,null,null,null,null,null,null,null,null,null,null,null,null,null,null,null,null,null,null,null,null,null,null,null,null,"2019-09-11","N",0,0]
[null,null,null,null,null,null,null,null,null,null,null,null,null,null,null,null,null,null,null,null,null,null,null,null,null,null,"2019-09-12","N",0,0]
["DAY OF WEEK","TTL HRS MINUS TIME OFF IN TIME FORMAT","TTL HRS CONVERTED TO DECIMALS","SUM REGULAR DAY & NIGHT ","SUM STEP DAY & NIGHT ","SUM REG & STEP TTLS","DAY/NIGHT COMPARED TO TTL HRS","TTL DIST OF DUTY TIME","DIST HRS COMPARED TO TTL HRS","IF TIME BEGIN MINUS TIME ENDED =< 24 HRS","24 HRS OF DUTY","MORE THAN 24 HR SPAN IN A DAY",null,null,null,null,null,null,null,null,null,null,null,null,null,null,"2019-09-13","N",0,0]
["SUN",{"$f":"IF(F11<D11,(24-D11)+F11,F11-D11)","v":0},{"$f":"IF(OR(D11=\"\",F11=\"\"),0,IF(D11=F11,J100,IF((VALUE(HOUR(B100))+VALUE(MINUTE(B100))/60)-H11=0,0,(VALUE(HOUR(B100))+VALUE(MINUTE(B100))/60)-H11)))","v":0},{"$f":"SUM(I11:J11)","v":0},{"$f":"SUM(L11:M11)","v":0},{"$f":"SUM(K11,N11)","v":0},{"$f":"IF(C100=F100,0,1)","v":0},{"$f":"IF(SUM(P11:Y11,AE11:AI11)=0,\"\",SUM(P11:Y11,AE11:AI11))","v":""},{"$f":"IF(C100=H100,0,1)","v":1},{"$f":"IF(D11=F11,K100-H11,C100)","v":24},{"$f":"(B100+24)","v":24},{"$f":"IF(AND(D11<>\"\",F11<>\"\",K100>24),1,0)","v":0},null,null,null,null,null,null,null,null,null,null,null,null,null,null,"2019-09-14","N",0,0]
["MON",0,0,0,0,0,0,"",1,24,24,0,null,"TIME ACCRUED/TAKEN CONVERSION & VALIDATION"]
["TUES",0,0,0,0,0,0,"",1,24,24,0,null,{"$f":"VALUE(AE47)*24","v":0},{"$f":"CODE(N102)","v":48},{"$f":"IF(AE47=\"\",1,CODE(AE47))","v":1},{"$f":"IF(O102=P102,0,1)","v":1},{"$f":"IF(O102-P102=0,0,1)","v":1},{"$f":"SUM(Q102:R102)","v":2},null,null,null,null,null,null,null,"TT1","Time Taken entered on weekly"]
["WED",0,0,0,0,0,0,"",1,24,24,0,null,{"$f":"VALUE(AE48)*24","v":0},{"$f":"CODE(N103)","v":48},{"$f":"IF(AE48=\"\",1,CODE(AE48))","v":1},{"$f":"IF(O103=P103,0,1)","v":1},{"$f":"IF(O103-P103=0,0,1)","v":1},{"$f":"SUM(Q103:R103)","v":2},null,null,null,null,null,null,null,"TT2","Caculated Time Taken (based upon duty time entry)"]
["THU",0,0,0,0,0,0,"",1,24,24,0,null,{"$f":"VALUE(AE49)*24","v":0},{"$f":"CODE(N104)","v":48},{"$f":"IF(AE49=\"\",1,CODE(AE49))","v":1},{"$f":"IF(O104=P104,0,1)","v":1},{"$f":"IF(O104-P104=0,0,1)","v":1},{"$f":"SUM(Q104:R104)","v":2}]
["FRI",0,0,0,0,0,0,"",1,24,24,0,null,{"$f":"VALUE(AE50)*24","v":0},{"$f":"CODE(N105)","v":48},{"$f":"IF(AE50=\"\",1,CODE(AE50))","v":1},{"$f":"IF(O105=P105,0,1)","v":1},{"$f":"IF(O105-P105=0,0,1)","v":1},{"$f":"SUM(Q105:R105)","v":2}]
["SAT",0,0,0,0,0,0,"",1,24,24,0]
[null,"SUM",{"$f":"SUM(C100:C106)","v":0},{"$f":"A87","v":0},{"$f":"IF(B87>999, \"0.0\", B87)","v":0},{"$f":"SUM(F100:F106)","v":0},{"$f":"SUM(G100:G106)","v":0},{"$f":"SUM(H100:H106)","v":0},{"$f":"SUM(I100:I106)","v":7}]
[null,null,{"$f":"MIN(C100:C106)","v":0},{"$f":"SUM(D100:D106)-D107+E151","v":0},{"$f":"SUM(E100:E106)","v":0}]
[]
[]
[]
[]
[]
[]
[]
[]
[null,null,null,null,null,null,null,null,null,null,null,null,null,null,null,null,null,null,null,null,null,null,null,null,null,null,null,null,null,null,null,null,null,null,null,null,null,null,null,null,null,null,null,null,null,null,null,null,null,null,null,null,null,null,null,null,null,null,null,"Big$Mac"]
[]
[]
[]
[]
[]
[]
[]
[]
[]
[]
[null,null,null,null,null,null,null,null,null,null,null,null,null,null,null,null,null,null,null,null,null,null,null,null,null,null,null,null,null,null,null,null,null,null,null,null,null,null,"LIST OF ACCEPTABLE CODES"]
[]
[null,null,null,null,null,null,null,null,null,null,null,null,null,null,null,null,null,null,null,null,null,null,null,null,null,null,null,null,null,null,null,null,null,null,null,null,null,null,"ALT"]
[null,null,null,null,null,null,null,null,null,null,null,null,null,null,null,null,null,null,null,null,null,null,null,null,null,null,null,null,null,null,null,null,null,null,null,null,null,null,"CAT"]
[null,null,null,null,null,null,null,null,null,null,null,null,null,null,null,null,null,null,null,null,null,null,null,null,null,null,null,null,"NO MILES OVER 1000/DAY OR ON R1 DAYS",null,null,null,null,null,null,null,null,null,"CDE"]
[null,null,null,null,null,null,null,null,null,null,null,null,null,null,null,null,null,null,null,null,null,null,null,null,null,null,null,null,{"$f":"IF(AND(E202=\"R1,R2\",Z11<>\"\"),0)","v":false},{"$f":"IF(Z11>1000,1,0)","v":0},{"$f":"SUM(AC133:AD133)","v":0},null,null,null,null,null,null,null,"CDT"]
[null,null,null,null,null,null,null,null,null,null,null,null,null,null,null,null,null,null,null,null,null,null,null,null,null,null,null,null,{"$f":"IF(AND(E203=\"R1\",Z12<>\"\"),0)","v":false},0,0,null,null,null,null,null,null,null,"CTE"]
[null,null,null,null,null,null,null,null,null,null,null,null,null,null,null,null,null,null,null,null,null,null,null,null,null,null,null,null,false,0,0,null,null,null,null,null,null,null,"CTT"]
[null,null,null,null,null,null,null,null,null,null,null,null,null,null,null,null,null,null,null,null,null,null,null,null,null,null,null,null,false,0,0,null,null,null,null,null,null,null,"DBT"]
[null,null,null,null,null,null,null,null,null,null,null,null,null,null,null,null,null,null,null,null,null,null,null,null,null,null,null,null,false,0,0,null,null,null,null,null,null,null,"DOT"]
[null,null,null,null,null,null,null,null,null,null,null,null,null,null,null,null,null,null,null,null,null,null,null,null,null,null,null,null,false,0,0,null,null,null,null,null,null,null,"DMT"]
[null,null,null,null,null,null,null,null,null,null,null,null,null,null,null,null,null,null,null,null,null,null,null,null,null,null,null,null,false,0,0,null,null,null,null,null,null,null,"EMT"]
[null,null,null,null,null,null,null,null,null,null,null,null,null,null,null,null,null,null,null,null,null,null,null,null,null,null,null,null,null,null,null,null,null,null,null,null,null,null,"EST"]
[null,null,null,null,null,null,null,null,null,null,null,null,null,null,null,null,null,null,null,null,null,null,null,null,null,null,null,null,null,null,null,null,null,null,null,null,null,null,"FFT"]
[null,null,null,null,null,null,null,null,null,null,null,null,null,null,null,null,null,null,null,null,null,null,null,null,null,null,null,null,null,null,null,null,null,null,null,null,null,null,"FPT"]
[null,null,null,null,null,null,null,null,null,null,null,null,null,null,null,null,null,null,null,null,null,null,null,null,null,null,null,null,null,null,null,null,null,null,null,null,null,null,"HCE"]
[null,null,null,null,null,null,null,null,null,null,null,null,null,null,null,null,null,null,null,null,null,null,null,null,null,null,null,null,null,null,null,null,null,null,null,null,null,null,"HCT"]
[null,null,null,null,null,null,null,null,null,null,null,null,null,null,null,null,null,null,null,null,null,null,null,null,null,null,null,null,null,null,null,null,null,null,null,null,null,null,"HOB"]
[null,null,null,null,null,null,null,null,null,null,null,null,null,null,null,null,null,null,null,null,null,null,null,null,null,null,null,null,null,null,null,null,null,null,null,null,null,null,"JST"]
[null,null,null,null,null,null,null,null,null,null,null,null,null,null,null,null,null,null,null,null,null,null,null,null,null,null,null,null,null,null,null,null,null,null,null,null,null,null,"LDT"]
[null,null,null,null,null,null,null,null,null,null,null,null,null,null,null,null,null,null,null,null,null,null,null,null,null,null,null,null,null,null,null,null,null,null,null,null,null,null,"LET"]
[null,null,null,null,null,null,null,null,null,null,null,null,null,null,null,null,null,null,null,null,null,null,null,null,null,null,null,null,null,null,null,null,null,null,null,null,null,null,"LPA"]
[null,null,null,null,null,null,null,null,null,null,null,null,null,null,null,null,null,null,null,null,null,null,null,null,null,null,null,null,null,null,null,null,null,null,null,null,null,null,"LPT"]
[null,null,null,null,null,null,null,null,null,null,null,null,null,null,null,null,null,null,null,null,null,null,null,null,null,null,null,null,null,null,null,null,null,null,null,null,null,null,"LWT"]
[null,null,null,null,null,null,null,null,null,null,null,null,null,null,null,null,null,null,null,null,null,null,null,null,null,null,null,null,null,null,null,null,null,null,null,null,null,null,"MLT"]
[null,null,null,null,null,null,null,null,null,null,null,null,null,null,null,null,null,null,null,null,null,null,null,null,null,null,null,null,null,null,null,null,null,null,null,null,null,null,"OHE"]
[null,null,null,null,null,null,null,null,null,null,null,null,null,null,null,null,null,null,null,null,null,null,null,null,null,null,null,null,null,null,null,null,null,null,null,null,null,null,"OHT"]
[null,null,null,null,null,null,null,null,null,null,null,null,null,null,null,null,null,null,null,null,null,null,null,null,null,null,null,null,null,null,null,null,null,null,null,null,null,null,"OTE"]
[null,null,null,null,null,null,null,null,null,null,null,null,null,null,null,null,null,null,null,null,null,null,null,null,null,null,null,null,null,null,null,null,null,null,null,null,null,null,"OTP"]
[null,null,null,null,null,null,null,null,null,null,null,null,null,null,null,null,null,null,null,null,null,null,null,null,null,null,null,null,null,null,null,null,null,null,null,null,null,null,"OTT"]
[null,null,null,null,null,null,null,null,null,null,null,null,null,null,null,null,null,null,null,null,null,null,null,null,null,null,null,null,null,null,null,null,null,null,null,null,null,null,"RCT"]
[null,null,null,null,null,null,null,null,null,null,null,null,null,null,null,null,null,null,null,null,null,null,null,null,null,null,null,null,null,null,null,null,null,null,null,null,null,null,"SAT"]
[null,null,null,null,null,null,null,null,null,null,null,null,null,null,null,null,null,null,null,null,null,null,null,null,null,null,null,null,null,null,null,null,null,null,null,null,null,null,"SET"]
[null,null,null,null,null,null,null,null,null,null,null,null,null,null,null,null,null,null,null,null,null,null,null,null,null,null,null,null,null,null,null,null,null,null,null,null,null,null,"SLT"]
[null,null,null,null,null,null,null,null,null,null,null,null,null,null,null,null,null,null,null,null,null,null,null,null,null,null,null,null,null,null,null,null,null,null,null,null,null,null,"VCT"]
[]
[]
[]
[]
[]
[]
[]
[]
[]
[null,null,null,null,null,null,null,null,null,null,null,null,null,null,null,null,null,null,null,null,null,null,null,null,null,null,null,null,"Hours Worked"]
[null,null,null,null,null,null,null,null,null,null,null,null,null,null,null,null,null,null,null,null,null,null,null,null,null,null,null,null,0.25]
[null,null,null,null,null,null,null,null,null,null,null,null,null,null,null,null,null,null,null,null,null,null,null,null,null,null,null,null,0.5]
[null,null,null,null,null,null,null,null,null,null,null,null,null,null,null,null,null,null,null,null,null,null,null,null,null,null,null,null,0.75]
[null,null,null,null,null,null,null,null,null,null,null,null,null,null,null,null,null,null,null,null,null,null,null,null,null,null,null,null,1]
[null,null,null,null,null,null,null,null,null,null,null,null,null,null,null,null,null,null,null,null,null,null,null,null,null,null,null,null,1.25]
[null,null,null,null,null,null,null,null,null,null,null,null,null,null,null,null,null,null,null,null,null,null,null,null,null,null,null,null,1.5]
[null,null,null,null,null,null,null,null,null,null,null,null,null,null,null,null,null,null,null,null,null,null,null,null,null,null,null,null,1.75]
[null,null,null,null,null,null,null,null,null,null,null,null,null,null,null,null,null,null,null,null,null,null,null,null,null,null,null,null,2]
[null,null,null,null,null,null,null,null,null,null,null,null,null,null,null,null,null,null,null,null,null,null,null,null,null,null,null,null,2.25]
[null,null,null,null,null,null,null,null,null,null,null,null,null,null,null,null,null,null,null,null,null,null,null,null,null,null,null,null,2.5]
[null,null,null,null,null,null,null,null,null,null,null,null,null,null,null,null,null,null,null,null,null,null,null,null,null,null,null,null,2.75]
[null,null,null,null,null,null,null,null,null,null,null,null,null,null,null,null,null,null,null,null,null,null,null,null,null,null,null,null,3]
[null,null,null,null,null,null,null,null,null,null,null,null,null,null,null,null,null,null,null,null,null,null,null,null,null,null,null,null,3.25]
[null,null,null,null,null,null,null,null,null,null,null,null,null,null,null,null,null,null,null,null,null,null,null,null,null,null,null,null,3.5]
[null,null,null,null,null,null,null,null,null,null,null,null,null,null,null,null,null,null,null,null,null,null,null,null,null,null,null,null,3.75]
[null,null,null,null,null,null,null,null,null,null,null,null,null,null,null,null,null,null,null,null,null,null,null,null,null,null,null,null,4]
[null,null,null,null,null,null,null,null,null,null,null,null,null,null,null,null,null,null,null,null,null,null,null,null,null,null,null,null,4.25]
[null,null,null,null,null,null,null,null,null,null,null,null,null,null,null,null,null,null,null,null,null,null,null,null,null,null,null,null,4.5]
[null,null,null,null,null,null,null,null,null,null,null,null,null,null,null,null,null,null,null,null,null,null,null,null,null,null,null,null,4.75]
[null,null,null,null,null,null,null,null,null,null,null,null,null,null,null,null,null,null,null,null,null,null,null,null,null,null,null,null,5]
[null,null,null,null,null,null,null,null,null,null,null,null,null,null,null,null,null,null,null,null,null,null,null,null,null,null,null,null,5.25]
[null,null,null,null,null,null,null,null,null,null,null,null,null,null,null,null,null,null,null,null,null,null,null,null,null,null,null,null,5.5]
[null,null,null,null,null,null,null,null,null,null,null,null,null,null,null,null,null,null,null,null,null,null,null,null,null,null,null,null,5.75]
[null,null,null,null,null,null,null,null,null,null,null,null,null,null,null,null,null,null,null,null,null,null,null,null,null,null,null,null,6]
[null,null,null,null,null,null,null,null,null,null,null,null,null,null,null,null,null,null,null,null,null,null,null,null,null,null,null,null,6.25]
[null,null,null,null,null,null,null,null,null,null,null,null,null,null,null,null,null,null,null,null,null,null,null,null,null,null,null,null,6.5]
[null,null,null,null,null,null,null,null,null,null,null,null,null,null,null,null,null,null,null,null,null,null,null,null,null,null,null,null,6.75]
[null,null,null,null,null,null,null,null,null,null,null,null,null,null,null,null,null,null,null,null,null,null,null,null,null,null,null,null,7]
[null,null,null,null,null,null,null,null,null,null,null,null,null,null,null,null,null,null,null,null,null,null,null,null,null,null,null,null,7.25]
[null,null,null,null,null,null,null,null,null,null,null,null,null,null,null,null,null,null,null,null,null,null,null,null,null,null,null,null,7.5]
[null,null,null,null,null,null,null,null,null,null,null,null,null,null,null,null,null,null,null,null,null,null,null,null,null,null,null,null,7.75]
[null,null,null,null,null,null,null,null,null,null,null,null,null,null,null,null,null,null,null,null,null,null,null,null,null,null,null,null,8]
[null,null,null,null,null,null,null,null,null,null,null,null,null,null,null,null,null,null,null,null,null,null,null,null,null,null,null,null,8.25]
[null,null,null,null,null,null,null,null,null,null,null,null,null,null,null,null,null,null,null,null,null,null,null,null,null,null,null,null,8.5]
[null,null,null,null,null,null,null,null,null,null,null,null,null,null,null,null,null,null,null,null,null,null,null,null,null,null,null,null,8.75]
[null,null,null,null,null,null,null,null,null,null,null,null,null,null,null,null,null,null,null,null,null,null,null,null,null,null,null,null,9]
[null,null,null,null,null,null,null,null,null,null,null,null,null,null,null,null,null,null,null,null,null,null,null,null,null,null,null,null,9.25]
[null,null,null,null,null,null,null,null,null,null,null,null,null,null,null,null,null,null,null,null,null,null,null,null,null,null,null,null,9.5]
[null,null,null,null,null,null,null,null,null,null,null,null,null,null,null,null,null,null,null,null,null,null,null,null,null,null,null,null,9.75]
[null,null,null,null,null,null,null,null,null,null,null,null,null,null,null,null,null,null,null,null,null,null,null,null,null,null,null,null,10]
[null,null,null,null,null,null,null,null,null,null,null,null,null,null,null,null,null,null,null,null,null,null,null,null,null,null,null,null,10.25]
[null,null,null,null,null,null,null,null,null,null,null,null,null,null,null,null,null,null,null,null,null,null,null,null,null,null,null,null,10.5]
[null,null,null,null,null,null,null,null,null,null,null,null,null,null,null,null,null,null,null,null,null,null,null,null,null,null,null,null,10.75]
[null,null,null,null,null,null,null,null,null,null,null,null,null,null,null,null,null,null,null,null,null,null,null,null,null,null,null,null,11]
[null,null,null,null,null,null,null,null,null,null,null,null,null,null,null,null,null,null,null,null,null,null,null,null,null,null,null,null,11.25]
[null,null,null,null,null,null,null,null,null,null,null,null,null,null,null,null,null,null,null,null,null,null,null,null,null,null,null,null,11.5]
[null,null,null,null,null,null,null,null,null,null,null,null,null,null,null,null,null,null,null,null,null,null,null,null,null,null,null,null,11.75]
[null,null,null,null,null,null,null,null,null,null,null,null,null,null,null,null,null,null,null,null,null,null,null,null,null,null,null,null,12]
[null,null,null,null,null,null,null,null,null,null,null,null,null,null,null,null,null,null,null,null,null,null,null,null,null,null,null,null,12.25]
[null,null,null,null,null,null,null,null,null,null,null,null,null,null,null,null,null,null,null,null,null,null,null,null,null,null,null,null,12.5]
[null,null,null,null,null,null,null,null,null,null,null,null,null,null,null,null,null,null,null,null,null,null,null,null,null,null,null,null,12.75]
[null,null,null,null,null,null,null,null,null,null,null,null,null,null,null,null,null,null,null,null,null,null,null,null,null,null,null,null,13]
[null,null,null,null,null,null,null,null,null,null,null,null,null,null,null,null,null,null,null,null,null,null,null,null,null,null,null,null,13.25]
[null,null,null,null,null,null,null,null,null,null,null,null,null,null,null,null,null,null,null,null,null,null,null,null,null,null,null,null,13.5]
[null,null,null,null,null,null,null,null,null,null,null,null,null,null,null,null,null,null,null,null,null,null,null,null,null,null,null,null,13.75]
[null,null,null,null,null,null,null,null,null,null,null,null,null,null,null,null,null,null,null,null,null,null,null,null,null,null,null,null,14]
[null,null,null,null,null,null,null,null,null,null,null,null,null,null,null,null,null,null,null,null,null,null,null,null,null,null,null,null,14.25]
[null,null,null,null,null,null,null,null,null,null,null,null,null,null,null,null,null,null,null,null,null,null,null,null,null,null,null,null,14.5]
[null,null,null,null,null,null,null,null,null,null,null,null,null,null,null,null,null,null,null,null,null,null,null,null,null,null,null,null,14.75]
[null,null,null,null,null,null,null,null,null,null,null,null,null,null,null,null,null,null,null,null,null,null,null,null,null,null,null,null,15]
[null,null,null,null,null,null,null,null,null,null,null,null,null,null,null,null,null,null,null,null,null,null,null,null,null,null,null,null,15.25]
[null,null,null,null,null,null,null,null,null,null,null,null,null,null,null,null,null,null,null,null,null,null,null,null,null,null,null,null,15.5]
[null,null,null,"TIME VALUES",null,null,null,null,null,null,null,null,null,null,null,null,null,null,null,null,null,null,null,null,null,null,null,null,15.75]
[null,null,null,"06:00:00",null,null,null,null,null,null,null,null,null,null,null,"HOURS LEAVE",null,null,null,null,null,null,null,null,null,null,null,null,16]
[null,null,null,"06:15:00",null,null,null,null,null,null,null,null,null,null,null,null,"0:15",0.25,null,null,null,null,null,null,null,null,null,null,16.25]
[null,null,null,"06:30:00",null,null,null,null,null,null,null,null,null,null,null,null,"0:30",0.5,null,null,null,null,null,null,null,null,null,null,16.5]
[null,null,null,"06:45:00",null,null,null,null,null,null,null,null,null,null,null,null,"0:45",0.75,null,null,null,null,null,null,null,null,null,null,16.75]
[null,null,null,"07:00:00",null,null,null,null,null,null,null,null,null,null,null,null,"1:00",1,null,null,null,null,null,null,null,null,null,null,17]
[null,null,null,"07:15:00",null,null,null,null,null,null,null,null,null,null,null,null,"1:15",1.25,null,null,null,null,null,null,null,null,null,null,17.25]
[null,null,null,"07:30:00",null,null,null,null,null,null,null,null,null,null,null,null,"1:30",1.5,null,null,null,null,null,null,null,null,null,null,17.5]
[null,null,null,"07:45:00",null,null,null,null,null,null,null,null,null,null,null,null,"1:45",1.75,null,null,null,null,null,null,null,null,null,null,17.75]
[null,null,null,"08:00:00",null,null,null,null,null,null,null,null,null,null,null,null,"2:00",2,null,null,null,null,null,null,null,null,null,null,18]
[null,null,null,"08:15:00",null,null,null,null,null,null,null,null,null,null,null,null,"2:15",2.25,null,null,null,null,null,null,null,null,null,null,18.25]
[null,null,null,"08:30:00",null,null,null,null,null,null,null,null,null,null,null,null,"2:30",2.5,null,null,null,null,null,null,null,null,null,null,18.5]
[null,null,null,"08:45:00",null,null,null,null,null,null,null,null,null,null,null,null,"2:45",2.75,null,null,null,null,null,null,null,null,null,null,18.75]
[null,null,null,"09:00:00",null,null,null,null,null,null,null,null,null,null,null,null,"3:00",3,null,null,null,null,null,null,null,null,null,null,19]
[null,null,null,"09:15:00",null,null,null,null,null,null,null,null,null,null,null,null,"3:15",3.25,null,null,null,null,null,null,null,null,null,null,19.25]
[null,null,null,"09:30:00",null,null,null,null,null,null,null,null,null,null,null,null,"3:30",3.5,null,null,null,null,null,null,null,null,null,null,19.5]
[null,null,null,"09:45:00",null,null,null,null,null,null,null,null,null,null,null,null,"3:45",3.75,null,null,null,null,null,null,null,null,null,null,19.75]
[null,null,null,"10:00:00",null,null,null,null,null,null,null,null,null,null,null,null,"4:00",4,null,null,null,null,null,null,null,null,null,null,20]
[null,null,null,"10:15:00",null,null,null,null,null,null,null,null,null,null,null,null,"4:15",4.25,null,null,null,null,null,null,null,null,null,null,20.25]
[null,null,null,"10:30:00",null,null,null,null,null,null,null,null,null,null,null,null,"4:30",4.5,null,null,null,null,null,null,null,null,null,null,20.5]
[null,null,null,"10:45:00",null,null,null,null,null,null,null,null,null,null,null,null,"4:45",4.75,null,null,null,null,null,null,null,null,null,null,20.75]
[null,null,null,"11:00:00",null,null,null,null,null,null,null,null,null,null,null,null,"5:00",5,null,null,null,null,null,null,null,null,null,null,21]
[null,null,null,"11:15:00",null,null,null,null,null,null,null,null,null,null,null,null,"5:15",5.25,null,null,null,null,null,null,null,null,null,null,21.25]
[null,null,null,"11:30:00",null,null,null,null,null,null,null,null,null,null,null,null,"5:30",5.5,null,null,null,null,null,null,null,null,null,null,21.5]
[null,null,null,"11:45:00",null,null,null,null,null,null,null,null,null,null,null,null,"5:45",5.75,null,null,null,null,null,null,null,null,null,null,21.75]
[null,null,null,"12:00:00",null,null,null,null,null,null,null,null,null,null,null,null,"6:00",6,null,null,null,null,null,null,null,null,null,null,22]
[null,null,null,"12:15:00",null,null,null,null,null,null,null,null,null,null,null,null,"6:15",6.25,null,null,null,null,null,null,null,null,null,null,22.25]
[null,null,null,"12:30:00",null,null,null,null,null,null,null,null,null,null,null,null,"6:30",6.5,null,null,null,null,null,null,null,null,null,null,22.5]
[null,null,null,"12:45:00",null,null,null,null,null,null,null,null,null,null,null,null,"6:45",6.75,null,null,null,null,null,null,null,null,null,null,22.75]
[null,null,null,"13:00:00",null,null,null,null,null,null,null,null,null,null,null,null,"7:00",7,null,null,null,null,null,null,null,null,null,null,23]
[null,null,null,"13:15:00",null,null,null,null,null,null,null,null,null,null,null,null,"7:15",7.25,null,null,null,null,null,null,null,null,null,null,23.25]
[null,null,null,"13:30:00",null,null,null,null,null,null,null,null,null,null,null,null,"7:30",7.5,null,null,null,null,null,null,null,null,null,null,23.5]
[null,null,null,"13:45:00",null,null,null,null,null,null,null,null,null,null,null,null,"7:45",7.75,null,null,null,null,null,null,null,null,null,null,23.75]
[null,null,null,"14:00:00",null,null,null,null,null,null,null,null,null,null,null,null,0.33333333333333331,8,null,null,null,null,null,null,null,null,null,null,24]
[null,null,null,"14:15:00",null,null,null,null,null,null,null,null,null,null,null,null,"8:15",8.25]
[null,null,null,"14:30:00",null,null,null,null,null,null,null,null,null,null,null,null,"8:30",8.5]
[null,null,null,"14:45:00",null,null,null,null,null,null,null,null,null,null,null,null,"8:45",{"$f":"R270+0.25","v":8.75}]
[null,null,null,"15:00:00",null,null,null,null,null,null,null,null,null,null,null,null,"9:00",9]
[null,null,null,"15:15:00",null,null,null,null,null,null,null,null,null,null,null,null,"9:15",9.25]
[null,null,null,"15:30:00",null,null,null,null,null,null,null,null,null,null,null,null,"9:30",9.5]
[null,null,null,"15:45:00",null,null,null,null,null,null,null,null,null,null,null,null,"9:45",9.75]
[null,null,null,"16:00:00",null,null,null,null,null,null,null,null,null,null,null,null,"10:00",10]
[null,null,null,"16:15:00",null,null,null,null,null,null,null,null,null,null,null,null,"10:15",10.25]
[null,null,null,"16:30:00",null,null,null,null,null,null,null,null,null,null,null,null,"10:30",10.5]
[null,null,null,"16:45:00",null,null,null,null,null,null,null,null,null,null,null,null,"10:45",10.75]
[null,null,null,"17:00:00",null,null,null,null,null,null,null,null,null,null,null,null,"11:00",11]
[null,null,null,"17:15:00",null,null,null,null,null,null,null,null,null,null,null,null,"11:15",11.25]
[null,null,null,"17:30:00",null,null,null,null,null,null,null,null,null,null,null,null,"11:30",11.5]
[null,null,null,"17:45:00",null,null,null,null,null,null,null,null,null,null,null,null,"11:45",11.75]
[null,null,null,"18:00:00",null,null,null,null,null,null,null,null,null,null,null,null,"12:00",12]
[null,null,null,"18:15:00",null,null,null,null,null,null,null,null,null,null,null,null,"12:15",12.25]
[null,null,null,"18:30:00",null,null,null,null,null,null,null,null,null,null,null,null,"12:30",12.5]
[null,null,null,"18:45:00",null,null,null,null,null,null,null,null,null,null,null,null,"12:45",12.75]
[null,null,null,"19:00:00",null,null,null,null,null,null,null,null,null,null,null,null,"13:00",13]
[null,null,null,"19:15:00",null,null,null,null,null,null,null,null,null,null,null,null,"13:15",13.25]
[null,null,null,"19:30:00",null,null,null,null,null,null,null,null,null,null,null,null,"13:30",13.5]
[null,null,null,"19:45:00",null,null,null,null,null,null,null,null,null,null,null,null,"13:45",13.75]
[null,null,null,"20:00:00",null,null,null,null,null,null,null,null,null,null,null,null,"14:00",14]
[null,null,null,"20:15:00",null,null,null,null,null,null,null,null,null,null,null,null,"14:15",14.25]
[null,null,null,"20:30:00",null,null,null,null,null,null,null,null,null,null,null,null,"14:30",14.5]
[null,null,null,"20:45:00",null,null,null,null,null,null,null,null,null,null,null,null,"14:45",14.75]
[null,null,null,"21:00:00",null,null,null,null,null,null,null,null,null,null,null,null,"15:00",15]
[null,null,null,"21:15:00",null,null,null,null,null,null,null,null,null,null,null,null,"15:15",15.25]
[null,null,null,"21:30:00",null,null,null,null,null,null,null,null,null,null,null,null,"15:30",15.5]
[null,null,null,"21:45:00",null,null,null,null,null,null,null,null,null,null,null,null,"15:45",15.75]
[null,null,null,"22:00:00",null,null,null,null,null,null,null,null,null,null,null,null,"16:00",16]
[null,null,null,"22:15:00",null,null,null,null,null,null,null,null,null,null,null,null,"16:15",16.25]
[null,null,null,"22:30:00",null,null,null,null,null,null,null,null,null,null,null,null,"16:30",16.5]
[null,null,null,"22:45:00",null,null,null,null,null,null,null,null,null,null,null,null,"16:45",{"$f":"R302+0.25","v":16.75}]
[null,null,null,"23:00:00",null,null,null,null,null,null,null,null,null,null,null,null,"17:00",17]
[null,null,null,"23:15:00",null,null,null,null,null,null,null,null,null,null,null,null,"17:15",17.25]
[null,null,null,"23:30:00",null,null,null,null,null,null,null,null,null,null,null,null,"17:30",17.5]
[null,null,null,"23:45:00",null,null,null,null,null,null,null,null,null,null,null,null,"17:45",17.75]
[null,null,null,"00:00:00",null,null,null,null,null,null,null,null,null,null,null,null,"18:00",18]
[null,null,null,"00:15:00",null,null,null,null,null,null,null,null,null,null,null,null,"18:15",18.25]
[null,null,null,"00:30:00",null,null,null,null,null,null,null,null,null,null,null,null,"18:30",18.5]
[null,null,null,"00:45:00",null,null,null,null,null,null,null,null,null,null,null,null,"18:45",18.75]
[null,null,null,"01:00:00",null,null,null,null,null,null,null,null,null,null,null,null,"19:00",19]
[null,null,null,"01:15:00",null,null,null,null,null,null,null,null,null,null,null,null,"19:15",19.25]
[null,null,null,"01:30:00",null,null,null,null,null,null,null,null,null,null,null,null,"19:30",19.5]
[null,null,null,"01:45:00",null,null,null,null,null,null,null,null,null,null,null,null,"19:45",19.75]
[null,null,null,"02:00:00",null,null,null,null,null,null,null,null,null,null,null,null,"20:00",20]
[null,null,null,"02:15:00",null,null,null,null,null,null,null,null,null,null,null,null,"20:15",20.25]
[null,null,null,"02:30:00",null,null,null,null,null,null,null,null,null,null,null,null,"20:30",20.5]
[null,null,null,"02:45:00",null,null,null,null,null,null,null,null,null,null,null,null,"20:45",20.75]
[null,null,null,"03:00:00",null,null,null,null,null,null,null,null,null,null,null,null,"21:00",21]
[null,null,null,"03:15:00",null,null,null,null,null,null,null,null,null,null,null,null,"21:15",21.25]
[null,null,null,"03:30:00",null,null,null,null,null,null,null,null,null,null,null,null,"21:30",21.5]
[null,null,null,"03:45:00",null,null,null,null,null,null,null,null,null,null,null,null,"21:45",21.75]
[null,null,null,"04:00:00",null,null,null,null,null,null,null,null,null,null,null,null,"22:00",22]
[null,null,null,"04:15:00",null,null,null,null,null,null,null,null,null,null,null,null,"22:15",22.25]
[null,null,null,"04:30:00",null,null,null,null,null,null,null,null,null,null,null,null,"22:30",22.5]
[null,null,null,"04:45:00",null,null,null,null,null,null,null,null,null,null,null,null,"22:45",22.75]
[null,null,null,"05:00:00",null,null,null,null,null,null,null,null,null,null,null,null,"23:00",23]
[null,null,null,"05:15:00",null,null,null,null,null,null,null,null,null,null,null,null,"23:15",23.25]
[null,null,null,"05:30:00",null,null,null,null,null,null,null,null,null,null,null,null,"23:30",23.5]
[null,null,null,"05:45:00",null,null,null,null,null,null,null,null,null,null,null,null,"23:45",23.75]
[null,null,null,null,null,null,null,null,null,null,null,null,null,null,null,null,"24:00",24]
[null,null,null,null,null,null,null,null,null,null,null,null,null,null,null,null,"24:15",24.25]
[null,null,null,null,null,null,null,null,null,null,null,null,null,null,null,null,"24:30",24.5]
[null,null,null,null,null,null,null,null,null,null,null,null,null,null,null,null,"24:45",{"$f":"R334+0.25","v":24.75}]
[null,null,null,null,null,null,null,null,null,null,null,null,null,null,null,null,"25:00",25]
[null,null,null,null,null,null,null,null,null,null,null,null,null,null,null,null,"25:15",25.25]
[null,null,null,null,null,null,null,null,null,null,null,null,null,null,null,null,"25:30",25.5]
[null,null,null,null,null,null,null,null,null,null,null,null,null,null,null,null,"25:45",25.75]
[null,null,null,null,null,null,null,null,null,null,null,null,null,null,null,null,"26:00",26]
[null,null,null,null,null,null,null,null,null,null,null,null,null,null,null,null,"26:15",26.25]
[null,null,null,null,null,null,null,null,null,null,null,null,null,null,null,null,"26:30",26.5]
[null,null,null,null,null,null,null,null,null,null,null,null,null,null,null,null,"26:45",26.75]
[null,null,null,null,null,null,null,null,null,null,null,null,null,null,null,null,"27:00",27]
[null,null,null,null,null,null,null,null,null,null,null,null,null,null,null,null,"27:15",27.25]
[null,null,null,null,null,null,null,null,null,null,null,null,null,null,null,null,"27:30",27.5]
[null,null,null,null,null,null,null,null,null,null,null,null,null,null,null,null,"27:45",27.75]
[null,null,null,null,null,null,null,null,null,null,null,null,null,null,null,null,"28:00",28]
[null,null,null,null,null,null,null,null,null,null,null,null,null,null,null,null,"28:15",28.25]
[null,null,null,null,null,null,null,null,null,null,null,null,null,null,null,null,"28:30",28.5]
[null,null,null,null,null,null,null,null,null,null,null,null,null,null,null,null,"28:45",28.75]
[null,null,null,null,null,null,null,null,null,null,null,null,null,null,null,null,"29:00",29]
[null,null,null,null,null,null,null,null,null,null,null,null,null,null,null,null,"29:15",29.25]
[null,null,null,null,null,null,null,null,null,null,null,null,null,null,null,null,"29:30",29.5]
[null,null,null,null,null,null,null,null,null,null,null,null,null,null,null,null,"29:45",29.75]
[null,null,null,null,null,null,null,null,null,null,null,null,null,null,null,null,"30:00",30]
[null,null,null,null,null,null,null,null,null,null,null,null,null,null,null,null,"30:15",30.25]
[null,null,null,null,null,null,null,null,null,null,null,null,null,null,null,null,"30:30",30.5]
[null,null,null,null,null,null,null,null,null,null,null,null,null,null,null,null,"30:45",30.75]
[null,null,null,null,null,null,null,null,null,null,null,null,null,null,null,null,"31:00",31]
[null,null,null,null,null,null,null,null,null,null,null,null,null,null,null,null,"31:15",31.25]
[null,null,null,null,null,null,null,null,null,null,null,null,null,null,null,null,"31:30",31.5]
[null,null,null,null,null,null,null,null,null,null,null,null,null,null,null,null,"31:45",31.75]
[null,null,null,null,null,null,null,null,null,null,null,null,null,null,null,null,"32:00",32]
[null,null,null,null,null,null,null,null,null,null,null,null,null,null,null,null,"32:15",32.25]
[null,null,null,null,null,null,null,null,null,null,null,null,null,null,null,null,"32:30",32.5]
[null,null,null,null,null,null,null,null,null,null,null,null,null,null,null,null,"32:45",{"$f":"R366+0.25","v":32.75}]
[null,null,null,null,null,null,null,null,null,null,null,null,null,null,null,null,"33:00",33]
[null,null,null,null,null,null,null,null,null,null,null,null,null,null,null,null,"33:15",33.25]
[null,null,null,null,null,null,null,null,null,null,null,null,null,null,null,null,"33:30",33.5]
[null,null,null,null,null,null,null,null,null,null,null,null,null,null,null,null,"33:45",33.75]
[null,null,null,null,null,null,null,null,null,null,null,null,null,null,null,null,"34:00",34]
[null,null,null,null,null,null,null,null,null,null,null,null,null,null,null,null,"34:15",34.25]
[null,null,null,null,null,null,null,null,null,null,null,null,null,null,null,null,"34:30",34.5]
[null,null,null,null,null,null,null,null,null,null,null,null,null,null,null,null,"34:45",34.75]
[null,null,null,null,null,null,null,null,null,null,null,null,null,null,null,null,"35:00",35]
[null,null,null,null,null,null,null,null,null,null,null,null,null,null,null,null,"35:15",35.25]
[null,null,null,null,null,null,null,null,null,null,null,null,null,null,null,null,"35:30",35.5]
[null,null,null,null,null,null,null,null,null,null,null,null,null,null,null,null,"35:45",35.75]
[null,null,null,null,null,null,null,null,null,null,null,null,null,null,null,null,"36:00",36]
[null,null,null,null,null,null,null,null,null,null,null,null,null,null,null,null,"36:15",36.25]
[null,null,null,null,null,null,null,null,null,null,null,null,null,null,null,null,"36:30",36.5]
[null,null,null,null,null,null,null,null,null,null,null,null,null,null,null,null,"36:45",36.75]
[null,null,null,null,null,null,null,null,null,null,null,null,null,null,null,null,"37:00",37]
[null,null,null,null,null,null,null,null,null,null,null,null,null,null,null,null,"37:15",37.25]
[null,null,null,null,null,null,null,null,null,null,null,null,null,null,null,null,"37:30",37.5]
[null,null,null,null,null,null,null,null,null,null,null,null,null,null,null,null,"37:45",37.75]
[null,null,null,null,null,null,null,null,null,null,null,null,null,null,null,null,"38:00",38]
[null,null,null,null,null,null,null,null,null,null,null,null,null,null,null,null,"38:15",38.25]
[null,null,null,null,null,null,null,null,null,null,null,null,null,null,null,null,"38:30",38.5]
[null,null,null,null,null,null,null,null,null,null,null,null,null,null,null,null,"38:45",38.75]
[null,null,null,null,null,null,null,null,null,null,null,null,null,null,null,null,"39:00",39]
[null,null,null,null,null,null,null,null,null,null,null,null,null,null,null,null,"39:15",39.25]
[null,null,null,null,null,null,null,null,null,null,null,null,null,null,null,null,"39:30",39.5]
[null,null,null,null,null,null,null,null,null,null,null,null,null,null,null,null,"39:45",39.75]
[null,null,null,null,null,null,null,null,null,null,null,null,null,null,null,null,"40:00",40]
[null,null,null,null,null,null,null,null,null,null,null,null,null,null,null,null,"40:15"]
[null,null,null,null,null,null,null,null,null,null,null,null,null,null,null,null,"40:30"]
[null,null,null,null,null,null,null,null,null,null,null,null,null,null,null,null,"40:45"]
[null,null,null,null,null,null,null,null,null,null,null,null,null,null,null,null,"41:00"]
[null,null,null,null,null,null,null,null,null,null,null,null,null,null,null,null,"41:15"]
[null,null,null,null,null,null,null,null,null,null,null,null,null,null,null,null,"41:30"]
[null,null,null,null,null,null,null,null,null,null,null,null,null,null,null,null,"41:45"]
[null,null,null,null,null,null,null,null,null,null,null,null,null,null,null,null,"42:00"]
[null,null,null,null,null,null,null,null,null,null,null,null,null,null,null,null,"42:15"]
[null,null,null,null,null,null,null,null,null,null,null,null,null,null,null,null,"42:30"]
[null,null,null,null,null,null,null,null,null,null,null,null,null,null,null,null,"42:45"]
[null,null,null,null,null,null,null,null,null,null,null,null,null,null,null,null,"43:00"]
[null,null,null,null,null,null,null,null,null,null,null,null,null,null,null,null,"43:15"]
[null,null,null,null,null,null,null,null,null,null,null,null,null,null,null,null,"43:30"]
[null,null,null,null,null,null,null,null,null,null,null,null,null,null,null,null,"43:45"]
[null,null,null,null,null,null,null,null,null,null,null,null,null,null,null,null,"44:00"]
[null,null,null,null,null,null,null,null,null,null,null,null,null,null,null,null,"44:15"]
[null,null,null,null,null,null,null,null,null,null,null,null,null,null,null,null,"44:30"]
[null,null,null,null,null,null,null,null,null,null,null,null,null,null,null,null,"44:45"]
[null,null,null,null,null,null,null,null,null,null,null,null,null,null,null,null,"45:00"]
[null,null,null,null,null,null,null,null,null,null,null,null,null,null,null,null,"45:15"]
[null,null,null,null,null,null,null,null,null,null,null,null,null,null,null,null,"45:30"]
[null,null,null,null,null,null,null,null,null,null,null,null,null,null,null,null,"45:45"]
[null,null,null,null,null,null,null,null,null,null,null,null,null,null,null,null,"46:00"]
[null,null,null,null,null,null,null,null,null,null,null,null,null,null,null,null,"46:15"]
[null,null,null,null,null,null,null,null,null,null,null,null,null,null,null,null,"46:30"]
[null,null,null,null,null,null,null,null,null,null,null,null,null,null,null,null,"46:45"]
[null,null,null,null,null,null,null,null,null,null,null,null,null,null,null,null,"47:00"]
[null,null,null,null,null,null,null,null,null,null,null,null,null,null,null,null,"47:15"]
[null,null,null,null,null,null,null,null,null,null,null,null,null,null,null,null,"47:30"]
[null,null,null,null,null,null,null,null,null,null,null,null,null,null,null,null,"47:45"]
[null,null,null,null,null,null,null,null,null,null,null,null,null,null,null,null,"48:00"]
[null,null,null,null,null,null,null,null,null,null,null,null,null,null,null,null,"48:15"]
[null,null,null,null,null,null,null,null,null,null,null,null,null,null,null,null,"48:30"]
[null,null,null,null,null,null,null,null,null,null,null,null,null,null,null,null,"48:45"]
[null,null,null,null,null,null,null,null,null,null,null,null,null,null,null,null,"49:00"]
[null,null,null,null,null,null,null,null,null,null,null,null,null,null,null,null,"49:15"]
[null,null,null,null,null,null,null,null,null,null,null,null,null,null,null,null,"49:30"]
[null,null,null,null,null,null,null,null,null,null,null,null,null,null,null,null,"49:45"]
[null,null,null,null,null,null,null,null,null,null,null,null,null,null,null,null,"50:00"]
[null,null,null,null,null,null,null,null,null,null,null,null,null,null,null,null,"50:15"]
[null,null,null,null,null,null,null,null,null,null,null,null,null,null,null,null,"50:30"]
[null,null,null,null,null,null,null,null,null,null,null,null,null,null,null,null,"50:45"]
[null,null,null,null,null,null,null,null,null,null,null,null,null,null,null,null,"51:00"]
[null,null,null,null,null,null,null,null,null,null,null,null,null,null,null,null,"51:15"]
[null,null,null,null,null,null,null,null,null,null,null,null,null,null,null,null,"51:30"]
[null,null,null,null,null,null,null,null,null,null,null,null,null,null,null,null,"51:45"]
[null,null,null,null,null,null,null,null,null,null,null,null,null,null,null,null,"52:00"]
[null,null,null,null,null,null,null,null,null,null,null,null,null,null,null,null,"52:15"]
[null,null,null,null,null,null,null,null,null,null,null,null,null,null,null,null,"52:30"]
[null,null,null,null,null,null,null,null,null,null,null,null,null,null,null,null,"52:45"]
[null,null,null,null,null,null,null,null,null,null,null,null,null,null,null,null,"53:00"]
[null,null,null,null,null,null,null,null,null,null,null,null,null,null,null,null,"53:15"]
[null,null,null,null,null,null,null,null,null,null,null,null,null,null,null,null,"53:30"]
[null,null,null,null,null,null,null,null,null,null,null,null,null,null,null,null,"53:45"]
[null,null,null,null,null,null,null,null,null,null,null,null,null,null,null,null,"54:00"]
[null,null,null,null,null,null,null,null,null,null,null,null,null,null,null,null,"54:15"]
[null,null,null,null,null,null,null,null,null,null,null,null,null,null,null,null,"54:30"]
[null,null,null,null,null,null,null,null,null,null,null,null,null,null,null,null,"54:45"]
[null,null,null,null,null,null,null,null,null,null,null,null,null,null,null,null,"55:00"]
[null,null,null,null,null,null,null,null,null,null,null,null,null,null,null,null,"55:15"]
[null,null,null,null,null,null,null,null,null,null,null,null,null,null,null,null,"55:30"]
[null,null,null,null,null,null,null,null,null,null,null,null,null,null,null,null,"55:45"]
[null,null,null,null,null,null,null,null,null,null,null,null,null,null,null,null,"56:00"]

{"sheet":"week 2 bk","index":5,"n_rows":444,"n_cols":63,"rows_kept":444,"cut":false,"hidden":false,"merged":[[0,26,0,34],[0,35,0,40],[15,44,15,47],[15,49,15,55],[16,44,16,47],[21,44,21,47],[21,49,21,55],[22,44,22,47],[12,35,12,36],[12,37,12,38],[12,39,12,40],[15,35,15,36],[15,37,15,38],[15,39,15,40],[14,35,14,36],[14,37,14,38],[14,39,14,40],[16,35,16,36],[16,37,16,38],[16,39,16,40],[13,35,13,36],[13,37,13,38],[13,39,13,40],[15,42,15,43],[16,42,16,43],[18,39,18,40],[25,42,25,43],[19,42,19,43],[20,42,20,43],[17,42,17,43],[18,42,18,43],[23,42,23,43],[24,42,24,43],[21,42,21,43],[22,42,22,43],[19,35,19,36],[16,49,16,55],[17,44,17,47],[17,49,17,55],[18,44,18,47],[18,49,18,55],[19,44,19,47],[19,49,19,55],[36,41,37,41],[36,42,37,43],[34,42,34,43],[35,42,35,43],[28,42,28,43],[31,49,31,55],[31,44,31,47],[25,44,25,47],[25,49,25,55],[26,48,27,48],[26,49,27,55],[28,49,28,55],[29,49,29,55],[30,49,30,55],[19,37,19,38],[19,39,19,40],[13,42,13,43],[14,42,14,43],[11,42,11,43],[12,42,12,43],[11,44,11,47],[11,49,11,55],[12,44,12,47],[12,49,12,55],[13,44,13,47],[13,49,13,55],[14,44,14,47],[14,49,14,55],[9,42,9,43],[10,42,10,43],[7,42,7,43],[8,42,8,43],[7,44,7,47],[7,49,7,55],[8,44,8,47],[8,49,8,55],[9,44,9,47],[9,49,9,55],[10,44,10,47],[10,49,10,55],[5,42,5,43],[6,42,6,43],[3,42,3,43],[4,42,4,43],[3,44,3,47],[3,49,3,55],[4,44,4,47],[4,49,4,55],[5,44,5,47],[5,49,5,55],[6,44,6,47],[6,49,6,55],[0,42,0,43],[2,42,2,43],[1,42,1,43],[0,44,0,47],[0,49,0,55],[1,44,1,47],[1,49,1,55],[2,44,2,47],[2,49,2,55],[17,35,17,36],[17,37,17,38],[17,39,17,40],[18,35,18,36],[18,37,18,38],[98,12,98,13],[36,6,36,15],[98,6,98,7],[98,8,98,9],[98,10,98,11],[33,10,33,13],[36,21,36,22],[35,14,35,15],[34,14,34,15],[35,21,35,22],[35,16,36,17],[98,14,98,15],[34,16,34,25],[35,18,36,20],[20,16,21,17],[25,35,25,36],[16,6,17,7],[23,39,23,40],[20,35,20,36],[35,0,36,5],[32,0,32,1],[32,2,32,5],[34,0,34,1],[34,2,34,5],[33,0,33,1],[33,6,33,9],[34,6,34,9],[33,14,33,15],[35,6,35,9],[35,10,35,13],[34,10,34,13],[30,0,30,1],[30,2,30,5],[30,26,30,40],[30,16,30,25],[29,14,29,15],[29,16,29,25],[31,0,31,1],[30,14,30,15],[33,26,33,40],[31,2,31,5],[31,14,31,15],[33,16,33,25],[32,16,32,25],[33,2,33,5],[31,26,31,40],[31,16,31,25],[32,26,32,40],[32,14,32,15],[31,6,31,9],[31,10,31,13],[32,6,32,9],[32,10,32,13],[29,0,29,1],[30,6,30,9],[28,2,28,5],[28,0,28,1],[29,2,29,5],[29,26,29,40],[28,16,28,25],[24,14,25,15],[24,16,25,17],[24,6,25,7],[28,26,28,40],[28,14,28,15],[25,37,25,38],[25,39,25,40],[24,35,24,36],[24,37,24,38],[24,39,24,40],[24,18,25,19],[24,20,25,21],[24,22,25,23],[24,24,25,34],[26,0,27,1],[26,2,27,5],[20,2,21,3],[20,4,21,5],[22,0,23,1],[22,16,23,17],[22,14,23,15],[22,6,23,7],[20,6,21,7],[20,10,21,11],[20,8,21,9],[20,14,21,15],[20,37,20,38],[20,39,20,40],[21,35,21,36],[21,37,21,38],[21,39,21,40],[22,37,22,38],[22,39,22,40],[23,35,23,36],[23,37,23,38],[22,35,22,36],[12,2,13,3],[18,0,19,1],[18,2,19,3],[16,0,17,1],[16,2,17,3],[22,12,23,13],[24,0,25,1],[24,2,25,3],[24,4,25,5],[24,12,25,13],[22,8,23,9],[24,8,25,9],[22,10,23,11],[24,10,25,11],[22,4,23,5],[16,8,17,9],[18,8,19,9],[16,10,17,11],[18,10,19,11],[18,6,19,7],[20,12,21,13],[22,2,23,3],[16,4,17,5],[20,0,21,1],[18,4,19,5],[11,6,11,7],[11,8,11,9],[11,10,11,11],[10,4,10,11],[9,0,9,1],[11,4,11,5],[11,18,11,19],[9,2,9,6],[16,14,17,15],[16,16,17,17],[16,12,17,13],[14,0,15,1],[12,4,13,5],[12,6,13,7],[12,10,13,11],[14,10,15,11],[12,8,13,9],[14,2,15,3],[14,4,15,5],[14,6,15,7],[14,8,15,9],[12,14,13,15],[12,16,13,17],[12,0,13,1],[10,39,11,40],[7,26,7,34],[6,26,6,34],[14,16,15,17],[14,12,15,13],[14,14,15,15],[10,37,11,38],[12,12,13,13],[6,35,6,40],[7,19,7,20],[12,18,13,19],[12,20,13,21],[12,22,13,23],[12,24,13,34],[7,13,7,18],[11,20,11,21],[11,22,11,23],[11,16,11,17],[10,35,11,36],[9,21,9,25],[11,14,11,15],[10,12,10,23],[10,24,11,34],[9,35,9,40],[5,35,5,40],[6,19,6,20],[7,35,7,40],[8,19,8,20],[8,21,8,25],[8,26,8,34],[7,21,7,25],[8,35,8,40],[5,19,5,20],[5,21,5,25],[5,26,5,34],[9,19,9,20],[8,0,8,1],[8,2,8,6],[8,7,8,12],[7,0,7,1],[7,2,7,6],[7,7,7,12],[8,13,8,18],[6,2,6,6],[6,7,6,12],[3,13,3,18],[3,19,3,20],[3,21,3,25],[4,0,4,1],[4,2,4,6],[4,7,4,12],[4,13,4,18],[3,0,3,1],[3,26,3,34],[5,0,5,1],[5,2,5,6],[5,7,5,12],[6,13,6,18],[9,7,9,12],[9,13,9,18],[2,35,2,40],[1,13,1,18],[1,19,1,20],[1,21,1,25],[1,26,1,34],[1,35,1,40],[2,13,2,18],[2,19,2,20],[2,21,2,25],[2,26,2,34],[3,35,3,40],[4,19,4,20],[4,21,4,25],[4,26,4,34],[4,35,4,40],[5,13,5,18],[6,21,6,25],[6,0,6,1],[0,0,0,1],[1,0,1,1],[1,2,1,6],[1,7,1,12],[3,2,3,6],[3,7,3,12],[2,0,2,1],[2,2,2,6],[2,7,2,12],[11,12,11,13],[9,26,9,34],[10,0,11,1],[10,2,11,3],[26,44,27,47],[28,44,28,47],[29,44,29,47],[30,44,30,47],[27,10,27,13],[14,18,15,19],[14,20,15,21],[14,22,15,23],[14,24,15,34],[16,24,17,34],[16,18,17,19],[16,20,17,21],[16,22,17,23],[22,18,23,19],[22,20,23,21],[22,22,23,23],[22,24,23,34],[18,18,19,19],[18,20,19,21],[18,22,19,23],[18,24,19,34],[20,18,21,19],[20,20,21,21],[20,22,21,23],[28,6,28,9],[28,10,28,13],[29,6,29,9],[29,10,29,13],[18,14,19,15],[18,16,19,17],[18,12,19,13],[20,24,21,34],[30,10,30,13],[34,26,34,40],[29,42,29,43],[26,41,27,41],[26,42,27,43],[26,14,27,15],[26,16,27,25],[26,26,27,40],[27,6,27,9],[30,42,30,43],[31,42,31,43],[26,6,26,13],[32,42,32,43],[33,42,33,43],[36,44,37,47],[36,48,37,48],[36,49,37,55],[20,44,20,47],[20,49,20,55],[32,44,32,47],[33,44,33,47],[33,49,33,55],[34,44,34,47],[34,49,34,55],[35,44,35,47],[35,49,35,55],[22,49,22,55],[23,44,23,47],[23,49,23,55],[24,44,24,47],[24,49,24,55]]}
["DATE",null," ACTIVITY ",null,null,null,null," IDENTIFICATION ",null,null,null,null,null," LOCATION ",null,null,null,null,null,"DATE",null," ACTIVITY ",null,null,null,null," IDENTIFICATION ",null,null,null,null,null,null,null,null," LOCATION ",null,null,null,null,null,"EXERCISE","DATE",null,"EXERCISE",null,null,null,"HORSE","DETAILS"]
[null,null,null,null,null,null,null,null,null,null,null,null,null,null,null,null,null,null,null,null,null,null,null,null,null,null,null,null,null,null,null,null,null,null,null,null,null,null,null,null,null,1]
[null,null,null,null,null,null,null,null,null,null,null,null,null,null,null,null,null,null,null,null,null,null,null,null,null,null,null,null,null,null,null,null,null,null,null,null,null,null,null,null,null,2]
[null,null,null,null,null,null,null,null,null,null,null,null,null,null,null,null,null,null,null,null,null,null,null,null,null,null,null,null,null,null,null,null,null,null,null,null,null,null,null,null,null,3]
[null,null,null,null,null,null,null,null,null,null,null,null,null,null,null,null,null,null,null,null,null,null,null,null,null,null,null,null,null,null,null,null,null,null,null,null,null,null,null,null,null,4]
[null,null,null,null,null,null,null,null,null,null,null,null,null,null,null,null,null,null,null,null,null,null,null,null,null,null,null,null,null,null,null,null,null,null,null,null,null,null,null,null,null,5]
[null,null,null,null,null,null,null,null,null,null,null,null,null,null,null,null,null,null,null,null,null,null,null,null,null,null,null,null,null,null,null,null,null,null,null,null,null,null,null,null,null,6]
[null,null,null,null,null,null,null,null,null,null,null,null,null,null,null,null,null,null,null,null,null,null,null,null,null,null,null,null,null,null,null,null,null,null,null,null,null,null,null,null,null,7]
[null,null,null,null,null,null,null,null,null,null,null,null,null,null,null,null,null,null,null,null,null,null,null,null,null,null,null,null,null,null,null,null,null,null,null,null,null,null,null,null,null,8]
[null,null,null,null,null,null,null,null,null,null,null,null,null,null,null,null,null,null,null,null,null,null,null,null,null,null,null,null,null,null,null,null,null,null,null,null,null,null,null,null,null,9]
["DAY",null,"DATE",null,"OVERTIME",null,null,null,null,null,null,null,"AWAY FROM DUTY STATION",null,null,null,null,null,null,null,null,null,null,null,"EXPLANATION OF DUTIES PERFORMED, AREA WORKED, JUSTIFICATION FOR OVERTIME",null,null,null,null,null,null,null,null,null,null,"CODE",null,"HOURS\n(DECIMAL)",null,"DATE",null,10]
[null,null,null,null,"OT PROJECT",null,"SPEED CHART #",null,"SHIFT WORKED",null,"# OT HOURS",null,"TIME LEFT",null,"ARRIVED BACK",null,"HOURS AWAY",null,"MEALS",null,"ROOMS & OTHER",null,"TOTAL EXPENSE",null,null,null,null,null,null,null,null,null,null,null,null,null,null,null,null,null,null,11,null,null,null,null,null,null,null,null,null,null,null,null,null,null,null,null,null,null,null,null,{"$f":"C13","v":"2019-09-08"}]
["SUN",null,{"$f":"IF('Week 2'!B11=\"\",\"\",'Week 2'!B11)","v":"2019-09-08"},null,null,null,null,null,null,null,null,null,null,null,null,null,null,null,null,null,null,null,{"$f":"IF(SUM(S13+U13)=0,\"\",SUM(S13+U13))","v":""},null,null,null,null,null,null,null,null,null,null,null,null,null,null,null,null,null,null,12,null,null,null,null,null,null,null,null,null,null,null,null,null,null,null,null,null,null,null,null,{"$f":"C25","v":"2019-09-14"}]
[null,null,null,null,null,null,null,null,null,null,null,null,null,null,null,null,null,null,null,null,null,null,null,null,null,null,null,null,null,null,null,null,null,null,null,null,null,null,null,null,null,13]
["MON",null,{"$f":"IF('Week 2'!B12=\"\",\"\",'Week 2'!B12)","v":"2019-09-09"},null,null,null,null,null,null,null,null,null,null,null,null,null,null,null,null,null,null,null,{"$f":"IF(SUM(S15+U15)=0,\"\",SUM(S15+U15))","v":""},null,null,null,null,null,null,null,null,null,null,null,null,null,null,null,null,null,null,14]
[null,null,null,null,null,null,null,null,null,null,null,null,null,null,null,null,null,null,null,null,null,null,null,null,null,null,null,null,null,null,null,null,null,null,null,null,null,null,null,null,null,15]
["TUE",null,{"$f":"IF('Week 2'!B13=\"\",\"\",'Week 2'!B13)","v":"2019-09-10"},null,null,null,null,null,null,null,null,null,null,null,null,null,null,null,null,null,null,null,{"$f":"IF(SUM(S17+U17)=0,\"\",SUM(S17+U17))","v":""},null,null,null,null,null,null,null,null,null,null,null,null,null,null,null,null,null,null,16]
[null,null,null,null,null,null,null,null,null,null,null,null,null,null,null,null,null,null,null,null,null,null,null,null,null,null,null,null,null,null,null,null,null,null,null,null,null,null,null,null,null,17]
["WED",null,{"$f":"IF('Week 2'!B14=\"\",\"\",'Week 2'!B14)","v":"2019-09-11"},null,null,null,null,null,null,null,null,null,null,null,null,null,null,null,null,null,null,null,{"$f":"IF(SUM(S19+U19)=0,\"\",SUM(S19+U19))","v":""},null,null,null,null,null,null,null,null,null,null,null,null,null,null,null,null,null,null,18]
[null,null,null,null,null,null,null,null,null,null,null,null,null,null,null,null,null,null,null,null,null,null,null,null,null,null,null,null,null,null,null,null,null,null,null,null,null,null,null,null,null,19]
["THU",null,{"$f":"IF('Week 2'!B15=\"\",\"\",'Week 2'!B15)","v":"2019-09-12"},null,null,null,null,null,null,null,null,null,null,null,null,null,null,null,null,null,null,null,{"$f":"IF(SUM(S21+U21)=0,\"\",SUM(S21+U21))","v":""},null,null,null,null,null,null,null,null,null,null,null,null,null,null,null,null,null,null,20]
[null,null,null,null,null,null,null,null,null,null,null,null,null,null,null,null,null,null,null,null,null,null,null,null,null,null,null,null,null,null,null,null,null,null,null,null,null,null,null,null,null,21]
["FRI",null,{"$f":"IF('Week 2'!B16=\"\",\"\",'Week 2'!B16)","v":"2019-09-13"},null,null,null,null,null,null,null,null,null,null,null,null,null,null,null,null,null,null,null,{"$f":"IF(SUM(S23+U23)=0,\"\",SUM(S23+U23))","v":""},null,null,null,null,null,null,null,null,null,null,null,null,null,null,null,null,null,null,22]
[null,null,null,null,null,null,null,null,null,null,null,null,null,null,null,null,null,null,null,null,null,null,null,null,null,null,null,null,null,null,null,null,null,null,null,null,null,null,null,null,null,23]
["SAT",null,{"$f":"IF('Week 2'!B17=\"\",\"\",'Week 2'!B17)","v":"2019-09-14"},null,null,null,null,null,null,null,null,null,null,null,null,null,null,null,null,null,null,null,{"$f":"IF(SUM(S25+U25)=0,\"\",SUM(S25+U25))","v":""},null,null,null,null,null,null,null,null,null,null,null,null,null,null,null,null,null,null,24]
[null,null,null,null,null,null,null,null,null,null,null,null,null,null,null,null,null,null,null,null,null,null,null,null,null,null,null,null,null,null,null,null,null,null,null,null,null,null,null,null,null,25]
["DAY          DATE",null,"SECONDARY EMPLOYMENT SHIFT",null,null,null,"HOURS WORKED",null,null,null,null,null,null,null,"LEAVE\nHOURS\n(DECIMAL)",null," BUSINESS NAME AND LOCATION ",null,null,null,null,null,null,null,null,null," OTHER REMARKS ",null,null,null,null,null,null,null,null,null,null,null,null,null,null,26]
[null,null,null,null,null,null,"SECONDARY EMPLORMENT",null,null,null,"ALL DPS HOURS"]
[{"$f":"IF('Week 2'!B11=\"\",\"\",'Week 2'!B11)","v":"2019-09-08"},null,null,null,null,null,null,null,null,null,{"$f":"'Week 2'!O11","v":""},null,null,null,null,null,null,null,null,null,null,null,null,null,null,null,null,null,null,null,null,null,null,null,null,null,null,null,null,null,null,27]
[{"$f":"IF('Week 2'!B12=\"\",\"\",'Week 2'!B12)","v":"2019-09-09"},null,null,null,null,null,null,null,null,null,{"$f":"'Week 2'!O12","v":""},null,null,null,null,null,null,null,null,null,null,null,null,null,null,null,null,null,null,null,null,null,null,null,null,null,null,null,null,null,null,28]
[{"$f":"IF('Week 2'!B13=\"\",\"\",'Week 2'!B13)","v":"2019-09-10"},null,null,null,null,null,null,null,null,null,{"$f":"'Week 2'!O13","v":""},null,null,null,null,null,null,null,null,null,null,null,null,null,null,null,null,null,null,null,null,null,null,null,null,null,null,null,null,null,null,29]
[{"$f":"IF('Week 2'!B14=\"\",\"\",'Week 2'!B14)","v":"2019-09-11"},null,null,null,null,null,null,null,null,null,{"$f":"'Week 2'!O14","v":""},null,null,null,null,null,null,null,null,null,null,null,null,null,null,null,null,null,null,null,null,null,null,null,null,null,null,null,null,null,null,30]
[{"$f":"IF('Week 2'!B15=\"\",\"\",'Week 2'!B15)","v":"2019-09-12"},null,null,null,null,null,null,null,null,null,{"$f":"'Week 2'!O15","v":""},null,null,null,null,null,null,null,null,null,null,null,null,null,null,null,null,null,null,null,null,null,null,null,null,null,null,null,null,null,null,31]
[{"$f":"IF('Week 2'!B16=\"\",\"\",'Week 2'!B16)","v":"2019-09-13"},null,null,null,null,null,null,null,null,null,{"$f":"'Week 2'!O16","v":""},null,null,null,null,null,null,null,null,null,null,null,null,null,null,null,null,null,null,null,null,null,null,null,null,null,null,null,null,null,null,32]
[{"$f":"IF('Week 2'!B17=\"\",\"\",'Week 2'!B17)","v":"2019-09-14"},null,null,null,null,null,null,null,null,null,{"$f":"'Week 2'!O17","v":""},null,null,null,null,null,null,null,null,null,null,null,null,null,null,null,null,null,null,null,null,null,null,null,null,null,null,null,null,null,null,33]
["MAXIMUM 62 HRS (DPS + SECONDARY EMPLOYMENT) A WEEKLY PERIOD",null,null,null,null,null,{"$f":"IF(SUM(G29:G35)=0,\"\",SUM(G29:G35))","v":""},null,null,null,{"$f":"IF(SUM(K29:K35)=0,\"\",SUM(K29:K35))","v":""},null,null,null,{"$f":"IF(SUM(O29:O35)=0,\"\",SUM(O29:O35))","v":""},null,{"$f":"IFERROR(62-(SUM(G36:K36)),\"\")","v":62},null,"TOTAL HOURS AVAILABLE TO WORK",null,null,"INITIALS",null,"INITIALS IN BOX CERTIFIES THAT NO SECONDARY",null,null,null,null,null,null,null,null,null,null," *TOTAL HOURS WORKED SHOULD NOT",null,null,null,null,null,null,34]
[null,null,null,null,null,null,"62 - (SECONDARY  EMPLOYMENT HRS + ALL DPS HRS) = ",null,null,null,null,null,null,null,null,null,null,null,null,null,null,null,null,"EMPLOYMENT WAS PERFORMED DURING THIS PERIOD",null,null,null,null,null,null,null,null,null,null," EXCEED 16 HOURS IN ANY 24 HOUR PERIOD",null,null,null,null,null,null,35]
[]
[]
[]
[]
[]
[]
[null,null,null,null,null,null,null,null,"TYPE","RATING",null,"DRUG",null,"EXP",null,null,null,"HIDE","END","UNKNOWN"]
[null,null,"BURIED AID",null,null,null,null,null,"DRUG","S",null,"M",null,1,"C-4 Taged",null,null,"HDS","P","X"]
[null,null,"QUARTERING",null,null,null,null,null,"EXP","U",null,"PMT",null,2,"C-4 Untaged",null,null,"HDM","R"]
[null,null,"POINT TO POINT",null,null,null,null,null,null,"B",null,"PC",null,3,"Semtex Taged",null,null,"HDL","S"]
[null,null,"EXTERIOR WALL",null,null,null,null,null,null,null,null,"PH",null,4,"DS PETN Taged",null,null,"LDS"]
[null,null,"INTERIOR WALL",null,null,null,null,null,null,null,null,"C",null,5,"DS RDX Taged",null,null,"LDM"]
[null,null,"PASSENGER VEHICLE INTERIOR",null,null,null,null,null,null,null,null,"H",null,6,"Comp B",null,null,"LDL"]
[null,null,"COMMERCIAL VEHICLE INTERIOR",null,null,null,null,null,null,null,null,"MT",null,7,"ANFO",null,null,"T"]
[null,null,"PASSENGER VEHICLE EXTERIOR",null,null,null,null,null,null,null,null,null,null,8,"Cast Booster",null,null,"HT"]
[null,null,"COMMERCIAL VEHICLE EXTERIOR",null,null,null,null,null,null,null,null,null,null,9,"Unigel"]
[null,null,"LUGGAGE",null,null,null,null,null,null,null,null,null,null,10,"DC PETN"]
[null,null,"FREIGHT",null,null,null,null,null,null,null,null,null,null,11,"DC RDX"]
[null,null,"BUILDING INTERIOR",null,null,null,null,null,null,null,null,null,null,12,"Watergel"]
[null,null,"BUILDING EXTERIOR",null,null,null,null,null,null,null,null,null,null,13,"TNT Granular"]
[null,null,"BASIC RETRIEVE",null,null,null,null,null,null,null,null,null,null,14,"Slip-on Booster"]
[null,null,"CONTROLLED RETRIEVE (SIGHT)",null,null,null,null,null,null,null,null,null,null,15,"Nitro Dynamite"]
[null,null,"CONTROLLED RETRIEVE (SCENT)",null,null,null,null,null,null,null,null,null,null,16,"Nitro Methane"]
[null,null,"VESSELS",null,null,null,null,null,null,null,null,null,null,17,"Black Powder"]
[null,null,"AIRCRAFT",null,null,null,null,null,null,null,null,null,null,18,"AN Prills"]
[null,null,"OTHER",null,null,null,null,null,null,null,null,null,null,19,"AP"]
[null,null,"DROP AID",null,null,null,null,null,null,null,null,null,null,20,"PP"]
[null,null,null,null,null,null,null,null,null,null,null,null,null,21,"Pyrodex"]
[null,null,null,null,null,null,null,null,null,null,null,null,null,22,"SP Single Base"]
[null,null,null,null,null,null,null,null,null,null,null,null,null,23,"SP Double Base"]
[null,null,null,null,null,null,null,null,null,null,null,null,null,24,"Safety Fuse"]
[]
[]
[]
[]
[]
[]
[]
[]
[]
[]
[]
[]
[]
[]
[]
[]
[]
[]
[]
[]
[]
[null,null,"SUN",{"$f":"IF(G20<E20,(24-E20)+G20,G20-E20)","v":"00:00:00"},{"$f":"IF((VALUE(HOUR(D90))+VALUE(MINUTE(D90))/60)=0,\"\",(VALUE(HOUR(D90))+VALUE(MINUTE(D90))/60))","v":""}]
[null,null,"MON",{"$f":"IF(G21<E21,(24-E21)+G21,IF(E21<G21,G21-E21,IF(E21=0,24-G21,IF(G21=0,24-E21))))","v":24},"","CONVERSIONS"]
[null,null,"TUES",24,"","AND CALCULATIONS"]
[null,null,"WED",24,"","FOR TIME LEFT &"]
[null,null,"THU",24,"","RETURNED & TIME"]
[null,null,"FRI",24,"","AWAY FROM DUTY"]
[null,null,"SAT",24,"","STATION"]
[]
[]
[null,null,null,null,null,null,{"$f":"IF(SUM(G29:G35)=0,0,SUM(G29:G35))","v":0},null,{"$f":"IF(SUM(K29:K35)=0,0,SUM(K29:K35))","v":0},null,{"$f":"IF(I99>40,\"0\",((40)-(I99)))","v":40},null,{"$f":"IF(SUM(O29:O35)=0,0,SUM(O29:O35))","v":0},null,{"$f":"24+K99","v":64}]
[null,null,null,null,null,null,"SUBTOTAL   +",null,"SUBTOTAL   =",null,"GRAND TOTAL",null," -  LEAVE  =",null,"HOURS"]
[]
[]
[]
[]
[]
[]
[]
[]
[]
[]
[]
[]
[]
[]
[]
[]
[]
[]
[]
[]
[]
[]
[]
[]
[]
[]
[]
[]
[]
[]
[]
[]
[]
[]
[]
[]
[]
[]
[]
[]
[]
[]
[null,null,null,null,null,null,null,null,null,null,null,null,"LIST OF ACCEPTABLE CODES"]
[]
[null,null,null,null,null,null,null,null,null,null,null,null,"ALT"]
[null,null,null,null,null,null,null,null,null,null,null,null,"CAT"]
[null,null,null,null,null,null,null,null,null,null,null,null,"CDT"]
[null,null,null,null,null,null,null,null,null,null,null,null,"CTT"]
[null,null,null,null,null,null,null,null,null,null,null,null,"DBT"]
[null,null,null,null,null,null,null,null,null,null,null,null,"DOT"]
[null,null,null,null,null,null,null,null,null,null,null,null,"DMT"]
[null,null,null,null,null,null,null,null,null,null,null,null,"EMT"]
[null,null,null,null,null,null,null,null,null,null,null,null,"EST"]
[null,null,null,null,null,null,null,null,null,null,null,null,"FFT"]
[null,null,null,null,null,null,null,null,null,null,null,null,"FPT"]
[null,null,null,null,null,null,null,null,null,null,null,null,"HCT"]
[null,null,null,null,null,null,null,null,null,null,null,null,"HOB"]
[null,null,null,null,null,null,null,null,null,null,null,null,"JST"]
[null,null,null,null,null,null,null,null,null,null,null,null,"LDT"]
[null,null,null,null,null,null,null,null,null,null,null,null,"LET"]
[null,null,null,null,null,null,null,null,null,null,null,null,"LPT"]
[null,null,null,null,null,null,null,null,null,null,null,null,"LWT"]
[null,null,null,null,null,null,null,null,null,null,null,null,"MLT"]
[null,null,null,null,null,null,null,null,null,null,null,null,"OHT"]
[null,null,null,null,null,null,null,null,null,null,null,null,"OTT"]
[null,null,null,null,null,null,null,null,null,null,null,null,"RCT"]
[null,null,null,null,null,null,null,null,null,null,null,null,"SAT"]
[null,null,null,null,null,null,null,null,null,null,null,null,"SET"]
[null,null,null,null,null,null,null,null,null,null,null,null,"SLT"]
[null,null,null,null,null,null,null,null,null,null,null,null,"VCT"]
[]
[]
[]
[]
[]
[]
[]
[]
[]
[]
[]
[]
[]
[]
[]
[]
[]
[]
[null,null,null,null,null,null,null,null,null,null,null,null,null,null,null,null,null,null,null,null,null,null,null,null,null,null,null,null,null,null,null,null,null,null,null,null,null,null,null,null,null,null,null,null,null,null,null,null,null,null,null,null,null,null,"HOURS WORKED"]
[null,null,null,null,null,null,null,null,null,null,null,null,null,null,null,null,null,null,null,null,null,null,null,null,null,null,null,null,null,null,null,null,null,null,null,null,null,null,null,null,null,null,null,null,null,null,null,null,null,null,null,null,null,null,0.25]
[null,null,null,null,null,null,null,null,null,null,null,null,null,null,null,null,null,null,null,null,null,null,null,null,null,null,null,null,null,null,null,null,null,null,null,null,null,null,null,null,null,null,null,null,null,null,null,null,null,null,null,null,null,null,0.5]
[null,null,null,null,null,null,null,null,null,null,null,null,null,null,null,null,null,null,null,null,null,null,null,null,null,null,null,null,null,null,null,null,null,null,null,null,null,null,null,null,null,null,null,null,null,null,null,null,null,null,null,null,null,null,0.75]
[null,null,null,null,null,null,null,null,null,null,null,null,null,null,null,null,null,null,null,null,null,null,null,null,null,null,null,null,null,null,null,null,null,null,null,null,null,null,null,null,null,null,null,null,null,null,null,null,null,null,null,null,null,null,1]
[null,null,null,null,null,null,null,null,null,null,null,null,null,null,null,null,null,null,null,null,null,null,null,null,null,null,null,null,null,null,null,null,null,null,null,null,null,null,null,null,null,null,null,null,null,null,null,null,null,null,null,null,null,null,1.25]
[null,null,null,null,null,null,null,null,null,null,null,null,null,null,null,null,null,null,null,null,null,null,null,null,null,null,null,null,null,null,null,null,null,null,null,null,null,null,null,null,null,null,null,null,null,null,null,null,null,null,null,null,null,null,1.5]
[null,null,null,null,null,null,null,null,null,null,null,null,null,null,null,null,null,null,null,null,null,null,null,null,null,null,null,null,null,null,null,null,null,null,null,null,null,null,null,null,null,null,null,null,null,null,null,null,null,null,null,null,null,null,1.75]
[null,null,null,null,null,null,null,null,null,null,null,null,null,null,null,null,null,null,null,null,null,null,null,null,null,null,null,null,null,null,null,null,null,null,null,null,null,null,null,null,null,null,null,null,null,null,null,null,null,null,null,null,null,null,2]
[null,null,null,null,null,null,null,null,null,null,null,null,null,null,null,null,null,null,null,null,null,null,null,null,null,null,null,null,null,null,null,null,null,null,null,null,null,null,null,null,null,null,null,null,null,null,null,null,null,null,null,null,null,null,2.25]
[null,null,null,null,null,null,null,null,null,null,null,null,null,null,null,null,null,null,null,null,null,null,null,null,null,null,null,null,null,null,null,null,null,null,null,null,null,null,null,null,null,null,null,null,null,null,null,null,null,null,null,null,null,null,2.5]
[null,null,null,null,null,null,null,null,null,null,null,null,null,null,null,null,null,null,null,null,null,null,null,null,null,null,null,null,null,null,null,null,null,null,null,null,null,null,null,null,null,null,null,null,null,null,null,null,null,null,null,null,null,null,2.75]
[null,null,null,null,null,null,null,null,null,null,null,null,null,null,null,null,null,null,null,null,null,null,null,null,null,null,null,null,null,null,null,null,null,null,null,null,null,null,null,null,null,null,null,null,null,null,null,null,null,null,null,null,null,null,3]
[null,null,null,null,null,null,null,null,null,null,null,null,null,null,null,null,null,null,null,null,null,null,null,null,null,null,null,null,null,null,null,null,null,null,null,null,null,null,null,null,null,null,null,null,null,null,null,null,null,null,null,null,null,null,3.25]
[null,null,null,null,null,null,null,null,null,null,null,null,null,null,null,null,null,null,null,null,null,null,null,null,null,null,null,null,null,null,null,null,null,null,null,null,null,null,null,null,null,null,null,null,null,null,null,null,null,null,null,null,null,null,3.5]
[null,null,null,null,null,null,null,null,null,null,null,null,null,null,null,null,null,null,null,null,null,null,null,null,null,null,null,null,null,null,null,null,null,null,null,null,null,null,null,null,null,null,null,null,null,null,null,null,null,null,null,null,null,null,3.75]
[null,null,null,null,null,null,null,null,null,null,null,null,null,null,null,null,null,null,null,null,null,null,null,null,null,null,null,null,null,null,null,null,null,null,null,null,null,null,null,null,null,null,null,null,null,null,null,null,null,null,null,null,null,null,4]
[null,null,null,null,null,null,null,null,null,null,null,null,null,null,null,null,null,null,null,null,null,null,null,null,null,null,null,null,null,null,null,null,null,null,null,null,null,null,null,null,null,null,null,null,null,null,null,null,null,null,null,null,null,null,4.25]
[null,null,null,null,null,null,null,null,null,null,null,null,null,null,null,null,null,null,null,null,null,null,null,null,null,null,null,null,null,null,null,null,null,null,null,null,null,null,null,null,null,null,null,null,null,null,null,null,null,null,null,null,null,null,4.5]
[null,null,null,null,null,null,null,null,null,null,null,null,null,null,null,null,null,null,null,null,null,null,null,null,null,null,null,null,null,null,null,null,null,null,null,null,null,null,null,null,null,null,null,null,null,null,null,null,null,null,null,null,null,null,4.75]
[null,null,null,null,null,null,null,null,null,null,null,null,null,null,null,null,null,null,null,null,null,null,null,null,null,null,null,null,null,null,null,null,null,null,null,null,null,null,null,null,null,null,null,null,null,null,null,null,null,null,null,null,null,null,5]
[null,null,null,null,null,"TIME VALUES",null,null,null,null,null,null,null,null,null,null,null,null,null,null,null,null,null,null,null,null,null,null,null,null,null,null,null,null,null,null,null,null,null,null,null,null,null,null,null,null,null,null,null,null,null,null,null,null,5.25]
[null,null,null,null,null,"06:00:00",null,null,null,null,null,null,null,null,null,null,null,null,null,null,null,null,null,null,null,null,null,null,null,null,null,null,null,null,null,null,null,null,null,null,null,null,null,null,null,null,null,null,null,null,null,null,null,null,5.5]
[null,null,null,null,null,"06:15:00",null,null,null,null,null,null,null,null,null,null,null,null,null,null,null,null,null,null,null,null,null,null,null,null,null,null,null,null,null,null,null,null,null,null,null,null,null,null,null,null,null,null,null,null,null,null,null,null,5.75]
[null,null,null,null,null,"06:30:00",null,null,null,null,null,null,null,null,null,null,null,null,null,null,null,null,null,null,null,null,null,null,null,null,null,null,null,null,null,null,null,null,null,null,null,null,null,null,null,null,null,null,null,null,null,null,null,null,6]
[null,null,null,null,null,"06:45:00",null,null,null,null,null,null,null,null,null,null,null,null,null,null,null,null,null,null,null,null,null,null,null,null,null,null,null,null,null,null,null,null,null,null,null,null,null,null,null,null,null,null,null,null,null,null,null,null,6.25]
[null,null,null,null,null,"07:00:00",null,null,null,null,null,null,null,null,null,null,null,null,null,null,null,null,null,null,null,null,null,null,null,null,null,null,null,null,null,null,null,null,null,null,null,null,null,null,null,null,null,null,null,null,null,null,null,null,6.5]
[null,null,null,null,null,"07:15:00",null,null,null,null,null,null,null,null,null,null,null,null,null,null,null,null,null,null,null,null,null,null,null,null,null,null,null,null,null,null,null,null,null,null,null,null,null,null,null,null,null,null,null,null,null,null,null,null,6.75]
[null,null,null,null,null,"07:30:00",null,null,null,null,null,null,null,null,null,null,null,null,null,null,null,null,null,null,null,null,null,null,null,null,null,null,null,null,null,null,null,null,null,null,null,null,null,null,null,null,null,null,null,null,null,null,null,null,7]
[null,null,null,null,null,"07:45:00",null,null,null,null,null,null,null,null,null,null,null,null,null,null,null,null,null,null,null,null,null,null,null,null,null,null,null,null,null,null,null,null,null,null,null,null,null,null,null,null,null,null,null,null,null,null,null,null,7.25]
[null,null,null,null,null,"08:00:00",null,null,null,null,null,null,null,null,null,null,null,null,null,null,null,null,null,null,null,null,null,null,null,null,null,null,null,null,null,null,null,null,null,null,null,null,null,null,null,null,null,null,null,null,null,null,null,null,7.5]
[null,null,null,null,null,"08:15:00",null,null,null,null,null,null,null,null,null,null,"HOURS LEAVE",null,null,null,null,null,null,null,null,null,null,null,null,null,null,null,null,null,null,null,null,null,null,null,null,null,null,null,null,null,null,null,null,null,null,null,null,null,7.75]
[null,null,null,null,null,"08:30:00",null,null,null,null,null,null,null,null,null,null,null,"0:15",0.25,null,null,null,null,null,null,null,null,null,null,null,null,null,null,null,null,null,null,null,null,null,null,null,null,null,null,null,null,null,null,null,null,null,null,null,8]
[null,null,null,null,null,"08:45:00",null,null,null,null,null,null,null,null,null,null,null,"0:30",0.5,null,null,null,null,null,null,null,null,null,null,null,null,null,null,null,null,null,null,null,null,null,null,null,null,null,null,null,null,null,null,null,null,null,null,null,8.25]
[null,null,null,null,null,"09:00:00",null,null,null,null,null,null,null,null,null,null,null,"0:45",0.75,null,null,null,null,null,null,null,null,null,null,null,null,null,null,null,null,null,null,null,null,null,null,null,null,null,null,null,null,null,null,null,null,null,null,null,8.5]
[null,null,null,null,null,"09:15:00",null,null,null,null,null,null,null,null,null,null,null,"1:00",1,null,null,null,null,null,null,null,null,null,null,null,null,null,null,null,null,null,null,null,null,null,null,null,null,null,null,null,null,null,null,null,null,null,null,null,8.75]
[null,null,null,null,null,"09:30:00",null,null,null,null,null,null,null,null,null,null,null,"1:15",1.25,null,null,null,null,null,null,null,null,null,null,null,null,null,null,null,null,null,null,null,null,null,null,null,null,null,null,null,null,null,null,null,null,null,null,null,9]
[null,null,null,null,null,"09:45:00",null,null,null,null,null,null,null,null,null,null,null,"1:30",1.5,null,null,null,null,null,null,null,null,null,null,null,null,null,null,null,null,null,null,null,null,null,null,null,null,null,null,null,null,null,null,null,null,null,null,null,9.25]
[null,null,null,null,null,"10:00:00",null,null,null,null,null,null,null,null,null,null,null,"1:45",1.75,null,null,null,null,null,null,null,null,null,null,null,null,null,null,null,null,null,null,null,null,null,null,null,null,null,null,null,null,null,null,null,null,null,null,null,9.5]
[null,null,null,null,null,"10:15:00",null,null,null,null,null,null,null,null,null,null,null,"2:00",2,null,null,null,null,null,null,null,null,null,null,null,null,null,null,null,null,null,null,null,null,null,null,null,null,null,null,null,null,null,null,null,null,null,null,null,9.75]
[null,null,null,null,null,"10:30:00",null,null,null,null,null,null,null,null,null,null,null,"2:15",2.25,null,null,null,null,null,null,null,null,null,null,null,null,null,null,null,null,null,null,null,null,null,null,null,null,null,null,null,null,null,null,null,null,null,null,null,10]
[null,null,null,null,null,"10:45:00",null,null,null,null,null,null,null,null,null,null,null,"2:30",2.5,null,null,null,null,null,null,null,null,null,null,null,null,null,null,null,null,null,null,null,null,null,null,null,null,null,null,null,null,null,null,null,null,null,null,null,10.25]
[null,null,null,null,null,"11:00:00",null,null,null,null,null,null,null,null,null,null,null,"2:45",2.75,null,null,null,null,null,null,null,null,null,null,null,null,null,null,null,null,null,null,null,null,null,null,null,null,null,null,null,null,null,null,null,null,null,null,null,10.5]
[null,null,null,null,null,"11:15:00",null,null,null,null,null,null,null,null,null,null,null,"3:00",3,null,null,null,null,null,null,null,null,null,null,null,null,null,null,null,null,null,null,null,null,null,null,null,null,null,null,null,null,null,null,null,null,null,null,null,10.75]
[null,null,null,null,null,"11:30:00",null,null,null,null,null,null,null,null,null,null,null,"3:15",3.25,null,null,null,null,null,null,null,null,null,null,null,null,null,null,null,null,null,null,null,null,null,null,null,null,null,null,null,null,null,null,null,null,null,null,null,11]
[null,null,null,null,null,"11:45:00",null,null,null,null,null,null,null,null,null,null,null,"3:30",3.5,null,null,null,null,null,null,null,null,null,null,null,null,null,null,null,null,null,null,null,null,null,null,null,null,null,null,null,null,null,null,null,null,null,null,null,11.25]
[null,null,null,null,null,"12:00:00",null,null,null,null,null,null,null,null,null,null,null,"3:45",3.75,null,null,null,null,null,null,null,null,null,null,null,null,null,null,null,null,null,null,null,null,null,null,null,null,null,null,null,null,null,null,null,null,null,null,null,11.5]
[null,null,null,null,null,"12:15:00",null,null,null,null,null,null,null,null,null,null,null,"4:00",4,null,null,null,null,null,null,null,null,null,null,null,null,null,null,null,null,null,null,null,null,null,null,null,null,null,null,null,null,null,null,null,null,null,null,null,11.75]
[null,null,null,null,null,"12:30:00",null,null,null,null,null,null,null,null,null,null,null,"4:15",4.25,null,null,null,null,null,null,null,null,null,null,null,null,null,null,null,null,null,null,null,null,null,null,null,null,null,null,null,null,null,null,null,null,null,null,null,12]
[null,null,null,null,null,"12:45:00",null,null,null,null,null,null,null,null,null,null,null,"4:30",4.5,null,null,null,null,null,null,null,null,null,null,null,null,null,null,null,null,null,null,null,null,null,null,null,null,null,null,null,null,null,null,null,null,null,null,null,12.25]
[null,null,null,null,null,"13:00:00",null,null,null,null,null,null,null,null,null,null,null,"4:45",4.75,null,null,null,null,null,null,null,null,null,null,null,null,null,null,null,null,null,null,null,null,null,null,null,null,null,null,null,null,null,null,null,null,null,null,null,12.5]
[null,null,null,null,null,"13:15:00",null,null,null,null,null,null,null,null,null,null,null,"5:00",5,null,null,null,null,null,null,null,null,null,null,null,null,null,null,null,null,null,null,null,null,null,null,null,null,null,null,null,null,null,null,null,null,null,null,null,12.75]
[null,null,null,null,null,"13:30:00",null,null,null,null,null,null,null,null,null,null,null,"5:15",5.25,null,null,null,null,null,null,null,null,null,null,null,null,null,null,null,null,null,null,null,null,null,null,null,null,null,null,null,null,null,null,null,null,null,null,null,13]
[null,null,null,null,null,"13:45:00",null,null,null,null,null,null,null,null,null,null,null,"5:30",5.5,null,null,null,null,null,null,null,null,null,null,null,null,null,null,null,null,null,null,null,null,null,null,null,null,null,null,null,null,null,null,null,null,null,null,null,13.25]
[null,null,null,null,null,"14:00:00",null,null,null,null,null,null,null,null,null,null,null,"5:45",5.75,null,null,null,null,null,null,null,null,null,null,null,null,null,null,null,null,null,null,null,null,null,null,null,null,null,null,null,null,null,null,null,null,null,null,null,13.5]
[null,null,null,null,null,"14:15:00",null,null,null,null,null,null,null,null,null,null,null,"6:00",6,null,null,null,null,null,null,null,null,null,null,null,null,null,null,null,null,null,null,null,null,null,null,null,null,null,null,null,null,null,null,null,null,null,null,null,13.75]
[null,null,null,null,null,"14:30:00",null,null,null,null,null,null,null,null,null,null,null,"6:15",6.25,null,null,null,null,null,null,null,null,null,null,null,null,null,null,null,null,null,null,null,null,null,null,null,null,null,null,null,null,null,null,null,null,null,null,null,14]
[null,null,null,null,null,"14:45:00",null,null,null,null,null,null,null,null,null,null,null,"6:30",6.5,null,null,null,null,null,null,null,null,null,null,null,null,null,null,null,null,null,null,null,null,null,null,null,null,null,null,null,null,null,null,null,null,null,null,null,14.25]
[null,null,null,null,null,"15:00:00",null,null,null,null,null,null,null,null,null,null,null,"6:45",6.75,null,null,null,null,null,null,null,null,null,null,null,null,null,null,null,null,null,null,null,null,null,null,null,null,null,null,null,null,null,null,null,null,null,null,null,14.5]
[null,null,null,null,null,"15:15:00",null,null,null,null,null,null,null,null,null,null,null,"7:00",7,null,null,null,null,null,null,null,null,null,null,null,null,null,null,null,null,null,null,null,null,null,null,null,null,null,null,null,null,null,null,null,null,null,null,null,14.75]
[null,null,null,null,null,"15:30:00",null,null,null,null,null,null,null,null,null,null,null,"7:15",7.25,null,null,null,null,null,null,null,null,null,null,null,null,null,null,null,null,null,null,null,null,null,null,null,null,null,null,null,null,null,null,null,null,"LIST OF TIME CODES",null,null,15]
[null,null,null,null,null,"15:45:00",null,null,null,null,null,null,null,null,null,null,null,"7:30",7.5,null,null,null,null,null,null,null,null,null,null,null,null,null,null,null,null,null,null,null,null,null,null,null,null,null,null,null,null,null,null,null,null,"ALT",null,null,15.25]
[null,null,null,null,null,"16:00:00",null,null,null,null,null,null,null,null,null,null,null,"7:45",7.75,null,null,null,null,null,null,null,null,null,null,null,null,null,null,null,null,null,null,null,null,null,null,null,null,null,null,null,null,null,null,null,null,"CTT",null,null,15.5]
[null,null,null,null,null,"16:15:00",null,null,null,null,null,null,null,null,null,null,null,0.33333333333333331,8,null,null,null,null,null,null,null,null,null,null,null,null,null,null,null,null,null,null,null,null,null,null,null,null,null,null,null,null,null,null,null,null,"EMT",null,null,15.75]
[null,null,null,null,null,"16:30:00",null,null,null,null,null,null,null,null,null,null,null,"8:15",8.25,null,null,null,null,null,null,null,null,null,null,null,null,null,null,null,null,null,null,null,null,null,null,null,null,null,null,null,null,null,null,null,null,"EOT",null,null,16]
[null,null,null,null,null,"16:45:00",null,null,null,null,null,null,null,null,null,null,null,"8:30",8.5,null,null,null,null,null,null,null,null,null,null,null,null,null,null,null,null,null,null,null,null,null,null,null,null,null,null,null,null,null,null,null,null,"EST",null,null,16.25]
[null,null,null,null,null,"17:00:00",null,null,null,null,null,null,null,null,null,null,null,"8:45",{"$f":"S254+0.25","v":8.75},null,null,null,null,null,null,null,null,null,null,null,null,null,null,null,null,null,null,null,null,null,null,null,null,null,null,null,null,null,null,null,null,"FFT",null,null,16.5]
[null,null,null,null,null,"17:15:00",null,null,null,null,null,null,null,null,null,null,null,"9:00",9,null,null,null,null,null,null,null,null,null,null,null,null,null,null,null,null,null,null,null,null,null,null,null,null,null,null,null,null,null,null,null,null,"FPT",null,null,16.75]
[null,null,null,null,null,"17:30:00",null,null,null,null,null,null,null,null,null,null,null,"9:15",9.25,null,null,null,null,null,null,null,null,null,null,null,null,null,null,null,null,null,null,null,null,null,null,null,null,null,null,null,null,null,null,null,null,"HCT",null,null,17]
[null,null,null,null,null,"17:45:00",null,null,null,null,null,null,null,null,null,null,null,"9:30",9.5,null,null,null,null,null,null,null,null,null,null,null,null,null,null,null,null,null,null,null,null,null,null,null,null,null,null,null,null,null,null,null,null,"HOB",null,null,17.25]
[null,null,null,null,null,"18:00:00",null,null,null,null,null,null,null,null,null,null,null,"9:45",9.75,null,null,null,null,null,null,null,null,null,null,null,null,null,null,null,null,null,null,null,null,null,null,null,null,null,null,null,null,null,null,null,null,"JST",null,null,17.5]
[null,null,null,null,null,"18:15:00",null,null,null,null,null,null,null,null,null,null,null,"10:00",10,null,null,null,null,null,null,null,null,null,null,null,null,null,null,null,null,null,null,null,null,null,null,null,null,null,null,null,null,null,null,null,null,"LET",null,null,17.75]
[null,null,null,null,null,"18:30:00",null,null,null,null,null,null,null,null,null,null,null,"10:15",10.25,null,null,null,null,null,null,null,null,null,null,null,null,null,null,null,null,null,null,null,null,null,null,null,null,null,null,null,null,null,null,null,null,"LWT",null,null,18]
[null,null,null,null,null,"18:45:00",null,null,null,null,null,null,null,null,null,null,null,"10:30",10.5,null,null,null,null,null,null,null,null,null,null,null,null,null,null,null,null,null,null,null,null,null,null,null,null,null,null,null,null,null,null,null,null,"MLT",null,null,18.25]
[null,null,null,null,null,"19:00:00",null,null,null,null,null,null,null,null,null,null,null,"10:45",10.75,null,null,null,null,null,null,null,null,null,null,null,null,null,null,null,null,null,null,null,null,null,null,null,null,null,null,null,null,null,null,null,null,"OHD",null,null,18.5]
[null,null,null,null,null,"19:15:00",null,null,null,null,null,null,null,null,null,null,null,"11:00",11,null,null,null,null,null,null,null,null,null,null,null,null,null,null,null,null,null,null,null,null,null,null,null,null,null,null,null,null,null,null,null,null,"OHT",null,null,18.75]
[null,null,null,null,null,"19:30:00",null,null,null,null,null,null,null,null,null,null,null,"11:15",11.25,null,null,null,null,null,null,null,null,null,null,null,null,null,null,null,null,null,null,null,null,null,null,null,null,null,null,null,null,null,null,null,null,"OTP",null,null,19]
[null,null,null,null,null,"19:45:00",null,null,null,null,null,null,null,null,null,null,null,"11:30",11.5,null,null,null,null,null,null,null,null,null,null,null,null,null,null,null,null,null,null,null,null,null,null,null,null,null,null,null,null,null,null,null,null,"OTT",null,null,19.25]
[null,null,null,null,null,"20:00:00",null,null,null,null,null,null,null,null,null,null,null,"11:45",11.75,null,null,null,null,null,null,null,null,null,null,null,null,null,null,null,null,null,null,null,null,null,null,null,null,null,null,null,null,null,null,null,null,"RCT",null,null,19.5]
[null,null,null,null,null,"20:15:00",null,null,null,null,null,null,null,null,null,null,null,"12:00",12,null,null,null,null,null,null,null,null,null,null,null,null,null,null,null,null,null,null,null,null,null,null,null,null,null,null,null,null,null,null,null,null,"SAT",null,null,19.75]
[null,null,null,null,null,"20:30:00",null,null,null,null,null,null,null,null,null,null,null,"12:15",12.25,null,null,null,null,null,null,null,null,null,null,null,null,null,null,null,null,null,null,null,null,null,null,null,null,null,null,null,null,null,null,null,null,"SET",null,null,20]
[null,null,null,null,null,"20:45:00",null,null,null,null,null,null,null,null,null,null,null,"12:30",12.5,null,null,null,null,null,null,null,null,null,null,null,null,null,null,null,null,null,null,null,null,null,null,null,null,null,null,null,null,null,null,null,null,"SLT",null,null,20.25]
[null,null,null,null,null,"21:00:00",null,null,null,null,null,null,null,null,null,null,null,"12:45",12.75,null,null,null,null,null,null,null,null,null,null,null,null,null,null,null,null,null,null,null,null,null,null,null,null,null,null,null,null,null,null,null,null,"VCT",null,null,20.5]
[null,null,null,null,null,"21:15:00",null,null,null,null,null,null,null,null,null,null,null,"13:00",13,null,null,null,null,null,null,null,null,null,null,null,null,null,null,null,null,null,null,null,null,null,null,null,null,null,null,null,null,null,null,null,null,null,null,null,20.75]
[null,null,null,null,null,"21:30:00",null,null,null,null,null,null,null,null,null,null,null,"13:15",13.25,null,null,null,null,null,null,null,null,null,null,null,null,null,null,null,null,null,null,null,null,null,null,null,null,null,null,null,null,null,null,null,null,null,null,null,21]
[null,null,null,null,null,"21:45:00",null,null,null,null,null,null,null,null,null,null,null,"13:30",13.5,null,null,null,null,null,null,null,null,null,null,null,null,null,null,null,null,null,null,null,null,null,null,null,null,null,null,null,null,null,null,null,null,null,null,null,21.25]
[null,null,null,null,null,"22:00:00",null,null,null,null,null,null,null,null,null,null,null,"13:45",13.75,null,null,null,null,null,null,null,null,null,null,null,null,null,null,null,null,null,null,null,null,null,null,null,null,null,null,null,null,null,null,null,null,null,null,null,21.5]
[null,null,null,null,null,"22:15:00",null,null,null,null,null,null,null,null,null,null,null,"14:00",14,null,null,null,null,null,null,null,null,null,null,null,null,null,null,null,null,null,null,null,null,null,null,null,null,null,null,null,null,null,null,null,null,null,null,null,21.75]
[null,null,null,null,null,"22:30:00",null,null,null,null,null,null,null,null,null,null,null,"14:15",14.25,null,null,null,null,null,null,null,null,null,null,null,null,null,null,null,null,null,null,null,null,null,null,null,null,null,null,null,null,null,null,null,null,null,null,null,22]
[null,null,null,null,null,"22:45:00",null,null,null,null,null,null,null,null,null,null,null,"14:30",14.5,null,null,null,null,null,null,null,null,null,null,null,null,null,null,null,null,null,null,null,null,null,null,null,null,null,null,null,null,null,null,null,null,null,null,null,22.25]
[null,null,null,null,null,"23:00:00",null,null,null,null,null,null,null,null,null,null,null,"14:45",14.75,null,null,null,null,null,null,null,null,null,null,null,null,null,null,null,null,null,null,null,null,null,null,null,null,null,null,null,null,null,null,null,null,null,null,null,22.5]
[null,null,null,null,null,"23:15:00",null,null,null,null,null,null,null,null,null,null,null,"15:00",15,null,null,null,null,null,null,null,null,null,null,null,null,null,null,null,null,null,null,null,null,null,null,null,null,null,null,null,null,null,null,null,null,null,null,null,22.75]
[null,null,null,null,null,"23:30:00",null,null,null,null,null,null,null,null,null,null,null,"15:15",15.25,null,null,null,null,null,null,null,null,null,null,null,null,null,null,null,null,null,null,null,null,null,null,null,null,null,null,null,null,null,null,null,null,null,null,null,23]
[null,null,null,null,null,"23:45:00",null,null,null,null,null,null,null,null,null,null,null,"15:30",15.5,null,null,null,null,null,null,null,null,null,null,null,null,null,null,null,null,null,null,null,null,null,null,null,null,null,null,null,null,null,null,null,null,null,null,null,23.25]
[null,null,null,null,null,"00:00:00",null,null,null,null,null,null,null,null,null,null,null,"15:45",15.75,null,null,null,null,null,null,null,null,null,null,null,null,null,null,null,null,null,null,null,null,null,null,null,null,null,null,null,null,null,null,null,null,null,null,null,23.5]
[null,null,null,null,null,"00:15:00",null,null,null,null,null,null,null,null,null,null,null,"16:00",16,null,null,null,null,null,null,null,null,null,null,null,null,null,null,null,null,null,null,null,null,null,null,null,null,null,null,null,null,null,null,null,null,null,null,null,23.75]
[null,null,null,null,null,"00:30:00",null,null,null,null,null,null,null,null,null,null,null,"16:15",16.25,null,null,null,null,null,null,null,null,null,null,null,null,null,null,null,null,null,null,null,null,null,null,null,null,null,null,null,null,null,null,null,null,null,null,null,24]
[null,null,null,null,null,"00:45:00",null,null,null,null,null,null,null,null,null,null,null,"16:30",16.5]
[null,null,null,null,null,"01:00:00",null,null,null,null,null,null,null,null,null,null,null,"16:45",{"$f":"S286+0.25","v":16.75}]
[null,null,null,null,null,"01:15:00",null,null,null,null,null,null,null,null,null,null,null,"17:00",17]
[null,null,null,null,null,"01:30:00",null,null,null,null,null,null,null,null,null,null,null,"17:15",17.25]
[null,null,null,null,null,"01:45:00",null,null,null,null,null,null,null,null,null,null,null,"17:30",17.5]
[null,null,null,null,null,"02:00:00",null,null,null,null,null,null,null,null,null,null,null,"17:45",17.75]
[null,null,null,null,null,"02:15:00",null,null,null,null,null,null,null,null,null,null,null,"18:00",18]
[null,null,null,null,null,"02:30:00",null,null,null,null,null,null,null,null,null,null,null,"18:15",18.25]
[null,null,null,null,null,"02:45:00",null,null,null,null,null,null,null,null,null,null,null,"18:30",18.5]
[null,null,null,null,null,"03:00:00",null,null,null,null,null,null,null,null,null,null,null,"18:45",18.75]
[null,null,null,null,null,"03:15:00",null,null,null,null,null,null,null,null,null,null,null,"19:00",19]
[null,null,null,null,null,"03:30:00",null,null,null,null,null,null,null,null,null,null,null,"19:15",19.25]
[null,null,null,null,null,"03:45:00",null,null,null,null,null,null,null,null,null,null,null,"19:30",19.5]
[null,null,null,null,null,"04:00:00",null,null,null,null,null,null,null,null,null,null,null,"19:45",19.75]
[null,null,null,null,null,"04:15:00",null,null,null,null,null,null,null,null,null,null,null,"20:00",20]
[null,null,null,null,null,"04:30:00",null,null,null,null,null,null,null,null,null,null,null,"20:15",20.25]
[null,null,null,null,null,"04:45:00",null,null,null,null,null,null,null,null,null,null,null,"20:30",20.5]
[null,null,null,null,null,"05:00:00",null,null,null,null,null,null,null,null,null,null,null,"20:45",20.75]
[null,null,null,null,null,"05:15:00",null,null,null,null,null,null,null,null,null,null,null,"21:00",21]
[null,null,null,null,null,"05:30:00",null,null,null,null,null,null,null,null,null,null,null,"21:15",21.25]
[null,null,null,null,null,"05:45:00",null,null,null,null,null,null,null,null,null,null,null,"21:30",21.5]
[null,null,null,null,null,null,null,null,null,null,null,null,null,null,null,null,null,"21:45",21.75]
[null,null,null,null,null,null,null,null,null,null,null,null,null,null,null,null,null,"22:00",22]
[null,null,null,null,null,null,null,null,null,null,null,null,null,null,null,null,null,"22:15",22.25]
[null,null,null,null,null,null,null,null,null,null,null,null,null,null,null,null,null,"22:30",22.5]
[null,null,null,null,null,null,null,null,null,null,null,null,null,null,null,null,null,"22:45",22.75]
[null,null,null,null,null,null,null,null,null,null,null,null,null,null,null,null,null,"23:00",23]
[null,null,null,null,null,null,null,null,null,null,null,null,null,null,null,null,null,"23:15",23.25]
[null,null,null,null,null,null,null,null,null,null,null,null,null,null,null,null,null,"23:30",23.5]
[null,null,null,null,null,null,null,null,null,null,null,null,null,null,null,null,null,"23:45",23.75]
[null,null,null,null,null,null,null,null,null,null,null,null,null,null,null,null,null,"24:00",24]
[null,null,null,null,null,null,null,null,null,null,null,null,null,null,null,null,null,"24:15",24.25]
[null,null,null,null,null,null,null,null,null,null,null,null,null,null,null,null,null,"24:30",24.5]
[null,null,null,null,null,null,null,null,null,null,null,null,null,null,null,null,null,"24:45",{"$f":"S318+0.25","v":24.75}]
[null,null,null,null,null,null,null,null,null,null,null,null,null,null,null,null,null,"25:00",25]
[null,null,null,null,null,null,null,null,null,null,null,null,null,null,null,null,null,"25:15",25.25]
[null,null,null,null,null,null,null,null,null,null,null,null,null,null,null,null,null,"25:30",25.5]
[null,null,null,null,null,null,null,null,null,null,null,null,null,null,null,null,null,"25:45",25.75]
[null,null,null,null,null,null,null,null,null,null,null,null,null,null,null,null,null,"26:00",26]
[null,null,null,null,null,null,null,null,null,null,null,null,null,null,null,null,null,"26:15",26.25]
[null,null,null,null,null,null,null,null,null,null,null,null,null,null,null,null,null,"26:30",26.5]
[null,null,null,null,null,null,null,null,null,null,null,null,null,null,null,null,null,"26:45",26.75]
[null,null,null,null,null,null,null,null,null,null,null,null,null,null,null,null,null,"27:00",27]
[null,null,null,null,null,null,null,null,null,null,null,null,null,null,null,null,null,"27:15",27.25]
[null,null,null,null,null,null,null,null,null,null,null,null,null,null,null,null,null,"27:30",27.5]
[null,null,null,null,null,null,null,null,null,null,null,null,null,null,null,null,null,"27:45",27.75]
[null,null,null,null,null,null,null,null,null,null,null,null,null,null,null,null,null,"28:00",28]
[null,null,null,null,null,null,null,null,null,null,null,null,null,null,null,null,null,"28:15",28.25]
[null,null,null,null,null,null,null,null,null,null,null,null,null,null,null,null,null,"28:30",28.5]
[null,null,null,null,null,null,null,null,null,null,null,null,null,null,null,null,null,"28:45",28.75]
[null,null,null,null,null,null,null,null,null,null,null,null,null,null,null,null,null,"29:00",29]
[null,null,null,null,null,null,null,null,null,null,null,null,null,null,null,null,null,"29:15",29.25]
[null,null,null,null,null,null,null,null,null,null,null,null,null,null,null,null,null,"29:30",29.5]
[null,null,null,null,null,null,null,null,null,null,null,null,null,null,null,null,null,"29:45",29.75]
[null,null,null,null,null,null,null,null,null,null,null,null,null,null,null,null,null,"30:00",30]
[null,null,null,null,null,null,null,null,null,null,null,null,null,null,null,null,null,"30:15",30.25]
[null,null,null,null,null,null,null,null,null,null,null,null,null,null,null,null,null,"30:30",30.5]
[null,null,null,null,null,null,null,null,null,null,null,null,null,null,null,null,null,"30:45",30.75]
[null,null,null,null,null,null,null,null,null,null,null,null,null,null,null,null,null,"31:00",31]
[null,null,null,null,null,null,null,null,null,null,null,null,null,null,null,null,null,"31:15",31.25]
[null,null,null,null,null,null,null,null,null,null,null,null,null,null,null,null,null,"31:30",31.5]
[null,null,null,null,null,null,null,null,null,null,null,null,null,null,null,null,null,"31:45",31.75]
[null,null,null,null,null,null,null,null,null,null,null,null,null,null,null,null,null,"32:00",32]
[null,null,null,null,null,null,null,null,null,null,null,null,null,null,null,null,null,"32:15",32.25]
[null,null,null,null,null,null,null,null,null,null,null,null,null,null,null,null,null,"32:30",32.5]
[null,null,null,null,null,null,null,null,null,null,null,null,null,null,null,null,null,"32:45",{"$f":"S350+0.25","v":32.75}]
[null,null,null,null,null,null,null,null,null,null,null,null,null,null,null,null,null,"33:00",33]
[null,null,null,null,null,null,null,null,null,null,null,null,null,null,null,null,null,"33:15",33.25]
[null,null,null,null,null,null,null,null,null,null,null,null,null,null,null,null,null,"33:30",33.5]
[null,null,null,null,null,null,null,null,null,null,null,null,null,null,null,null,null,"33:45",33.75]
[null,null,null,null,null,null,null,null,null,null,null,null,null,null,null,null,null,"34:00",34]
[null,null,null,null,null,null,null,null,null,null,null,null,null,null,null,null,null,"34:15",34.25]
[null,null,null,null,null,null,null,null,null,null,null,null,null,null,null,null,null,"34:30",34.5]
[null,null,null,null,null,null,null,null,null,null,null,null,null,null,null,null,null,"34:45",34.75]
[null,null,null,null,null,null,null,null,null,null,null,null,null,null,null,null,null,"35:00",35]
[null,null,null,null,null,null,null,null,null,null,null,null,null,null,null,null,null,"35:15",35.25]
[null,null,null,null,null,null,null,null,null,null,null,null,null,null,null,null,null,"35:30",35.5]
[null,null,null,null,null,null,null,null,null,null,null,null,null,null,null,null,null,"35:45",35.75]
[null,null,null,null,null,null,null,null,null,null,null,null,null,null,null,null,null,"36:00",36]
[null,null,null,null,null,null,null,null,null,null,null,null,null,null,null,null,null,"36:15",36.25]
[null,null,null,null,null,null,null,null,null,null,null,null,null,null,null,null,null,"36:30",36.5]
[null,null,null,null,null,null,null,null,null,null,null,null,null,null,null,null,null,"36:45",36.75]
[null,null,null,null,null,null,null,null,null,null,null,null,null,null,null,null,null,"37:00",37]
[null,null,null,null,null,null,null,null,null,null,null,null,null,null,null,null,null,"37:15",37.25]
[null,null,null,null,null,null,null,null,null,null,null,null,null,null,null,null,null,"37:30",37.5]
[null,null,null,null,null,null,null,null,null,null,null,null,null,null,null,null,null,"37:45",37.75]
[null,null,null,null,null,null,null,null,null,null,null,null,null,null,null,null,null,"38:00",38]
[null,null,null,null,null,null,null,null,null,null,null,null,null,null,null,null,null,"38:15",38.25]
[null,null,null,null,null,null,null,null,null,null,null,null,null,null,null,null,null,"38:30",38.5]
[null,null,null,null,null,null,null,null,null,null,null,null,null,null,null,null,null,"38:45",38.75]
[null,null,null,null,null,null,null,null,null,null,null,null,null,null,null,null,null,"39:00",39]
[null,null,null,null,null,null,null,null,null,null,null,null,null,null,null,null,null,"39:15",39.25]
[null,null,null,null,null,null,null,null,null,null,null,null,null,null,null,null,null,"39:30",39.5]
[null,null,null,null,null,null,null,null,null,null,null,null,null,null,null,null,null,"39:45",39.75]
[null,null,null,null,null,null,null,null,null,null,null,null,null,null,null,null,null,"40:00",40]
[null,null,null,null,null,null,null,null,null,null,null,null,null,null,null,null,null,"40:15"]
[null,null,null,null,null,null,null,null,null,null,null,null,null,null,null,null,null,"40:30"]
[null,null,null,null,null,null,null,null,null,null,null,null,null,null,null,null,null,"40:45"]
[null,null,null,null,null,null,null,null,null,null,null,null,null,null,null,null,null,"41:00"]
[null,null,null,null,null,null,null,null,null,null,null,null,null,null,null,null,null,"41:15"]
[null,null,null,null,null,null,null,null,null,null,null,null,null,null,null,null,null,"41:30"]
[null,null,null,null,null,null,null,null,null,null,null,null,null,null,null,null,null,"41:45"]
[null,null,null,null,null,null,null,null,null,null,null,null,null,null,null,null,null,"42:00"]
[null,null,null,null,null,null,null,null,null,null,null,null,null,null,null,null,null,"42:15"]
[null,null,null,null,null,null,null,null,null,null,null,null,null,null,null,null,null,"42:30"]
[null,null,null,null,null,null,null,null,null,null,null,null,null,null,null,null,null,"42:45"]
[null,null,null,null,null,null,null,null,null,null,null,null,null,null,null,null,null,"43:00"]
[null,null,null,null,null,null,null,null,null,null,null,null,null,null,null,null,null,"43:15"]
[null,null,null,null,null,null,null,null,null,null,null,null,null,null,null,null,null,"43:30"]
[null,null,null,null,null,null,null,null,null,null,null,null,null,null,null,null,null,"43:45"]
[null,null,null,null,null,null,null,null,null,null,null,null,null,null,null,null,null,"44:00"]
[null,null,null,null,null,null,null,null,null,null,null,null,null,null,null,null,null,"44:15"]
[null,null,null,null,null,null,null,null,null,null,null,null,null,null,null,null,null,"44:30"]
[null,null,null,null,null,null,null,null,null,null,null,null,null,null,null,null,null,"44:45"]
[null,null,null,null,null,null,null,null,null,null,null,null,null,null,null,null,null,"45:00"]
[null,null,null,null,null,null,null,null,null,null,null,null,null,null,null,null,null,"45:15"]
[null,null,null,null,null,null,null,null,null,null,null,null,null,null,null,null,null,"45:30"]
[null,null,null,null,null,null,null,null,null,null,null,null,null,null,null,null,null,"45:45"]
[null,null,null,null,null,null,null,null,null,null,null,null,null,null,null,null,null,"46:00"]
[null,null,null,null,null,null,null,null,null,null,null,null,null,null,null,null,null,"46:15"]
[null,null,null,null,null,null,null,null,null,null,null,null,null,null,null,null,null,"46:30"]
[null,null,null,null,null,null,null,null,null,null,null,null,null,null,null,null,null,"46:45"]
[null,null,null,null,null,null,null,null,null,null,null,null,null,null,null,null,null,"47:00"]
[null,null,null,null,null,null,null,null,null,null,null,null,null,null,null,null,null,"47:15"]
[null,null,null,null,null,null,null,null,null,null,null,null,null,null,null,null,null,"47:30"]
[null,null,null,null,null,null,null,null,null,null,null,null,null,null,null,null,null,"47:45"]
[null,null,null,null,null,null,null,null,null,null,null,null,null,null,null,null,null,"48:00"]
[null,null,null,null,null,null,null,null,null,null,null,null,null,null,null,null,null,"48:15"]
[null,null,null,null,null,null,null,null,null,null,null,null,null,null,null,null,null,"48:30"]
[null,null,null,null,null,null,null,null,null,null,null,null,null,null,null,null,null,"48:45"]
[null,null,null,null,null,null,null,null,null,null,null,null,null,null,null,null,null,"49:00"]
[null,null,null,null,null,null,null,null,null,null,null,null,null,null,null,null,null,"49:15"]
[null,null,null,null,null,null,null,null,null,null,null,null,null,null,null,null,null,"49:30"]
[null,null,null,null,null,null,null,null,null,null,null,null,null,null,null,null,null,"49:45"]
[null,null,null,null,null,null,null,null,null,null,null,null,null,null,null,null,null,"50:00"]
[null,null,null,null,null,null,null,null,null,null,null,null,null,null,null,null,null,"50:15"]
[null,null,null,null,null,null,null,null,null,null,null,null,null,null,null,null,null,"50:30"]
[null,null,null,null,null,null,null,null,null,null,null,null,null,null,null,null,null,"50:45"]
[null,null,null,null,null,null,null,null,null,null,null,null,null,null,null,null,null,"51:00"]
[null,null,null,null,null,null,null,null,null,null,null,null,null,null,null,null,null,"51:15"]
[null,null,null,null,null,null,null,null,null,null,null,null,null,null,null,null,null,"51:30"]
[null,null,null,null,null,null,null,null,null,null,null,null,null,null,null,null,null,"51:45"]
[null,null,null,null,null,null,null,null,null,null,null,null,null,null,null,null,null,"52:00"]
[null,null,null,null,null,null,null,null,null,null,null,null,null,null,null,null,null,"52:15"]
[null,null,null,null,null,null,null,null,null,null,null,null,null,null,null,null,null,"52:30"]
[null,null,null,null,null,null,null,null,null,null,null,null,null,null,null,null,null,"52:45"]
[null,null,null,null,null,null,null,null,null,null,null,null,null,null,null,null,null,"53:00"]
[null,null,null,null,null,null,null,null,null,null,null,null,null,null,null,null,null,"53:15"]
[null,null,null,null,null,null,null,null,null,null,null,null,null,null,null,null,null,"53:30"]
[null,null,null,null,null,null,null,null,null,null,null,null,null,null,null,null,null,"53:45"]
[null,null,null,null,null,null,null,null,null,null,null,null,null,null,null,null,null,"54:00"]
[null,null,null,null,null,null,null,null,null,null,null,null,null,null,null,null,null,"54:15"]
[null,null,null,null,null,null,null,null,null,null,null,null,null,null,null,null,null,"54:30"]
[null,null,null,null,null,null,null,null,null,null,null,null,null,null,null,null,null,"54:45"]
[null,null,null,null,null,null,null,null,null,null,null,null,null,null,null,null,null,"55:00"]
[null,null,null,null,null,null,null,null,null,null,null,null,null,null,null,null,null,"55:15"]
[null,null,null,null,null,null,null,null,null,null,null,null,null,null,null,null,null,"55:30"]
[null,null,null,null,null,null,null,null,null,null,null,null,null,null,null,null,null,"55:45"]
[null,null,null,null,null,null,null,null,null,null,null,null,null,null,null,null,null,"56:00"]

{"sheet":"Week 3","index":6,"n_rows":460,"n_cols":59,"rows_kept":460,"cut":false,"hidden":false,"merged":[[11,36,11,40],[17,27,18,27],[17,28,18,28],[17,32,18,34],[17,35,18,35],[17,36,18,40],[12,32,12,34],[12,36,12,40],[13,32,13,34],[13,36,13,40],[14,32,14,34],[14,36,14,40],[15,32,15,34],[15,36,15,40],[16,32,16,34],[16,36,16,40],[54,36,54,38],[43,35,43,36],[17,31,18,31],[53,36,53,38],[7,30,7,35],[7,36,7,40],[17,46,18,46],[17,43,18,43],[17,44,18,44],[17,45,18,45],[43,31,43,32],[43,33,43,34],[43,37,43,38],[43,39,43,40],[21,39,21,40],[20,35,20,40],[8,30,9,30],[8,31,9,31],[8,32,9,34],[8,35,9,35],[8,36,9,40],[10,32,10,34],[10,36,10,40],[11,32,11,34],[49,22,49,25],[17,30,18,30],[52,22,52,25],[48,22,48,25],[51,22,51,25],[17,26,18,26],[17,22,18,22],[17,23,18,23],[43,23,43,24],[43,25,43,26],[17,24,18,24],[17,29,18,29],[43,29,43,30],[43,27,43,28],[41,0,41,6],[131,28,131,30],[43,21,43,22],[24,0,24,6],[49,36,49,38],[48,36,48,38],[48,17,48,20],[46,12,46,15],[46,22,46,25],[43,19,43,20],[100,13,100,18],[52,12,52,15],[45,28,45,39],[50,12,50,15],[47,12,47,15],[46,17,46,20],[52,36,52,38],[50,22,50,25],[47,22,47,25],[47,17,47,20],[51,0,51,4],[48,12,48,15],[45,0,45,11],[52,0,53,4],[49,12,49,15],[52,5,53,5],[49,17,49,20],[51,17,51,20],[50,17,50,20],[50,0,50,4],[43,9,43,10],[42,0,43,6],[51,12,51,15],[43,11,43,12],[45,12,45,16],[43,7,43,8],[43,13,43,14],[43,15,43,16],[43,17,43,18],[46,6,46,10],[46,0,46,4],[47,0,47,4],[47,6,47,10],[52,17,52,20],[8,0,9,0],[8,1,9,2],[8,3,9,4],[8,5,9,6],[11,1,11,2],[7,25,7,29],[8,8,9,8],[8,9,9,9],[7,22,7,24],[10,1,10,2],[8,10,9,10],[38,0,38,6],[40,0,40,6],[39,0,39,6],[17,0,18,6],[29,0,29,6],[28,0,28,6],[25,0,25,6],[23,0,23,6],[17,16,18,16],[17,7,18,7],[30,0,30,6],[31,0,31,6],[32,0,32,6],[33,0,33,6],[37,0,37,6],[0,32,0,40],[2,32,2,40],[2,3,2,8],[6,21,6,25],[6,26,6,27],[6,28,6,32],[6,35,6,39],[5,34,5,40],[6,13,6,14],[6,7,6,12],[6,16,6,19],[2,9,2,10],[6,0,6,6],[15,3,15,4],[15,5,15,6],[16,3,16,4],[16,5,16,6],[17,10,18,10],[6,33,6,34],[7,3,7,10],[7,11,7,13],[7,15,7,20],[8,7,9,7],[17,20,18,20],[17,15,18,15],[17,12,18,12],[17,21,18,21],[17,13,18,13],[17,11,18,11],[17,25,18,25],[17,17,18,17],[17,14,18,14],[17,8,18,8],[17,9,18,9],[17,18,18,18],[17,19,18,19],[16,1,16,2],[12,1,12,2],[0,12,0,25],[1,12,2,25],[48,0,48,4],[49,0,49,4],[12,3,12,4],[12,5,12,6],[10,3,10,4],[10,5,10,6],[11,3,11,4],[11,5,11,6],[13,3,13,4],[13,5,13,6],[14,3,14,4],[14,5,14,6],[20,0,22,6],[27,0,27,6],[26,0,26,6],[36,0,36,6],[35,0,35,6],[13,1,13,2],[15,1,15,2],[14,1,14,2]]}
[{"$f":"\"THP-2C (\"&\"\"&(MAIN!A1)&\")\"","v":"THP-2C (08/2020 Version 1.1)"},null,null,null,null,null,null,null,null,null,null,null,"Texas Department of Public Safety",null,null,null,null,null,null,null,null,null,null,null,null,null,null,null,null,null,null,"GRANT OT SPEED CHART #"]
[null,null,null,null,null,null,null,null,null,null,null,null,"TEXAS HIGHWAY PATROL EQUINE WEEKLY REPORT"]
[null,null,"POSITION TITLE ",{"$f":"IF('Week 1'!D3=\"\",\"\",'Week 1'!D3)","v":"Trooper II"},null,null,null,null,null,"FUNCTION",null,{"$f":"IF('Week 1'!L3=\"\",\"\",'Week 1'!L3)","v":"HP"},null,null,null,null,null,null,null,null,null,null,null,null,null,null,null,null,null,null,null,"GRANT OT SPEED CHART #"]
[]
["                                         "]
[" NAME:  LAST",null,null,null,null,null,null,"FIRST",null,null,null,null,null," INITIAL",null," ID NO.",null,null,null,null," AREA",null,null,null,null,null," REPORTING PERIOD"]
[{"$f":"IF('Week 1'!A7:G7=\"\",\"\",'Week 1'!A7:G7)","v":"SMITH"},null,null,null,null,null,null,{"$f":"IF('Week 1'!H7:M7=\"\",\"\",'Week 1'!H7:M7)","v":"JOE"},null,null,null,null,null,{"$f":"IF('Week 1'!N7:O7=\"\",\"\",'Week 1'!N7:O7)","v":""},null,null,{"$f":"IF('Week 1'!Q7:T7=\"\",\"\",'Week 1'!Q7:T7)","v":1333},null,null,null,null,{"$f":"IF('Week 1'!V7:Z7=\"\",\"\",'Week 1'!V7:Z7)","v":"3EO1"},null,null,null,null,"  FROM:",null,{"$f":"'THP-71'!D12","v":"2019-09-15"},null,null,null,null," THROUGH: ",null,{"$f":"'THP-71'!F12","v":"2019-09-21"}]
["DUTY DAYS",null,null,"HOURS WORKED",null,null,null,null,null,null,null,"GRANT OT WORKED",null,null,"TOTAL DUTY HOURS","ADMINISTRATIVE DUTIES",null,null,null,null,null,null,"ROUTINE DUTIES",null,null,"EQUINE ADMINISTRATIVE",null,null,null,null,"AUTO",null,null,null,null,null,"COUNTY WORKED"]
["DAY","DATE",null,"TIME STARTED WORK",null,"TIME ENDED WORK",null,"HOURS OFF DUTY","REG & OT DAY DUTY HOURS","REG & OT NIGHT DUTY HOURS","TOTAL REG & OT DUTY HOURS","DAY GRANT OT HOURS","NIGHT GRANT OT HOURS","TOTAL GRANT OT HOURS","TOTAL DUTY HOURS","VEHICLE MAINTENANCE","SAFETY / TRAINING PROGRAMS","COURT","BACKGROUND INVESTIGATION","TRAINING","OFFICE DUTY",null,"PATROL ENFORCEMENT","CRASH INVESTIGATION","MOTOR CARRIER WORK","EQUINE TRAINING","EQUINE MAINTENANCE","VETERINARIAN","STABLE, VEHICLE, TRAILER MAINT.","TRAINING CONSTRUCTION","REG & OT DUTY MILES","GRANT OT DUTY MILES","UNIT NUMBER",null,null,"TOTAL DUTY MILES","SELECT COUNTY WHERE 60% OR MORE DUTY TIME SPENT",null,null,null,null,"SCHEDULED DAY OFF","DATE","REG OT","REG + GRANT OT","TIME TAKEN CALC\n(TT2)","TIME TAKEN ACTUAL\n(TT1)","TIME TAKEN","LT 8 HRS DUTY","LT DIFF","Day Off","Total Duty Hours","Total Daily OT"]
[]
["SUN",{"$f":"AC7","v":"2019-09-15"},null,null,null,null,null,null,null,null,{"$f":"IF(OR(D11=\"\",F11=\"\"),\"\",IF(AND(I11=\"\",J11=\"\"),\"\",SUM(I11:J11)))","v":""},null,null,{"$f":"IF(AND(D11=\"\",F11=\"\"),\"\",SUM(L11:M11))","v":""},{"$f":"IF(OR(D11=\"\",F11=\"\"),\"\",IF(AND(G100>0,I100>0),\"*\"&C100&\"*\",IF(G100>0,\"<\"&C100,IF(I100>0,C100&\">\",C100))))","v":""},null,null,null,null,null,null,null,null,null,null,null,null,null,null,null,null,null,null,null,null,{"$f":"IF(SUM(AE11,AF11)=0, \"\", SUM(AE11,AF11))","v":""},null,null,null,null,null,null,{"$f":"B11","v":"2019-09-15"},{"$f":"IF(OR(K11 =\"\",IFERROR((K11-8)<0,0)),0,K11-8)","v":0},{"$f":"IFERROR(IF(OR(O11=\"\",IFERROR((O11-8)<0,0)),0,O11-8),0)","v":0},{"$f":"IF(AD94 = 0,0,AD94)","v":0},{"$f":"IF(AC94 = 0,0,AC94)","v":0},{"$f":"IF((SUMPRODUCT(--((ISNUMBER(SEARCH(AA94,AA$78:AA$91)))),AC$78:AC$91)) > 0,\"Y\",\"N\")","v":"N"},{"$f":"IF(O11 < 8,\"Y\",\"N\")","v":"N"},{"$f":"IF(AW11=\"N\",0,ABS(O11-8))","v":0},{"$f":"IF(AP11<>\"\",\"Y\",\"N\")","v":"N"},{"$f":"IF(O11=\"\",0,IF(ISNUMBER(FIND(\"*\",O11))=TRUE,0,O11))","v":0},{"$f":"AS11","v":0},{"$f":"A11","v":"SUN"}]
["MON",{"$f":"IF(B11=\"\",\"\",B11+1)","v":"2019-09-16"},null,null,null,null,null,null,null,null,"",null,null,"","",null,null,null,null,null,null,null,null,null,null,null,null,null,null,null,null,null,null,null,null,{"$f":"IF(SUM(AE12,AF12)=0, \"\", SUM(AE12,AF12))","v":""},null,null,null,null,null,null,{"$f":"B12","v":"2019-09-16"},{"$f":"IF(OR(K12 =\"\",IFERROR((K12-8)<0,0)),0,K12-8)","v":0},{"$f":"IFERROR(IF(OR(O12=\"\",IFERROR((O12-8)<0,0)),0,O12-8),0)","v":0},{"$f":"IF(AD95 = 0,0,AD95)","v":0},{"$f":"IF(AC95 = 0,0,AC95)","v":0},{"$f":"IF((SUMPRODUCT(--((ISNUMBER(SEARCH(AA95,AA$78:AA$91)))),AC$78:AC$91)) > 0,\"Y\",\"N\")","v":"N"},{"$f":"IF(O12 < 8,\"Y\",\"N\")","v":"N"},{"$f":"IF(AW12=\"N\",0,ABS(O12-8))","v":0},{"$f":"IF(AP12<>\"\",\"Y\",\"N\")","v":"N"},0,{"$f":"AS12","v":0},{"$f":"A12","v":"MON"}]
["TUE",{"$f":"IF(B11=\"\",\"\",B11+2)","v":"2019-09-17"},null,null,null,null,null,null,null,null,"",null,null,"","",null,null,null,null,null,null,null,null,null,null,null,null,null,null,null,null,null,null,null,null,"",null,null,null,null,null,null,"2019-09-17",0,0,0,0,"N","N",0,"N",0,0,"TUE"]
["WED",{"$f":"IF(B11=\"\",\"\",B11+3)","v":"2019-09-18"},null,null,null,null,null,null,null,null,"",null,null,"","",null,null,null,null,null,null,null,null,null,null,null,null,null,null,null,null,null,null,null,null,"",null,null,null,null,null,null,"2019-09-18",0,0,0,0,"N","N",0,"N",0,0,"WED"]
["THU",{"$f":"IF(B11=\"\",\"\",B11+4)","v":"2019-09-19"},null,null,null,null,null,null,null,null,"",null,null,"","",null,null,null,null,null,null,null,null,null,null,null,null,null,null,null,null,null,null,null,null,"",null,null,null,null,null,null,"2019-09-19",0,0,0,0,"N","N",0,"N",0,0,"THU"]
["FRI",{"$f":"IF(B11=\"\",\"\",B11+5)","v":"2019-09-20"},null,null,null,null,null,null,null,null,"",null,null,"","",null,null,null,null,null,null,null,null,null,null,null,null,null,null,null,null,null,null,null,null,"",null,null,null,null,null,null,"2019-09-20",0,0,0,0,"N","N",0,"N",0,0,"FRI"]
["SAT",{"$f":"IF(B11=\"\",\"\",B11+6)","v":"2019-09-21"},null,null,null,null,null,null,null,null,"",null,null,"","",null,null,null,null,null,null,null,null,null,null,null,null,null,null,null,null,null,null,null,null,"",null,null,null,null,null,null,"2019-09-21",0,0,0,0,"N","N",0,"N",{"$f":"IF(O17=\"\",0,IF(ISNUMBER(FIND(\"*\",O17))=TRUE,0,O17))","v":0},0,"SAT"]
["WEEKLY TOTALS",null,null,null,null,null,null,{"$f":"IF(SUM(H11:H17)=0,\"\",SUM(H11:H17))","v":""},"","",{"$f":"IF(SUM(K11:K17)=0,0,SUM(K11:K17))","v":0},"","","",{"$f":"IF(SUM(O11:O17)=0,0,SUM(O11:O17))","v":0},"","","","","","","","","","",{"$f":"IF(SUM(Z11:Z17)=0,\"\",SUM(Z11:Z17))","v":""},"","","","","","",{"$f":"IF(SUM(AI11:AI17)=0,\"\",SUM(AI11:AI17))","v":""},null,null,{"$f":"IF(SUM(AJ11:AJ17)=0,\"\",SUM(AJ11:AJ17))","v":""},null,null,null,null,null,null,null,{"$f":"SUM(AR11:AR17)","v":0},{"$f":"SUM(AS11:AS17)","v":0},{"$f":"SUM(AT11:AT17)","v":0},{"$f":"SUM(AU11:AU17)","v":0}]
[null,null,null,null,null,null,null,null,null,null,null,null,null,null,null,null,null,null,null,null,null,null,null,null,null,null,null,null,null,null,null,null,null,null,null,null,null,null,null,null,null,null,null,null,null,null,null,null,null,null,null,{"$f":"SUM(AZ11:AZ17)","v":0},{"$f":"SUM(BA11:BA17)","v":0}]
[null,null,null,null,null,null,null,"ENFORCEMENT SUMMARY"]
["VIOLATION",null,null,null,null,null,null,"SUNDAY",null,null,null,"MONDAY",null,null,null,"TUESDAY",null,null,null,"WEDNESDAY",null,null,null,"THURSDAY",null,null,null,"FRIDAY",null,null,null,"SATURDAY",null,null,null,"TOTALS"]
[null,null,null,null,null,null,null,"Routine",null,"GRANT OT",null,"Routine",null,"GRANT OT",null,"Routine",null,"GRANT OT",null,"Routine",null,"GRANT OT",null,"Routine",null,"GRANT OT",null,"Routine",null,"GRANT OT",null,"Routine",null,"GRANT OT",null,"Routine",null,"GRANT OT",null,"ALL"]
[null,null,null,null,null,null,null,"A","W","A","W","A","W","A","W","A","W","A","W","A","W","A","W","A","W","A","W","A","W","A","W","A","W","A","W","A","W","A","W","A","W"]
["  SPEEDING",null,null,null,null,null,null,null,null,null,null,null,null,null,null,null,null,null,null,null,null,null,null,null,null,null,null,null,null,null,null,null,null,null,null,{"$f":"SUM(H24+L24+P24+T24+X24+AB24+AF24)","v":0},{"$f":"SUM(I24+M24+Q24+U24+Y24+AC24+AG24)","v":0},{"$f":"SUM(J24+N24+R24+V24+Z24+AD24+AH24)","v":0},{"$f":"SUM(K24+O24+S24+W24+AA24+AE24+AI24)","v":0},{"$f":"AJ24+AL24","v":0},{"$f":"AK24+AM24","v":0},null,null,null,null,null,null,null,"Total Daily OT:",{"$f":"BA19","v":0}]
["  DWI",null,null,null,null,null,null,null,null,null,null,null,null,null,null,null,null,null,null,null,null,null,null,null,null,null,null,null,null,null,null,null,null,null,null,{"$f":"SUM(H25+L25+P25+T25+X25+AB25+AF25)","v":0},null,{"$f":"SUM(J25+N25+R25+V25+Z25+AD25+AH25)","v":0},null,{"$f":"AJ25+AL25","v":0},null,null,null,null,null,null,null,null,"Total Weekly OT:",{"$f":"IF((AZ19-BA19-40)<0,0,AZ19-BA19-40)","v":0}]
["  DUI - MINOR",null,null,null,null,null,null,null,null,null,null,null,null,null,null,null,null,null,null,null,null,null,null,null,null,null,null,null,null,null,null,null,null,null,null,0,null,0,null,0,null,null,null,null,null,null,null,null,"Total OT:",{"$f":"IF((AZ19-BA19-40)<0,BA19,AZ19-40)","v":0}]
["  ADULT RESTRAINT VIOLATIONS",null,null,null,null,null,null,null,null,null,null,null,null,null,null,null,null,null,null,null,null,null,null,null,null,null,null,null,null,null,null,null,null,null,null,0,{"$f":"SUM(AG27,AC27,Y27,U27,Q27,M27,I27)","v":0},0,{"$f":"SUM(K27+O27+S27+W27+AA27+AE27+AI27)","v":0},0,{"$f":"AK27+AM27","v":0},null,null,null,null,null,null,null,"Total CTE:",{"$f":"IF(OR((AZ19+AU18-AX26)<40,(AZ19+AU18-AX26)=40),0,(AZ19+AU18-AX26)-40)","v":0}]
["  CHILD RESTRAINT VIOLATIONS",null,null,null,null,null,null,null,null,null,null,null,null,null,null,null,null,null,null,null,null,null,null,null,null,null,null,null,null,null,null,null,null,null,null,0,{"$f":"SUM(AG28,AC28,Y28,U28,Q28,M28,I28)","v":0},0,0,0,0]
["  HAZMAT (CVE ONLY)",null,null,null,null,null,null,null,null,null,null,null,null,null,null,null,null,null,null,null,null,null,null,null,null,null,null,null,null,null,null,null,null,null,null,0,{"$f":"SUM(AG29,AC29,Y29,U29,Q29,M29,I29)","v":0},0,0,0,0]
["  OVERSIZE",null,null,null,null,null,null,null,null,null,null,null,null,null,null,null,null,null,null,null,null,null,null,null,null,null,null,null,null,null,null,null,null,null,null,0,{"$f":"SUM(AG30,AC30,Y30,U30,Q30,M30,I30)","v":0},0,0,0,0]
["  OVERWEIGHT (CVE ONLY)",null,null,null,null,null,null,null,null,null,null,null,null,null,null,null,null,null,null,null,null,null,null,null,null,null,null,null,null,null,null,null,null,null,null,0,{"$f":"SUM(I31+M31+Q31+U31+Y31+AC31+AG31)","v":0},0,0,0,0]
["  NO INSURANCE OR MC AUTH",null,null,null,null,null,null,null,null,null,null,null,null,null,null,null,null,null,null,null,null,null,null,null,null,null,null,null,null,null,null,null,null,null,null,0,0,0,0,0,0]
["  FMCSR DRIVER",null,null,null,null,null,null,null,null,null,null,null,null,null,null,null,null,null,null,null,null,null,null,null,null,null,null,null,null,null,null,null,null,null,null,0,0,0,0,0,0]
["  DRIVER LICENSE / DWLI ",null,null,null,null,null,null,null,null,null,null,null,null,null,null,null,null,null,null,null,null,null,null,null,null,null,null,null,null,null,null,null,null,null,null,0,0,0,0,0,0]
["  REGISTRATION",null,null,null,null,null,null,null,null,null,null,null,null,null,null,null,null,null,null,null,null,null,null,null,null,null,null,null,null,null,null,null,null,null,null,0,0,0,0,0,0]
["  EQUIPMENT ",null,null,null,null,null,null,null,null,null,null,null,null,null,null,null,null,null,null,null,null,null,null,null,null,null,null,null,null,null,null,null,null,null,null,{"$f":"SUM(H36+L36+P36+T36+X36+AB36+AF36)","v":0},0,{"$f":"SUM(J36+N36+R36+V36+Z36+AD36+AH36)","v":0},{"$f":"SUM(K36+O36+S36+W36+AA36+AE36+AI36)","v":0},{"$f":"AJ36+AL36","v":0},{"$f":"AK36+AM36","v":0}]
["  CRIMINAL (FELONY)",null,null,null,null,null,null,null,null,null,null,null,null,null,null,null,null,null,null,null,null,null,null,null,null,null,null,null,null,null,null,null,null,null,null,0,null,{"$f":"SUM(J37+N37+R37+V37+Z37+AD37+AH37)","v":0},null,{"$f":"AJ37+AL37","v":0}]
["  CRIMINAL (MISDEMEANOR)",null,null,null,null,null,null,null,null,null,null,null,null,null,null,null,null,null,null,null,null,null,null,null,null,null,null,null,null,null,null,null,null,null,null,0,null,{"$f":"SUM(J38+N38+R38+V38+Z38+AD38+AH38)","v":0},null,{"$f":"AJ38+AL38","v":0}]
["  FUGITIVE (FELONY)",null,null,null,null,null,null,null,null,null,null,null,null,null,null,null,null,null,null,null,null,null,null,null,null,null,null,null,null,null,null,null,null,null,null,0,null,{"$f":"SUM(J39+N39+R39+V39+Z39+AD39+AH39)","v":0},null,{"$f":"AJ39+AL39","v":0}]
["  FUGITIVE (MISDEMEANOR)",null,null,null,null,null,null,null,null,null,null,null,null,null,null,null,null,null,null,null,null,null,null,null,null,null,null,null,null,null,null,null,null,null,null,0,null,{"$f":"SUM(J40+N40+R40+V40+Z40+AD40+AH40)","v":0},null,{"$f":"AJ40+AL40","v":0}]
["  ALL OTHER VIOLATIONS",null,null,null,null,null,null,null,null,null,null,null,null,null,null,null,null,null,null,null,null,null,null,null,null,null,null,null,null,null,null,null,null,null,null,0,{"$f":"SUM(I41+M41+Q41+U41+Y41+AC41+AG41)","v":0},{"$f":"SUM(J41+N41+R41+V41+Z41+AD41+AH41)","v":0},{"$f":"SUM(K41+O41+S41+W41+AA41+AE41+AI41)","v":0},{"$f":"AJ41+AL41","v":0},{"$f":"AK41+AM41","v":0}]
["  TOTALS",null,null,null,null,null,null,{"$f":"IF(SUM(H24:H41)<1,\"\", SUM(H24:H41))","v":""},"","","","","","","","","","","","","","","","","","","","","","","","","","","","","","","","",""]
["TOTAL NUMBER OF VEHICLES \nSTOPPED WITH ENFORCEMENT ACTION"]
[null,null,null,null,null,null,null,null,null,null,null,null,null,null,null,null,null,null,null,null,null,null,null,null,null,null,null,null,null,null,null,null,null,null,null,{"$f":"SUM(H44+L44+P44+T44+X44+AB44+AF44)","v":0},null,{"$f":"SUM(J44+N44+R44+V44+Z44+AD44+AH44)","v":0},null,{"$f":"IF(SUM(AJ44+AL44)=0,\"\",SUM(AJ44+AL44))","v":""}]
[]
["ACTIVITIES",null,null,null,null,null,null,null,null,null,null,null,"MOTOR CARRIER",null,null,null,null,null,null,null,null,null,null,null,null,null,null,null,"BE SURE TO CHECK SECONDARY EMPLOYMENT ON BACK"]
["  CRASHES INVESTIGATED",null,null,null,null,null,"  BACKGROUND INV.",null,null,null,null,null," LEVEL 2 INSPECTION"]
["  AGENCY ASSISTS",null,null,null,null,null,"  STOLEN VEH. RECOVERED",null,null,null,null,null," VEHICLE O.O.S."]
["    # TRAFFIC OPS  (W/ OTHER AGENCY)",null,null,null,null,null,"  WARRANTS SERVED",null,null,null,null,null," DRIVER O.O.S."]
["  SCHOOLS VISITED",null,null,null,null,null,"  HQ-35 SEIZURES",null,null,null,null,null,"VEHICLES CHECKED",null,null,null,null,null,null,null,null,null,null,null,null,null,null,null,"TROOPER'S SIGNATURE",null,null,null,null,null,null,null,"DATE"]
["  MOTORIST ASSISTS",null,null,null,null,null,"  INTEL HITS (WATCHLIST)"]
["  SAFETY PROGRAMS",null,null,null,null,null,"  INTEL REPORTS SUBMITTED"]
["  TRAINING PROGRAMS \n  FOR OTHER LE AGENCIES ",null,null,null,null,null,"  VEHICLE PURSUITS"]
[null,null,null,null,null,null,"# OF TASKS",null,null,null,null,null,null,null,null,null,null,null,null,null,null,null,null,null,null,null,null,null,"SUPERVISOR'S SIGNATURE",null,null,null,null,null,null,null,"    DATE"]
[]
[]
[]
[]
[]
[]
[null,"ALT","CAT","CDT","CTT","DBT","DOT","DMT","EMT","EST","FFT","FPT"]
[1,{"$f":"IF('week 3 bk'!AJ13=\"ALT\",'week 3 bk'!AL13,0)","v":0},{"$f":"IF('week 3 bk'!AJ13=\"CAT\",'week 3 bk'!AL13,0)","v":0},{"$f":"IF('week 3 bk'!AJ13=\"CDT\",'week 3 bk'!AL13,0)","v":0},{"$f":"IF('week 3 bk'!AJ13=\"CTT\",'week 3 bk'!AL13,0)","v":0},{"$f":"IF('week 3 bk'!AJ13=\"DBT\",'week 3 bk'!AL13,0)","v":0},{"$f":"IF('week 3 bk'!AJ13=\"DOT\",'week 3 bk'!AL13,0)","v":0},{"$f":"IF('week 3 bk'!AJ13=\"DMT\",'week 3 bk'!AL13,0)","v":0},{"$f":"IF('week 3 bk'!AJ13=\"EMT\",'week 3 bk'!AL13,0)","v":0},{"$f":"IF('week 3 bk'!AJ13=\"EST\",'week 3 bk'!AL13,0)","v":0},{"$f":"IF('week 3 bk'!AJ13=\"FFT\",'week 3 bk'!AL13,0)","v":0},{"$f":"IF('week 3 bk'!AJ13=\"FPT\",'week 3 bk'!AL13,0)","v":0}]
[2,{"$f":"IF('week 3 bk'!AJ14=\"ALT\",'week 3 bk'!AL14,0)","v":0},{"$f":"IF('week 3 bk'!AJ14=\"CAT\",'week 3 bk'!AL14,0)","v":0},{"$f":"IF('week 3 bk'!AJ14=\"CDT\",'week 3 bk'!AL14,0)","v":0},{"$f":"IF('week 3 bk'!AJ14=\"CTT\",'week 3 bk'!AL14,0)","v":0},{"$f":"IF('week 3 bk'!AJ14=\"DBT\",'week 3 bk'!AL14,0)","v":0},{"$f":"IF('week 3 bk'!AJ14=\"DOT\",'week 3 bk'!AL14,0)","v":0},{"$f":"IF('week 3 bk'!AJ14=\"DMT\",'week 3 bk'!AL14,0)","v":0},{"$f":"IF('week 3 bk'!AJ14=\"EMT\",'week 3 bk'!AL14,0)","v":0},{"$f":"IF('week 3 bk'!AJ14=\"EST\",'week 3 bk'!AL14,0)","v":0},{"$f":"IF('week 3 bk'!AJ14=\"FFT\",'week 3 bk'!AL14,0)","v":0},{"$f":"IF('week 3 bk'!AJ14=\"FPT\",'week 3 bk'!AL14,0)","v":0},"HCT","HOB","JST","LDT","LET","LPT","MLT","OHT","OTT","RCT","SAT","SET","SLT","VCT"]
[3,{"$f":"IF('week 3 bk'!AJ15=\"ALT\",'week 3 bk'!AL15,0)","v":0},{"$f":"IF('week 3 bk'!AJ15=\"CAT\",'week 3 bk'!AL15,0)","v":0},{"$f":"IF('week 3 bk'!AJ15=\"CDT\",'week 3 bk'!AL15,0)","v":0},{"$f":"IF('week 3 bk'!AJ15=\"CTT\",'week 3 bk'!AL15,0)","v":0},{"$f":"IF('week 3 bk'!AJ15=\"DBT\",'week 3 bk'!AL15,0)","v":0},{"$f":"IF('week 3 bk'!AJ15=\"DOT\",'week 3 bk'!AL15,0)","v":0},{"$f":"IF('week 3 bk'!AJ15=\"DMT\",'week 3 bk'!AL15,0)","v":0},{"$f":"IF('week 3 bk'!AJ15=\"EMT\",'week 3 bk'!AL15,0)","v":0},{"$f":"IF('week 3 bk'!AJ15=\"EST\",'week 3 bk'!AL15,0)","v":0},{"$f":"IF('week 3 bk'!AJ15=\"FFT\",'week 3 bk'!AL15,0)","v":0},{"$f":"IF('week 3 bk'!AJ15=\"FPT\",'week 3 bk'!AL15,0)","v":0},{"$f":"IF('week 3 bk'!AJ13=\"HCT\",'week 3 bk'!AL13,0)","v":0},{"$f":"IF('week 3 bk'!AJ13=\"HOB\",'week 3 bk'!AL13,0)","v":0},{"$f":"IF('week 3 bk'!AJ13=\"JST\",'week 3 bk'!AL13,0)","v":0},{"$f":"IF('week 3 bk'!AJ13=\"LDT\",'week 3 bk'!AL13,0)","v":0},{"$f":"IF('week 3 bk'!AJ13=\"LET\",'week 3 bk'!AL13,0)","v":0},{"$f":"IF('week 3 bk'!AJ13=\"LPT\",'week 3 bk'!AL13,0)","v":0},{"$f":"IF('week 3 bk'!AJ13=\"MLT\",'week 3 bk'!AL13,0)","v":0},{"$f":"IF('week 3 bk'!AJ13=\"OHT\",'week 3 bk'!AL13,0)","v":0},{"$f":"IF('week 3 bk'!AJ13=\"OTT\",'week 3 bk'!AL13,0)","v":0},{"$f":"IF('week 3 bk'!AJ13=\"RCT\",'week 3 bk'!AL13,0)","v":0},{"$f":"IF('week 3 bk'!AJ13=\"SAT\",'week 3 bk'!AL13,0)","v":0},{"$f":"IF('week 3 bk'!AJ13=\"SET\",'week 3 bk'!AL13,0)","v":0},{"$f":"IF('week 3 bk'!AJ13=\"SLT\",'week 3 bk'!AL13,0)","v":0},{"$f":"IF('week 3 bk'!AJ13=\"VCT\",'week 3 bk'!AL13,0)","v":0}]
[4,{"$f":"IF('week 3 bk'!AJ16=\"ALT\",'week 3 bk'!AL16,0)","v":0},{"$f":"IF('week 3 bk'!AJ16=\"CAT\",'week 3 bk'!AL16,0)","v":0},{"$f":"IF('week 3 bk'!AJ16=\"CDT\",'week 3 bk'!AL16,0)","v":0},{"$f":"IF('week 3 bk'!AJ16=\"CTT\",'week 3 bk'!AL16,0)","v":0},{"$f":"IF('week 3 bk'!AJ16=\"DBT\",'week 3 bk'!AL16,0)","v":0},{"$f":"IF('week 3 bk'!AJ16=\"DOT\",'week 3 bk'!AL16,0)","v":0},{"$f":"IF('week 3 bk'!AJ16=\"DMT\",'week 3 bk'!AL16,0)","v":0},{"$f":"IF('week 3 bk'!AJ16=\"EMT\",'week 3 bk'!AL16,0)","v":0},{"$f":"IF('week 3 bk'!AJ16=\"EST\",'week 3 bk'!AL16,0)","v":0},{"$f":"IF('week 3 bk'!AJ16=\"FFT\",'week 3 bk'!AL16,0)","v":0},{"$f":"IF('week 3 bk'!AJ16=\"FPT\",'week 3 bk'!AL16,0)","v":0},{"$f":"IF('week 3 bk'!AJ14=\"HCT\",'week 3 bk'!AL14,0)","v":0},{"$f":"IF('week 3 bk'!AJ14=\"HOB\",'week 3 bk'!AL14,0)","v":0},{"$f":"IF('week 3 bk'!AJ14=\"JST\",'week 3 bk'!AL14,0)","v":0},{"$f":"IF('week 3 bk'!AJ14=\"LDT\",'week 3 bk'!AL14,0)","v":0},{"$f":"IF('week 3 bk'!AJ14=\"LET\",'week 3 bk'!AL14,0)","v":0},{"$f":"IF('week 3 bk'!AJ14=\"LPT\",'week 3 bk'!AL14,0)","v":0},{"$f":"IF('week 3 bk'!AJ14=\"MLT\",'week 3 bk'!AL14,0)","v":0},{"$f":"IF('week 3 bk'!AJ14=\"OHT\",'week 3 bk'!AL14,0)","v":0},{"$f":"IF('week 3 bk'!AJ14=\"OTT\",'week 3 bk'!AL14,0)","v":0},{"$f":"IF('week 3 bk'!AJ14=\"RCT\",'week 3 bk'!AL14,0)","v":0},{"$f":"IF('week 3 bk'!AJ14=\"SAT\",'week 3 bk'!AL14,0)","v":0},{"$f":"IF('week 3 bk'!AJ14=\"SET\",'week 3 bk'!AL14,0)","v":0},{"$f":"IF('week 3 bk'!AJ14=\"SLT\",'week 3 bk'!AL14,0)","v":0},{"$f":"IF('week 3 bk'!AJ14=\"VCT\",'week 3 bk'!AL14,0)","v":0}]
[5,{"$f":"IF('week 3 bk'!AJ17=\"ALT\",'week 3 bk'!AL17,0)","v":0},{"$f":"IF('week 3 bk'!AJ17=\"CAT\",'week 3 bk'!AL17,0)","v":0},{"$f":"IF('week 3 bk'!AJ17=\"CDT\",'week 3 bk'!AL17,0)","v":0},{"$f":"IF('week 3 bk'!AJ17=\"CTT\",'week 3 bk'!AL17,0)","v":0},{"$f":"IF('week 3 bk'!AJ17=\"DBT\",'week 3 bk'!AL17,0)","v":0},{"$f":"IF('week 3 bk'!AJ17=\"DOT\",'week 3 bk'!AL17,0)","v":0},{"$f":"IF('week 3 bk'!AJ17=\"DMT\",'week 3 bk'!AL17,0)","v":0},{"$f":"IF('week 3 bk'!AJ17=\"EMT\",'week 3 bk'!AL17,0)","v":0},{"$f":"IF('week 3 bk'!AJ17=\"EST\",'week 3 bk'!AL17,0)","v":0},{"$f":"IF('week 3 bk'!AJ17=\"FFT\",'week 3 bk'!AL17,0)","v":0},{"$f":"IF('week 3 bk'!AJ17=\"FPT\",'week 3 bk'!AL17,0)","v":0},{"$f":"IF('week 3 bk'!AJ15=\"HCT\",'week 3 bk'!AL15,0)","v":0},{"$f":"IF('week 3 bk'!AJ15=\"HOB\",'week 3 bk'!AL15,0)","v":0},{"$f":"IF('week 3 bk'!AJ15=\"JST\",'week 3 bk'!AL15,0)","v":0},{"$f":"IF('week 3 bk'!AJ15=\"LDT\",'week 3 bk'!AL15,0)","v":0},{"$f":"IF('week 3 bk'!AJ15=\"LET\",'week 3 bk'!AL15,0)","v":0},{"$f":"IF('week 3 bk'!AJ15=\"LPT\",'week 3 bk'!AL15,0)","v":0},{"$f":"IF('week 3 bk'!AJ15=\"MLT\",'week 3 bk'!AL15,0)","v":0},{"$f":"IF('week 3 bk'!AJ15=\"OHT\",'week 3 bk'!AL15,0)","v":0},{"$f":"IF('week 3 bk'!AJ15=\"OTT\",'week 3 bk'!AL15,0)","v":0},{"$f":"IF('week 3 bk'!AJ15=\"RCT\",'week 3 bk'!AL15,0)","v":0},{"$f":"IF('week 3 bk'!AJ15=\"SAT\",'week 3 bk'!AL15,0)","v":0},{"$f":"IF('week 3 bk'!AJ15=\"SET\",'week 3 bk'!AL15,0)","v":0},{"$f":"IF('week 3 bk'!AJ15=\"SLT\",'week 3 bk'!AL15,0)","v":0},{"$f":"IF('week 3 bk'!AJ15=\"VCT\",'week 3 bk'!AL15,0)","v":0}]
[6,{"$f":"IF('week 3 bk'!AJ18=\"ALT\",'week 3 bk'!AL18,0)","v":0},{"$f":"IF('week 3 bk'!AJ18=\"CAT\",'week 3 bk'!AL18,0)","v":0},{"$f":"IF('week 3 bk'!AJ18=\"CDT\",'week 3 bk'!AL18,0)","v":0},{"$f":"IF('week 3 bk'!AJ18=\"CTT\",'week 3 bk'!AL18,0)","v":0},{"$f":"IF('week 3 bk'!AJ18=\"DBT\",'week 3 bk'!AL18,0)","v":0},{"$f":"IF('week 3 bk'!AJ18=\"DOT\",'week 3 bk'!AL18,0)","v":0},{"$f":"IF('week 3 bk'!AJ18=\"DMT\",'week 3 bk'!AL18,0)","v":0},{"$f":"IF('week 3 bk'!AJ18=\"EMT\",'week 3 bk'!AL18,0)","v":0},{"$f":"IF('week 3 bk'!AJ18=\"EST\",'week 3 bk'!AL18,0)","v":0},{"$f":"IF('week 3 bk'!AJ18=\"FFT\",'week 3 bk'!AL18,0)","v":0},{"$f":"IF('week 3 bk'!AJ18=\"FPT\",'week 3 bk'!AL18,0)","v":0},{"$f":"IF('week 3 bk'!AJ16=\"HCT\",'week 3 bk'!AL16,0)","v":0},{"$f":"IF('week 3 bk'!AJ16=\"HOB\",'week 3 bk'!AL16,0)","v":0},{"$f":"IF('week 3 bk'!AJ16=\"JST\",'week 3 bk'!AL16,0)","v":0},{"$f":"IF('week 3 bk'!AJ16=\"LDT\",'week 3 bk'!AL16,0)","v":0},{"$f":"IF('week 3 bk'!AJ16=\"LET\",'week 3 bk'!AL16,0)","v":0},{"$f":"IF('week 3 bk'!AJ16=\"LPT\",'week 3 bk'!AL16,0)","v":0},{"$f":"IF('week 3 bk'!AJ16=\"MLT\",'week 3 bk'!AL16,0)","v":0},{"$f":"IF('week 3 bk'!AJ16=\"OHT\",'week 3 bk'!AL16,0)","v":0},{"$f":"IF('week 3 bk'!AJ16=\"OTT\",'week 3 bk'!AL16,0)","v":0},{"$f":"IF('week 3 bk'!AJ16=\"RCT\",'week 3 bk'!AL16,0)","v":0},{"$f":"IF('week 3 bk'!AJ16=\"SAT\",'week 3 bk'!AL16,0)","v":0},{"$f":"IF('week 3 bk'!AJ16=\"SET\",'week 3 bk'!AL16,0)","v":0},{"$f":"IF('week 3 bk'!AJ16=\"SLT\",'week 3 bk'!AL16,0)","v":0},{"$f":"IF('week 3 bk'!AJ16=\"VCT\",'week 3 bk'!AL16,0)","v":0}]
[7,{"$f":"IF('week 3 bk'!AJ19=\"ALT\",'week 3 bk'!AL19,0)","v":0},{"$f":"IF('week 3 bk'!AJ19=\"CAT\",'week 3 bk'!AL19,0)","v":0},{"$f":"IF('week 3 bk'!AJ19=\"CDT\",'week 3 bk'!AL19,0)","v":0},{"$f":"IF('week 3 bk'!AJ19=\"CTT\",'week 3 bk'!AL19,0)","v":0},{"$f":"IF('week 3 bk'!AJ19=\"DBT\",'week 3 bk'!AL19,0)","v":0},{"$f":"IF('week 3 bk'!AJ19=\"DOT\",'week 3 bk'!AL19,0)","v":0},{"$f":"IF('week 3 bk'!AJ19=\"DMT\",'week 3 bk'!AL19,0)","v":0},{"$f":"IF('week 3 bk'!AJ19=\"EMT\",'week 3 bk'!AL19,0)","v":0},{"$f":"IF('week 3 bk'!AJ19=\"EST\",'week 3 bk'!AL19,0)","v":0},{"$f":"IF('week 3 bk'!AJ19=\"FFT\",'week 3 bk'!AL19,0)","v":0},{"$f":"IF('week 3 bk'!AJ19=\"FPT\",'week 3 bk'!AL19,0)","v":0},{"$f":"IF('week 3 bk'!AJ17=\"HCT\",'week 3 bk'!AL17,0)","v":0},{"$f":"IF('week 3 bk'!AJ17=\"HOB\",'week 3 bk'!AL17,0)","v":0},{"$f":"IF('week 3 bk'!AJ17=\"JST\",'week 3 bk'!AL17,0)","v":0},{"$f":"IF('week 3 bk'!AJ17=\"LDT\",'week 3 bk'!AL17,0)","v":0},{"$f":"IF('week 3 bk'!AJ17=\"LET\",'week 3 bk'!AL17,0)","v":0},{"$f":"IF('week 3 bk'!AJ17=\"LPT\",'week 3 bk'!AL17,0)","v":0},{"$f":"IF('week 3 bk'!AJ17=\"MLT\",'week 3 bk'!AL17,0)","v":0},{"$f":"IF('week 3 bk'!AJ17=\"OHT\",'week 3 bk'!AL17,0)","v":0},{"$f":"IF('week 3 bk'!AJ17=\"OTT\",'week 3 bk'!AL17,0)","v":0},{"$f":"IF('week 3 bk'!AJ17=\"RCT\",'week 3 bk'!AL17,0)","v":0},{"$f":"IF('week 3 bk'!AJ17=\"SAT\",'week 3 bk'!AL17,0)","v":0},{"$f":"IF('week 3 bk'!AJ17=\"SET\",'week 3 bk'!AL17,0)","v":0},{"$f":"IF('week 3 bk'!AJ17=\"SLT\",'week 3 bk'!AL17,0)","v":0},{"$f":"IF('week 3 bk'!AJ17=\"VCT\",'week 3 bk'!AL17,0)","v":0}]
[8,{"$f":"IF('week 3 bk'!AJ20=\"ALT\",'week 3 bk'!AL20,0)","v":0},{"$f":"IF('week 3 bk'!AJ20=\"CAT\",'week 3 bk'!AL20,0)","v":0},{"$f":"IF('week 3 bk'!AJ20=\"CDT\",'week 3 bk'!AL20,0)","v":0},{"$f":"IF('week 3 bk'!AJ20=\"CTT\",'week 3 bk'!AL20,0)","v":0},{"$f":"IF('week 3 bk'!AJ20=\"DBT\",'week 3 bk'!AL20,0)","v":0},{"$f":"IF('week 3 bk'!AJ20=\"DOT\",'week 3 bk'!AL20,0)","v":0},{"$f":"IF('week 3 bk'!AJ20=\"DMT\",'week 3 bk'!AL20,0)","v":0},{"$f":"IF('week 3 bk'!AJ20=\"EMT\",'week 3 bk'!AL20,0)","v":0},{"$f":"IF('week 3 bk'!AJ20=\"EST\",'week 3 bk'!AL20,0)","v":0},{"$f":"IF('week 3 bk'!AJ20=\"FFT\",'week 3 bk'!AL20,0)","v":0},{"$f":"IF('week 3 bk'!AJ20=\"FPT\",'week 3 bk'!AL20,0)","v":0},{"$f":"IF('week 3 bk'!AJ18=\"HCT\",'week 3 bk'!AL18,0)","v":0},{"$f":"IF('week 3 bk'!AJ18=\"HOB\",'week 3 bk'!AL18,0)","v":0},{"$f":"IF('week 3 bk'!AJ18=\"JST\",'week 3 bk'!AL18,0)","v":0},{"$f":"IF('week 3 bk'!AJ18=\"LDT\",'week 3 bk'!AL18,0)","v":0},{"$f":"IF('week 3 bk'!AJ18=\"LET\",'week 3 bk'!AL18,0)","v":0},{"$f":"IF('week 3 bk'!AJ18=\"LPT\",'week 3 bk'!AL18,0)","v":0},{"$f":"IF('week 3 bk'!AJ18=\"MLT\",'week 3 bk'!AL18,0)","v":0},{"$f":"IF('week 3 bk'!AJ18=\"OHT\",'week 3 bk'!AL18,0)","v":0},{"$f":"IF('week 3 bk'!AJ18=\"OTT\",'week 3 bk'!AL18,0)","v":0},{"$f":"IF('week 3 bk'!AJ18=\"RCT\",'week 3 bk'!AL18,0)","v":0},{"$f":"IF('week 3 bk'!AJ18=\"SAT\",'week 3 bk'!AL18,0)","v":0},{"$f":"IF('week 3 bk'!AJ18=\"SET\",'week 3 bk'!AL18,0)","v":0},{"$f":"IF('week 3 bk'!AJ18=\"SLT\",'week 3 bk'!AL18,0)","v":0},{"$f":"IF('week 3 bk'!AJ18=\"VCT\",'week 3 bk'!AL18,0)","v":0}]
[9,{"$f":"IF('week 3 bk'!AJ21=\"ALT\",'week 3 bk'!AL21,0)","v":0},{"$f":"IF('week 3 bk'!AJ21=\"CAT\",'week 3 bk'!AL21,0)","v":0},{"$f":"IF('week 3 bk'!AJ21=\"CDT\",'week 3 bk'!AL21,0)","v":0},{"$f":"IF('week 3 bk'!AJ21=\"CTT\",'week 3 bk'!AL21,0)","v":0},{"$f":"IF('week 3 bk'!AJ21=\"DBT\",'week 3 bk'!AL21,0)","v":0},{"$f":"IF('week 3 bk'!AJ21=\"DOT\",'week 3 bk'!AL21,0)","v":0},{"$f":"IF('week 3 bk'!AJ21=\"DMT\",'week 3 bk'!AL21,0)","v":0},{"$f":"IF('week 3 bk'!AJ21=\"EMT\",'week 3 bk'!AL21,0)","v":0},{"$f":"IF('week 3 bk'!AJ21=\"EST\",'week 3 bk'!AL21,0)","v":0},{"$f":"IF('week 3 bk'!AJ21=\"FFT\",'week 3 bk'!AL21,0)","v":0},{"$f":"IF('week 3 bk'!AJ21=\"FPT\",'week 3 bk'!AL21,0)","v":0},{"$f":"IF('week 3 bk'!AJ19=\"HCT\",'week 3 bk'!AL19,0)","v":0},{"$f":"IF('week 3 bk'!AJ19=\"HOB\",'week 3 bk'!AL19,0)","v":0},{"$f":"IF('week 3 bk'!AJ19=\"JST\",'week 3 bk'!AL19,0)","v":0},{"$f":"IF('week 3 bk'!AJ19=\"LDT\",'week 3 bk'!AL19,0)","v":0},{"$f":"IF('week 3 bk'!AJ19=\"LET\",'week 3 bk'!AL19,0)","v":0},{"$f":"IF('week 3 bk'!AJ19=\"LPT\",'week 3 bk'!AL19,0)","v":0},{"$f":"IF('week 3 bk'!AJ19=\"MLT\",'week 3 bk'!AL19,0)","v":0},{"$f":"IF('week 3 bk'!AJ19=\"OHT\",'week 3 bk'!AL19,0)","v":0},{"$f":"IF('week 3 bk'!AJ19=\"OTT\",'week 3 bk'!AL19,0)","v":0},{"$f":"IF('week 3 bk'!AJ19=\"RCT\",'week 3 bk'!AL19,0)","v":0},{"$f":"IF('week 3 bk'!AJ19=\"SAT\",'week 3 bk'!AL19,0)","v":0},{"$f":"IF('week 3 bk'!AJ19=\"SET\",'week 3 bk'!AL19,0)","v":0},{"$f":"IF('week 3 bk'!AJ19=\"SLT\",'week 3 bk'!AL19,0)","v":0},{"$f":"IF('week 3 bk'!AJ19=\"VCT\",'week 3 bk'!AL19,0)","v":0}]
[10,{"$f":"IF('week 3 bk'!AJ22=\"ALT\",'week 3 bk'!AL22,0)","v":0},{"$f":"IF('week 3 bk'!AJ22=\"CAT\",'week 3 bk'!AL22,0)","v":0},{"$f":"IF('week 3 bk'!AJ22=\"CDT\",'week 3 bk'!AL22,0)","v":0},{"$f":"IF('week 3 bk'!AJ22=\"CTT\",'week 3 bk'!AL22,0)","v":0},{"$f":"IF('week 3 bk'!AJ22=\"DBT\",'week 3 bk'!AL22,0)","v":0},{"$f":"IF('week 3 bk'!AJ22=\"DOT\",'week 3 bk'!AL22,0)","v":0},{"$f":"IF('week 3 bk'!AJ22=\"DMT\",'week 3 bk'!AL22,0)","v":0},{"$f":"IF('week 3 bk'!AJ22=\"EMT\",'week 3 bk'!AL22,0)","v":0},{"$f":"IF('week 3 bk'!AJ22=\"EST\",'week 3 bk'!AL22,0)","v":0},{"$f":"IF('week 3 bk'!AJ22=\"FFT\",'week 3 bk'!AL22,0)","v":0},{"$f":"IF('week 3 bk'!AJ22=\"FPT\",'week 3 bk'!AL22,0)","v":0},{"$f":"IF('week 3 bk'!AJ20=\"HCT\",'week 3 bk'!AL20,0)","v":0},{"$f":"IF('week 3 bk'!AJ20=\"HOB\",'week 3 bk'!AL20,0)","v":0},{"$f":"IF('week 3 bk'!AJ20=\"JST\",'week 3 bk'!AL20,0)","v":0},{"$f":"IF('week 3 bk'!AJ20=\"LDT\",'week 3 bk'!AL20,0)","v":0},{"$f":"IF('week 3 bk'!AJ20=\"LET\",'week 3 bk'!AL20,0)","v":0},{"$f":"IF('week 3 bk'!AJ20=\"LPT\",'week 3 bk'!AL20,0)","v":0},{"$f":"IF('week 3 bk'!AJ20=\"MLT\",'week 3 bk'!AL20,0)","v":0},{"$f":"IF('week 3 bk'!AJ20=\"OHT\",'week 3 bk'!AL20,0)","v":0},{"$f":"IF('week 3 bk'!AJ20=\"OTT\",'week 3 bk'!AL20,0)","v":0},{"$f":"IF('week 3 bk'!AJ20=\"RCT\",'week 3 bk'!AL20,0)","v":0},{"$f":"IF('week 3 bk'!AJ20=\"SAT\",'week 3 bk'!AL20,0)","v":0},{"$f":"IF('week 3 bk'!AJ20=\"SET\",'week 3 bk'!AL20,0)","v":0},{"$f":"IF('week 3 bk'!AJ20=\"SLT\",'week 3 bk'!AL20,0)","v":0},{"$f":"IF('week 3 bk'!AJ20=\"VCT\",'week 3 bk'!AL20,0)","v":0}]
[11,{"$f":"IF('week 3 bk'!AJ23=\"ALT\",'week 3 bk'!AL23,0)","v":0},{"$f":"IF('week 3 bk'!AJ23=\"CAT\",'week 3 bk'!AL23,0)","v":0},{"$f":"IF('week 3 bk'!AJ23=\"CDT\",'week 3 bk'!AL23,0)","v":0},{"$f":"IF('week 3 bk'!AJ23=\"CTT\",'week 3 bk'!AL23,0)","v":0},{"$f":"IF('week 3 bk'!AJ23=\"DBT\",'week 3 bk'!AL23,0)","v":0},{"$f":"IF('week 3 bk'!AJ23=\"DOT\",'week 3 bk'!AL23,0)","v":0},{"$f":"IF('week 3 bk'!AJ23=\"DMT\",'week 3 bk'!AL23,0)","v":0},{"$f":"IF('week 3 bk'!AJ23=\"EMT\",'week 3 bk'!AL23,0)","v":0},{"$f":"IF('week 3 bk'!AJ23=\"EST\",'week 3 bk'!AL23,0)","v":0},{"$f":"IF('week 3 bk'!AJ23=\"FFT\",'week 3 bk'!AL23,0)","v":0},{"$f":"IF('week 3 bk'!AJ23=\"FPT\",'week 3 bk'!AL23,0)","v":0},{"$f":"IF('week 3 bk'!AJ21=\"HCT\",'week 3 bk'!AL21,0)","v":0},{"$f":"IF('week 3 bk'!AJ21=\"HOB\",'week 3 bk'!AL21,0)","v":0},{"$f":"IF('week 3 bk'!AJ21=\"JST\",'week 3 bk'!AL21,0)","v":0},{"$f":"IF('week 3 bk'!AJ21=\"LDT\",'week 3 bk'!AL21,0)","v":0},{"$f":"IF('week 3 bk'!AJ21=\"LET\",'week 3 bk'!AL21,0)","v":0},{"$f":"IF('week 3 bk'!AJ21=\"LPT\",'week 3 bk'!AL21,0)","v":0},{"$f":"IF('week 3 bk'!AJ21=\"MLT\",'week 3 bk'!AL21,0)","v":0},{"$f":"IF('week 3 bk'!AJ21=\"OHT\",'week 3 bk'!AL21,0)","v":0},{"$f":"IF('week 3 bk'!AJ21=\"OTT\",'week 3 bk'!AL21,0)","v":0},{"$f":"IF('week 3 bk'!AJ21=\"RCT\",'week 3 bk'!AL21,0)","v":0},{"$f":"IF('week 3 bk'!AJ21=\"SAT\",'week 3 bk'!AL21,0)","v":0},{"$f":"IF('week 3 bk'!AJ21=\"SET\",'week 3 bk'!AL21,0)","v":0},{"$f":"IF('week 3 bk'!AJ21=\"SLT\",'week 3 bk'!AL21,0)","v":0},{"$f":"IF('week 3 bk'!AJ21=\"VCT\",'week 3 bk'!AL21,0)","v":0}]
[12,{"$f":"IF('week 3 bk'!AJ24=\"ALT\",'week 3 bk'!AL24,0)","v":0},{"$f":"IF('week 3 bk'!AJ24=\"CAT\",'week 3 bk'!AL24,0)","v":0},{"$f":"IF('week 3 bk'!AJ24=\"CDT\",'week 3 bk'!AL24,0)","v":0},{"$f":"IF('week 3 bk'!AJ24=\"CTT\",'week 3 bk'!AL24,0)","v":0},{"$f":"IF('week 3 bk'!AJ24=\"DBT\",'week 3 bk'!AL24,0)","v":0},{"$f":"IF('week 3 bk'!AJ24=\"DOT\",'week 3 bk'!AL24,0)","v":0},{"$f":"IF('week 3 bk'!AJ24=\"DMT\",'week 3 bk'!AL24,0)","v":0},{"$f":"IF('week 3 bk'!AJ24=\"EMT\",'week 3 bk'!AL24,0)","v":0},{"$f":"IF('week 3 bk'!AJ24=\"EST\",'week 3 bk'!AL24,0)","v":0},{"$f":"IF('week 3 bk'!AJ24=\"FFT\",'week 3 bk'!AL24,0)","v":0},{"$f":"IF('week 3 bk'!AJ24=\"FPT\",'week 3 bk'!AL24,0)","v":0},{"$f":"IF('week 3 bk'!AJ22=\"HCT\",'week 3 bk'!AL22,0)","v":0},{"$f":"IF('week 3 bk'!AJ22=\"HOB\",'week 3 bk'!AL22,0)","v":0},{"$f":"IF('week 3 bk'!AJ22=\"JST\",'week 3 bk'!AL22,0)","v":0},{"$f":"IF('week 3 bk'!AJ22=\"LDT\",'week 3 bk'!AL22,0)","v":0},{"$f":"IF('week 3 bk'!AJ22=\"LET\",'week 3 bk'!AL22,0)","v":0},{"$f":"IF('week 3 bk'!AJ22=\"LPT\",'week 3 bk'!AL22,0)","v":0},{"$f":"IF('week 3 bk'!AJ22=\"MLT\",'week 3 bk'!AL22,0)","v":0},{"$f":"IF('week 3 bk'!AJ22=\"OHT\",'week 3 bk'!AL22,0)","v":0},{"$f":"IF('week 3 bk'!AJ22=\"OTT\",'week 3 bk'!AL22,0)","v":0},{"$f":"IF('week 3 bk'!AJ22=\"RCT\",'week 3 bk'!AL22,0)","v":0},{"$f":"IF('week 3 bk'!AJ22=\"SAT\",'week 3 bk'!AL22,0)","v":0},{"$f":"IF('week 3 bk'!AJ22=\"SET\",'week 3 bk'!AL22,0)","v":0},{"$f":"IF('week 3 bk'!AJ22=\"SLT\",'week 3 bk'!AL22,0)","v":0},{"$f":"IF('week 3 bk'!AJ22=\"VCT\",'week 3 bk'!AL22,0)","v":0}]
[13,{"$f":"IF('week 3 bk'!AJ25=\"ALT\",'week 3 bk'!AL25,0)","v":0},{"$f":"IF('week 3 bk'!AJ25=\"CAT\",'week 3 bk'!AL25,0)","v":0},{"$f":"IF('week 3 bk'!AJ25=\"CDT\",'week 3 bk'!AL25,0)","v":0},{"$f":"IF('week 3 bk'!AJ25=\"CTT\",'week 3 bk'!AL25,0)","v":0},{"$f":"IF('week 3 bk'!AJ25=\"DBT\",'week 3 bk'!AL25,0)","v":0},{"$f":"IF('week 3 bk'!AJ25=\"DOT\",'week 3 bk'!AL25,0)","v":0},{"$f":"IF('week 3 bk'!AJ25=\"DMT\",'week 3 bk'!AL25,0)","v":0},{"$f":"IF('week 3 bk'!AJ25=\"EMT\",'week 3 bk'!AL25,0)","v":0},{"$f":"IF('week 3 bk'!AJ25=\"EST\",'week 3 bk'!AL25,0)","v":0},{"$f":"IF('week 3 bk'!AJ25=\"FFT\",'week 3 bk'!AL25,0)","v":0},{"$f":"IF('week 3 bk'!AJ25=\"FPT\",'week 3 bk'!AL25,0)","v":0},{"$f":"IF('week 3 bk'!AJ23=\"HCT\",'week 3 bk'!AL23,0)","v":0},{"$f":"IF('week 3 bk'!AJ23=\"HOB\",'week 3 bk'!AL23,0)","v":0},{"$f":"IF('week 3 bk'!AJ23=\"JST\",'week 3 bk'!AL23,0)","v":0},{"$f":"IF('week 3 bk'!AJ23=\"LDT\",'week 3 bk'!AL23,0)","v":0},{"$f":"IF('week 3 bk'!AJ23=\"LET\",'week 3 bk'!AL23,0)","v":0},{"$f":"IF('week 3 bk'!AJ23=\"LPT\",'week 3 bk'!AL23,0)","v":0},{"$f":"IF('week 3 bk'!AJ23=\"MLT\",'week 3 bk'!AL23,0)","v":0},{"$f":"IF('week 3 bk'!AJ23=\"OHT\",'week 3 bk'!AL23,0)","v":0},{"$f":"IF('week 3 bk'!AJ23=\"OTT\",'week 3 bk'!AL23,0)","v":0},{"$f":"IF('week 3 bk'!AJ23=\"RCT\",'week 3 bk'!AL23,0)","v":0},{"$f":"IF('week 3 bk'!AJ23=\"SAT\",'week 3 bk'!AL23,0)","v":0},{"$f":"IF('week 3 bk'!AJ23=\"SET\",'week 3 bk'!AL23,0)","v":0},{"$f":"IF('week 3 bk'!AJ23=\"SLT\",'week 3 bk'!AL23,0)","v":0},{"$f":"IF('week 3 bk'!AJ23=\"VCT\",'week 3 bk'!AL23,0)","v":0}]
[14,{"$f":"IF('week 3 bk'!AJ26=\"ALT\",'week 3 bk'!AL26,0)","v":0},{"$f":"IF('week 3 bk'!AJ26=\"CAT\",'week 3 bk'!AL26,0)","v":0},{"$f":"IF('week 3 bk'!AJ26=\"CDT\",'week 3 bk'!AL26,0)","v":0},{"$f":"IF('week 3 bk'!AJ26=\"CTT\",'week 3 bk'!AL26,0)","v":0},{"$f":"IF('week 3 bk'!AJ26=\"DBT\",'week 3 bk'!AL26,0)","v":0},{"$f":"IF('week 3 bk'!AJ26=\"DOT\",'week 3 bk'!AL26,0)","v":0},{"$f":"IF('week 3 bk'!AJ26=\"DMT\",'week 3 bk'!AL26,0)","v":0},{"$f":"IF('week 3 bk'!AJ26=\"EMT\",'week 3 bk'!AL26,0)","v":0},{"$f":"IF('week 3 bk'!AJ26=\"EST\",'week 3 bk'!AL26,0)","v":0},{"$f":"IF('week 3 bk'!AJ26=\"FFT\",'week 3 bk'!AL26,0)","v":0},{"$f":"IF('week 3 bk'!AJ26=\"FPT\",'week 3 bk'!AL26,0)","v":0},{"$f":"IF('week 3 bk'!AJ24=\"HCT\",'week 3 bk'!AL24,0)","v":0},{"$f":"IF('week 3 bk'!AJ24=\"HOB\",'week 3 bk'!AL24,0)","v":0},{"$f":"IF('week 3 bk'!AJ24=\"JST\",'week 3 bk'!AL24,0)","v":0},{"$f":"IF('week 3 bk'!AJ24=\"LDT\",'week 3 bk'!AL24,0)","v":0},{"$f":"IF('week 3 bk'!AJ24=\"LET\",'week 3 bk'!AL24,0)","v":0},{"$f":"IF('week 3 bk'!AJ24=\"LPT\",'week 3 bk'!AL24,0)","v":0},{"$f":"IF('week 3 bk'!AJ24=\"MLT\",'week 3 bk'!AL24,0)","v":0},{"$f":"IF('week 3 bk'!AJ24=\"OHT\",'week 3 bk'!AL24,0)","v":0},{"$f":"IF('week 3 bk'!AJ24=\"OTT\",'week 3 bk'!AL24,0)","v":0},{"$f":"IF('week 3 bk'!AJ24=\"RCT\",'week 3 bk'!AL24,0)","v":0},{"$f":"IF('week 3 bk'!AJ24=\"SAT\",'week 3 bk'!AL24,0)","v":0},{"$f":"IF('week 3 bk'!AJ24=\"SET\",'week 3 bk'!AL24,0)","v":0},{"$f":"IF('week 3 bk'!AJ24=\"SLT\",'week 3 bk'!AL24,0)","v":0},{"$f":"IF('week 3 bk'!AJ24=\"VCT\",'week 3 bk'!AL24,0)","v":0}]
[null,null,null,null,null,null,null,null,null,null,null,null,{"$f":"IF('week 3 bk'!AJ25=\"HCT\",'week 3 bk'!AL25,0)","v":0},{"$f":"IF('week 3 bk'!AJ25=\"HOB\",'week 3 bk'!AL25,0)","v":0},{"$f":"IF('week 3 bk'!AJ25=\"JST\",'week 3 bk'!AL25,0)","v":0},{"$f":"IF('week 3 bk'!AJ25=\"LDT\",'week 3 bk'!AL25,0)","v":0},{"$f":"IF('week 3 bk'!AJ25=\"LET\",'week 3 bk'!AL25,0)","v":0},{"$f":"IF('week 3 bk'!AJ25=\"LPT\",'week 3 bk'!AL25,0)","v":0},{"$f":"IF('week 3 bk'!AJ25=\"MLT\",'week 3 bk'!AL25,0)","v":0},{"$f":"IF('week 3 bk'!AJ25=\"OHT\",'week 3 bk'!AL25,0)","v":0},{"$f":"IF('week 3 bk'!AJ25=\"OTT\",'week 3 bk'!AL25,0)","v":0},{"$f":"IF('week 3 bk'!AJ25=\"RCT\",'week 3 bk'!AL25,0)","v":0},{"$f":"IF('week 3 bk'!AJ25=\"SAT\",'week 3 bk'!AL25,0)","v":0},{"$f":"IF('week 3 bk'!AJ25=\"SET\",'week 3 bk'!AL25,0)","v":0},{"$f":"IF('week 3 bk'!AJ25=\"SLT\",'week 3 bk'!AL25,0)","v":0},{"$f":"IF('week 3 bk'!AJ25=\"VCT\",'week 3 bk'!AL25,0)","v":0}]
[null,null,null,null,null,null,null,null,null,null,null,null,{"$f":"IF('week 3 bk'!AJ26=\"HCT\",'week 3 bk'!AL26,0)","v":0},{"$f":"IF('week 3 bk'!AJ26=\"HOB\",'week 3 bk'!AL26,0)","v":0},{"$f":"IF('week 3 bk'!AJ26=\"JST\",'week 3 bk'!AL26,0)","v":0},{"$f":"IF('week 3 bk'!AJ26=\"LDT\",'week 3 bk'!AL26,0)","v":0},{"$f":"IF('week 3 bk'!AJ26=\"LET\",'week 3 bk'!AL26,0)","v":0},{"$f":"IF('week 3 bk'!AJ26=\"LPT\",'week 3 bk'!AL26,0)","v":0},{"$f":"IF('week 3 bk'!AJ26=\"MLT\",'week 3 bk'!AL26,0)","v":0},{"$f":"IF('week 3 bk'!AJ26=\"OHT\",'week 3 bk'!AL26,0)","v":0},{"$f":"IF('week 3 bk'!AJ26=\"OTT\",'week 3 bk'!AL26,0)","v":0},{"$f":"IF('week 3 bk'!AJ26=\"RCT\",'week 3 bk'!AL26,0)","v":0},{"$f":"IF('week 3 bk'!AJ26=\"SAT\",'week 3 bk'!AL26,0)","v":0},{"$f":"IF('week 3 bk'!AJ26=\"SET\",'week 3 bk'!AL26,0)","v":0},{"$f":"IF('week 3 bk'!AJ26=\"SLT\",'week 3 bk'!AL26,0)","v":0},{"$f":"IF('week 3 bk'!AJ26=\"VCT\",'week 3 bk'!AL26,0)","v":0}]
[null,null,null,null,null,null,null,null,null,null,null,null,null,null,null,null,null,null,null,null,null,null,null,null,null,null,{"$f":"IF('week 3 bk'!AN13=\"\",\"\",IF(AB78=FALSE,\"\",('week 3 bk'!AN13)))","v":""},{"$f":"SUMPRODUCT(--ISNUMBER(SEARCH(TakenRng,'week 3 bk'!AJ13)))>0","v":false},{"$f":"'week 3 bk'!AL13","v":0}]
[null,null,null,null,null,null,null,null,null,null,null,null,null,null,null,null,null,null,null,null,null,null,null,null,null,null,{"$f":"IF('week 3 bk'!AN14=\"\",\"\",IF(AB79=FALSE,\"\",('week 3 bk'!AN14)))","v":""},{"$f":"SUMPRODUCT(--ISNUMBER(SEARCH(TakenRng,'week 3 bk'!AJ14)))>0","v":false},{"$f":"'week 3 bk'!AL14","v":0}]
[null,null,null,null,null,null,null,null,null,null,null,null,null,null,null,null,null,null,null,null,null,null,null,null,null,null,{"$f":"IF('week 3 bk'!AN15=\"\",\"\",IF(AB80=FALSE,\"\",('week 3 bk'!AN15)))","v":""},{"$f":"SUMPRODUCT(--ISNUMBER(SEARCH(TakenRng,'week 3 bk'!AJ15)))>0","v":false},{"$f":"'week 3 bk'!AL15","v":0}]
[null,null,null,null,null,null,null,null,null,null,null,null,null,null,null,null,null,null,null,null,null,null,null,null,null,null,{"$f":"IF('week 3 bk'!AN16=\"\",\"\",IF(AB81=FALSE,\"\",('week 3 bk'!AN16)))","v":""},{"$f":"SUMPRODUCT(--ISNUMBER(SEARCH(TakenRng,'week 3 bk'!AJ16)))>0","v":false},{"$f":"'week 3 bk'!AL16","v":0}]
[null,null,null,null,null,null,null,null,null,null,null,null,null,null,null,null,null,null,null,null,null,null,null,null,null,null,{"$f":"IF('week 3 bk'!AN17=\"\",\"\",IF(AB82=FALSE,\"\",('week 3 bk'!AN17)))","v":""},{"$f":"SUMPRODUCT(--ISNUMBER(SEARCH(TakenRng,'week 3 bk'!AJ17)))>0","v":false},{"$f":"'week 3 bk'!AL17","v":0}]
[null,null,null,null,null,null,null,null,null,null,null,null,null,null,null,null,null,null,null,null,null,null,null,null,null,null,{"$f":"IF('week 3 bk'!AN18=\"\",\"\",IF(AB83=FALSE,\"\",('week 3 bk'!AN18)))","v":""},{"$f":"SUMPRODUCT(--ISNUMBER(SEARCH(TakenRng,'week 3 bk'!AJ18)))>0","v":false},{"$f":"'week 3 bk'!AL18","v":0}]
[null,null,null,null,null,null,null,null,null,null,null,null,null,null,null,null,null,null,null,null,null,null,null,null,null,null,{"$f":"IF('week 3 bk'!AN19=\"\",\"\",IF(AB84=FALSE,\"\",('week 3 bk'!AN19)))","v":""},{"$f":"SUMPRODUCT(--ISNUMBER(SEARCH(TakenRng,'week 3 bk'!AJ19)))>0","v":false},{"$f":"'week 3 bk'!AL19","v":0}]
[null,null,null,null,null,null,null,null,null,null,null,null,null,null,null,null,null,null,null,null,null,null,null,null,null,null,{"$f":"IF('week 3 bk'!AN20=\"\",\"\",IF(AB85=FALSE,\"\",('week 3 bk'!AN20)))","v":""},{"$f":"SUMPRODUCT(--ISNUMBER(SEARCH(TakenRng,'week 3 bk'!AJ20)))>0","v":false},{"$f":"'week 3 bk'!AL20","v":0}]
[null,null,null,null,null,null,null,null,null,null,null,null,null,null,null,null,null,null,null,null,null,null,null,null,null,null,{"$f":"IF('week 3 bk'!AN21=\"\",\"\",IF(AB86=FALSE,\"\",('week 3 bk'!AN21)))","v":""},{"$f":"SUMPRODUCT(--ISNUMBER(SEARCH(TakenRng,'week 3 bk'!AJ21)))>0","v":false},{"$f":"'week 3 bk'!AL21","v":0}]
[null,null,null,null,null,null,null,null,null,null,null,null,null,null,null,null,null,null,null,null,null,null,null,null,null,null,{"$f":"IF('week 3 bk'!AN22=\"\",\"\",IF(AB87=FALSE,\"\",('week 3 bk'!AN22)))","v":""},{"$f":"SUMPRODUCT(--ISNUMBER(SEARCH(TakenRng,'week 3 bk'!AJ22)))>0","v":false},{"$f":"'week 3 bk'!AL22","v":0}]
[null,null,null,null,null,null,null,null,null,null,null,null,null,null,null,null,null,null,null,null,null,null,null,null,null,null,{"$f":"IF('week 3 bk'!AN23=\"\",\"\",IF(AB88=FALSE,\"\",('week 3 bk'!AN23)))","v":""},{"$f":"SUMPRODUCT(--ISNUMBER(SEARCH(TakenRng,'week 3 bk'!AJ23)))>0","v":false},{"$f":"'week 3 bk'!AL23","v":0}]
[null,null,null,null,null,null,null,null,null,null,null,null,null,null,null,null,null,null,null,null,null,null,null,null,null,null,{"$f":"IF('week 3 bk'!AN24=\"\",\"\",IF(AB89=FALSE,\"\",('week 3 bk'!AN24)))","v":""},{"$f":"SUMPRODUCT(--ISNUMBER(SEARCH(TakenRng,'week 3 bk'!AJ24)))>0","v":false},{"$f":"'week 3 bk'!AL24","v":0}]
[null,null,null,null,null,null,null,null,null,null,null,null,null,null,null,null,null,null,null,null,null,null,null,null,null,null,{"$f":"IF('week 3 bk'!AN25=\"\",\"\",IF(AB90=FALSE,\"\",('week 3 bk'!AN25)))","v":""},{"$f":"SUMPRODUCT(--ISNUMBER(SEARCH(TakenRng,'week 3 bk'!AJ25)))>0","v":false},{"$f":"'week 3 bk'!AL25","v":0}]
[null,null,null,null,null,null,null,null,null,null,null,null,null,null,null,null,null,null,null,null,null,null,null,null,null,null,{"$f":"IF('week 3 bk'!AN26=\"\",\"\",IF(AB91=FALSE,\"\",('week 3 bk'!AN26)))","v":""},{"$f":"SUMPRODUCT(--ISNUMBER(SEARCH(TakenRng,'week 3 bk'!AJ26)))>0","v":false},{"$f":"'week 3 bk'!AL26","v":0}]
[]
[null,null,null,null,null,null,null,null,null,null,null,null,null,null,null,null,null,null,null,null,null,null,null,null,null,null,"Date","TT","TT1","TT2"]
[null,null,null,null,null,null,null,null,null,null,null,null,null,null,null,null,null,null,null,null,null,null,null,null,null,null,{"$f":"AQ11","v":"2019-09-15"},{"$f":"IF((SUMPRODUCT(--((ISNUMBER(SEARCH(AA94,AA$78:AA$91)))),AC$78:AC$91)) > 0,\"Y\",\"N\")","v":"N"},{"$f":"SUMPRODUCT(--((ISNUMBER(SEARCH(AA94,AA$78:AA$91)))),AC$78:AC$91)","v":0},{"$f":"IF(O11=\"\",AU11,IF(OR(O11<8,O11=8),(IF(AB94=\"Y\",8-O11,IF(AB94=\"Y\",8,0)))-IF(OR(O11=8,O11<8),0,O11),IF(O11>8,0,(IF(AB94=\"Y\",AB94,0)))))","v":0}]
[null,null,null,null,null,null,null,null,null,null,null,null,null,null,null,null,null,null,null,null,null,null,null,null,null,null,{"$f":"AQ12","v":"2019-09-16"},{"$f":"IF((SUMPRODUCT(--((ISNUMBER(SEARCH(AA95,AA$78:AA$91)))),AC$78:AC$91)) > 0,\"Y\",\"N\")","v":"N"},{"$f":"SUMPRODUCT(--((ISNUMBER(SEARCH(AA95,AA$78:AA$91)))),AC$78:AC$91)","v":0},{"$f":"IF(O12=\"\",AU12,IF(OR(O12<8,O12=8),(IF(AB95=\"Y\",8-O12,IF(AB95=\"Y\",8,0)))-IF(OR(O12=8,O12<8),0,O12),IF(O12>8,0,(IF(AB95=\"Y\",AB95,0)))))","v":0}]
[null,null,null,null,null,null,null,null,null,null,null,null,null,null,null,null,null,null,null,null,null,null,null,null,null,null,"2019-09-17","N",0,0]
[null,null,null,null,null,null,null,null,null,null,null,null,null,null,null,null,null,null,null,null,null,null,null,null,null,null,"2019-09-18","N",0,0]
[null,null,null,null,null,null,null,null,null,null,null,null,null,null,null,null,null,null,null,null,null,null,null,null,null,null,"2019-09-19","N",0,0]
["DAY OF WEEK","TTL HRS MINUS TIME OFF IN TIME FORMAT","TTL HRS CONVERTED TO DECIMALS","SUM REGULAR DAY & NIGHT ","SUM STEP DAY & NIGHT ","SUM REG & STEP TTLS","DAY/NIGHT COMPARED TO TTL HRS","TTL DIST OF DUTY TIME","DIST HRS COMPARED TO TTL HRS","IF TIME BEGIN MINUS TIME ENDED =< 24 HRS","24 HRS OF DUTY","MORE THAN 24 HR SPAN IN A DAY",null,null,null,null,null,null,null,null,null,null,null,null,null,null,"2019-09-20","N",0,0]
["SUN",{"$f":"IF(F11<D11,(24-D11)+F11,F11-D11)","v":0},{"$f":"IF(OR(D11=\"\",F11=\"\"),0,IF(D11=F11,J100,IF((VALUE(HOUR(B100))+VALUE(MINUTE(B100))/60)-H11=0,0,(VALUE(HOUR(B100))+VALUE(MINUTE(B100))/60)-H11)))","v":0},{"$f":"SUM(I11:J11)","v":0},{"$f":"SUM(L11:M11)","v":0},{"$f":"SUM(K11,N11)","v":0},{"$f":"IF(C100=F100,0,1)","v":0},{"$f":"IF(SUM(P11:Y11,AE11:AI11)=0,\"\",SUM(P11:Y11,AE11:AI11))","v":""},{"$f":"IF(C100=H100,0,1)","v":1},{"$f":"IF(D11=F11,K100-H11,C100)","v":24},{"$f":"(B100+24)","v":24},{"$f":"IF(AND(D11<>\"\",F11<>\"\",K100>24),1,0)","v":0},null,null,null,null,null,null,null,null,null,null,null,null,null,null,"2019-09-21","N",0,0]
["MON",0,0,0,0,0,0,"",1,24,24,0,null,"TIME ACCRUED/TAKEN CONVERSION & VALIDATION"]
["TUES",0,0,0,0,0,0,"",1,24,24,0,null,{"$f":"VALUE(AE47)*24","v":0},{"$f":"CODE(N102)","v":48},{"$f":"IF(AE47=\"\",1,CODE(AE47))","v":1},{"$f":"IF(O102=P102,0,1)","v":1},{"$f":"IF(O102-P102=0,0,1)","v":1},{"$f":"SUM(Q102:R102)","v":2},null,null,null,null,null,null,null,"TT1","Time Taken entered on weekly"]
["WED",0,0,0,0,0,0,"",1,24,24,0,null,{"$f":"VALUE(AE48)*24","v":0},{"$f":"CODE(N103)","v":48},{"$f":"IF(AE48=\"\",1,CODE(AE48))","v":1},{"$f":"IF(O103=P103,0,1)","v":1},{"$f":"IF(O103-P103=0,0,1)","v":1},{"$f":"SUM(Q103:R103)","v":2},null,null,null,null,null,null,null,"TT2","Caculated Time Taken (based upon duty time entry)"]
["THU",0,0,0,0,0,0,"",1,24,24,0,null,{"$f":"VALUE(AE49)*24","v":0},{"$f":"CODE(N104)","v":48},{"$f":"IF(AE49=\"\",1,CODE(AE49))","v":1},{"$f":"IF(O104=P104,0,1)","v":1},{"$f":"IF(O104-P104=0,0,1)","v":1},{"$f":"SUM(Q104:R104)","v":2}]
["FRI",0,0,0,0,0,0,"",1,24,24,0,null,{"$f":"VALUE(AE50)*24","v":0},{"$f":"CODE(N105)","v":48},{"$f":"IF(AE50=\"\",1,CODE(AE50))","v":1},{"$f":"IF(O105=P105,0,1)","v":1},{"$f":"IF(O105-P105=0,0,1)","v":1},{"$f":"SUM(Q105:R105)","v":2}]
["SAT",0,0,0,0,0,0,"",1,24,24,0]
[null,"SUM",{"$f":"SUM(C100:C106)","v":0},{"$f":"A87","v":0},{"$f":"IF(B87>999, \"0.0\", B87)","v":0},{"$f":"SUM(F100:F106)","v":0},{"$f":"SUM(G100:G106)","v":0},{"$f":"SUM(H100:H106)","v":0},{"$f":"SUM(I100:I106)","v":7}]
[null,null,{"$f":"MIN(C100:C106)","v":0},{"$f":"SUM(D100:D106)-D107+E151","v":0},{"$f":"SUM(E100:E106)","v":0}]
[]
[]
[]
[]
[]
[]
[]
[]
[null,null,null,null,null,null,null,null,null,null,null,null,null,null,null,null,null,null,null,null,null,null,null,null,null,null,null,null,null,null,null,null,null,null,null,null,null,null,null,null,null,null,null,null,null,null,null,null,null,null,null,null,null,null,null,null,null,null,"Big$Mac"]
[]
[]
[]
[]
[]
[]
[]
[]
[]
[]
[null,null,null,null,null,null,null,null,null,null,null,null,null,null,null,null,null,null,null,null,null,null,null,null,null,null,null,null,null,null,null,null,null,null,null,null,null,null,"LIST OF ACCEPTABLE CODES"]
[]
[null,null,null,null,null,null,null,null,null,null,null,null,null,null,null,null,null,null,null,null,null,null,null,null,null,null,null,null,null,null,null,null,null,null,null,null,null,null,"ALT"]
[null,null,null,null,null,null,null,null,null,null,null,null,null,null,null,null,null,null,null,null,null,null,null,null,null,null,null,null,null,null,null,null,null,null,null,null,null,null,"CAT"]
[null,null,null,null,null,null,null,null,null,null,null,null,null,null,null,null,null,null,null,null,null,null,null,null,null,null,null,null,"NO MILES OVER 1000/DAY OR ON R1 DAYS",null,null,null,null,null,null,null,null,null,"CDE"]
[null,null,null,null,null,null,null,null,null,null,null,null,null,null,null,null,null,null,null,null,null,null,null,null,null,null,null,null,{"$f":"IF(AND(E202=\"R1,R2\",Z11<>\"\"),0)","v":false},{"$f":"IF(Z11>1000,1,0)","v":0},{"$f":"SUM(AC133:AD133)","v":0},null,null,null,null,null,null,null,"CDT"]
[null,null,null,null,null,null,null,null,null,null,null,null,null,null,null,null,null,null,null,null,null,null,null,null,null,null,null,null,{"$f":"IF(AND(E203=\"R1\",Z12<>\"\"),0)","v":false},0,0,null,null,null,null,null,null,null,"CTE"]
[null,null,null,null,null,null,null,null,null,null,null,null,null,null,null,null,null,null,null,null,null,null,null,null,null,null,null,null,false,0,0,null,null,null,null,null,null,null,"CTT"]
[null,null,null,null,null,null,null,null,null,null,null,null,null,null,null,null,null,null,null,null,null,null,null,null,null,null,null,null,false,0,0,null,null,null,null,null,null,null,"DBT"]
[null,null,null,null,null,null,null,null,null,null,null,null,null,null,null,null,null,null,null,null,null,null,null,null,null,null,null,null,false,0,0,null,null,null,null,null,null,null,"DOT"]
[null,null,null,null,null,null,null,null,null,null,null,null,null,null,null,null,null,null,null,null,null,null,null,null,null,null,null,null,false,0,0,null,null,null,null,null,null,null,"DMT"]
[null,null,null,null,null,null,null,null,null,null,null,null,null,null,null,null,null,null,null,null,null,null,null,null,null,null,null,null,false,0,0,null,null,null,null,null,null,null,"EMT"]
[null,null,null,null,null,null,null,null,null,null,null,null,null,null,null,null,null,null,null,null,null,null,null,null,null,null,null,null,null,null,null,null,null,null,null,null,null,null,"EST"]
[null,null,null,null,null,null,null,null,null,null,null,null,null,null,null,null,null,null,null,null,null,null,null,null,null,null,null,null,null,null,null,null,null,null,null,null,null,null,"FFT"]
[null,null,null,null,null,null,null,null,null,null,null,null,null,null,null,null,null,null,null,null,null,null,null,null,null,null,null,null,null,null,null,null,null,null,null,null,null,null,"FPT"]
[null,null,null,null,null,null,null,null,null,null,null,null,null,null,null,null,null,null,null,null,null,null,null,null,null,null,null,null,null,null,null,null,null,null,null,null,null,null,"HCE"]
[null,null,null,null,null,null,null,null,null,null,null,null,null,null,null,null,null,null,null,null,null,null,null,null,null,null,null,null,null,null,null,null,null,null,null,null,null,null,"HCT"]
[null,null,null,null,null,null,null,null,null,null,null,null,null,null,null,null,null,null,null,null,null,null,null,null,null,null,null,null,null,null,null,null,null,null,null,null,null,null,"HOB"]
[null,null,null,null,null,null,null,null,null,null,null,null,null,null,null,null,null,null,null,null,null,null,null,null,null,null,null,null,null,null,null,null,null,null,null,null,null,null,"JST"]
[null,null,null,null,null,null,null,null,null,null,null,null,null,null,null,null,null,null,null,null,null,null,null,null,null,null,null,null,null,null,null,null,null,null,null,null,null,null,"LDT"]
[null,null,null,null,null,null,null,null,null,null,null,null,null,null,null,null,null,null,null,null,null,null,null,null,null,null,null,null,null,null,null,null,null,null,null,null,null,null,"LET"]
[null,null,null,null,null,null,null,null,null,null,null,null,null,null,null,null,null,null,null,null,null,null,null,null,null,null,null,null,null,null,null,null,null,null,null,null,null,null,"LPA"]
[null,null,null,null,null,null,null,null,null,null,null,null,null,null,null,null,null,null,null,null,null,null,null,null,null,null,null,null,null,null,null,null,null,null,null,null,null,null,"LPT"]
[null,null,null,null,null,null,null,null,null,null,null,null,null,null,null,null,null,null,null,null,null,null,null,null,null,null,null,null,null,null,null,null,null,null,null,null,null,null,"LWT"]
[null,null,null,null,null,null,null,null,null,null,null,null,null,null,null,null,null,null,null,null,null,null,null,null,null,null,null,null,null,null,null,null,null,null,null,null,null,null,"MLT"]
[null,null,null,null,null,null,null,null,null,null,null,null,null,null,null,null,null,null,null,null,null,null,null,null,null,null,null,null,null,null,null,null,null,null,null,null,null,null,"OHE"]
[null,null,null,null,null,null,null,null,null,null,null,null,null,null,null,null,null,null,null,null,null,null,null,null,null,null,null,null,null,null,null,null,null,null,null,null,null,null,"OHT"]
[null,null,null,null,null,null,null,null,null,null,null,null,null,null,null,null,null,null,null,null,null,null,null,null,null,null,null,null,null,null,null,null,null,null,null,null,null,null,"OTE"]
[null,null,null,null,null,null,null,null,null,null,null,null,null,null,null,null,null,null,null,null,null,null,null,null,null,null,null,null,null,null,null,null,null,null,null,null,null,null,"OTP"]
[null,null,null,null,null,null,null,null,null,null,null,null,null,null,null,null,null,null,null,null,null,null,null,null,null,null,null,null,null,null,null,null,null,null,null,null,null,null,"OTT"]
[null,null,null,null,null,null,null,null,null,null,null,null,null,null,null,null,null,null,null,null,null,null,null,null,null,null,null,null,null,null,null,null,null,null,null,null,null,null,"RCT"]
[null,null,null,null,null,null,null,null,null,null,null,null,null,null,null,null,null,null,null,null,null,null,null,null,null,null,null,null,null,null,null,null,null,null,null,null,null,null,"SAT"]
[null,null,null,null,null,null,null,null,null,null,null,null,null,null,null,null,null,null,null,null,null,null,null,null,null,null,null,null,null,null,null,null,null,null,null,null,null,null,"SET"]
[null,null,null,null,null,null,null,null,null,null,null,null,null,null,null,null,null,null,null,null,null,null,null,null,null,null,null,null,null,null,null,null,null,null,null,null,null,null,"SLT"]
[null,null,null,null,null,null,null,null,null,null,null,null,null,null,null,null,null,null,null,null,null,null,null,null,null,null,null,null,null,null,null,null,null,null,null,null,null,null,"VCT"]
[]
[]
[]
[]
[]
[]
[]
[]
[]
[null,null,null,null,null,null,null,null,null,null,null,null,null,null,null,null,null,null,null,null,null,null,null,null,null,null,null,null,"Hours Worked"]
[null,null,null,null,null,null,null,null,null,null,null,null,null,null,null,null,null,null,null,null,null,null,null,null,null,null,null,null,0.25]
[null,null,null,null,null,null,null,null,null,null,null,null,null,null,null,null,null,null,null,null,null,null,null,null,null,null,null,null,0.5]
[null,null,null,null,null,null,null,null,null,null,null,null,null,null,null,null,null,null,null,null,null,null,null,null,null,null,null,null,0.75]
[null,null,null,null,null,null,null,null,null,null,null,null,null,null,null,null,null,null,null,null,null,null,null,null,null,null,null,null,1]
[null,null,null,null,null,null,null,null,null,null,null,null,null,null,null,null,null,null,null,null,null,null,null,null,null,null,null,null,1.25]
[null,null,null,null,null,null,null,null,null,null,null,null,null,null,null,null,null,null,null,null,null,null,null,null,null,null,null,null,1.5]
[null,null,null,null,null,null,null,null,null,null,null,null,null,null,null,null,null,null,null,null,null,null,null,null,null,null,null,null,1.75]
[null,null,null,null,null,null,null,null,null,null,null,null,null,null,null,null,null,null,null,null,null,null,null,null,null,null,null,null,2]
[null,null,null,null,null,null,null,null,null,null,null,null,null,null,null,null,null,null,null,null,null,null,null,null,null,null,null,null,2.25]
[null,null,null,null,null,null,null,null,null,null,null,null,null,null,null,null,null,null,null,null,null,null,null,null,null,null,null,null,2.5]
[null,null,null,null,null,null,null,null,null,null,null,null,null,null,null,null,null,null,null,null,null,null,null,null,null,null,null,null,2.75]
[null,null,null,null,null,null,null,null,null,null,null,null,null,null,null,null,null,null,null,null,null,null,null,null,null,null,null,null,3]
[null,null,null,null,null,null,null,null,null,null,null,null,null,null,null,null,null,null,null,null,null,null,null,null,null,null,null,null,3.25]
[null,null,null,null,null,null,null,null,null,null,null,null,null,null,null,null,null,null,null,null,null,null,null,null,null,null,null,null,3.5]
[null,null,null,null,null,null,null,null,null,null,null,null,null,null,null,null,null,null,null,null,null,null,null,null,null,null,null,null,3.75]
[null,null,null,null,null,null,null,null,null,null,null,null,null,null,null,null,null,null,null,null,null,null,null,null,null,null,null,null,4]
[null,null,null,null,null,null,null,null,null,null,null,null,null,null,null,null,null,null,null,null,null,null,null,null,null,null,null,null,4.25]
[null,null,null,null,null,null,null,null,null,null,null,null,null,null,null,null,null,null,null,null,null,null,null,null,null,null,null,null,4.5]
[null,null,null,null,null,null,null,null,null,null,null,null,null,null,null,null,null,null,null,null,null,null,null,null,null,null,null,null,4.75]
[null,null,null,null,null,null,null,null,null,null,null,null,null,null,null,null,null,null,null,null,null,null,null,null,null,null,null,null,5]
[null,null,null,null,null,null,null,null,null,null,null,null,null,null,null,null,null,null,null,null,null,null,null,null,null,null,null,null,5.25]
[null,null,null,null,null,null,null,null,null,null,null,null,null,null,null,null,null,null,null,null,null,null,null,null,null,null,null,null,5.5]
[null,null,null,null,null,null,null,null,null,null,null,null,null,null,null,null,null,null,null,null,null,null,null,null,null,null,null,null,5.75]
[null,null,null,null,null,null,null,null,null,null,null,null,null,null,null,null,null,null,null,null,null,null,null,null,null,null,null,null,6]
[null,null,null,null,null,null,null,null,null,null,null,null,null,null,null,null,null,null,null,null,null,null,null,null,null,null,null,null,6.25]
[null,null,null,null,null,null,null,null,null,null,null,null,null,null,null,null,null,null,null,null,null,null,null,null,null,null,null,null,6.5]
[null,null,null,null,null,null,null,null,null,null,null,null,null,null,null,null,null,null,null,null,null,null,null,null,null,null,null,null,6.75]
[null,null,null,null,null,null,null,null,null,null,null,null,null,null,null,null,null,null,null,null,null,null,null,null,null,null,null,null,7]
[null,null,null,null,null,null,null,null,null,null,null,null,null,null,null,null,null,null,null,null,null,null,null,null,null,null,null,null,7.25]
[null,null,null,null,null,null,null,null,null,null,null,null,null,null,null,null,null,null,null,null,null,null,null,null,null,null,null,null,7.5]
[null,null,null,null,null,null,null,null,null,null,null,null,null,null,null,null,null,null,null,null,null,null,null,null,null,null,null,null,7.75]
[null,null,null,null,null,null,null,null,null,null,null,null,null,null,null,null,null,null,null,null,null,null,null,null,null,null,null,null,8]
[null,null,null,null,null,null,null,null,null,null,null,null,null,null,null,null,null,null,null,null,null,null,null,null,null,null,null,null,8.25]
[null,null,null,null,null,null,null,null,null,null,null,null,null,null,null,null,null,null,null,null,null,null,null,null,null,null,null,null,8.5]
[null,null,null,null,null,null,null,null,null,null,null,null,null,null,null,null,null,null,null,null,null,null,null,null,null,null,null,null,8.75]
[null,null,null,null,null,null,null,null,null,null,null,null,null,null,null,null,null,null,null,null,null,null,null,null,null,null,null,null,9]
[null,null,null,null,null,null,null,null,null,null,null,null,null,null,null,null,null,null,null,null,null,null,null,null,null,null,null,null,9.25]
[null,null,null,null,null,null,null,null,null,null,null,null,null,null,null,null,null,null,null,null,null,null,null,null,null,null,null,null,9.5]
[null,null,null,null,null,null,null,null,null,null,null,null,null,null,null,null,null,null,null,null,null,null,null,null,null,null,null,null,9.75]
[null,null,null,null,null,null,null,null,null,null,null,null,null,null,null,null,null,null,null,null,null,null,null,null,null,null,null,null,10]
[null,null,null,null,null,null,null,null,null,null,null,null,null,null,null,null,null,null,null,null,null,null,null,null,null,null,null,null,10.25]
[null,null,null,null,null,null,null,null,null,null,null,null,null,null,null,null,null,null,null,null,null,null,null,null,null,null,null,null,10.5]
[null,null,null,null,null,null,null,null,null,null,null,null,null,null,null,null,null,null,null,null,null,null,null,null,null,null,null,null,10.75]
[null,null,null,null,null,null,null,null,null,null,null,null,null,null,null,null,null,null,null,null,null,null,null,null,null,null,null,null,11]
[null,null,null,null,null,null,null,null,null,null,null,null,null,null,null,null,null,null,null,null,null,null,null,null,null,null,null,null,11.25]
[null,null,null,null,null,null,null,null,null,null,null,null,null,null,null,null,null,null,null,null,null,null,null,null,null,null,null,null,11.5]
[null,null,null,null,null,null,null,null,null,null,null,null,null,null,null,null,null,null,null,null,null,null,null,null,null,null,null,null,11.75]
[null,null,null,null,null,null,null,null,null,null,null,null,null,null,null,null,null,null,null,null,null,null,null,null,null,null,null,null,12]
[null,null,null,null,null,null,null,null,null,null,null,null,null,null,null,null,null,null,null,null,null,null,null,null,null,null,null,null,12.25]
[null,null,null,null,null,null,null,null,null,null,null,null,null,null,null,null,null,null,null,null,null,null,null,null,null,null,null,null,12.5]
[null,null,null,null,null,null,null,null,null,null,null,null,null,null,null,null,null,null,null,null,null,null,null,null,null,null,null,null,12.75]
[null,null,null,null,null,null,null,null,null,null,null,null,null,null,null,null,null,null,null,null,null,null,null,null,null,null,null,null,13]
[null,null,null,null,null,null,null,null,null,null,null,null,null,null,null,null,null,null,null,null,null,null,null,null,null,null,null,null,13.25]
[null,null,null,null,null,null,null,null,null,null,null,null,null,null,null,null,null,null,null,null,null,null,null,null,null,null,null,null,13.5]
[null,null,null,null,null,null,null,null,null,null,null,null,null,null,null,null,null,null,null,null,null,null,null,null,null,null,null,null,13.75]
[null,null,null,null,null,null,null,null,null,null,null,null,null,null,null,null,null,null,null,null,null,null,null,null,null,null,null,null,14]
[null,null,null,null,null,null,null,null,null,null,null,null,null,null,null,null,null,null,null,null,null,null,null,null,null,null,null,null,14.25]
[null,null,null,null,null,null,null,null,null,null,null,null,null,null,null,null,null,null,null,null,null,null,null,null,null,null,null,null,14.5]
[null,null,null,null,null,null,null,null,null,null,null,null,null,null,null,null,null,null,null,null,null,null,null,null,null,null,null,null,14.75]
[null,null,null,null,null,null,null,null,null,null,null,null,null,null,null,null,null,null,null,null,null,null,null,null,null,null,null,null,15]
[null,null,null,null,null,null,null,null,null,null,null,null,null,null,null,null,null,null,null,null,null,null,null,null,null,null,null,null,15.25]
[null,null,null,null,null,null,null,null,null,null,null,null,null,null,null,null,null,null,null,null,null,null,null,null,null,null,null,null,15.5]
[null,null,null,"TIME VALUES",null,null,null,null,null,null,null,null,null,null,null,null,null,null,null,null,null,null,null,null,null,null,null,null,15.75]
[null,null,null,"06:00:00",null,null,null,null,null,null,null,null,null,null,null,"HOURS LEAVE",null,null,null,null,null,null,null,null,null,null,null,null,16]
[null,null,null,"06:15:00",null,null,null,null,null,null,null,null,null,null,null,null,"0:15",0.25,null,null,null,null,null,null,null,null,null,null,16.25]
[null,null,null,"06:30:00",null,null,null,null,null,null,null,null,null,null,null,null,"0:30",0.5,null,null,null,null,null,null,null,null,null,null,16.5]
[null,null,null,"06:45:00",null,null,null,null,null,null,null,null,null,null,null,null,"0:45",0.75,null,null,null,null,null,null,null,null,null,null,16.75]
[null,null,null,"07:00:00",null,null,null,null,null,null,null,null,null,null,null,null,"1:00",1,null,null,null,null,null,null,null,null,null,null,17]
[null,null,null,"07:15:00",null,null,null,null,null,null,null,null,null,null,null,null,"1:15",1.25,null,null,null,null,null,null,null,null,null,null,17.25]
[null,null,null,"07:30:00",null,null,null,null,null,null,null,null,null,null,null,null,"1:30",1.5,null,null,null,null,null,null,null,null,null,null,17.5]
[null,null,null,"07:45:00",null,null,null,null,null,null,null,null,null,null,null,null,"1:45",1.75,null,null,null,null,null,null,null,null,null,null,17.75]
[null,null,null,"08:00:00",null,null,null,null,null,null,null,null,null,null,null,null,"2:00",2,null,null,null,null,null,null,null,null,null,null,18]
[null,null,null,"08:15:00",null,null,null,null,null,null,null,null,null,null,null,null,"2:15",2.25,null,null,null,null,null,null,null,null,null,null,18.25]
[null,null,null,"08:30:00",null,null,null,null,null,null,null,null,null,null,null,null,"2:30",2.5,null,null,null,null,null,null,null,null,null,null,18.5]
[null,null,null,"08:45:00",null,null,null,null,null,null,null,null,null,null,null,null,"2:45",2.75,null,null,null,null,null,null,null,null,null,null,18.75]
[null,null,null,"09:00:00",null,null,null,null,null,null,null,null,null,null,null,null,"3:00",3,null,null,null,null,null,null,null,null,null,null,19]
[null,null,null,"09:15:00",null,null,null,null,null,null,null,null,null,null,null,null,"3:15",3.25,null,null,null,null,null,null,null,null,null,null,19.25]
[null,null,null,"09:30:00",null,null,null,null,null,null,null,null,null,null,null,null,"3:30",3.5,null,null,null,null,null,null,null,null,null,null,19.5]
[null,null,null,"09:45:00",null,null,null,null,null,null,null,null,null,null,null,null,"3:45",3.75,null,null,null,null,null,null,null,null,null,null,19.75]
[null,null,null,"10:00:00",null,null,null,null,null,null,null,null,null,null,null,null,"4:00",4,null,null,null,null,null,null,null,null,null,null,20]
[null,null,null,"10:15:00",null,null,null,null,null,null,null,null,null,null,null,null,"4:15",4.25,null,null,null,null,null,null,null,null,null,null,20.25]
[null,null,null,"10:30:00",null,null,null,null,null,null,null,null,null,null,null,null,"4:30",4.5,null,null,null,null,null,null,null,null,null,null,20.5]
[null,null,null,"10:45:00",null,null,null,null,null,null,null,null,null,null,null,null,"4:45",4.75,null,null,null,null,null,null,null,null,null,null,20.75]
[null,null,null,"11:00:00",null,null,null,null,null,null,null,null,null,null,null,null,"5:00",5,null,null,null,null,null,null,null,null,null,null,21]
[null,null,null,"11:15:00",null,null,null,null,null,null,null,null,null,null,null,null,"5:15",5.25,null,null,null,null,null,null,null,null,null,null,21.25]
[null,null,null,"11:30:00",null,null,null,null,null,null,null,null,null,null,null,null,"5:30",5.5,null,null,null,null,null,null,null,null,null,null,21.5]
[null,null,null,"11:45:00",null,null,null,null,null,null,null,null,null,null,null,null,"5:45",5.75,null,null,null,null,null,null,null,null,null,null,21.75]
[null,null,null,"12:00:00",null,null,null,null,null,null,null,null,null,null,null,null,"6:00",6,null,null,null,null,null,null,null,null,null,null,22]
[null,null,null,"12:15:00",null,null,null,null,null,null,null,null,null,null,null,null,"6:15",6.25,null,null,null,null,null,null,null,null,null,null,22.25]
[null,null,null,"12:30:00",null,null,null,null,null,null,null,null,null,null,null,null,"6:30",6.5,null,null,null,null,null,null,null,null,null,null,22.5]
[null,null,null,"12:45:00",null,null,null,null,null,null,null,null,null,null,null,null,"6:45",6.75,null,null,null,null,null,null,null,null,null,null,22.75]
[null,null,null,"13:00:00",null,null,null,null,null,null,null,null,null,null,null,null,"7:00",7,null,null,null,null,null,null,null,null,null,null,23]
[null,null,null,"13:15:00",null,null,null,null,null,null,null,null,null,null,null,null,"7:15",7.25,null,null,null,null,null,null,null,null,null,null,23.25]
[null,null,null,"13:30:00",null,null,null,null,null,null,null,null,null,null,null,null,"7:30",7.5,null,null,null,null,null,null,null,null,null,null,23.5]
[null,null,null,"13:45:00",null,null,null,null,null,null,null,null,null,null,null,null,"7:45",7.75,null,null,null,null,null,null,null,null,null,null,23.75]
[null,null,null,"14:00:00",null,null,null,null,null,null,null,null,null,null,null,null,0.33333333333333331,8,null,null,null,null,null,null,null,null,null,null,24]
[null,null,null,"14:15:00",null,null,null,null,null,null,null,null,null,null,null,null,"8:15",8.25]
[null,null,null,"14:30:00",null,null,null,null,null,null,null,null,null,null,null,null,"8:30",8.5]
[null,null,null,"14:45:00",null,null,null,null,null,null,null,null,null,null,null,null,"8:45",{"$f":"R270+0.25","v":8.75}]
[null,null,null,"15:00:00",null,null,null,null,null,null,null,null,null,null,null,null,"9:00",9]
[null,null,null,"15:15:00",null,null,null,null,null,null,null,null,null,null,null,null,"9:15",9.25]
[null,null,null,"15:30:00",null,null,null,null,null,null,null,null,null,null,null,null,"9:30",9.5]
[null,null,null,"15:45:00",null,null,null,null,null,null,null,null,null,null,null,null,"9:45",9.75]
[null,null,null,"16:00:00",null,null,null,null,null,null,null,null,null,null,null,null,"10:00",10]
[null,null,null,"16:15:00",null,null,null,null,null,null,null,null,null,null,null,null,"10:15",10.25]
[null,null,null,"16:30:00",null,null,null,null,null,null,null,null,null,null,null,null,"10:30",10.5]
[null,null,null,"16:45:00",null,null,null,null,null,null,null,null,null,null,null,null,"10:45",10.75]
[null,null,null,"17:00:00",null,null,null,null,null,null,null,null,null,null,null,null,"11:00",11]
[null,null,null,"17:15:00",null,null,null,null,null,null,null,null,null,null,null,null,"11:15",11.25]
[null,null,null,"17:30:00",null,null,null,null,null,null,null,null,null,null,null,null,"11:30",11.5]
[null,null,null,"17:45:00",null,null,null,null,null,null,null,null,null,null,null,null,"11:45",11.75]
[null,null,null,"18:00:00",null,null,null,null,null,null,null,null,null,null,null,null,"12:00",12]
[null,null,null,"18:15:00",null,null,null,null,null,null,null,null,null,null,null,null,"12:15",12.25]
[null,null,null,"18:30:00",null,null,null,null,null,null,null,null,null,null,null,null,"12:30",12.5]
[null,null,null,"18:45:00",null,null,null,null,null,null,null,null,null,null,null,null,"12:45",12.75]
[null,null,null,"19:00:00",null,null,null,null,null,null,null,null,null,null,null,null,"13:00",13]
[null,null,null,"19:15:00",null,null,null,null,null,null,null,null,null,null,null,null,"13:15",13.25]
[null,null,null,"19:30:00",null,null,null,null,null,null,null,null,null,null,null,null,"13:30",13.5]
[null,null,null,"19:45:00",null,null,null,null,null,null,null,null,null,null,null,null,"13:45",13.75]
[null,null,null,"20:00:00",null,null,null,null,null,null,null,null,null,null,null,null,"14:00",14]
[null,null,null,"20:15:00",null,null,null,null,null,null,null,null,null,null,null,null,"14:15",14.25]
[null,null,null,"20:30:00",null,null,null,null,null,null,null,null,null,null,null,null,"14:30",14.5]
[null,null,null,"20:45:00",null,null,null,null,null,null,null,null,null,null,null,null,"14:45",14.75]
[null,null,null,"21:00:00",null,null,null,null,null,null,null,null,null,null,null,null,"15:00",15]
[null,null,null,"21:15:00",null,null,null,null,null,null,null,null,null,null,null,null,"15:15",15.25]
[null,null,null,"21:30:00",null,null,null,null,null,null,null,null,null,null,null,null,"15:30",15.5]
[null,null,null,"21:45:00",null,null,null,null,null,null,null,null,null,null,null,null,"15:45",15.75]
[null,null,null,"22:00:00",null,null,null,null,null,null,null,null,null,null,null,null,"16:00",16]
[null,null,null,"22:15:00",null,null,null,null,null,null,null,null,null,null,null,null,"16:15",16.25]
[null,null,null,"22:30:00",null,null,null,null,null,null,null,null,null,null,null,null,"16:30",16.5]
[null,null,null,"22:45:00",null,null,null,null,null,null,null,null,null,null,null,null,"16:45",{"$f":"R302+0.25","v":16.75}]
[null,null,null,"23:00:00",null,null,null,null,null,null,null,null,null,null,null,null,"17:00",17]
[null,null,null,"23:15:00",null,null,null,null,null,null,null,null,null,null,null,null,"17:15",17.25]
[null,null,null,"23:30:00",null,null,null,null,null,null,null,null,null,null,null,null,"17:30",17.5]
[null,null,null,"23:45:00",null,null,null,null,null,null,null,null,null,null,null,null,"17:45",17.75]
[null,null,null,"00:00:00",null,null,null,null,null,null,null,null,null,null,null,null,"18:00",18]
[null,null,null,"00:15:00",null,null,null,null,null,null,null,null,null,null,null,null,"18:15",18.25]
[null,null,null,"00:30:00",null,null,null,null,null,null,null,null,null,null,null,null,"18:30",18.5]
[null,null,null,"00:45:00",null,null,null,null,null,null,null,null,null,null,null,null,"18:45",18.75]
[null,null,null,"01:00:00",null,null,null,null,null,null,null,null,null,null,null,null,"19:00",19]
[null,null,null,"01:15:00",null,null,null,null,null,null,null,null,null,null,null,null,"19:15",19.25]
[null,null,null,"01:30:00",null,null,null,null,null,null,null,null,null,null,null,null,"19:30",19.5]
[null,null,null,"01:45:00",null,null,null,null,null,null,null,null,null,null,null,null,"19:45",19.75]
[null,null,null,"02:00:00",null,null,null,null,null,null,null,null,null,null,null,null,"20:00",20]
[null,null,null,"02:15:00",null,null,null,null,null,null,null,null,null,null,null,null,"20:15",20.25]
[null,null,null,"02:30:00",null,null,null,null,null,null,null,null,null,null,null,null,"20:30",20.5]
[null,null,null,"02:45:00",null,null,null,null,null,null,null,null,null,null,null,null,"20:45",20.75]
[null,null,null,"03:00:00",null,null,null,null,null,null,null,null,null,null,null,null,"21:00",21]
[null,null,null,"03:15:00",null,null,null,null,null,null,null,null,null,null,null,null,"21:15",21.25]
[null,null,null,"03:30:00",null,null,null,null,null,null,null,null,null,null,null,null,"21:30",21.5]
[null,null,null,"03:45:00",null,null,null,null,null,null,null,null,null,null,null,null,"21:45",21.75]
[null,null,null,"04:00:00",null,null,null,null,null,null,null,null,null,null,null,null,"22:00",22]
[null,null,null,"04:15:00",null,null,null,null,null,null,null,null,null,null,null,null,"22:15",22.25]
[null,null,null,"04:30:00",null,null,null,null,null,null,null,null,null,null,null,null,"22:30",22.5]
[null,null,null,"04:45:00",null,null,null,null,null,null,null,null,null,null,null,null,"22:45",22.75]
[null,null,null,"05:00:00",null,null,null,null,null,null,null,null,null,null,null,null,"23:00",23]
[null,null,null,"05:15:00",null,null,null,null,null,null,null,null,null,null,null,null,"23:15",23.25]
[null,null,null,"05:30:00",null,null,null,null,null,null,null,null,null,null,null,null,"23:30",23.5]
[null,null,null,"05:45:00",null,null,null,null,null,null,null,null,null,null,null,null,"23:45",23.75]
[null,null,null,null,null,null,null,null,null,null,null,null,null,null,null,null,"24:00",24]
[null,null,null,null,null,null,null,null,null,null,null,null,null,null,null,null,"24:15",24.25]
[null,null,null,null,null,null,null,null,null,null,null,null,null,null,null,null,"24:30",24.5]
[null,null,null,null,null,null,null,null,null,null,null,null,null,null,null,null,"24:45",{"$f":"R334+0.25","v":24.75}]
[null,null,null,null,null,null,null,null,null,null,null,null,null,null,null,null,"25:00",25]
[null,null,null,null,null,null,null,null,null,null,null,null,null,null,null,null,"25:15",25.25]
[null,null,null,null,null,null,null,null,null,null,null,null,null,null,null,null,"25:30",25.5]
[null,null,null,null,null,null,null,null,null,null,null,null,null,null,null,null,"25:45",25.75]
[null,null,null,null,null,null,null,null,null,null,null,null,null,null,null,null,"26:00",26]
[null,null,null,null,null,null,null,null,null,null,null,null,null,null,null,null,"26:15",26.25]
[null,null,null,null,null,null,null,null,null,null,null,null,null,null,null,null,"26:30",26.5]
[null,null,null,null,null,null,null,null,null,null,null,null,null,null,null,null,"26:45",26.75]
[null,null,null,null,null,null,null,null,null,null,null,null,null,null,null,null,"27:00",27]
[null,null,null,null,null,null,null,null,null,null,null,null,null,null,null,null,"27:15",27.25]
[null,null,null,null,null,null,null,null,null,null,null,null,null,null,null,null,"27:30",27.5]
[null,null,null,null,null,null,null,null,null,null,null,null,null,null,null,null,"27:45",27.75]
[null,null,null,null,null,null,null,null,null,null,null,null,null,null,null,null,"28:00",28]
[null,null,null,null,null,null,null,null,null,null,null,null,null,null,null,null,"28:15",28.25]
[null,null,null,null,null,null,null,null,null,null,null,null,null,null,null,null,"28:30",28.5]
[null,null,null,null,null,null,null,null,null,null,null,null,null,null,null,null,"28:45",28.75]
[null,null,null,null,null,null,null,null,null,null,null,null,null,null,null,null,"29:00",29]
[null,null,null,null,null,null,null,null,null,null,null,null,null,null,null,null,"29:15",29.25]
[null,null,null,null,null,null,null,null,null,null,null,null,null,null,null,null,"29:30",29.5]
[null,null,null,null,null,null,null,null,null,null,null,null,null,null,null,null,"29:45",29.75]
[null,null,null,null,null,null,null,null,null,null,null,null,null,null,null,null,"30:00",30]
[null,null,null,null,null,null,null,null,null,null,null,null,null,null,null,null,"30:15",30.25]
[null,null,null,null,null,null,null,null,null,null,null,null,null,null,null,null,"30:30",30.5]
[null,null,null,null,null,null,null,null,null,null,null,null,null,null,null,null,"30:45",30.75]
[null,null,null,null,null,null,null,null,null,null,null,null,null,null,null,null,"31:00",31]
[null,null,null,null,null,null,null,null,null,null,null,null,null,null,null,null,"31:15",31.25]
[null,null,null,null,null,null,null,null,null,null,null,null,null,null,null,null,"31:30",31.5]
[null,null,null,null,null,null,null,null,null,null,null,null,null,null,null,null,"31:45",31.75]
[null,null,null,null,null,null,null,null,null,null,null,null,null,null,null,null,"32:00",32]
[null,null,null,null,null,null,null,null,null,null,null,null,null,null,null,null,"32:15",32.25]
[null,null,null,null,null,null,null,null,null,null,null,null,null,null,null,null,"32:30",32.5]
[null,null,null,null,null,null,null,null,null,null,null,null,null,null,null,null,"32:45",{"$f":"R366+0.25","v":32.75}]
[null,null,null,null,null,null,null,null,null,null,null,null,null,null,null,null,"33:00",33]
[null,null,null,null,null,null,null,null,null,null,null,null,null,null,null,null,"33:15",33.25]
[null,null,null,null,null,null,null,null,null,null,null,null,null,null,null,null,"33:30",33.5]
[null,null,null,null,null,null,null,null,null,null,null,null,null,null,null,null,"33:45",33.75]
[null,null,null,null,null,null,null,null,null,null,null,null,null,null,null,null,"34:00",34]
[null,null,null,null,null,null,null,null,null,null,null,null,null,null,null,null,"34:15",34.25]
[null,null,null,null,null,null,null,null,null,null,null,null,null,null,null,null,"34:30",34.5]
[null,null,null,null,null,null,null,null,null,null,null,null,null,null,null,null,"34:45",34.75]
[null,null,null,null,null,null,null,null,null,null,null,null,null,null,null,null,"35:00",35]
[null,null,null,null,null,null,null,null,null,null,null,null,null,null,null,null,"35:15",35.25]
[null,null,null,null,null,null,null,null,null,null,null,null,null,null,null,null,"35:30",35.5]
[null,null,null,null,null,null,null,null,null,null,null,null,null,null,null,null,"35:45",35.75]
[null,null,null,null,null,null,null,null,null,null,null,null,null,null,null,null,"36:00",36]
[null,null,null,null,null,null,null,null,null,null,null,null,null,null,null,null,"36:15",36.25]
[null,null,null,null,null,null,null,null,null,null,null,null,null,null,null,null,"36:30",36.5]
[null,null,null,null,null,null,null,null,null,null,null,null,null,null,null,null,"36:45",36.75]
[null,null,null,null,null,null,null,null,null,null,null,null,null,null,null,null,"37:00",37]
[null,null,null,null,null,null,null,null,null,null,null,null,null,null,null,null,"37:15",37.25]
[null,null,null,null,null,null,null,null,null,null,null,null,null,null,null,null,"37:30",37.5]
[null,null,null,null,null,null,null,null,null,null,null,null,null,null,null,null,"37:45",37.75]
[null,null,null,null,null,null,null,null,null,null,null,null,null,null,null,null,"38:00",38]
[null,null,null,null,null,null,null,null,null,null,null,null,null,null,null,null,"38:15",38.25]
[null,null,null,null,null,null,null,null,null,null,null,null,null,null,null,null,"38:30",38.5]
[null,null,null,null,null,null,null,null,null,null,null,null,null,null,null,null,"38:45",38.75]
[null,null,null,null,null,null,null,null,null,null,null,null,null,null,null,null,"39:00",39]
[null,null,null,null,null,null,null,null,null,null,null,null,null,null,null,null,"39:15",39.25]
[null,null,null,null,null,null,null,null,null,null,null,null,null,null,null,null,"39:30",39.5]
[null,null,null,null,null,null,null,null,null,null,null,null,null,null,null,null,"39:45",39.75]
[null,null,null,null,null,null,null,null,null,null,null,null,null,null,null,null,"40:00",40]
[null,null,null,null,null,null,null,null,null,null,null,null,null,null,null,null,"40:15"]
[null,null,null,null,null,null,null,null,null,null,null,null,null,null,null,null,"40:30"]
[null,null,null,null,null,null,null,null,null,null,null,null,null,null,null,null,"40:45"]
[null,null,null,null,null,null,null,null,null,null,null,null,null,null,null,null,"41:00"]
[null,null,null,null,null,null,null,null,null,null,null,null,null,null,null,null,"41:15"]
[null,null,null,null,null,null,null,null,null,null,null,null,null,null,null,null,"41:30"]
[null,null,null,null,null,null,null,null,null,null,null,null,null,null,null,null,"41:45"]
[null,null,null,null,null,null,null,null,null,null,null,null,null,null,null,null,"42:00"]
[null,null,null,null,null,null,null,null,null,null,null,null,null,null,null,null,"42:15"]
[null,null,null,null,null,null,null,null,null,null,null,null,null,null,null,null,"42:30"]
[null,null,null,null,null,null,null,null,null,null,null,null,null,null,null,null,"42:45"]
[null,null,null,null,null,null,null,null,null,null,null,null,null,null,null,null,"43:00"]
[null,null,null,null,null,null,null,null,null,null,null,null,null,null,null,null,"43:15"]
[null,null,null,null,null,null,null,null,null,null,null,null,null,null,null,null,"43:30"]
[null,null,null,null,null,null,null,null,null,null,null,null,null,null,null,null,"43:45"]
[null,null,null,null,null,null,null,null,null,null,null,null,null,null,null,null,"44:00"]
[null,null,null,null,null,null,null,null,null,null,null,null,null,null,null,null,"44:15"]
[null,null,null,null,null,null,null,null,null,null,null,null,null,null,null,null,"44:30"]
[null,null,null,null,null,null,null,null,null,null,null,null,null,null,null,null,"44:45"]
[null,null,null,null,null,null,null,null,null,null,null,null,null,null,null,null,"45:00"]
[null,null,null,null,null,null,null,null,null,null,null,null,null,null,null,null,"45:15"]
[null,null,null,null,null,null,null,null,null,null,null,null,null,null,null,null,"45:30"]
[null,null,null,null,null,null,null,null,null,null,null,null,null,null,null,null,"45:45"]
[null,null,null,null,null,null,null,null,null,null,null,null,null,null,null,null,"46:00"]
[null,null,null,null,null,null,null,null,null,null,null,null,null,null,null,null,"46:15"]
[null,null,null,null,null,null,null,null,null,null,null,null,null,null,null,null,"46:30"]
[null,null,null,null,null,null,null,null,null,null,null,null,null,null,null,null,"46:45"]
[null,null,null,null,null,null,null,null,null,null,null,null,null,null,null,null,"47:00"]
[null,null,null,null,null,null,null,null,null,null,null,null,null,null,null,null,"47:15"]
[null,null,null,null,null,null,null,null,null,null,null,null,null,null,null,null,"47:30"]
[null,null,null,null,null,null,null,null,null,null,null,null,null,null,null,null,"47:45"]
[null,null,null,null,null,null,null,null,null,null,null,null,null,null,null,null,"48:00"]
[null,null,null,null,null,null,null,null,null,null,null,null,null,null,null,null,"48:15"]
[null,null,null,null,null,null,null,null,null,null,null,null,null,null,null,null,"48:30"]
[null,null,null,null,null,null,null,null,null,null,null,null,null,null,null,null,"48:45"]
[null,null,null,null,null,null,null,null,null,null,null,null,null,null,null,null,"49:00"]
[null,null,null,null,null,null,null,null,null,null,null,null,null,null,null,null,"49:15"]
[null,null,null,null,null,null,null,null,null,null,null,null,null,null,null,null,"49:30"]
[null,null,null,null,null,null,null,null,null,null,null,null,null,null,null,null,"49:45"]
[null,null,null,null,null,null,null,null,null,null,null,null,null,null,null,null,"50:00"]
[null,null,null,null,null,null,null,null,null,null,null,null,null,null,null,null,"50:15"]
[null,null,null,null,null,null,null,null,null,null,null,null,null,null,null,null,"50:30"]
[null,null,null,null,null,null,null,null,null,null,null,null,null,null,null,null,"50:45"]
[null,null,null,null,null,null,null,null,null,null,null,null,null,null,null,null,"51:00"]
[null,null,null,null,null,null,null,null,null,null,null,null,null,null,null,null,"51:15"]
[null,null,null,null,null,null,null,null,null,null,null,null,null,null,null,null,"51:30"]
[null,null,null,null,null,null,null,null,null,null,null,null,null,null,null,null,"51:45"]
[null,null,null,null,null,null,null,null,null,null,null,null,null,null,null,null,"52:00"]
[null,null,null,null,null,null,null,null,null,null,null,null,null,null,null,null,"52:15"]
[null,null,null,null,null,null,null,null,null,null,null,null,null,null,null,null,"52:30"]
[null,null,null,null,null,null,null,null,null,null,null,null,null,null,null,null,"52:45"]
[null,null,null,null,null,null,null,null,null,null,null,null,null,null,null,null,"53:00"]
[null,null,null,null,null,null,null,null,null,null,null,null,null,null,null,null,"53:15"]
[null,null,null,null,null,null,null,null,null,null,null,null,null,null,null,null,"53:30"]
[null,null,null,null,null,null,null,null,null,null,null,null,null,null,null,null,"53:45"]
[null,null,null,null,null,null,null,null,null,null,null,null,null,null,null,null,"54:00"]
[null,null,null,null,null,null,null,null,null,null,null,null,null,null,null,null,"54:15"]
[null,null,null,null,null,null,null,null,null,null,null,null,null,null,null,null,"54:30"]
[null,null,null,null,null,null,null,null,null,null,null,null,null,null,null,null,"54:45"]
[null,null,null,null,null,null,null,null,null,null,null,null,null,null,null,null,"55:00"]
[null,null,null,null,null,null,null,null,null,null,null,null,null,null,null,null,"55:15"]
[null,null,null,null,null,null,null,null,null,null,null,null,null,null,null,null,"55:30"]
[null,null,null,null,null,null,null,null,null,null,null,null,null,null,null,null,"55:45"]
[null,null,null,null,null,null,null,null,null,null,null,null,null,null,null,null,"56:00"]

{"sheet":"week 3 bk","index":7,"n_rows":444,"n_cols":63,"rows_kept":444,"cut":false,"hidden":false,"merged":[[13,39,13,40],[12,39,12,40],[12,35,12,36],[12,37,12,38],[36,42,37,43],[36,44,37,47],[36,48,37,48],[36,49,37,55],[15,39,15,40],[14,39,14,40],[14,35,14,36],[14,37,14,38],[16,39,16,40],[16,35,16,36],[16,37,16,38],[28,44,28,47],[28,49,28,55],[30,42,30,43],[29,44,29,47],[29,49,29,55],[30,44,30,47],[30,49,30,55],[33,42,33,43],[15,35,15,36],[15,37,15,38],[31,42,31,43],[32,42,32,43],[29,42,29,43],[24,42,24,43],[25,42,25,43],[24,44,24,47],[24,49,24,55],[25,44,25,47],[25,49,25,55],[26,44,27,47],[26,48,27,48],[26,49,27,55],[20,42,20,43],[21,42,21,43],[20,44,20,47],[20,49,20,55],[21,44,21,47],[21,49,21,55],[22,42,22,43],[23,42,23,43],[22,44,22,47],[22,49,22,55],[23,44,23,47],[23,49,23,55],[16,42,16,43],[17,42,17,43],[16,44,16,47],[16,49,16,55],[17,44,17,47],[17,49,17,55],[18,42,18,43],[19,42,19,43],[18,44,18,47],[18,49,18,55],[19,44,19,47],[19,49,19,55],[12,42,12,43],[13,42,13,43],[12,44,12,47],[12,49,12,55],[13,44,13,47],[13,49,13,55],[14,42,14,43],[15,42,15,43],[14,44,14,47],[14,49,14,55],[15,44,15,47],[15,49,15,55],[8,42,8,43],[9,42,9,43],[8,44,8,47],[8,49,8,55],[9,44,9,47],[9,49,9,55],[10,42,10,43],[11,42,11,43],[10,44,10,47],[10,49,10,55],[11,44,11,47],[11,49,11,55],[4,42,4,43],[5,42,5,43],[4,44,4,47],[4,49,4,55],[5,44,5,47],[5,49,5,55],[6,42,6,43],[7,42,7,43],[6,44,6,47],[6,49,6,55],[7,44,7,47],[7,49,7,55],[1,42,1,43],[0,42,0,43],[0,44,0,47],[0,49,0,55],[1,44,1,47],[1,49,1,55],[3,42,3,43],[2,42,2,43],[2,44,2,47],[2,49,2,55],[3,44,3,47],[3,49,3,55],[17,35,17,36],[17,37,17,38],[17,39,17,40],[0,0,0,1],[1,0,1,1],[1,2,1,6],[1,7,1,12],[14,16,15,17],[12,4,13,5],[12,12,13,13],[12,14,13,15],[12,16,13,17],[12,6,13,7],[12,8,13,9],[14,10,15,11],[14,8,15,9],[14,12,15,13],[10,2,11,3],[11,10,11,11],[9,0,9,1],[9,2,9,6],[9,7,9,12],[13,35,13,36],[13,37,13,38],[1,35,1,40],[2,0,2,1],[2,2,2,6],[2,7,2,12],[2,13,2,18],[2,19,2,20],[2,21,2,25],[2,26,2,34],[2,35,2,40],[1,13,1,18],[1,19,1,20],[1,21,1,25],[1,26,1,34],[3,35,3,40],[4,19,4,20],[4,21,4,25],[4,26,4,34],[4,35,4,40],[3,19,3,20],[3,21,3,25],[10,0,11,1],[11,4,11,5],[9,13,9,18],[11,6,11,7],[5,26,5,34],[5,35,5,40],[5,19,5,20],[5,21,5,25],[5,0,5,1],[5,2,5,6],[10,35,11,36],[10,37,11,38],[3,2,3,6],[3,7,3,12],[3,13,3,18],[4,0,4,1],[4,2,4,6],[4,7,4,12],[4,13,4,18],[3,0,3,1],[6,26,6,34],[5,7,5,12],[5,13,5,18],[3,26,3,34],[6,35,6,40],[8,2,8,6],[8,7,8,12],[8,13,8,18],[6,19,6,20],[6,21,6,25],[6,0,6,1],[6,2,6,6],[6,7,6,12],[6,13,6,18],[7,0,7,1],[7,2,7,6],[7,7,7,12],[7,13,7,18],[7,26,7,34],[7,35,7,40],[8,19,8,20],[8,21,8,25],[8,26,8,34],[8,35,8,40],[7,19,7,20],[7,21,7,25],[8,0,8,1],[9,35,9,40],[11,16,11,17],[9,19,9,20],[9,21,9,25],[9,26,9,34],[10,24,11,34],[10,39,11,40],[14,6,15,7],[12,10,13,11],[11,8,11,9],[11,12,11,13],[11,14,11,15],[10,4,10,11],[10,12,10,23],[14,14,15,15],[11,18,11,19],[11,20,11,21],[11,22,11,23],[12,18,13,19],[12,20,13,21],[12,22,13,23],[14,22,15,23],[12,24,13,34],[14,18,15,19],[14,20,15,21],[14,2,15,3],[12,0,13,1],[12,2,13,3],[14,4,15,5],[18,12,19,13],[18,10,19,11],[16,8,17,9],[18,2,19,3],[16,6,17,7],[18,4,19,5],[16,4,17,5],[18,8,19,9],[18,0,19,1],[14,0,15,1],[16,14,17,15],[16,16,17,17],[16,12,17,13],[16,0,17,1],[16,2,17,3],[16,18,17,19],[18,6,19,7],[16,10,17,11],[18,14,19,15],[18,16,19,17],[18,35,18,36],[18,37,18,38],[18,39,18,40],[19,35,19,36],[22,6,23,7],[22,12,23,13],[20,10,21,11],[22,10,23,11],[20,8,21,9],[22,8,23,9],[21,35,21,36],[21,37,21,38],[22,37,22,38],[22,18,23,19],[22,14,23,15],[22,16,23,17],[20,16,21,17],[20,35,20,36],[20,37,20,38],[23,35,23,36],[23,37,23,38],[22,24,23,34],[22,20,23,21],[22,22,23,23],[24,6,25,7],[24,8,25,9],[20,12,21,13],[22,0,23,1],[22,2,23,3],[20,0,21,1],[20,2,21,3],[20,4,21,5],[22,4,23,5],[20,6,21,7],[20,14,21,15],[24,18,25,19],[24,20,25,21],[24,22,25,23],[24,24,25,34],[20,22,21,23],[20,24,21,34],[32,0,32,1],[32,2,32,5],[28,2,28,5],[28,0,28,1],[31,2,31,5],[30,14,30,15],[30,16,30,25],[29,0,29,1],[29,2,29,5],[30,0,30,1],[30,2,30,5],[29,10,29,13],[30,6,30,9],[30,10,30,13],[31,16,31,25],[28,16,28,25],[29,16,29,25],[26,2,27,5],[26,16,27,25],[27,6,27,9],[27,10,27,13],[26,0,27,1],[24,4,25,5],[31,26,31,40],[24,0,25,1],[24,2,25,3],[25,35,25,36],[25,39,25,40],[30,26,30,40],[29,26,29,40],[26,26,27,40],[24,39,24,40],[25,37,25,38],[24,35,24,36],[24,37,24,38],[31,0,31,1],[24,10,25,11],[24,14,25,15],[24,16,25,17],[24,12,25,13],[31,14,31,15],[35,0,36,5],[98,10,98,11],[98,12,98,13],[36,6,36,15],[98,6,98,7],[33,0,33,1],[34,0,34,1],[34,2,34,5],[34,6,34,9],[34,10,34,13],[33,2,33,5],[33,6,33,9],[33,10,33,13],[98,14,98,15],[34,14,34,15],[98,8,98,9],[26,6,26,13],[26,14,27,15],[32,14,32,15],[32,16,32,25],[14,24,15,34],[34,26,34,40],[28,26,28,40],[32,26,32,40],[33,16,33,25],[33,26,33,40],[21,39,21,40],[22,35,22,36],[19,37,19,38],[19,39,19,40],[20,39,20,40],[22,39,22,40],[23,39,23,40],[16,20,17,21],[16,22,17,23],[16,24,17,34],[18,22,19,23],[18,24,19,34],[20,18,21,19],[20,20,21,21],[18,18,19,19],[18,20,19,21],[26,41,27,41],[26,42,27,43],[35,6,35,9],[35,10,35,13],[35,18,36,20],[31,6,31,9],[31,10,31,13],[32,6,32,9],[32,10,32,13],[28,6,28,9],[28,10,28,13],[29,6,29,9],[29,14,29,15],[28,14,28,15],[28,42,28,43],[34,16,34,25],[35,21,35,22],[36,21,36,22],[35,16,36,17],[35,14,35,15],[33,14,33,15],[34,42,34,43],[35,42,35,43],[36,41,37,41],[31,44,31,47],[31,49,31,55],[32,44,32,47],[33,44,33,47],[33,49,33,55],[34,44,34,47],[34,49,34,55],[35,44,35,47],[35,49,35,55]]}
["DATE",null," ACTIVITY ",null,null,null,null," IDENTIFICATION ",null,null,null,null,null," LOCATION ",null,null,null,null,null,"DATE",null," ACTIVITY ",null,null,null,null," IDENTIFICATION ",null,null,null,null,null,null,null,null," LOCATION ",null,null,null,null,null,"EXERCISE","DATE",null,"EXERCISE",null,null,null,"HORSE","DETAILS"]
[null,null,null,null,null,null,null,null,null,null,null,null,null,null,null,null,null,null,null,null,null,null,null,null,null,null,null,null,null,null,null,null,null,null,null,null,null,null,null,null,null,1]
[null,null,null,null,null,null,null,null,null,null,null,null,null,null,null,null,null,null,null,null,null,null,null,null,null,null,null,null,null,null,null,null,null,null,null,null,null,null,null,null,null,2]
[null,null,null,null,null,null,null,null,null,null,null,null,null,null,null,null,null,null,null,null,null,null,null,null,null,null,null,null,null,null,null,null,null,null,null,null,null,null,null,null,null,3]
[null,null,null,null,null,null,null,null,null,null,null,null,null,null,null,null,null,null,null,null,null,null,null,null,null,null,null,null,null,null,null,null,null,null,null,null,null,null,null,null,null,4]
[null,null,null,null,null,null,null,null,null,null,null,null,null,null,null,null,null,null,null,null,null,null,null,null,null,null,null,null,null,null,null,null,null,null,null,null,null,null,null,null,null,5]
[null,null,null,null,null,null,null,null,null,null,null,null,null,null,null,null,null,null,null,null,null,null,null,null,null,null,null,null,null,null,null,null,null,null,null,null,null,null,null,null,null,6]
[null,null,null,null,null,null,null,null,null,null,null,null,null,null,null,null,null,null,null,null,null,null,null,null,null,null,null,null,null,null,null,null,null,null,null,null,null,null,null,null,null,7]
[null,null,null,null,null,null,null,null,null,null,null,null,null,null,null,null,null,null,null,null,null,null,null,null,null,null,null,null,null,null,null,null,null,null,null,null,null,null,null,null,null,8]
[null,null,null,null,null,null,null,null,null,null,null,null,null,null,null,null,null,null,null,null,null,null,null,null,null,null,null,null,null,null,null,null,null,null,null,null,null,null,null,null,null,9]
["DAY",null,"DATE",null,"OVERTIME",null,null,null,null,null,null,null,"AWAY FROM DUTY STATION",null,null,null,null,null,null,null,null,null,null,null,"EXPLANATION OF DUTIES PERFORMED, AREA WORKED, JUSTIFICATION FOR OVERTIME",null,null,null,null,null,null,null,null,null,null,"CODE",null,"HOURS\n(DECIMAL)",null,"DATE",null,10]
[null,null,null,null,"OT PROJECT",null,"SPEED CHART #",null,"SHIFT WORKED",null,"# OT HOURS",null,"TIME LEFT",null,"ARRIVED BACK",null,"HOURS AWAY",null,"MEALS",null,"ROOMS & OTHER",null,"TOTAL EXPENSE",null,null,null,null,null,null,null,null,null,null,null,null,null,null,null,null,null,null,11,null,null,null,null,null,null,null,null,null,null,null,null,null,null,null,null,null,null,null,null,{"$f":"C13","v":"2019-09-15"}]
["SUN",null,{"$f":"IF('Week 3'!B11=\"\",\"\",'Week 3'!B11)","v":"2019-09-15"},null,null,null,null,null,null,null,null,null,null,null,null,null,null,null,null,null,null,null,{"$f":"IF(SUM(S13+U13)=0,\"\",SUM(S13+U13))","v":""},null,null,null,null,null,null,null,null,null,null,null,null,null,null,null,null,null,null,12,null,null,null,null,null,null,null,null,null,null,null,null,null,null,null,null,null,null,null,null,{"$f":"C25","v":"2019-09-21"}]
[null,null,null,null,null,null,null,null,null,null,null,null,null,null,null,null,null,null,null,null,null,null,null,null,null,null,null,null,null,null,null,null,null,null,null,null,null,null,null,null,null,13]
["MON",null,{"$f":"IF('Week 3'!B12=\"\",\"\",'Week 3'!B12)","v":"2019-09-16"},null,null,null,null,null,null,null,null,null,null,null,null,null,null,null,null,null,null,null,{"$f":"IF(SUM(S15+U15)=0,\"\",SUM(S15+U15))","v":""},null,null,null,null,null,null,null,null,null,null,null,null,null,null,null,null,null,null,14]
[null,null,null,null,null,null,null,null,null,null,null,null,null,null,null,null,null,null,null,null,null,null,null,null,null,null,null,null,null,null,null,null,null,null,null,null,null,null,null,null,null,15]
["TUE",null,{"$f":"IF('Week 3'!B13=\"\",\"\",'Week 3'!B13)","v":"2019-09-17"},null,null,null,null,null,null,null,null,null,null,null,null,null,null,null,null,null,null,null,{"$f":"IF(SUM(S17+U17)=0,\"\",SUM(S17+U17))","v":""},null,null,null,null,null,null,null,null,null,null,null,null,null,null,null,null,null,null,16]
[null,null,null,null,null,null,null,null,null,null,null,null,null,null,null,null,null,null,null,null,null,null,null,null,null,null,null,null,null,null,null,null,null,null,null,null,null,null,null,null,null,17]
["WED",null,{"$f":"IF('Week 3'!B14=\"\",\"\",'Week 3'!B14)","v":"2019-09-18"},null,null,null,null,null,null,null,null,null,null,null,null,null,null,null,null,null,null,null,{"$f":"IF(SUM(S19+U19)=0,\"\",SUM(S19+U19))","v":""},null,null,null,null,null,null,null,null,null,null,null,null,null,null,null,null,null,null,18]
[null,null,null,null,null,null,null,null,null,null,null,null,null,null,null,null,null,null,null,null,null,null,null,null,null,null,null,null,null,null,null,null,null,null,null,null,null,null,null,null,null,19]
["THU",null,{"$f":"IF('Week 3'!B15=\"\",\"\",'Week 3'!B15)","v":"2019-09-19"},null,null,null,null,null,null,null,null,null,null,null,null,null,null,null,null,null,null,null,{"$f":"IF(SUM(S21+U21)=0,\"\",SUM(S21+U21))","v":""},null,null,null,null,null,null,null,null,null,null,null,null,null,null,null,null,null,null,20]
[null,null,null,null,null,null,null,null,null,null,null,null,null,null,null,null,null,null,null,null,null,null,null,null,null,null,null,null,null,null,null,null,null,null,null,null,null,null,null,null,null,21]
["FRI",null,{"$f":"IF('Week 3'!B16=\"\",\"\",'Week 3'!B16)","v":"2019-09-20"},null,null,null,null,null,null,null,null,null,null,null,null,null,null,null,null,null,null,null,{"$f":"IF(SUM(S23+U23)=0,\"\",SUM(S23+U23))","v":""},null,null,null,null,null,null,null,null,null,null,null,null,null,null,null,null,null,null,22]
[null,null,null,null,null,null,null,null,null,null,null,null,null,null,null,null,null,null,null,null,null,null,null,null,null,null,null,null,null,null,null,null,null,null,null,null,null,null,null,null,null,23]
["SAT",null,{"$f":"IF('Week 3'!B17=\"\",\"\",'Week 3'!B17)","v":"2019-09-21"},null,null,null,null,null,null,null,null,null,null,null,null,null,null,null,null,null,null,null,{"$f":"IF(SUM(S25+U25)=0,\"\",SUM(S25+U25))","v":""},null,null,null,null,null,null,null,null,null,null,null,null,null,null,null,null,null,null,24]
[null,null,null,null,null,null,null,null,null,null,null,null,null,null,null,null,null,null,null,null,null,null,null,null,null,null,null,null,null,null,null,null,null,null,null,null,null,null,null,null,null,25]
["DAY          DATE",null,"SECONDARY EMPLOYMENT SHIFT",null,null,null,"HOURS WORKED",null,null,null,null,null,null,null,"LEAVE\nHOURS\n(DECIMAL)",null," BUSINESS NAME AND LOCATION ",null,null,null,null,null,null,null,null,null," OTHER REMARKS ",null,null,null,null,null,null,null,null,null,null,null,null,null,null,26]
[null,null,null,null,null,null,"SECONDARY EMPLORMENT",null,null,null,"ALL DPS HOURS"]
[{"$f":"IF('Week 3'!B11=\"\",\"\",'Week 3'!B11)","v":"2019-09-15"},null,null,null,null,null,null,null,null,null,{"$f":"'Week 3'!O11","v":""},null,null,null,null,null,null,null,null,null,null,null,null,null,null,null,null,null,null,null,null,null,null,null,null,null,null,null,null,null,null,27]
[{"$f":"IF('Week 3'!B12=\"\",\"\",'Week 3'!B12)","v":"2019-09-16"},null,null,null,null,null,null,null,null,null,{"$f":"'Week 3'!O12","v":""},null,null,null,null,null,null,null,null,null,null,null,null,null,null,null,null,null,null,null,null,null,null,null,null,null,null,null,null,null,null,28]
[{"$f":"IF('Week 3'!B13=\"\",\"\",'Week 3'!B13)","v":"2019-09-17"},null,null,null,null,null,null,null,null,null,{"$f":"'Week 3'!O13","v":""},null,null,null,null,null,null,null,null,null,null,null,null,null,null,null,null,null,null,null,null,null,null,null,null,null,null,null,null,null,null,29]
[{"$f":"IF('Week 3'!B14=\"\",\"\",'Week 3'!B14)","v":"2019-09-18"},null,null,null,null,null,null,null,null,null,{"$f":"'Week 3'!O14","v":""},null,null,null,null,null,null,null,null,null,null,null,null,null,null,null,null,null,null,null,null,null,null,null,null,null,null,null,null,null,null,30]
[{"$f":"IF('Week 3'!B15=\"\",\"\",'Week 3'!B15)","v":"2019-09-19"},null,null,null,null,null,null,null,null,null,{"$f":"'Week 3'!O15","v":""},null,null,null,null,null,null,null,null,null,null,null,null,null,null,null,null,null,null,null,null,null,null,null,null,null,null,null,null,null,null,31]
[{"$f":"IF('Week 3'!B16=\"\",\"\",'Week 3'!B16)","v":"2019-09-20"},null,null,null,null,null,null,null,null,null,{"$f":"'Week 3'!O16","v":""},null,null,null,null,null,null,null,null,null,null,null,null,null,null,null,null,null,null,null,null,null,null,null,null,null,null,null,null,null,null,32]
[{"$f":"IF('Week 3'!B17=\"\",\"\",'Week 3'!B17)","v":"2019-09-21"},null,null,null,null,null,null,null,null,null,{"$f":"'Week 3'!O17","v":""},null,null,null,null,null,null,null,null,null,null,null,null,null,null,null,null,null,null,null,null,null,null,null,null,null,null,null,null,null,null,33]
["MAXIMUM 62 HRS (DPS + SECONDARY EMPLOYMENT) A WEEKLY PERIOD",null,null,null,null,null,{"$f":"IF(SUM(G29:G35)=0,\"\",SUM(G29:G35))","v":""},null,null,null,{"$f":"IF(SUM(K29:K35)=0,\"\",SUM(K29:K35))","v":""},null,null,null,{"$f":"IF(SUM(O29:O35)=0,\"\",SUM(O29:O35))","v":""},null,{"$f":"IFERROR(62-(SUM(G36:K36)),\"\")","v":62},null,"TOTAL HOURS AVAILABLE TO WORK",null,null,"INITIALS",null,"INITIALS IN BOX CERTIFIES THAT NO SECONDARY",null,null,null,null,null,null,null,null,null,null," *TOTAL HOURS WORKED SHOULD NOT",null,null,null,null,null,null,34]
[null,null,null,null,null,null,"62 - (SECONDARY  EMPLOYMENT HRS + ALL DPS HRS) = ",null,null,null,null,null,null,null,null,null,null,null,null,null,null,null,null,"EMPLOYMENT WAS PERFORMED DURING THIS PERIOD",null,null,null,null,null,null,null,null,null,null," EXCEED 16 HOURS IN ANY 24 HOUR PERIOD",null,null,null,null,null,null,35]
[]
[]
[]
[]
[]
[]
[null,null,null,null,null,null,null,null,"TYPE","RATING",null,"DRUG",null,"EXP",null,null,null,"HIDE","END","UNKNOWN"]
[null,null,"BURIED AID",null,null,null,null,null,"DRUG","S",null,"M",null,1,"C-4 Taged",null,null,"HDS","P","X"]
[null,null,"QUARTERING",null,null,null,null,null,"EXP","U",null,"PMT",null,2,"C-4 Untaged",null,null,"HDM","R"]
[null,null,"POINT TO POINT",null,null,null,null,null,null,"B",null,"PC",null,3,"Semtex Taged",null,null,"HDL","S"]
[null,null,"EXTERIOR WALL",null,null,null,null,null,null,null,null,"PH",null,4,"DS PETN Taged",null,null,"LDS"]
[null,null,"INTERIOR WALL",null,null,null,null,null,null,null,null,"C",null,5,"DS RDX Taged",null,null,"LDM"]
[null,null,"PASSENGER VEHICLE INTERIOR",null,null,null,null,null,null,null,null,"H",null,6,"Comp B",null,null,"LDL"]
[null,null,"COMMERCIAL VEHICLE INTERIOR",null,null,null,null,null,null,null,null,"MT",null,7,"ANFO",null,null,"T"]
[null,null,"PASSENGER VEHICLE EXTERIOR",null,null,null,null,null,null,null,null,null,null,8,"Cast Booster",null,null,"HT"]
[null,null,"COMMERCIAL VEHICLE EXTERIOR",null,null,null,null,null,null,null,null,null,null,9,"Unigel"]
[null,null,"LUGGAGE",null,null,null,null,null,null,null,null,null,null,10,"DC PETN"]
[null,null,"FREIGHT",null,null,null,null,null,null,null,null,null,null,11,"DC RDX"]
[null,null,"BUILDING INTERIOR",null,null,null,null,null,null,null,null,null,null,12,"Watergel"]
[null,null,"BUILDING EXTERIOR",null,null,null,null,null,null,null,null,null,null,13,"TNT Granular"]
[null,null,"BASIC RETRIEVE",null,null,null,null,null,null,null,null,null,null,14,"Slip-on Booster"]
[null,null,"CONTROLLED RETRIEVE (SIGHT)",null,null,null,null,null,null,null,null,null,null,15,"Nitro Dynamite"]
[null,null,"CONTROLLED RETRIEVE (SCENT)",null,null,null,null,null,null,null,null,null,null,16,"Nitro Methane"]
[null,null,"VESSELS",null,null,null,null,null,null,null,null,null,null,17,"Black Powder"]
[null,null,"AIRCRAFT",null,null,null,null,null,null,null,null,null,null,18,"AN Prills"]
[null,null,"OTHER",null,null,null,null,null,null,null,null,null,null,19,"AP"]
[null,null,"DROP AID",null,null,null,null,null,null,null,null,null,null,20,"PP"]
[null,null,null,null,null,null,null,null,null,null,null,null,null,21,"Pyrodex"]
[null,null,null,null,null,null,null,null,null,null,null,null,null,22,"SP Single Base"]
[null,null,null,null,null,null,null,null,null,null,null,null,null,23,"SP Double Base"]
[null,null,null,null,null,null,null,null,null,null,null,null,null,24,"Safety Fuse"]
[]
[]
[]
[]
[]
[]
[]
[]
[]
[]
[]
[]
[]
[]
[]
[]
[]
[]
[]
[]
[]
[null,null,"SUN",{"$f":"IF(G20<E20,(24-E20)+G20,G20-E20)","v":"00:00:00"},{"$f":"IF((VALUE(HOUR(D90))+VALUE(MINUTE(D90))/60)=0,\"\",(VALUE(HOUR(D90))+VALUE(MINUTE(D90))/60))","v":""}]
[null,null,"MON",{"$f":"IF(G21<E21,(24-E21)+G21,IF(E21<G21,G21-E21,IF(E21=0,24-G21,IF(G21=0,24-E21))))","v":24},"","CONVERSIONS"]
[null,null,"TUES",24,"","AND CALCULATIONS"]
[null,null,"WED",24,"","FOR TIME LEFT &"]
[null,null,"THU",24,"","RETURNED & TIME"]
[null,null,"FRI",24,"","AWAY FROM DUTY"]
[null,null,"SAT",24,"","STATION"]
[]
[]
[null,null,null,null,null,null,{"$f":"IF(SUM(G29:G35)=0,0,SUM(G29:G35))","v":0},null,{"$f":"IF(SUM(K29:K35)=0,0,SUM(K29:K35))","v":0},null,{"$f":"IF(I99>40,\"0\",((40)-(I99)))","v":40},null,{"$f":"IF(SUM(O29:O35)=0,0,SUM(O29:O35))","v":0},null,{"$f":"24+K99","v":64}]
[null,null,null,null,null,null,"SUBTOTAL   +",null,"SUBTOTAL   =",null,"GRAND TOTAL",null," -  LEAVE  =",null,"HOURS"]
[]
[]
[]
[]
[]
[]
[]
[]
[]
[]
[]
[]
[]
[]
[]
[]
[]
[]
[]
[]
[]
[]
[]
[]
[]
[]
[]
[]
[]
[]
[]
[]
[]
[]
[]
[]
[]
[]
[]
[]
[]
[]
[null,null,null,null,null,null,null,null,null,null,null,null,"LIST OF ACCEPTABLE CODES"]
[]
[null,null,null,null,null,null,null,null,null,null,null,null,"ALT"]
[null,null,null,null,null,null,null,null,null,null,null,null,"CAT"]
[null,null,null,null,null,null,null,null,null,null,null,null,"CDT"]
[null,null,null,null,null,null,null,null,null,null,null,null,"CTT"]
[null,null,null,null,null,null,null,null,null,null,null,null,"DBT"]
[null,null,null,null,null,null,null,null,null,null,null,null,"DOT"]
[null,null,null,null,null,null,null,null,null,null,null,null,"DMT"]
[null,null,null,null,null,null,null,null,null,null,null,null,"EMT"]
[null,null,null,null,null,null,null,null,null,null,null,null,"EST"]
[null,null,null,null,null,null,null,null,null,null,null,null,"FFT"]
[null,null,null,null,null,null,null,null,null,null,null,null,"FPT"]
[null,null,null,null,null,null,null,null,null,null,null,null,"HCT"]
[null,null,null,null,null,null,null,null,null,null,null,null,"HOB"]
[null,null,null,null,null,null,null,null,null,null,null,null,"JST"]
[null,null,null,null,null,null,null,null,null,null,null,null,"LDT"]
[null,null,null,null,null,null,null,null,null,null,null,null,"LET"]
[null,null,null,null,null,null,null,null,null,null,null,null,"LPT"]
[null,null,null,null,null,null,null,null,null,null,null,null,"LWT"]
[null,null,null,null,null,null,null,null,null,null,null,null,"MLT"]
[null,null,null,null,null,null,null,null,null,null,null,null,"OHT"]
[null,null,null,null,null,null,null,null,null,null,null,null,"OTT"]
[null,null,null,null,null,null,null,null,null,null,null,null,"RCT"]
[null,null,null,null,null,null,null,null,null,null,null,null,"SAT"]
[null,null,null,null,null,null,null,null,null,null,null,null,"SET"]
[null,null,null,null,null,null,null,null,null,null,null,null,"SLT"]
[null,null,null,null,null,null,null,null,null,null,null,null,"VCT"]
[]
[]
[]
[]
[]
[]
[]
[]
[]
[]
[]
[]
[]
[]
[]
[]
[]
[]
[null,null,null,null,null,null,null,null,null,null,null,null,null,null,null,null,null,null,null,null,null,null,null,null,null,null,null,null,null,null,null,null,null,null,null,null,null,null,null,null,null,null,null,null,null,null,null,null,null,null,null,null,null,null,"HOURS WORKED"]
[null,null,null,null,null,null,null,null,null,null,null,null,null,null,null,null,null,null,null,null,null,null,null,null,null,null,null,null,null,null,null,null,null,null,null,null,null,null,null,null,null,null,null,null,null,null,null,null,null,null,null,null,null,null,0.25]
[null,null,null,null,null,null,null,null,null,null,null,null,null,null,null,null,null,null,null,null,null,null,null,null,null,null,null,null,null,null,null,null,null,null,null,null,null,null,null,null,null,null,null,null,null,null,null,null,null,null,null,null,null,null,0.5]
[null,null,null,null,null,null,null,null,null,null,null,null,null,null,null,null,null,null,null,null,null,null,null,null,null,null,null,null,null,null,null,null,null,null,null,null,null,null,null,null,null,null,null,null,null,null,null,null,null,null,null,null,null,null,0.75]
[null,null,null,null,null,null,null,null,null,null,null,null,null,null,null,null,null,null,null,null,null,null,null,null,null,null,null,null,null,null,null,null,null,null,null,null,null,null,null,null,null,null,null,null,null,null,null,null,null,null,null,null,null,null,1]
[null,null,null,null,null,null,null,null,null,null,null,null,null,null,null,null,null,null,null,null,null,null,null,null,null,null,null,null,null,null,null,null,null,null,null,null,null,null,null,null,null,null,null,null,null,null,null,null,null,null,null,null,null,null,1.25]
[null,null,null,null,null,null,null,null,null,null,null,null,null,null,null,null,null,null,null,null,null,null,null,null,null,null,null,null,null,null,null,null,null,null,null,null,null,null,null,null,null,null,null,null,null,null,null,null,null,null,null,null,null,null,1.5]
[null,null,null,null,null,null,null,null,null,null,null,null,null,null,null,null,null,null,null,null,null,null,null,null,null,null,null,null,null,null,null,null,null,null,null,null,null,null,null,null,null,null,null,null,null,null,null,null,null,null,null,null,null,null,1.75]
[null,null,null,null,null,null,null,null,null,null,null,null,null,null,null,null,null,null,null,null,null,null,null,null,null,null,null,null,null,null,null,null,null,null,null,null,null,null,null,null,null,null,null,null,null,null,null,null,null,null,null,null,null,null,2]
[null,null,null,null,null,null,null,null,null,null,null,null,null,null,null,null,null,null,null,null,null,null,null,null,null,null,null,null,null,null,null,null,null,null,null,null,null,null,null,null,null,null,null,null,null,null,null,null,null,null,null,null,null,null,2.25]
[null,null,null,null,null,null,null,null,null,null,null,null,null,null,null,null,null,null,null,null,null,null,null,null,null,null,null,null,null,null,null,null,null,null,null,null,null,null,null,null,null,null,null,null,null,null,null,null,null,null,null,null,null,null,2.5]
[null,null,null,null,null,null,null,null,null,null,null,null,null,null,null,null,null,null,null,null,null,null,null,null,null,null,null,null,null,null,null,null,null,null,null,null,null,null,null,null,null,null,null,null,null,null,null,null,null,null,null,null,null,null,2.75]
[null,null,null,null,null,null,null,null,null,null,null,null,null,null,null,null,null,null,null,null,null,null,null,null,null,null,null,null,null,null,null,null,null,null,null,null,null,null,null,null,null,null,null,null,null,null,null,null,null,null,null,null,null,null,3]
[null,null,null,null,null,null,null,null,null,null,null,null,null,null,null,null,null,null,null,null,null,null,null,null,null,null,null,null,null,null,null,null,null,null,null,null,null,null,null,null,null,null,null,null,null,null,null,null,null,null,null,null,null,null,3.25]
[null,null,null,null,null,null,null,null,null,null,null,null,null,null,null,null,null,null,null,null,null,null,null,null,null,null,null,null,null,null,null,null,null,null,null,null,null,null,null,null,null,null,null,null,null,null,null,null,null,null,null,null,null,null,3.5]
[null,null,null,null,null,null,null,null,null,null,null,null,null,null,null,null,null,null,null,null,null,null,null,null,null,null,null,null,null,null,null,null,null,null,null,null,null,null,null,null,null,null,null,null,null,null,null,null,null,null,null,null,null,null,3.75]
[null,null,null,null,null,null,null,null,null,null,null,null,null,null,null,null,null,null,null,null,null,null,null,null,null,null,null,null,null,null,null,null,null,null,null,null,null,null,null,null,null,null,null,null,null,null,null,null,null,null,null,null,null,null,4]
[null,null,null,null,null,null,null,null,null,null,null,null,null,null,null,null,null,null,null,null,null,null,null,null,null,null,null,null,null,null,null,null,null,null,null,null,null,null,null,null,null,null,null,null,null,null,null,null,null,null,null,null,null,null,4.25]
[null,null,null,null,null,null,null,null,null,null,null,null,null,null,null,null,null,null,null,null,null,null,null,null,null,null,null,null,null,null,null,null,null,null,null,null,null,null,null,null,null,null,null,null,null,null,null,null,null,null,null,null,null,null,4.5]
[null,null,null,null,null,null,null,null,null,null,null,null,null,null,null,null,null,null,null,null,null,null,null,null,null,null,null,null,null,null,null,null,null,null,null,null,null,null,null,null,null,null,null,null,null,null,null,null,null,null,null,null,null,null,4.75]
[null,null,null,null,null,null,null,null,null,null,null,null,null,null,null,null,null,null,null,null,null,null,null,null,null,null,null,null,null,null,null,null,null,null,null,null,null,null,null,null,null,null,null,null,null,null,null,null,null,null,null,null,null,null,5]
[null,null,null,null,null,"TIME VALUES",null,null,null,null,null,null,null,null,null,null,null,null,null,null,null,null,null,null,null,null,null,null,null,null,null,null,null,null,null,null,null,null,null,null,null,null,null,null,null,null,null,null,null,null,null,null,null,null,5.25]
[null,null,null,null,null,"06:00:00",null,null,null,null,null,null,null,null,null,null,null,null,null,null,null,null,null,null,null,null,null,null,null,null,null,null,null,null,null,null,null,null,null,null,null,null,null,null,null,null,null,null,null,null,null,null,null,null,5.5]
[null,null,null,null,null,"06:15:00",null,null,null,null,null,null,null,null,null,null,null,null,null,null,null,null,null,null,null,null,null,null,null,null,null,null,null,null,null,null,null,null,null,null,null,null,null,null,null,null,null,null,null,null,null,null,null,null,5.75]
[null,null,null,null,null,"06:30:00",null,null,null,null,null,null,null,null,null,null,null,null,null,null,null,null,null,null,null,null,null,null,null,null,null,null,null,null,null,null,null,null,null,null,null,null,null,null,null,null,null,null,null,null,null,null,null,null,6]
[null,null,null,null,null,"06:45:00",null,null,null,null,null,null,null,null,null,null,null,null,null,null,null,null,null,null,null,null,null,null,null,null,null,null,null,null,null,null,null,null,null,null,null,null,null,null,null,null,null,null,null,null,null,null,null,null,6.25]
[null,null,null,null,null,"07:00:00",null,null,null,null,null,null,null,null,null,null,null,null,null,null,null,null,null,null,null,null,null,null,null,null,null,null,null,null,null,null,null,null,null,null,null,null,null,null,null,null,null,null,null,null,null,null,null,null,6.5]
[null,null,null,null,null,"07:15:00",null,null,null,null,null,null,null,null,null,null,null,null,null,null,null,null,null,null,null,null,null,null,null,null,null,null,null,null,null,null,null,null,null,null,null,null,null,null,null,null,null,null,null,null,null,null,null,null,6.75]
[null,null,null,null,null,"07:30:00",null,null,null,null,null,null,null,null,null,null,null,null,null,null,null,null,null,null,null,null,null,null,null,null,null,null,null,null,null,null,null,null,null,null,null,null,null,null,null,null,null,null,null,null,null,null,null,null,7]
[null,null,null,null,null,"07:45:00",null,null,null,null,null,null,null,null,null,null,null,null,null,null,null,null,null,null,null,null,null,null,null,null,null,null,null,null,null,null,null,null,null,null,null,null,null,null,null,null,null,null,null,null,null,null,null,null,7.25]
[null,null,null,null,null,"08:00:00",null,null,null,null,null,null,null,null,null,null,null,null,null,null,null,null,null,null,null,null,null,null,null,null,null,null,null,null,null,null,null,null,null,null,null,null,null,null,null,null,null,null,null,null,null,null,null,null,7.5]
[null,null,null,null,null,"08:15:00",null,null,null,null,null,null,null,null,null,null,"HOURS LEAVE",null,null,null,null,null,null,null,null,null,null,null,null,null,null,null,null,null,null,null,null,null,null,null,null,null,null,null,null,null,null,null,null,null,null,null,null,null,7.75]
[null,null,null,null,null,"08:30:00",null,null,null,null,null,null,null,null,null,null,null,"0:15",0.25,null,null,null,null,null,null,null,null,null,null,null,null,null,null,null,null,null,null,null,null,null,null,null,null,null,null,null,null,null,null,null,null,null,null,null,8]
[null,null,null,null,null,"08:45:00",null,null,null,null,null,null,null,null,null,null,null,"0:30",0.5,null,null,null,null,null,null,null,null,null,null,null,null,null,null,null,null,null,null,null,null,null,null,null,null,null,null,null,null,null,null,null,null,null,null,null,8.25]
[null,null,null,null,null,"09:00:00",null,null,null,null,null,null,null,null,null,null,null,"0:45",0.75,null,null,null,null,null,null,null,null,null,null,null,null,null,null,null,null,null,null,null,null,null,null,null,null,null,null,null,null,null,null,null,null,null,null,null,8.5]
[null,null,null,null,null,"09:15:00",null,null,null,null,null,null,null,null,null,null,null,"1:00",1,null,null,null,null,null,null,null,null,null,null,null,null,null,null,null,null,null,null,null,null,null,null,null,null,null,null,null,null,null,null,null,null,null,null,null,8.75]
[null,null,null,null,null,"09:30:00",null,null,null,null,null,null,null,null,null,null,null,"1:15",1.25,null,null,null,null,null,null,null,null,null,null,null,null,null,null,null,null,null,null,null,null,null,null,null,null,null,null,null,null,null,null,null,null,null,null,null,9]
[null,null,null,null,null,"09:45:00",null,null,null,null,null,null,null,null,null,null,null,"1:30",1.5,null,null,null,null,null,null,null,null,null,null,null,null,null,null,null,null,null,null,null,null,null,null,null,null,null,null,null,null,null,null,null,null,null,null,null,9.25]
[null,null,null,null,null,"10:00:00",null,null,null,null,null,null,null,null,null,null,null,"1:45",1.75,null,null,null,null,null,null,null,null,null,null,null,null,null,null,null,null,null,null,null,null,null,null,null,null,null,null,null,null,null,null,null,null,null,null,null,9.5]
[null,null,null,null,null,"10:15:00",null,null,null,null,null,null,null,null,null,null,null,"2:00",2,null,null,null,null,null,null,null,null,null,null,null,null,null,null,null,null,null,null,null,null,null,null,null,null,null,null,null,null,null,null,null,null,null,null,null,9.75]
[null,null,null,null,null,"10:30:00",null,null,null,null,null,null,null,null,null,null,null,"2:15",2.25,null,null,null,null,null,null,null,null,null,null,null,null,null,null,null,null,null,null,null,null,null,null,null,null,null,null,null,null,null,null,null,null,null,null,null,10]
[null,null,null,null,null,"10:45:00",null,null,null,null,null,null,null,null,null,null,null,"2:30",2.5,null,null,null,null,null,null,null,null,null,null,null,null,null,null,null,null,null,null,null,null,null,null,null,null,null,null,null,null,null,null,null,null,null,null,null,10.25]
[null,null,null,null,null,"11:00:00",null,null,null,null,null,null,null,null,null,null,null,"2:45",2.75,null,null,null,null,null,null,null,null,null,null,null,null,null,null,null,null,null,null,null,null,null,null,null,null,null,null,null,null,null,null,null,null,null,null,null,10.5]
[null,null,null,null,null,"11:15:00",null,null,null,null,null,null,null,null,null,null,null,"3:00",3,null,null,null,null,null,null,null,null,null,null,null,null,null,null,null,null,null,null,null,null,null,null,null,null,null,null,null,null,null,null,null,null,null,null,null,10.75]
[null,null,null,null,null,"11:30:00",null,null,null,null,null,null,null,null,null,null,null,"3:15",3.25,null,null,null,null,null,null,null,null,null,null,null,null,null,null,null,null,null,null,null,null,null,null,null,null,null,null,null,null,null,null,null,null,null,null,null,11]
[null,null,null,null,null,"11:45:00",null,null,null,null,null,null,null,null,null,null,null,"3:30",3.5,null,null,null,null,null,null,null,null,null,null,null,null,null,null,null,null,null,null,null,null,null,null,null,null,null,null,null,null,null,null,null,null,null,null,null,11.25]
[null,null,null,null,null,"12:00:00",null,null,null,null,null,null,null,null,null,null,null,"3:45",3.75,null,null,null,null,null,null,null,null,null,null,null,null,null,null,null,null,null,null,null,null,null,null,null,null,null,null,null,null,null,null,null,null,null,null,null,11.5]
[null,null,null,null,null,"12:15:00",null,null,null,null,null,null,null,null,null,null,null,"4:00",4,null,null,null,null,null,null,null,null,null,null,null,null,null,null,null,null,null,null,null,null,null,null,null,null,null,null,null,null,null,null,null,null,null,null,null,11.75]
[null,null,null,null,null,"12:30:00",null,null,null,null,null,null,null,null,null,null,null,"4:15",4.25,null,null,null,null,null,null,null,null,null,null,null,null,null,null,null,null,null,null,null,null,null,null,null,null,null,null,null,null,null,null,null,null,null,null,null,12]
[null,null,null,null,null,"12:45:00",null,null,null,null,null,null,null,null,null,null,null,"4:30",4.5,null,null,null,null,null,null,null,null,null,null,null,null,null,null,null,null,null,null,null,null,null,null,null,null,null,null,null,null,null,null,null,null,null,null,null,12.25]
[null,null,null,null,null,"13:00:00",null,null,null,null,null,null,null,null,null,null,null,"4:45",4.75,null,null,null,null,null,null,null,null,null,null,null,null,null,null,null,null,null,null,null,null,null,null,null,null,null,null,null,null,null,null,null,null,null,null,null,12.5]
[null,null,null,null,null,"13:15:00",null,null,null,null,null,null,null,null,null,null,null,"5:00",5,null,null,null,null,null,null,null,null,null,null,null,null,null,null,null,null,null,null,null,null,null,null,null,null,null,null,null,null,null,null,null,null,null,null,null,12.75]
[null,null,null,null,null,"13:30:00",null,null,null,null,null,null,null,null,null,null,null,"5:15",5.25,null,null,null,null,null,null,null,null,null,null,null,null,null,null,null,null,null,null,null,null,null,null,null,null,null,null,null,null,null,null,null,null,null,null,null,13]
[null,null,null,null,null,"13:45:00",null,null,null,null,null,null,null,null,null,null,null,"5:30",5.5,null,null,null,null,null,null,null,null,null,null,null,null,null,null,null,null,null,null,null,null,null,null,null,null,null,null,null,null,null,null,null,null,null,null,null,13.25]
[null,null,null,null,null,"14:00:00",null,null,null,null,null,null,null,null,null,null,null,"5:45",5.75,null,null,null,null,null,null,null,null,null,null,null,null,null,null,null,null,null,null,null,null,null,null,null,null,null,null,null,null,null,null,null,null,null,null,null,13.5]
[null,null,null,null,null,"14:15:00",null,null,null,null,null,null,null,null,null,null,null,"6:00",6,null,null,null,null,null,null,null,null,null,null,null,null,null,null,null,null,null,null,null,null,null,null,null,null,null,null,null,null,null,null,null,null,null,null,null,13.75]
[null,null,null,null,null,"14:30:00",null,null,null,null,null,null,null,null,null,null,null,"6:15",6.25,null,null,null,null,null,null,null,null,null,null,null,null,null,null,null,null,null,null,null,null,null,null,null,null,null,null,null,null,null,null,null,null,null,null,null,14]
[null,null,null,null,null,"14:45:00",null,null,null,null,null,null,null,null,null,null,null,"6:30",6.5,null,null,null,null,null,null,null,null,null,null,null,null,null,null,null,null,null,null,null,null,null,null,null,null,null,null,null,null,null,null,null,null,null,null,null,14.25]
[null,null,null,null,null,"15:00:00",null,null,null,null,null,null,null,null,null,null,null,"6:45",6.75,null,null,null,null,null,null,null,null,null,null,null,null,null,null,null,null,null,null,null,null,null,null,null,null,null,null,null,null,null,null,null,null,null,null,null,14.5]
[null,null,null,null,null,"15:15:00",null,null,null,null,null,null,null,null,null,null,null,"7:00",7,null,null,null,null,null,null,null,null,null,null,null,null,null,null,null,null,null,null,null,null,null,null,null,null,null,null,null,null,null,null,null,null,null,null,null,14.75]
[null,null,null,null,null,"15:30:00",null,null,null,null,null,null,null,null,null,null,null,"7:15",7.25,null,null,null,null,null,null,null,null,null,null,null,null,null,null,null,null,null,null,null,null,null,null,null,null,null,null,null,null,null,null,null,null,"LIST OF TIME CODES",null,null,15]
[null,null,null,null,null,"15:45:00",null,null,null,null,null,null,null,null,null,null,null,"7:30",7.5,null,null,null,null,null,null,null,null,null,null,null,null,null,null,null,null,null,null,null,null,null,null,null,null,null,null,null,null,null,null,null,null,"ALT",null,null,15.25]
[null,null,null,null,null,"16:00:00",null,null,null,null,null,null,null,null,null,null,null,"7:45",7.75,null,null,null,null,null,null,null,null,null,null,null,null,null,null,null,null,null,null,null,null,null,null,null,null,null,null,null,null,null,null,null,null,"CTT",null,null,15.5]
[null,null,null,null,null,"16:15:00",null,null,null,null,null,null,null,null,null,null,null,0.33333333333333331,8,null,null,null,null,null,null,null,null,null,null,null,null,null,null,null,null,null,null,null,null,null,null,null,null,null,null,null,null,null,null,null,null,"EMT",null,null,15.75]
[null,null,null,null,null,"16:30:00",null,null,null,null,null,null,null,null,null,null,null,"8:15",8.25,null,null,null,null,null,null,null,null,null,null,null,null,null,null,null,null,null,null,null,null,null,null,null,null,null,null,null,null,null,null,null,null,"EOT",null,null,16]
[null,null,null,null,null,"16:45:00",null,null,null,null,null,null,null,null,null,null,null,"8:30",8.5,null,null,null,null,null,null,null,null,null,null,null,null,null,null,null,null,null,null,null,null,null,null,null,null,null,null,null,null,null,null,null,null,"EST",null,null,16.25]
[null,null,null,null,null,"17:00:00",null,null,null,null,null,null,null,null,null,null,null,"8:45",{"$f":"S254+0.25","v":8.75},null,null,null,null,null,null,null,null,null,null,null,null,null,null,null,null,null,null,null,null,null,null,null,null,null,null,null,null,null,null,null,null,"FFT",null,null,16.5]
[null,null,null,null,null,"17:15:00",null,null,null,null,null,null,null,null,null,null,null,"9:00",9,null,null,null,null,null,null,null,null,null,null,null,null,null,null,null,null,null,null,null,null,null,null,null,null,null,null,null,null,null,null,null,null,"FPT",null,null,16.75]
[null,null,null,null,null,"17:30:00",null,null,null,null,null,null,null,null,null,null,null,"9:15",9.25,null,null,null,null,null,null,null,null,null,null,null,null,null,null,null,null,null,null,null,null,null,null,null,null,null,null,null,null,null,null,null,null,"HCT",null,null,17]
[null,null,null,null,null,"17:45:00",null,null,null,null,null,null,null,null,null,null,null,"9:30",9.5,null,null,null,null,null,null,null,null,null,null,null,null,null,null,null,null,null,null,null,null,null,null,null,null,null,null,null,null,null,null,null,null,"HOB",null,null,17.25]
[null,null,null,null,null,"18:00:00",null,null,null,null,null,null,null,null,null,null,null,"9:45",9.75,null,null,null,null,null,null,null,null,null,null,null,null,null,null,null,null,null,null,null,null,null,null,null,null,null,null,null,null,null,null,null,null,"JST",null,null,17.5]
[null,null,null,null,null,"18:15:00",null,null,null,null,null,null,null,null,null,null,null,"10:00",10,null,null,null,null,null,null,null,null,null,null,null,null,null,null,null,null,null,null,null,null,null,null,null,null,null,null,null,null,null,null,null,null,"LET",null,null,17.75]
[null,null,null,null,null,"18:30:00",null,null,null,null,null,null,null,null,null,null,null,"10:15",10.25,null,null,null,null,null,null,null,null,null,null,null,null,null,null,null,null,null,null,null,null,null,null,null,null,null,null,null,null,null,null,null,null,"LWT",null,null,18]
[null,null,null,null,null,"18:45:00",null,null,null,null,null,null,null,null,null,null,null,"10:30",10.5,null,null,null,null,null,null,null,null,null,null,null,null,null,null,null,null,null,null,null,null,null,null,null,null,null,null,null,null,null,null,null,null,"MLT",null,null,18.25]
[null,null,null,null,null,"19:00:00",null,null,null,null,null,null,null,null,null,null,null,"10:45",10.75,null,null,null,null,null,null,null,null,null,null,null,null,null,null,null,null,null,null,null,null,null,null,null,null,null,null,null,null,null,null,null,null,"OHD",null,null,18.5]
[null,null,null,null,null,"19:15:00",null,null,null,null,null,null,null,null,null,null,null,"11:00",11,null,null,null,null,null,null,null,null,null,null,null,null,null,null,null,null,null,null,null,null,null,null,null,null,null,null,null,null,null,null,null,null,"OHT",null,null,18.75]
[null,null,null,null,null,"19:30:00",null,null,null,null,null,null,null,null,null,null,null,"11:15",11.25,null,null,null,null,null,null,null,null,null,null,null,null,null,null,null,null,null,null,null,null,null,null,null,null,null,null,null,null,null,null,null,null,"OTP",null,null,19]
[null,null,null,null,null,"19:45:00",null,null,null,null,null,null,null,null,null,null,null,"11:30",11.5,null,null,null,null,null,null,null,null,null,null,null,null,null,null,null,null,null,null,null,null,null,null,null,null,null,null,null,null,null,null,null,null,"OTT",null,null,19.25]
[null,null,null,null,null,"20:00:00",null,null,null,null,null,null,null,null,null,null,null,"11:45",11.75,null,null,null,null,null,null,null,null,null,null,null,null,null,null,null,null,null,null,null,null,null,null,null,null,null,null,null,null,null,null,null,null,"RCT",null,null,19.5]
[null,null,null,null,null,"20:15:00",null,null,null,null,null,null,null,null,null,null,null,"12:00",12,null,null,null,null,null,null,null,null,null,null,null,null,null,null,null,null,null,null,null,null,null,null,null,null,null,null,null,null,null,null,null,null,"SAT",null,null,19.75]
[null,null,null,null,null,"20:30:00",null,null,null,null,null,null,null,null,null,null,null,"12:15",12.25,null,null,null,null,null,null,null,null,null,null,null,null,null,null,null,null,null,null,null,null,null,null,null,null,null,null,null,null,null,null,null,null,"SET",null,null,20]
[null,null,null,null,null,"20:45:00",null,null,null,null,null,null,null,null,null,null,null,"12:30",12.5,null,null,null,null,null,null,null,null,null,null,null,null,null,null,null,null,null,null,null,null,null,null,null,null,null,null,null,null,null,null,null,null,"SLT",null,null,20.25]
[null,null,null,null,null,"21:00:00",null,null,null,null,null,null,null,null,null,null,null,"12:45",12.75,null,null,null,null,null,null,null,null,null,null,null,null,null,null,null,null,null,null,null,null,null,null,null,null,null,null,null,null,null,null,null,null,"VCT",null,null,20.5]
[null,null,null,null,null,"21:15:00",null,null,null,null,null,null,null,null,null,null,null,"13:00",13,null,null,null,null,null,null,null,null,null,null,null,null,null,null,null,null,null,null,null,null,null,null,null,null,null,null,null,null,null,null,null,null,null,null,null,20.75]
[null,null,null,null,null,"21:30:00",null,null,null,null,null,null,null,null,null,null,null,"13:15",13.25,null,null,null,null,null,null,null,null,null,null,null,null,null,null,null,null,null,null,null,null,null,null,null,null,null,null,null,null,null,null,null,null,null,null,null,21]
[null,null,null,null,null,"21:45:00",null,null,null,null,null,null,null,null,null,null,null,"13:30",13.5,null,null,null,null,null,null,null,null,null,null,null,null,null,null,null,null,null,null,null,null,null,null,null,null,null,null,null,null,null,null,null,null,null,null,null,21.25]
[null,null,null,null,null,"22:00:00",null,null,null,null,null,null,null,null,null,null,null,"13:45",13.75,null,null,null,null,null,null,null,null,null,null,null,null,null,null,null,null,null,null,null,null,null,null,null,null,null,null,null,null,null,null,null,null,null,null,null,21.5]
[null,null,null,null,null,"22:15:00",null,null,null,null,null,null,null,null,null,null,null,"14:00",14,null,null,null,null,null,null,null,null,null,null,null,null,null,null,null,null,null,null,null,null,null,null,null,null,null,null,null,null,null,null,null,null,null,null,null,21.75]
[null,null,null,null,null,"22:30:00",null,null,null,null,null,null,null,null,null,null,null,"14:15",14.25,null,null,null,null,null,null,null,null,null,null,null,null,null,null,null,null,null,null,null,null,null,null,null,null,null,null,null,null,null,null,null,null,null,null,null,22]
[null,null,null,null,null,"22:45:00",null,null,null,null,null,null,null,null,null,null,null,"14:30",14.5,null,null,null,null,null,null,null,null,null,null,null,null,null,null,null,null,null,null,null,null,null,null,null,null,null,null,null,null,null,null,null,null,null,null,null,22.25]
[null,null,null,null,null,"23:00:00",null,null,null,null,null,null,null,null,null,null,null,"14:45",14.75,null,null,null,null,null,null,null,null,null,null,null,null,null,null,null,null,null,null,null,null,null,null,null,null,null,null,null,null,null,null,null,null,null,null,null,22.5]
[null,null,null,null,null,"23:15:00",null,null,null,null,null,null,null,null,null,null,null,"15:00",15,null,null,null,null,null,null,null,null,null,null,null,null,null,null,null,null,null,null,null,null,null,null,null,null,null,null,null,null,null,null,null,null,null,null,null,22.75]
[null,null,null,null,null,"23:30:00",null,null,null,null,null,null,null,null,null,null,null,"15:15",15.25,null,null,null,null,null,null,null,null,null,null,null,null,null,null,null,null,null,null,null,null,null,null,null,null,null,null,null,null,null,null,null,null,null,null,null,23]
[null,null,null,null,null,"23:45:00",null,null,null,null,null,null,null,null,null,null,null,"15:30",15.5,null,null,null,null,null,null,null,null,null,null,null,null,null,null,null,null,null,null,null,null,null,null,null,null,null,null,null,null,null,null,null,null,null,null,null,23.25]
[null,null,null,null,null,"00:00:00",null,null,null,null,null,null,null,null,null,null,null,"15:45",15.75,null,null,null,null,null,null,null,null,null,null,null,null,null,null,null,null,null,null,null,null,null,null,null,null,null,null,null,null,null,null,null,null,null,null,null,23.5]
[null,null,null,null,null,"00:15:00",null,null,null,null,null,null,null,null,null,null,null,"16:00",16,null,null,null,null,null,null,null,null,null,null,null,null,null,null,null,null,null,null,null,null,null,null,null,null,null,null,null,null,null,null,null,null,null,null,null,23.75]
[null,null,null,null,null,"00:30:00",null,null,null,null,null,null,null,null,null,null,null,"16:15",16.25,null,null,null,null,null,null,null,null,null,null,null,null,null,null,null,null,null,null,null,null,null,null,null,null,null,null,null,null,null,null,null,null,null,null,null,24]
[null,null,null,null,null,"00:45:00",null,null,null,null,null,null,null,null,null,null,null,"16:30",16.5]
[null,null,null,null,null,"01:00:00",null,null,null,null,null,null,null,null,null,null,null,"16:45",{"$f":"S286+0.25","v":16.75}]
[null,null,null,null,null,"01:15:00",null,null,null,null,null,null,null,null,null,null,null,"17:00",17]
[null,null,null,null,null,"01:30:00",null,null,null,null,null,null,null,null,null,null,null,"17:15",17.25]
[null,null,null,null,null,"01:45:00",null,null,null,null,null,null,null,null,null,null,null,"17:30",17.5]
[null,null,null,null,null,"02:00:00",null,null,null,null,null,null,null,null,null,null,null,"17:45",17.75]
[null,null,null,null,null,"02:15:00",null,null,null,null,null,null,null,null,null,null,null,"18:00",18]
[null,null,null,null,null,"02:30:00",null,null,null,null,null,null,null,null,null,null,null,"18:15",18.25]
[null,null,null,null,null,"02:45:00",null,null,null,null,null,null,null,null,null,null,null,"18:30",18.5]
[null,null,null,null,null,"03:00:00",null,null,null,null,null,null,null,null,null,null,null,"18:45",18.75]
[null,null,null,null,null,"03:15:00",null,null,null,null,null,null,null,null,null,null,null,"19:00",19]
[null,null,null,null,null,"03:30:00",null,null,null,null,null,null,null,null,null,null,null,"19:15",19.25]
[null,null,null,null,null,"03:45:00",null,null,null,null,null,null,null,null,null,null,null,"19:30",19.5]
[null,null,null,null,null,"04:00:00",null,null,null,null,null,null,null,null,null,null,null,"19:45",19.75]
[null,null,null,null,null,"04:15:00",null,null,null,null,null,null,null,null,null,null,null,"20:00",20]
[null,null,null,null,null,"04:30:00",null,null,null,null,null,null,null,null,null,null,null,"20:15",20.25]
[null,null,null,null,null,"04:45:00",null,null,null,null,null,null,null,null,null,null,null,"20:30",20.5]
[null,null,null,null,null,"05:00:00",null,null,null,null,null,null,null,null,null,null,null,"20:45",20.75]
[null,null,null,null,null,"05:15:00",null,null,null,null,null,null,null,null,null,null,null,"21:00",21]
[null,null,null,null,null,"05:30:00",null,null,null,null,null,null,null,null,null,null,null,"21:15",21.25]
[null,null,null,null,null,"05:45:00",null,null,null,null,null,null,null,null,null,null,null,"21:30",21.5]
[null,null,null,null,null,null,null,null,null,null,null,null,null,null,null,null,null,"21:45",21.75]
[null,null,null,null,null,null,null,null,null,null,null,null,null,null,null,null,null,"22:00",22]
[null,null,null,null,null,null,null,null,null,null,null,null,null,null,null,null,null,"22:15",22.25]
[null,null,null,null,null,null,null,null,null,null,null,null,null,null,null,null,null,"22:30",22.5]
[null,null,null,null,null,null,null,null,null,null,null,null,null,null,null,null,null,"22:45",22.75]
[null,null,null,null,null,null,null,null,null,null,null,null,null,null,null,null,null,"23:00",23]
[null,null,null,null,null,null,null,null,null,null,null,null,null,null,null,null,null,"23:15",23.25]
[null,null,null,null,null,null,null,null,null,null,null,null,null,null,null,null,null,"23:30",23.5]
[null,null,null,null,null,null,null,null,null,null,null,null,null,null,null,null,null,"23:45",23.75]
[null,null,null,null,null,null,null,null,null,null,null,null,null,null,null,null,null,"24:00",24]
[null,null,null,null,null,null,null,null,null,null,null,null,null,null,null,null,null,"24:15",24.25]
[null,null,null,null,null,null,null,null,null,null,null,null,null,null,null,null,null,"24:30",24.5]
[null,null,null,null,null,null,null,null,null,null,null,null,null,null,null,null,null,"24:45",{"$f":"S318+0.25","v":24.75}]
[null,null,null,null,null,null,null,null,null,null,null,null,null,null,null,null,null,"25:00",25]
[null,null,null,null,null,null,null,null,null,null,null,null,null,null,null,null,null,"25:15",25.25]
[null,null,null,null,null,null,null,null,null,null,null,null,null,null,null,null,null,"25:30",25.5]
[null,null,null,null,null,null,null,null,null,null,null,null,null,null,null,null,null,"25:45",25.75]
[null,null,null,null,null,null,null,null,null,null,null,null,null,null,null,null,null,"26:00",26]
[null,null,null,null,null,null,null,null,null,null,null,null,null,null,null,null,null,"26:15",26.25]
[null,null,null,null,null,null,null,null,null,null,null,null,null,null,null,null,null,"26:30",26.5]
[null,null,null,null,null,null,null,null,null,null,null,null,null,null,null,null,null,"26:45",26.75]
[null,null,null,null,null,null,null,null,null,null,null,null,null,null,null,null,null,"27:00",27]
[null,null,null,null,null,null,null,null,null,null,null,null,null,null,null,null,null,"27:15",27.25]
[null,null,null,null,null,null,null,null,null,null,null,null,null,null,null,null,null,"27:30",27.5]
[null,null,null,null,null,null,null,null,null,null,null,null,null,null,null,null,null,"27:45",27.75]
[null,null,null,null,null,null,null,null,null,null,null,null,null,null,null,null,null,"28:00",28]
[null,null,null,null,null,null,null,null,null,null,null,null,null,null,null,null,null,"28:15",28.25]
[null,null,null,null,null,null,null,null,null,null,null,null,null,null,null,null,null,"28:30",28.5]
[null,null,null,null,null,null,null,null,null,null,null,null,null,null,null,null,null,"28:45",28.75]
[null,null,null,null,null,null,null,null,null,null,null,null,null,null,null,null,null,"29:00",29]
[null,null,null,null,null,null,null,null,null,null,null,null,null,null,null,null,null,"29:15",29.25]
[null,null,null,null,null,null,null,null,null,null,null,null,null,null,null,null,null,"29:30",29.5]
[null,null,null,null,null,null,null,null,null,null,null,null,null,null,null,null,null,"29:45",29.75]
[null,null,null,null,null,null,null,null,null,null,null,null,null,null,null,null,null,"30:00",30]
[null,null,null,null,null,null,null,null,null,null,null,null,null,null,null,null,null,"30:15",30.25]
[null,null,null,null,null,null,null,null,null,null,null,null,null,null,null,null,null,"30:30",30.5]
[null,null,null,null,null,null,null,null,null,null,null,null,null,null,null,null,null,"30:45",30.75]
[null,null,null,null,null,null,null,null,null,null,null,null,null,null,null,null,null,"31:00",31]
[null,null,null,null,null,null,null,null,null,null,null,null,null,null,null,null,null,"31:15",31.25]
[null,null,null,null,null,null,null,null,null,null,null,null,null,null,null,null,null,"31:30",31.5]
[null,null,null,null,null,null,null,null,null,null,null,null,null,null,null,null,null,"31:45",31.75]
[null,null,null,null,null,null,null,null,null,null,null,null,null,null,null,null,null,"32:00",32]
[null,null,null,null,null,null,null,null,null,null,null,null,null,null,null,null,null,"32:15",32.25]
[null,null,null,null,null,null,null,null,null,null,null,null,null,null,null,null,null,"32:30",32.5]
[null,null,null,null,null,null,null,null,null,null,null,null,null,null,null,null,null,"32:45",{"$f":"S350+0.25","v":32.75}]
[null,null,null,null,null,null,null,null,null,null,null,null,null,null,null,null,null,"33:00",33]
[null,null,null,null,null,null,null,null,null,null,null,null,null,null,null,null,null,"33:15",33.25]
[null,null,null,null,null,null,null,null,null,null,null,null,null,null,null,null,null,"33:30",33.5]
[null,null,null,null,null,null,null,null,null,null,null,null,null,null,null,null,null,"33:45",33.75]
[null,null,null,null,null,null,null,null,null,null,null,null,null,null,null,null,null,"34:00",34]
[null,null,null,null,null,null,null,null,null,null,null,null,null,null,null,null,null,"34:15",34.25]
[null,null,null,null,null,null,null,null,null,null,null,null,null,null,null,null,null,"34:30",34.5]
[null,null,null,null,null,null,null,null,null,null,null,null,null,null,null,null,null,"34:45",34.75]
[null,null,null,null,null,null,null,null,null,null,null,null,null,null,null,null,null,"35:00",35]
[null,null,null,null,null,null,null,null,null,null,null,null,null,null,null,null,null,"35:15",35.25]
[null,null,null,null,null,null,null,null,null,null,null,null,null,null,null,null,null,"35:30",35.5]
[null,null,null,null,null,null,null,null,null,null,null,null,null,null,null,null,null,"35:45",35.75]
[null,null,null,null,null,null,null,null,null,null,null,null,null,null,null,null,null,"36:00",36]
[null,null,null,null,null,null,null,null,null,null,null,null,null,null,null,null,null,"36:15",36.25]
[null,null,null,null,null,null,null,null,null,null,null,null,null,null,null,null,null,"36:30",36.5]
[null,null,null,null,null,null,null,null,null,null,null,null,null,null,null,null,null,"36:45",36.75]
[null,null,null,null,null,null,null,null,null,null,null,null,null,null,null,null,null,"37:00",37]
[null,null,null,null,null,null,null,null,null,null,null,null,null,null,null,null,null,"37:15",37.25]
[null,null,null,null,null,null,null,null,null,null,null,null,null,null,null,null,null,"37:30",37.5]
[null,null,null,null,null,null,null,null,null,null,null,null,null,null,null,null,null,"37:45",37.75]
[null,null,null,null,null,null,null,null,null,null,null,null,null,null,null,null,null,"38:00",38]
[null,null,null,null,null,null,null,null,null,null,null,null,null,null,null,null,null,"38:15",38.25]
[null,null,null,null,null,null,null,null,null,null,null,null,null,null,null,null,null,"38:30",38.5]
[null,null,null,null,null,null,null,null,null,null,null,null,null,null,null,null,null,"38:45",38.75]
[null,null,null,null,null,null,null,null,null,null,null,null,null,null,null,null,null,"39:00",39]
[null,null,null,null,null,null,null,null,null,null,null,null,null,null,null,null,null,"39:15",39.25]
[null,null,null,null,null,null,null,null,null,null,null,null,null,null,null,null,null,"39:30",39.5]
[null,null,null,null,null,null,null,null,null,null,null,null,null,null,null,null,null,"39:45",39.75]
[null,null,null,null,null,null,null,null,null,null,null,null,null,null,null,null,null,"40:00",40]
[null,null,null,null,null,null,null,null,null,null,null,null,null,null,null,null,null,"40:15"]
[null,null,null,null,null,null,null,null,null,null,null,null,null,null,null,null,null,"40:30"]
[null,null,null,null,null,null,null,null,null,null,null,null,null,null,null,null,null,"40:45"]
[null,null,null,null,null,null,null,null,null,null,null,null,null,null,null,null,null,"41:00"]
[null,null,null,null,null,null,null,null,null,null,null,null,null,null,null,null,null,"41:15"]
[null,null,null,null,null,null,null,null,null,null,null,null,null,null,null,null,null,"41:30"]
[null,null,null,null,null,null,null,null,null,null,null,null,null,null,null,null,null,"41:45"]
[null,null,null,null,null,null,null,null,null,null,null,null,null,null,null,null,null,"42:00"]
[null,null,null,null,null,null,null,null,null,null,null,null,null,null,null,null,null,"42:15"]
[null,null,null,null,null,null,null,null,null,null,null,null,null,null,null,null,null,"42:30"]
[null,null,null,null,null,null,null,null,null,null,null,null,null,null,null,null,null,"42:45"]
[null,null,null,null,null,null,null,null,null,null,null,null,null,null,null,null,null,"43:00"]
[null,null,null,null,null,null,null,null,null,null,null,null,null,null,null,null,null,"43:15"]
[null,null,null,null,null,null,null,null,null,null,null,null,null,null,null,null,null,"43:30"]
[null,null,null,null,null,null,null,null,null,null,null,null,null,null,null,null,null,"43:45"]
[null,null,null,null,null,null,null,null,null,null,null,null,null,null,null,null,null,"44:00"]
[null,null,null,null,null,null,null,null,null,null,null,null,null,null,null,null,null,"44:15"]
[null,null,null,null,null,null,null,null,null,null,null,null,null,null,null,null,null,"44:30"]
[null,null,null,null,null,null,null,null,null,null,null,null,null,null,null,null,null,"44:45"]
[null,null,null,null,null,null,null,null,null,null,null,null,null,null,null,null,null,"45:00"]
[null,null,null,null,null,null,null,null,null,null,null,null,null,null,null,null,null,"45:15"]
[null,null,null,null,null,null,null,null,null,null,null,null,null,null,null,null,null,"45:30"]
[null,null,null,null,null,null,null,null,null,null,null,null,null,null,null,null,null,"45:45"]
[null,null,null,null,null,null,null,null,null,null,null,null,null,null,null,null,null,"46:00"]
[null,null,null,null,null,null,null,null,null,null,null,null,null,null,null,null,null,"46:15"]
[null,null,null,null,null,null,null,null,null,null,null,null,null,null,null,null,null,"46:30"]
[null,null,null,null,null,null,null,null,null,null,null,null,null,null,null,null,null,"46:45"]
[null,null,null,null,null,null,null,null,null,null,null,null,null,null,null,null,null,"47:00"]
[null,null,null,null,null,null,null,null,null,null,null,null,null,null,null,null,null,"47:15"]
[null,null,null,null,null,null,null,null,null,null,null,null,null,null,null,null,null,"47:30"]
[null,null,null,null,null,null,null,null,null,null,null,null,null,null,null,null,null,"47:45"]
[null,null,null,null,null,null,null,null,null,null,null,null,null,null,null,null,null,"48:00"]
[null,null,null,null,null,null,null,null,null,null,null,null,null,null,null,null,null,"48:15"]
[null,null,null,null,null,null,null,null,null,null,null,null,null,null,null,null,null,"48:30"]
[null,null,null,null,null,null,null,null,null,null,null,null,null,null,null,null,null,"48:45"]
[null,null,null,null,null,null,null,null,null,null,null,null,null,null,null,null,null,"49:00"]
[null,null,null,null,null,null,null,null,null,null,null,null,null,null,null,null,null,"49:15"]
[null,null,null,null,null,null,null,null,null,null,null,null,null,null,null,null,null,"49:30"]
[null,null,null,null,null,null,null,null,null,null,null,null,null,null,null,null,null,"49:45"]
[null,null,null,null,null,null,null,null,null,null,null,null,null,null,null,null,null,"50:00"]
[null,null,null,null,null,null,null,null,null,null,null,null,null,null,null,null,null,"50:15"]
[null,null,null,null,null,null,null,null,null,null,null,null,null,null,null,null,null,"50:30"]
[null,null,null,null,null,null,null,null,null,null,null,null,null,null,null,null,null,"50:45"]
[null,null,null,null,null,null,null,null,null,null,null,null,null,null,null,null,null,"51:00"]
[null,null,null,null,null,null,null,null,null,null,null,null,null,null,null,null,null,"51:15"]
[null,null,null,null,null,null,null,null,null,null,null,null,null,null,null,null,null,"51:30"]
[null,null,null,null,null,null,null,null,null,null,null,null,null,null,null,null,null,"51:45"]
[null,null,null,null,null,null,null,null,null,null,null,null,null,null,null,null,null,"52:00"]
[null,null,null,null,null,null,null,null,null,null,null,null,null,null,null,null,null,"52:15"]
[null,null,null,null,null,null,null,null,null,null,null,null,null,null,null,null,null,"52:30"]
[null,null,null,null,null,null,null,null,null,null,null,null,null,null,null,null,null,"52:45"]
[null,null,null,null,null,null,null,null,null,null,null,null,null,null,null,null,null,"53:00"]
[null,null,null,null,null,null,null,null,null,null,null,null,null,null,null,null,null,"53:15"]
[null,null,null,null,null,null,null,null,null,null,null,null,null,null,null,null,null,"53:30"]
[null,null,null,null,null,null,null,null,null,null,null,null,null,null,null,null,null,"53:45"]
[null,null,null,null,null,null,null,null,null,null,null,null,null,null,null,null,null,"54:00"]
[null,null,null,null,null,null,null,null,null,null,null,null,null,null,null,null,null,"54:15"]
[null,null,null,null,null,null,null,null,null,null,null,null,null,null,null,null,null,"54:30"]
[null,null,null,null,null,null,null,null,null,null,null,null,null,null,null,null,null,"54:45"]
[null,null,null,null,null,null,null,null,null,null,null,null,null,null,null,null,null,"55:00"]
[null,null,null,null,null,null,null,null,null,null,null,null,null,null,null,null,null,"55:15"]
[null,null,null,null,null,null,null,null,null,null,null,null,null,null,null,null,null,"55:30"]
[null,null,null,null,null,null,null,null,null,null,null,null,null,null,null,null,null,"55:45"]
[null,null,null,null,null,null,null,null,null,null,null,null,null,null,null,null,null,"56:00"]

{"sheet":"Week 4","index":8,"n_rows":460,"n_cols":59,"rows_kept":460,"cut":false,"hidden":false,"merged":[[17,0,18,6],[17,15,18,15],[33,0,33,6],[10,36,10,40],[11,32,11,34],[11,36,11,40],[12,32,12,34],[12,36,12,40],[13,32,13,34],[13,36,13,40],[14,32,14,34],[14,36,14,40],[17,16,18,16],[24,0,24,6],[15,32,15,34],[15,36,15,40],[16,32,16,34],[16,36,16,40],[11,5,11,6],[12,3,12,4],[17,20,18,20],[17,31,18,31],[13,3,13,4],[11,1,11,2],[52,5,53,5],[43,9,43,10],[37,0,37,6],[51,0,51,4],[45,0,45,11],[46,6,46,10],[46,0,46,4],[23,0,23,6],[17,44,18,44],[17,43,18,43],[17,7,18,7],[17,9,18,9],[17,8,18,8],[20,0,22,6],[17,10,18,10],[17,27,18,27],[17,28,18,28],[17,32,18,34],[17,35,18,35],[17,36,18,40],[17,21,18,21],[17,22,18,22],[17,24,18,24],[17,30,18,30],[49,0,49,4],[25,0,25,6],[26,0,26,6],[42,0,43,6],[28,0,28,6],[48,0,48,4],[36,0,36,6],[39,0,39,6],[29,0,29,6],[27,0,27,6],[40,0,40,6],[41,0,41,6],[32,0,32,6],[35,0,35,6],[47,6,47,10],[38,0,38,6],[14,1,14,2],[15,1,15,2],[43,13,43,14],[51,17,51,20],[50,17,50,20],[52,17,52,20],[14,3,14,4],[17,11,18,11],[15,5,15,6],[17,17,18,17],[17,19,18,19],[17,12,18,12],[17,13,18,13],[17,14,18,14],[16,3,16,4],[17,18,18,18],[16,1,16,2],[52,0,53,4],[30,0,30,6],[50,0,50,4],[47,0,47,4],[43,7,43,8],[31,0,31,6],[2,3,2,8],[8,9,9,9],[7,11,7,13],[8,10,9,10],[2,9,2,10],[8,5,9,6],[11,3,11,4],[16,5,16,6],[8,3,9,4],[7,3,7,10],[8,8,9,8],[8,7,9,7],[12,5,12,6],[15,3,15,4],[6,7,6,12],[7,30,7,35],[6,16,6,19],[6,21,6,25],[14,5,14,6],[13,5,13,6],[6,0,6,6],[8,1,9,2],[8,0,9,0],[10,3,10,4],[10,5,10,6],[8,30,9,30],[8,31,9,31],[8,32,9,34],[8,35,9,35],[12,1,12,2],[13,1,13,2],[5,34,5,40],[6,26,6,27],[10,1,10,2],[6,33,6,34],[6,28,6,32],[6,35,6,39],[131,28,131,30],[43,11,43,12],[46,17,46,20],[47,17,47,20],[48,22,48,25],[43,17,43,18],[43,19,43,20],[47,22,47,25],[100,13,100,18],[47,12,47,15],[49,22,49,25],[52,22,52,25],[51,22,51,25],[50,22,50,25],[43,25,43,26],[46,22,46,25],[7,15,7,20],[7,22,7,24],[43,29,43,30],[52,12,52,15],[50,12,50,15],[51,12,51,15],[7,36,7,40],[54,36,54,38],[53,36,53,38],[43,15,43,16],[48,12,48,15],[45,12,45,16],[49,12,49,15],[46,12,46,15],[48,17,48,20],[49,17,49,20],[8,36,9,40],[10,32,10,34],[7,25,7,29],[17,23,18,23],[0,12,0,25],[1,12,2,25],[17,46,18,46],[21,39,21,40],[52,36,52,38],[43,21,43,22],[43,23,43,24],[43,27,43,28],[17,26,18,26],[43,35,43,36],[17,25,18,25],[17,29,18,29],[48,36,48,38],[45,28,45,39],[20,35,20,40],[43,39,43,40],[49,36,49,38],[43,33,43,34],[17,45,18,45],[43,37,43,38],[43,31,43,32],[0,32,0,40],[2,32,2,40],[6,13,6,14]]}
[{"$f":"\"THP-2C (\"&\"\"&(MAIN!A1)&\")\"","v":"THP-2C (08/2020 Version 1.1)"},null,null,null,null,null,null,null,null,null,null,null,"Texas Department of Public Safety",null,null,null,null,null,null,null,null,null,null,null,null,null,null,null,null,null,null,"GRANT OT SPEED CHART #"]
[null,null,null,null,null,null,null,null,null,null,null,null,"TEXAS HIGHWAY PATROL EQUINE WEEKLY REPORT"]
[null,null,"POSITION TITLE ",{"$f":"IF('Week 1'!D3=\"\",\"\",'Week 1'!D3)","v":"Trooper II"},null,null,null,null,null,"FUNCTION",null,{"$f":"IF('Week 1'!L3=\"\",\"\",'Week 1'!L3)","v":"HP"},null,null,null,null,null,null,null,null,null,null,null,null,null,null,null,null,null,null,null,"GRANT OT SPEED CHART #"]
[]
["                                         "]
[" NAME:  LAST",null,null,null,null,null,null,"FIRST",null,null,null,null,null," INITIAL",null," ID NO.",null,null,null,null," AREA",null,null,null,null,null," REPORTING PERIOD"]
[{"$f":"IF('Week 1'!A7:G7=\"\",\"\",'Week 1'!A7:G7)","v":"SMITH"},null,null,null,null,null,null,{"$f":"IF('Week 1'!H7:M7=\"\",\"\",'Week 1'!H7:M7)","v":"JOE"},null,null,null,null,null,{"$f":"IF('Week 1'!N7:O7=\"\",\"\",'Week 1'!N7:O7)","v":""},null,null,{"$f":"IF('Week 1'!Q7:T7=\"\",\"\",'Week 1'!Q7:T7)","v":1333},null,null,null,null,{"$f":"IF('Week 1'!V7:Z7=\"\",\"\",'Week 1'!V7:Z7)","v":"3EO1"},null,null,null,null,"  FROM:",null,{"$f":"'THP-71'!D13","v":"2019-09-22"},null,null,null,null," THROUGH: ",null,{"$f":"'THP-71'!F13","v":"2019-09-28"}]
["DUTY DAYS",null,null,"HOURS WORKED",null,null,null,null,null,null,null,"GRANT OT WORKED",null,null,"TOTAL DUTY HOURS","ADMINISTRATIVE DUTIES",null,null,null,null,null,null,"ROUTINE DUTIES",null,null,"EQUINE ADMINISTRATIVE",null,null,null,null,"AUTO",null,null,null,null,null,"COUNTY WORKED"]
["DAY","DATE",null,"TIME STARTED WORK",null,"TIME ENDED WORK",null,"HOURS OFF DUTY","REG & OT DAY DUTY HOURS","REG & OT NIGHT DUTY HOURS","TOTAL REG & OT DUTY HOURS","DAY GRANT OT HOURS","NIGHT GRANT OT HOURS","TOTAL GRANT OT HOURS","TOTAL DUTY HOURS","VEHICLE MAINTENANCE","SAFETY / TRAINING PROGRAMS","COURT","BACKGROUND INVESTIGATION","TRAINING","OFFICE DUTY",null,"PATROL ENFORCEMENT","CRASH INVESTIGATION","MOTOR CARRIER WORK","EQUINE TRAINING","EQUINE MAINTENANCE","VETERINARIAN","STABLE, VEHICLE, TRAILER MAINT.","TRAINING CONSTRUCTION","REG & OT DUTY MILES","GRANT OT DUTY MILES","UNIT NUMBER",null,null,"TOTAL DUTY MILES","SELECT COUNTY WHERE 60% OR MORE DUTY TIME SPENT",null,null,null,null,"SCHEDULED DAY OFF","DATE","REG OT","REG + GRANT OT","TIME TAKEN CALC\n(TT2)","TIME TAKEN ACTUAL\n(TT1)","TIME TAKEN","LT 8 HRS DUTY","LT DIFF","Day Off","Total Duty Hours","Total Daily OT"]
[]
["SUN",{"$f":"AC7","v":"2019-09-22"},null,null,null,null,null,null,null,null,{"$f":"IF(OR(D11=\"\",F11=\"\"),\"\",IF(AND(I11=\"\",J11=\"\"),\"\",SUM(I11:J11)))","v":""},null,null,{"$f":"IF(AND(D11=\"\",F11=\"\"),\"\",SUM(L11:M11))","v":""},{"$f":"IF(OR(D11=\"\",F11=\"\"),\"\",IF(AND(G102>0,I102>0),\"*\"&C102&\"*\",IF(G102>0,\"<\"&C102,IF(I102>0,C102&\">\",C102))))","v":""},null,null,null,null,null,null,null,null,null,null,null,null,null,null,null,null,null,null,null,null,{"$f":"IF(SUM(AE11,AF11)=0, \"\", SUM(AE11,AF11))","v":""},null,null,null,null,null,null,{"$f":"B11","v":"2019-09-22"},{"$f":"IF(OR(K11 =\"\",IFERROR((K11-8)<0,0)),0,K11-8)","v":0},{"$f":"IFERROR(IF(OR(O11=\"\",IFERROR((O11-8)<0,0)),0,O11-8),0)","v":0},{"$f":"IF(AD94 = 0,0,AD94)","v":0},{"$f":"IF(AC94 = 0,0,AC94)","v":0},{"$f":"IF((SUMPRODUCT(--((ISNUMBER(SEARCH(AA94,AA$78:AA$91)))),AC$78:AC$91)) > 0,\"Y\",\"N\")","v":"N"},{"$f":"IF(O11 < 8,\"Y\",\"N\")","v":"N"},{"$f":"IF(AW11=\"N\",0,ABS(O11-8))","v":0},{"$f":"IF(AP11<>\"\",\"Y\",\"N\")","v":"N"},{"$f":"IF(O11=\"\",0,IF(ISNUMBER(FIND(\"*\",O11))=TRUE,0,O11))","v":0},{"$f":"AS11","v":0},{"$f":"A11","v":"SUN"}]
["MON",{"$f":"IF(B11=\"\",\"\",B11+1)","v":"2019-09-23"},null,null,null,null,null,null,null,null,"",null,null,"","",null,null,null,null,null,null,null,null,null,null,null,null,null,null,null,null,null,null,null,null,{"$f":"IF(SUM(AE12,AF12)=0, \"\", SUM(AE12,AF12))","v":""},null,null,null,null,null,null,{"$f":"B12","v":"2019-09-23"},{"$f":"IF(OR(K12 =\"\",IFERROR((K12-8)<0,0)),0,K12-8)","v":0},{"$f":"IFERROR(IF(OR(O12=\"\",IFERROR((O12-8)<0,0)),0,O12-8),0)","v":0},{"$f":"IF(AD95 = 0,0,AD95)","v":0},{"$f":"IF(AC95 = 0,0,AC95)","v":0},{"$f":"IF((SUMPRODUCT(--((ISNUMBER(SEARCH(AA95,AA$78:AA$91)))),AC$78:AC$91)) > 0,\"Y\",\"N\")","v":"N"},{"$f":"IF(O12 < 8,\"Y\",\"N\")","v":"N"},{"$f":"IF(AW12=\"N\",0,ABS(O12-8))","v":0},{"$f":"IF(AP12<>\"\",\"Y\",\"N\")","v":"N"},0,{"$f":"AS12","v":0},{"$f":"A12","v":"MON"}]
["TUE",{"$f":"IF(B11=\"\",\"\",B11+2)","v":"2019-09-24"},null,null,null,null,null,null,null,null,"",null,null,"","",null,null,null,null,null,null,null,null,null,null,null,null,null,null,null,null,null,null,null,null,"",null,null,null,null,null,null,"2019-09-24",0,0,0,0,"N","N",0,"N",0,0,"TUE"]
["WED",{"$f":"IF(B11=\"\",\"\",B11+3)","v":"2019-09-25"},null,null,null,null,null,null,null,null,"",null,null,"","",null,null,null,null,null,null,null,null,null,null,null,null,null,null,null,null,null,null,null,null,"",null,null,null,null,null,null,"2019-09-25",0,0,0,0,"N","N",0,"N",0,0,"WED"]
["THU",{"$f":"IF(B11=\"\",\"\",B11+4)","v":"2019-09-26"},null,null,null,null,null,null,null,null,"",null,null,"","",null,null,null,null,null,null,null,null,null,null,null,null,null,null,null,null,null,null,null,null,"",null,null,null,null,null,null,"2019-09-26",0,0,0,0,"N","N",0,"N",0,0,"THU"]
["FRI",{"$f":"IF(B11=\"\",\"\",B11+5)","v":"2019-09-27"},null,null,null,null,null,null,null,null,"",null,null,"","",null,null,null,null,null,null,null,null,null,null,null,null,null,null,null,null,null,null,null,null,"",null,null,null,null,null,null,"2019-09-27",0,0,0,0,"N","N",0,"N",0,0,"FRI"]
["SAT",{"$f":"IF(B11=\"\",\"\",B11+6)","v":"2019-09-28"},null,null,null,null,null,null,null,null,"",null,null,"","",null,null,null,null,null,null,null,null,null,null,null,null,null,null,null,null,null,null,null,null,"",null,null,null,null,null,null,"2019-09-28",0,0,0,0,"N","N",0,"N",{"$f":"IF(O17=\"\",0,IF(ISNUMBER(FIND(\"*\",O17))=TRUE,0,O17))","v":0},0,"SAT"]
["WEEKLY TOTALS",null,null,null,null,null,null,{"$f":"IF(SUM(H11:H17)=0,\"\",SUM(H11:H17))","v":""},"","",{"$f":"IF(SUM(K11:K17)=0,0,SUM(K11:K17))","v":0},"","","",{"$f":"IF(SUM(O11:O17)=0,0,SUM(O11:O17))","v":0},"","","","","","","","","","",{"$f":"IF(SUM(Z11:Z17)=0,\"\",SUM(Z11:Z17))","v":""},"","","","","","",{"$f":"IF(SUM(AI11:AI17)=0,\"\",SUM(AI11:AI17))","v":""},null,null,{"$f":"IF(SUM(AJ11:AJ17)=0,\"\",SUM(AJ11:AJ17))","v":""},null,null,null,null,null,null,null,{"$f":"SUM(AR11:AR17)","v":0},{"$f":"SUM(AS11:AS17)","v":0},{"$f":"SUM(AT11:AT17)","v":0},{"$f":"SUM(AU11:AU17)","v":0}]
[null,null,null,null,null,null,null,null,null,null,null,null,null,null,null,null,null,null,null,null,null,null,null,null,null,null,null,null,null,null,null,null,null,null,null,null,null,null,null,null,null,null,null,null,null,null,null,null,null,null,null,{"$f":"SUM(AZ11:AZ17)","v":0},{"$f":"SUM(BA11:BA17)","v":0}]
[null,null,null,null,null,null,null,"ENFORCEMENT SUMMARY"]
["VIOLATION",null,null,null,null,null,null,"SUNDAY",null,null,null,"MONDAY",null,null,null,"TUESDAY",null,null,null,"WEDNESDAY",null,null,null,"THURSDAY",null,null,null,"FRIDAY",null,null,null,"SATURDAY",null,null,null,"TOTALS"]
[null,null,null,null,null,null,null,"Routine",null,"GRANT OT",null,"Routine",null,"GRANT OT",null,"Routine",null,"GRANT OT",null,"Routine",null,"GRANT OT",null,"Routine",null,"GRANT OT",null,"Routine",null,"GRANT OT",null,"Routine",null,"GRANT OT",null,"Routine",null,"GRANT OT",null,"ALL"]
[null,null,null,null,null,null,null,"A","W","A","W","A","W","A","W","A","W","A","W","A","W","A","W","A","W","A","W","A","W","A","W","A","W","A","W","A","W","A","W","A","W"]
["  SPEEDING",null,null,null,null,null,null,null,null,null,null,null,null,null,null,null,null,null,null,null,null,null,null,null,null,null,null,null,null,null,null,null,null,null,null,{"$f":"SUM(H24+L24+P24+T24+X24+AB24+AF24)","v":0},{"$f":"SUM(I24+M24+Q24+U24+Y24+AC24+AG24)","v":0},{"$f":"SUM(J24+N24+R24+V24+Z24+AD24+AH24)","v":0},{"$f":"SUM(K24+O24+S24+W24+AA24+AE24+AI24)","v":0},{"$f":"AJ24+AL24","v":0},{"$f":"AK24+AM24","v":0},null,null,null,null,null,null,null,"Total Daily OT:",{"$f":"BA19","v":0}]
["  DWI",null,null,null,null,null,null,null,null,null,null,null,null,null,null,null,null,null,null,null,null,null,null,null,null,null,null,null,null,null,null,null,null,null,null,{"$f":"SUM(H25+L25+P25+T25+X25+AB25+AF25)","v":0},null,{"$f":"SUM(J25+N25+R25+V25+Z25+AD25+AH25)","v":0},null,{"$f":"AJ25+AL25","v":0},null,null,null,null,null,null,null,null,"Total Weekly OT:",{"$f":"IF((AZ19-BA19-40)<0,0,AZ19-BA19-40)","v":0}]
["  DUI - MINOR",null,null,null,null,null,null,null,null,null,null,null,null,null,null,null,null,null,null,null,null,null,null,null,null,null,null,null,null,null,null,null,null,null,null,0,null,0,null,0,null,null,null,null,null,null,null,null,"Total OT:",{"$f":"IF((AZ19-BA19-40)<0,BA19,AZ19-40)","v":0}]
["  ADULT RESTRAINT VIOLATIONS",null,null,null,null,null,null,null,null,null,null,null,null,null,null,null,null,null,null,null,null,null,null,null,null,null,null,null,null,null,null,null,null,null,null,0,{"$f":"SUM(AG27,AC27,Y27,U27,Q27,M27,I27)","v":0},0,{"$f":"SUM(K27+O27+S27+W27+AA27+AE27+AI27)","v":0},0,{"$f":"AK27+AM27","v":0},null,null,null,null,null,null,null,"Total CTE:",{"$f":"IF(OR((AZ19+AU18-AX26)<40,(AZ19+AU18-AX26)=40),0,(AZ19+AU18-AX26)-40)","v":0}]
["  CHILD RESTRAINT VIOLATIONS",null,null,null,null,null,null,null,null,null,null,null,null,null,null,null,null,null,null,null,null,null,null,null,null,null,null,null,null,null,null,null,null,null,null,0,{"$f":"SUM(AG28,AC28,Y28,U28,Q28,M28,I28)","v":0},0,0,0,0]
["  HAZMAT (CVE ONLY)",null,null,null,null,null,null,null,null,null,null,null,null,null,null,null,null,null,null,null,null,null,null,null,null,null,null,null,null,null,null,null,null,null,null,0,{"$f":"SUM(AG29,AC29,Y29,U29,Q29,M29,I29)","v":0},0,0,0,0]
["  OVERSIZE",null,null,null,null,null,null,null,null,null,null,null,null,null,null,null,null,null,null,null,null,null,null,null,null,null,null,null,null,null,null,null,null,null,null,0,{"$f":"SUM(AG30,AC30,Y30,U30,Q30,M30,I30)","v":0},0,0,0,0]
["  OVERWEIGHT (CVE ONLY)",null,null,null,null,null,null,null,null,null,null,null,null,null,null,null,null,null,null,null,null,null,null,null,null,null,null,null,null,null,null,null,null,null,null,0,{"$f":"SUM(I31+M31+Q31+U31+Y31+AC31+AG31)","v":0},0,0,0,0]
["  NO INSURANCE OR MC AUTH",null,null,null,null,null,null,null,null,null,null,null,null,null,null,null,null,null,null,null,null,null,null,null,null,null,null,null,null,null,null,null,null,null,null,0,0,0,0,0,0]
["  FMCSR DRIVER",null,null,null,null,null,null,null,null,null,null,null,null,null,null,null,null,null,null,null,null,null,null,null,null,null,null,null,null,null,null,null,null,null,null,0,0,0,0,0,0]
["  DRIVER LICENSE / DWLI ",null,null,null,null,null,null,null,null,null,null,null,null,null,null,null,null,null,null,null,null,null,null,null,null,null,null,null,null,null,null,null,null,null,null,0,0,0,0,0,0]
["  REGISTRATION",null,null,null,null,null,null,null,null,null,null,null,null,null,null,null,null,null,null,null,null,null,null,null,null,null,null,null,null,null,null,null,null,null,null,0,0,0,0,0,0]
["  EQUIPMENT ",null,null,null,null,null,null,null,null,null,null,null,null,null,null,null,null,null,null,null,null,null,null,null,null,null,null,null,null,null,null,null,null,null,null,{"$f":"SUM(H36+L36+P36+T36+X36+AB36+AF36)","v":0},0,{"$f":"SUM(J36+N36+R36+V36+Z36+AD36+AH36)","v":0},{"$f":"SUM(K36+O36+S36+W36+AA36+AE36+AI36)","v":0},{"$f":"AJ36+AL36","v":0},{"$f":"AK36+AM36","v":0}]
["  CRIMINAL (FELONY)",null,null,null,null,null,null,null,null,null,null,null,null,null,null,null,null,null,null,null,null,null,null,null,null,null,null,null,null,null,null,null,null,null,null,0,null,{"$f":"SUM(J37+N37+R37+V37+Z37+AD37+AH37)","v":0},null,{"$f":"AJ37+AL37","v":0}]
["  CRIMINAL (MISDEMEANOR)",null,null,null,null,null,null,null,null,null,null,null,null,null,null,null,null,null,null,null,null,null,null,null,null,null,null,null,null,null,null,null,null,null,null,0,null,{"$f":"SUM(J38+N38+R38+V38+Z38+AD38+AH38)","v":0},null,{"$f":"AJ38+AL38","v":0}]
["  FUGITIVE (FELONY)",null,null,null,null,null,null,null,null,null,null,null,null,null,null,null,null,null,null,null,null,null,null,null,null,null,null,null,null,null,null,null,null,null,null,0,null,{"$f":"SUM(J39+N39+R39+V39+Z39+AD39+AH39)","v":0},null,{"$f":"AJ39+AL39","v":0}]
["  FUGITIVE (MISDEMEANOR)",null,null,null,null,null,null,null,null,null,null,null,null,null,null,null,null,null,null,null,null,null,null,null,null,null,null,null,null,null,null,null,null,null,null,0,null,{"$f":"SUM(J40+N40+R40+V40+Z40+AD40+AH40)","v":0},null,{"$f":"AJ40+AL40","v":0}]
["  ALL OTHER VIOLATIONS",null,null,null,null,null,null,null,null,null,null,null,null,null,null,null,null,null,null,null,null,null,null,null,null,null,null,null,null,null,null,null,null,null,null,0,{"$f":"SUM(I41+M41+Q41+U41+Y41+AC41+AG41)","v":0},{"$f":"SUM(J41+N41+R41+V41+Z41+AD41+AH41)","v":0},{"$f":"SUM(K41+O41+S41+W41+AA41+AE41+AI41)","v":0},{"$f":"AJ41+AL41","v":0},{"$f":"AK41+AM41","v":0}]
["  TOTALS",null,null,null,null,null,null,{"$f":"IF(SUM(H24:H41)<1,\"\", SUM(H24:H41))","v":""},"","","","","","","","","","","","","","","","","","","","","","","","","","","","","","","","",""]
["TOTAL NUMBER OF VEHICLES \nSTOPPED WITH ENFORCEMENT ACTION"]
[null,null,null,null,null,null,null,null,null,null,null,null,null,null,null,null,null,null,null,null,null,null,null,null,null,null,null,null,null,null,null,null,null,null,null,{"$f":"SUM(H44+L44+P44+T44+X44+AB44+AF44)","v":0},null,{"$f":"SUM(J44+N44+R44+V44+Z44+AD44+AH44)","v":0},null,{"$f":"IF(SUM(AJ44+AL44)=0,\"\",SUM(AJ44+AL44))","v":""}]
[]
["ACTIVITIES",null,null,null,null,null,null,null,null,null,null,null,"MOTOR CARRIER",null,null,null,null,null,null,null,null,null,null,null,null,null,null,null,"BE SURE TO CHECK SECONDARY EMPLOYMENT ON BACK"]
["  CRASHES INVESTIGATED",null,null,null,null,null,"  BACKGROUND INV.",null,null,null,null,null," LEVEL 2 INSPECTION"]
["  AGENCY ASSISTS",null,null,null,null,null,"  STOLEN VEH. RECOVERED",null,null,null,null,null," VEHICLE O.O.S."]
["    # TRAFFIC OPS  (W/ OTHER AGENCY)",null,null,null,null,null,"  WARRANTS SERVED",null,null,null,null,null," DRIVER O.O.S."]
["  SCHOOLS VISITED",null,null,null,null,null,"  HQ-35 SEIZURES",null,null,null,null,null,"VEHICLES CHECKED",null,null,null,null,null,null,null,null,null,null,null,null,null,null,null,"TROOPER'S SIGNATURE",null,null,null,null,null,null,null,"DATE"]
["  MOTORIST ASSISTS",null,null,null,null,null,"  INTEL HITS (WATCHLIST)"]
["  SAFETY PROGRAMS",null,null,null,null,null,"  INTEL REPORTS SUBMITTED"]
["  TRAINING PROGRAMS \n  FOR OTHER LE AGENCIES ",null,null,null,null,null,"  VEHICLE PURSUITS"]
[null,null,null,null,null,null,"# OF TASKS",null,null,null,null,null,null,null,null,null,null,null,null,null,null,null,null,null,null,null,null,null,"SUPERVISOR'S SIGNATURE",null,null,null,null,null,null,null,"    DATE"]
[]
[]
[]
[]
[]
[]
[null,"ALT","CAT","CDT","CTT","DBT","DOT","DMT","EMT","EST","FFT","FPT"]
[1,{"$f":"IF('week 3 bk'!AJ13=\"ALT\",'week 3 bk'!AL13,0)","v":0},{"$f":"IF('week 3 bk'!AJ13=\"CAT\",'week 3 bk'!AL13,0)","v":0},{"$f":"IF('week 3 bk'!AJ13=\"CDT\",'week 3 bk'!AL13,0)","v":0},{"$f":"IF('week 3 bk'!AJ13=\"CTT\",'week 3 bk'!AL13,0)","v":0},{"$f":"IF('week 3 bk'!AJ13=\"DBT\",'week 3 bk'!AL13,0)","v":0},{"$f":"IF('week 3 bk'!AJ13=\"DOT\",'week 3 bk'!AL13,0)","v":0},{"$f":"IF('week 3 bk'!AJ13=\"DMT\",'week 3 bk'!AL13,0)","v":0},{"$f":"IF('week 3 bk'!AJ13=\"EMT\",'week 3 bk'!AL13,0)","v":0},{"$f":"IF('week 3 bk'!AJ13=\"EST\",'week 3 bk'!AL13,0)","v":0},{"$f":"IF('week 3 bk'!AJ13=\"FFT\",'week 3 bk'!AL13,0)","v":0},{"$f":"IF('week 3 bk'!AJ13=\"FPT\",'week 3 bk'!AL13,0)","v":0}]
[2,{"$f":"IF('week 3 bk'!AJ14=\"ALT\",'week 3 bk'!AL14,0)","v":0},{"$f":"IF('week 3 bk'!AJ14=\"CAT\",'week 3 bk'!AL14,0)","v":0},{"$f":"IF('week 3 bk'!AJ14=\"CDT\",'week 3 bk'!AL14,0)","v":0},{"$f":"IF('week 3 bk'!AJ14=\"CTT\",'week 3 bk'!AL14,0)","v":0},{"$f":"IF('week 3 bk'!AJ14=\"DBT\",'week 3 bk'!AL14,0)","v":0},{"$f":"IF('week 3 bk'!AJ14=\"DOT\",'week 3 bk'!AL14,0)","v":0},{"$f":"IF('week 3 bk'!AJ14=\"DMT\",'week 3 bk'!AL14,0)","v":0},{"$f":"IF('week 3 bk'!AJ14=\"EMT\",'week 3 bk'!AL14,0)","v":0},{"$f":"IF('week 3 bk'!AJ14=\"EST\",'week 3 bk'!AL14,0)","v":0},{"$f":"IF('week 3 bk'!AJ14=\"FFT\",'week 3 bk'!AL14,0)","v":0},{"$f":"IF('week 3 bk'!AJ14=\"FPT\",'week 3 bk'!AL14,0)","v":0},"HCT","HOB","JST","LDT","LET","LPT","MLT","OHT","OTT","RCT","SAT","SET","SLT","VCT"]
[3,{"$f":"IF('week 3 bk'!AJ15=\"ALT\",'week 3 bk'!AL15,0)","v":0},{"$f":"IF('week 3 bk'!AJ15=\"CAT\",'week 3 bk'!AL15,0)","v":0},{"$f":"IF('week 3 bk'!AJ15=\"CDT\",'week 3 bk'!AL15,0)","v":0},{"$f":"IF('week 3 bk'!AJ15=\"CTT\",'week 3 bk'!AL15,0)","v":0},{"$f":"IF('week 3 bk'!AJ15=\"DBT\",'week 3 bk'!AL15,0)","v":0},{"$f":"IF('week 3 bk'!AJ15=\"DOT\",'week 3 bk'!AL15,0)","v":0},{"$f":"IF('week 3 bk'!AJ15=\"DMT\",'week 3 bk'!AL15,0)","v":0},{"$f":"IF('week 3 bk'!AJ15=\"EMT\",'week 3 bk'!AL15,0)","v":0},{"$f":"IF('week 3 bk'!AJ15=\"EST\",'week 3 bk'!AL15,0)","v":0},{"$f":"IF('week 3 bk'!AJ15=\"FFT\",'week 3 bk'!AL15,0)","v":0},{"$f":"IF('week 3 bk'!AJ15=\"FPT\",'week 3 bk'!AL15,0)","v":0},{"$f":"IF('week 4 bk'!AJ13=\"HCT\",'week 4 bk'!AL13,0)","v":0},{"$f":"IF('week 4 bk'!AJ13=\"HOB\",'week 4 bk'!AL13,0)","v":0},{"$f":"IF('week 4 bk'!AJ13=\"JST\",'week 4 bk'!AL13,0)","v":0},{"$f":"IF('week 4 bk'!AJ13=\"LDT\",'week 4 bk'!AL13,0)","v":0},{"$f":"IF('week 4 bk'!AJ13=\"LET\",'week 4 bk'!AL13,0)","v":0},{"$f":"IF('week 4 bk'!AJ13=\"LPT\",'week 4 bk'!AL13,0)","v":0},{"$f":"IF('week 4 bk'!AJ13=\"MLT\",'week 4 bk'!AL13,0)","v":0},{"$f":"IF('week 4 bk'!AJ13=\"OHT\",'week 4 bk'!AL13,0)","v":0},{"$f":"IF('week 4 bk'!AJ13=\"OTT\",'week 4 bk'!AL13,0)","v":0},{"$f":"IF('week 4 bk'!AJ13=\"RCT\",'week 4 bk'!AL13,0)","v":0},{"$f":"IF('week 4 bk'!AJ13=\"SAT\",'week 4 bk'!AL13,0)","v":0},{"$f":"IF('week 4 bk'!AJ13=\"SET\",'week 4 bk'!AL13,0)","v":0},{"$f":"IF('week 4 bk'!AJ13=\"SLT\",'week 4 bk'!AL13,0)","v":0},{"$f":"IF('week 4 bk'!AJ13=\"VCT\",'week 4 bk'!AL13,0)","v":0}]
[4,{"$f":"IF('week 3 bk'!AJ16=\"ALT\",'week 3 bk'!AL16,0)","v":0},{"$f":"IF('week 3 bk'!AJ16=\"CAT\",'week 3 bk'!AL16,0)","v":0},{"$f":"IF('week 3 bk'!AJ16=\"CDT\",'week 3 bk'!AL16,0)","v":0},{"$f":"IF('week 3 bk'!AJ16=\"CTT\",'week 3 bk'!AL16,0)","v":0},{"$f":"IF('week 3 bk'!AJ16=\"DBT\",'week 3 bk'!AL16,0)","v":0},{"$f":"IF('week 3 bk'!AJ16=\"DOT\",'week 3 bk'!AL16,0)","v":0},{"$f":"IF('week 3 bk'!AJ16=\"DMT\",'week 3 bk'!AL16,0)","v":0},{"$f":"IF('week 3 bk'!AJ16=\"EMT\",'week 3 bk'!AL16,0)","v":0},{"$f":"IF('week 3 bk'!AJ16=\"EST\",'week 3 bk'!AL16,0)","v":0},{"$f":"IF('week 3 bk'!AJ16=\"FFT\",'week 3 bk'!AL16,0)","v":0},{"$f":"IF('week 3 bk'!AJ16=\"FPT\",'week 3 bk'!AL16,0)","v":0},{"$f":"IF('week 4 bk'!AJ14=\"HCT\",'week 4 bk'!AL14,0)","v":0},{"$f":"IF('week 4 bk'!AJ14=\"HOB\",'week 4 bk'!AL14,0)","v":0},{"$f":"IF('week 4 bk'!AJ14=\"JST\",'week 4 bk'!AL14,0)","v":0},{"$f":"IF('week 4 bk'!AJ14=\"LDT\",'week 4 bk'!AL14,0)","v":0},{"$f":"IF('week 4 bk'!AJ14=\"LET\",'week 4 bk'!AL14,0)","v":0},{"$f":"IF('week 4 bk'!AJ14=\"LPT\",'week 4 bk'!AL14,0)","v":0},{"$f":"IF('week 4 bk'!AJ14=\"MLT\",'week 4 bk'!AL14,0)","v":0},{"$f":"IF('week 4 bk'!AJ14=\"OHT\",'week 4 bk'!AL14,0)","v":0},{"$f":"IF('week 4 bk'!AJ14=\"OTT\",'week 4 bk'!AL14,0)","v":0},{"$f":"IF('week 4 bk'!AJ14=\"RCT\",'week 4 bk'!AL14,0)","v":0},{"$f":"IF('week 4 bk'!AJ14=\"SAT\",'week 4 bk'!AL14,0)","v":0},{"$f":"IF('week 4 bk'!AJ14=\"SET\",'week 4 bk'!AL14,0)","v":0},{"$f":"IF('week 4 bk'!AJ14=\"SLT\",'week 4 bk'!AL14,0)","v":0},{"$f":"IF('week 4 bk'!AJ14=\"VCT\",'week 4 bk'!AL14,0)","v":0}]
[5,{"$f":"IF('week 3 bk'!AJ17=\"ALT\",'week 3 bk'!AL17,0)","v":0},{"$f":"IF('week 3 bk'!AJ17=\"CAT\",'week 3 bk'!AL17,0)","v":0},{"$f":"IF('week 3 bk'!AJ17=\"CDT\",'week 3 bk'!AL17,0)","v":0},{"$f":"IF('week 3 bk'!AJ17=\"CTT\",'week 3 bk'!AL17,0)","v":0},{"$f":"IF('week 3 bk'!AJ17=\"DBT\",'week 3 bk'!AL17,0)","v":0},{"$f":"IF('week 3 bk'!AJ17=\"DOT\",'week 3 bk'!AL17,0)","v":0},{"$f":"IF('week 3 bk'!AJ17=\"DMT\",'week 3 bk'!AL17,0)","v":0},{"$f":"IF('week 3 bk'!AJ17=\"EMT\",'week 3 bk'!AL17,0)","v":0},{"$f":"IF('week 3 bk'!AJ17=\"EST\",'week 3 bk'!AL17,0)","v":0},{"$f":"IF('week 3 bk'!AJ17=\"FFT\",'week 3 bk'!AL17,0)","v":0},{"$f":"IF('week 3 bk'!AJ17=\"FPT\",'week 3 bk'!AL17,0)","v":0},{"$f":"IF('week 4 bk'!AJ15=\"HCT\",'week 4 bk'!AL15,0)","v":0},{"$f":"IF('week 4 bk'!AJ15=\"HOB\",'week 4 bk'!AL15,0)","v":0},{"$f":"IF('week 4 bk'!AJ15=\"JST\",'week 4 bk'!AL15,0)","v":0},{"$f":"IF('week 4 bk'!AJ15=\"LDT\",'week 4 bk'!AL15,0)","v":0},{"$f":"IF('week 4 bk'!AJ15=\"LET\",'week 4 bk'!AL15,0)","v":0},{"$f":"IF('week 4 bk'!AJ15=\"LPT\",'week 4 bk'!AL15,0)","v":0},{"$f":"IF('week 4 bk'!AJ15=\"MLT\",'week 4 bk'!AL15,0)","v":0},{"$f":"IF('week 4 bk'!AJ15=\"OHT\",'week 4 bk'!AL15,0)","v":0},{"$f":"IF('week 4 bk'!AJ15=\"OTT\",'week 4 bk'!AL15,0)","v":0},{"$f":"IF('week 4 bk'!AJ15=\"RCT\",'week 4 bk'!AL15,0)","v":0},{"$f":"IF('week 4 bk'!AJ15=\"SAT\",'week 4 bk'!AL15,0)","v":0},{"$f":"IF('week 4 bk'!AJ15=\"SET\",'week 4 bk'!AL15,0)","v":0},{"$f":"IF('week 4 bk'!AJ15=\"SLT\",'week 4 bk'!AL15,0)","v":0},{"$f":"IF('week 4 bk'!AJ15=\"VCT\",'week 4 bk'!AL15,0)","v":0}]
[6,{"$f":"IF('week 3 bk'!AJ18=\"ALT\",'week 3 bk'!AL18,0)","v":0},{"$f":"IF('week 3 bk'!AJ18=\"CAT\",'week 3 bk'!AL18,0)","v":0},{"$f":"IF('week 3 bk'!AJ18=\"CDT\",'week 3 bk'!AL18,0)","v":0},{"$f":"IF('week 3 bk'!AJ18=\"CTT\",'week 3 bk'!AL18,0)","v":0},{"$f":"IF('week 3 bk'!AJ18=\"DBT\",'week 3 bk'!AL18,0)","v":0},{"$f":"IF('week 3 bk'!AJ18=\"DOT\",'week 3 bk'!AL18,0)","v":0},{"$f":"IF('week 3 bk'!AJ18=\"DMT\",'week 3 bk'!AL18,0)","v":0},{"$f":"IF('week 3 bk'!AJ18=\"EMT\",'week 3 bk'!AL18,0)","v":0},{"$f":"IF('week 3 bk'!AJ18=\"EST\",'week 3 bk'!AL18,0)","v":0},{"$f":"IF('week 3 bk'!AJ18=\"FFT\",'week 3 bk'!AL18,0)","v":0},{"$f":"IF('week 3 bk'!AJ18=\"FPT\",'week 3 bk'!AL18,0)","v":0},{"$f":"IF('week 4 bk'!AJ16=\"HCT\",'week 4 bk'!AL16,0)","v":0},{"$f":"IF('week 4 bk'!AJ16=\"HOB\",'week 4 bk'!AL16,0)","v":0},{"$f":"IF('week 4 bk'!AJ16=\"JST\",'week 4 bk'!AL16,0)","v":0},{"$f":"IF('week 4 bk'!AJ16=\"LDT\",'week 4 bk'!AL16,0)","v":0},{"$f":"IF('week 4 bk'!AJ16=\"LET\",'week 4 bk'!AL16,0)","v":0},{"$f":"IF('week 4 bk'!AJ16=\"LPT\",'week 4 bk'!AL16,0)","v":0},{"$f":"IF('week 4 bk'!AJ16=\"MLT\",'week 4 bk'!AL16,0)","v":0},{"$f":"IF('week 4 bk'!AJ16=\"OHT\",'week 4 bk'!AL16,0)","v":0},{"$f":"IF('week 4 bk'!AJ16=\"OTT\",'week 4 bk'!AL16,0)","v":0},{"$f":"IF('week 4 bk'!AJ16=\"RCT\",'week 4 bk'!AL16,0)","v":0},{"$f":"IF('week 4 bk'!AJ16=\"SAT\",'week 4 bk'!AL16,0)","v":0},{"$f":"IF('week 4 bk'!AJ16=\"SET\",'week 4 bk'!AL16,0)","v":0},{"$f":"IF('week 4 bk'!AJ16=\"SLT\",'week 4 bk'!AL16,0)","v":0},{"$f":"IF('week 4 bk'!AJ16=\"VCT\",'week 4 bk'!AL16,0)","v":0}]
[7,{"$f":"IF('week 3 bk'!AJ19=\"ALT\",'week 3 bk'!AL19,0)","v":0},{"$f":"IF('week 3 bk'!AJ19=\"CAT\",'week 3 bk'!AL19,0)","v":0},{"$f":"IF('week 3 bk'!AJ19=\"CDT\",'week 3 bk'!AL19,0)","v":0},{"$f":"IF('week 3 bk'!AJ19=\"CTT\",'week 3 bk'!AL19,0)","v":0},{"$f":"IF('week 3 bk'!AJ19=\"DBT\",'week 3 bk'!AL19,0)","v":0},{"$f":"IF('week 3 bk'!AJ19=\"DOT\",'week 3 bk'!AL19,0)","v":0},{"$f":"IF('week 3 bk'!AJ19=\"DMT\",'week 3 bk'!AL19,0)","v":0},{"$f":"IF('week 3 bk'!AJ19=\"EMT\",'week 3 bk'!AL19,0)","v":0},{"$f":"IF('week 3 bk'!AJ19=\"EST\",'week 3 bk'!AL19,0)","v":0},{"$f":"IF('week 3 bk'!AJ19=\"FFT\",'week 3 bk'!AL19,0)","v":0},{"$f":"IF('week 3 bk'!AJ19=\"FPT\",'week 3 bk'!AL19,0)","v":0},{"$f":"IF('week 4 bk'!AJ17=\"HCT\",'week 4 bk'!AL17,0)","v":0},{"$f":"IF('week 4 bk'!AJ17=\"HOB\",'week 4 bk'!AL17,0)","v":0},{"$f":"IF('week 4 bk'!AJ17=\"JST\",'week 4 bk'!AL17,0)","v":0},{"$f":"IF('week 4 bk'!AJ17=\"LDT\",'week 4 bk'!AL17,0)","v":0},{"$f":"IF('week 4 bk'!AJ17=\"LET\",'week 4 bk'!AL17,0)","v":0},{"$f":"IF('week 4 bk'!AJ17=\"LPT\",'week 4 bk'!AL17,0)","v":0},{"$f":"IF('week 4 bk'!AJ17=\"MLT\",'week 4 bk'!AL17,0)","v":0},{"$f":"IF('week 4 bk'!AJ17=\"OHT\",'week 4 bk'!AL17,0)","v":0},{"$f":"IF('week 4 bk'!AJ17=\"OTT\",'week 4 bk'!AL17,0)","v":0},{"$f":"IF('week 4 bk'!AJ17=\"RCT\",'week 4 bk'!AL17,0)","v":0},{"$f":"IF('week 4 bk'!AJ17=\"SAT\",'week 4 bk'!AL17,0)","v":0},{"$f":"IF('week 4 bk'!AJ17=\"SET\",'week 4 bk'!AL17,0)","v":0},{"$f":"IF('week 4 bk'!AJ17=\"SLT\",'week 4 bk'!AL17,0)","v":0},{"$f":"IF('week 4 bk'!AJ17=\"VCT\",'week 4 bk'!AL17,0)","v":0}]
[8,{"$f":"IF('week 3 bk'!AJ20=\"ALT\",'week 3 bk'!AL20,0)","v":0},{"$f":"IF('week 3 bk'!AJ20=\"CAT\",'week 3 bk'!AL20,0)","v":0},{"$f":"IF('week 3 bk'!AJ20=\"CDT\",'week 3 bk'!AL20,0)","v":0},{"$f":"IF('week 3 bk'!AJ20=\"CTT\",'week 3 bk'!AL20,0)","v":0},{"$f":"IF('week 3 bk'!AJ20=\"DBT\",'week 3 bk'!AL20,0)","v":0},{"$f":"IF('week 3 bk'!AJ20=\"DOT\",'week 3 bk'!AL20,0)","v":0},{"$f":"IF('week 3 bk'!AJ20=\"DMT\",'week 3 bk'!AL20,0)","v":0},{"$f":"IF('week 3 bk'!AJ20=\"EMT\",'week 3 bk'!AL20,0)","v":0},{"$f":"IF('week 3 bk'!AJ20=\"EST\",'week 3 bk'!AL20,0)","v":0},{"$f":"IF('week 3 bk'!AJ20=\"FFT\",'week 3 bk'!AL20,0)","v":0},{"$f":"IF('week 3 bk'!AJ20=\"FPT\",'week 3 bk'!AL20,0)","v":0},{"$f":"IF('week 4 bk'!AJ18=\"HCT\",'week 4 bk'!AL18,0)","v":0},{"$f":"IF('week 4 bk'!AJ18=\"HOB\",'week 4 bk'!AL18,0)","v":0},{"$f":"IF('week 4 bk'!AJ18=\"JST\",'week 4 bk'!AL18,0)","v":0},{"$f":"IF('week 4 bk'!AJ18=\"LDT\",'week 4 bk'!AL18,0)","v":0},{"$f":"IF('week 4 bk'!AJ18=\"LET\",'week 4 bk'!AL18,0)","v":0},{"$f":"IF('week 4 bk'!AJ18=\"LPT\",'week 4 bk'!AL18,0)","v":0},{"$f":"IF('week 4 bk'!AJ18=\"MLT\",'week 4 bk'!AL18,0)","v":0},{"$f":"IF('week 4 bk'!AJ18=\"OHT\",'week 4 bk'!AL18,0)","v":0},{"$f":"IF('week 4 bk'!AJ18=\"OTT\",'week 4 bk'!AL18,0)","v":0},{"$f":"IF('week 4 bk'!AJ18=\"RCT\",'week 4 bk'!AL18,0)","v":0},{"$f":"IF('week 4 bk'!AJ18=\"SAT\",'week 4 bk'!AL18,0)","v":0},{"$f":"IF('week 4 bk'!AJ18=\"SET\",'week 4 bk'!AL18,0)","v":0},{"$f":"IF('week 4 bk'!AJ18=\"SLT\",'week 4 bk'!AL18,0)","v":0},{"$f":"IF('week 4 bk'!AJ18=\"VCT\",'week 4 bk'!AL18,0)","v":0}]
[9,{"$f":"IF('week 3 bk'!AJ21=\"ALT\",'week 3 bk'!AL21,0)","v":0},{"$f":"IF('week 3 bk'!AJ21=\"CAT\",'week 3 bk'!AL21,0)","v":0},{"$f":"IF('week 3 bk'!AJ21=\"CDT\",'week 3 bk'!AL21,0)","v":0},{"$f":"IF('week 3 bk'!AJ21=\"CTT\",'week 3 bk'!AL21,0)","v":0},{"$f":"IF('week 3 bk'!AJ21=\"DBT\",'week 3 bk'!AL21,0)","v":0},{"$f":"IF('week 3 bk'!AJ21=\"DOT\",'week 3 bk'!AL21,0)","v":0},{"$f":"IF('week 3 bk'!AJ21=\"DMT\",'week 3 bk'!AL21,0)","v":0},{"$f":"IF('week 3 bk'!AJ21=\"EMT\",'week 3 bk'!AL21,0)","v":0},{"$f":"IF('week 3 bk'!AJ21=\"EST\",'week 3 bk'!AL21,0)","v":0},{"$f":"IF('week 3 bk'!AJ21=\"FFT\",'week 3 bk'!AL21,0)","v":0},{"$f":"IF('week 3 bk'!AJ21=\"FPT\",'week 3 bk'!AL21,0)","v":0},{"$f":"IF('week 4 bk'!AJ19=\"HCT\",'week 4 bk'!AL19,0)","v":0},{"$f":"IF('week 4 bk'!AJ19=\"HOB\",'week 4 bk'!AL19,0)","v":0},{"$f":"IF('week 4 bk'!AJ19=\"JST\",'week 4 bk'!AL19,0)","v":0},{"$f":"IF('week 4 bk'!AJ19=\"LDT\",'week 4 bk'!AL19,0)","v":0},{"$f":"IF('week 4 bk'!AJ19=\"LET\",'week 4 bk'!AL19,0)","v":0},{"$f":"IF('week 4 bk'!AJ19=\"LPT\",'week 4 bk'!AL19,0)","v":0},{"$f":"IF('week 4 bk'!AJ19=\"MLT\",'week 4 bk'!AL19,0)","v":0},{"$f":"IF('week 4 bk'!AJ19=\"OHT\",'week 4 bk'!AL19,0)","v":0},{"$f":"IF('week 4 bk'!AJ19=\"OTT\",'week 4 bk'!AL19,0)","v":0},{"$f":"IF('week 4 bk'!AJ19=\"RCT\",'week 4 bk'!AL19,0)","v":0},{"$f":"IF('week 4 bk'!AJ19=\"SAT\",'week 4 bk'!AL19,0)","v":0},{"$f":"IF('week 4 bk'!AJ19=\"SET\",'week 4 bk'!AL19,0)","v":0},{"$f":"IF('week 4 bk'!AJ19=\"SLT\",'week 4 bk'!AL19,0)","v":0},{"$f":"IF('week 4 bk'!AJ19=\"VCT\",'week 4 bk'!AL19,0)","v":0}]
[10,{"$f":"IF('week 3 bk'!AJ22=\"ALT\",'week 3 bk'!AL22,0)","v":0},{"$f":"IF('week 3 bk'!AJ22=\"CAT\",'week 3 bk'!AL22,0)","v":0},{"$f":"IF('week 3 bk'!AJ22=\"CDT\",'week 3 bk'!AL22,0)","v":0},{"$f":"IF('week 3 bk'!AJ22=\"CTT\",'week 3 bk'!AL22,0)","v":0},{"$f":"IF('week 3 bk'!AJ22=\"DBT\",'week 3 bk'!AL22,0)","v":0},{"$f":"IF('week 3 bk'!AJ22=\"DOT\",'week 3 bk'!AL22,0)","v":0},{"$f":"IF('week 3 bk'!AJ22=\"DMT\",'week 3 bk'!AL22,0)","v":0},{"$f":"IF('week 3 bk'!AJ22=\"EMT\",'week 3 bk'!AL22,0)","v":0},{"$f":"IF('week 3 bk'!AJ22=\"EST\",'week 3 bk'!AL22,0)","v":0},{"$f":"IF('week 3 bk'!AJ22=\"FFT\",'week 3 bk'!AL22,0)","v":0},{"$f":"IF('week 3 bk'!AJ22=\"FPT\",'week 3 bk'!AL22,0)","v":0},{"$f":"IF('week 4 bk'!AJ20=\"HCT\",'week 4 bk'!AL20,0)","v":0},{"$f":"IF('week 4 bk'!AJ20=\"HOB\",'week 4 bk'!AL20,0)","v":0},{"$f":"IF('week 4 bk'!AJ20=\"JST\",'week 4 bk'!AL20,0)","v":0},{"$f":"IF('week 4 bk'!AJ20=\"LDT\",'week 4 bk'!AL20,0)","v":0},{"$f":"IF('week 4 bk'!AJ20=\"LET\",'week 4 bk'!AL20,0)","v":0},{"$f":"IF('week 4 bk'!AJ20=\"LPT\",'week 4 bk'!AL20,0)","v":0},{"$f":"IF('week 4 bk'!AJ20=\"MLT\",'week 4 bk'!AL20,0)","v":0},{"$f":"IF('week 4 bk'!AJ20=\"OHT\",'week 4 bk'!AL20,0)","v":0},{"$f":"IF('week 4 bk'!AJ20=\"OTT\",'week 4 bk'!AL20,0)","v":0},{"$f":"IF('week 4 bk'!AJ20=\"RCT\",'week 4 bk'!AL20,0)","v":0},{"$f":"IF('week 4 bk'!AJ20=\"SAT\",'week 4 bk'!AL20,0)","v":0},{"$f":"IF('week 4 bk'!AJ20=\"SET\",'week 4 bk'!AL20,0)","v":0},{"$f":"IF('week 4 bk'!AJ20=\"SLT\",'week 4 bk'!AL20,0)","v":0},{"$f":"IF('week 4 bk'!AJ20=\"VCT\",'week 4 bk'!AL20,0)","v":0}]
[11,{"$f":"IF('week 3 bk'!AJ23=\"ALT\",'week 3 bk'!AL23,0)","v":0},{"$f":"IF('week 3 bk'!AJ23=\"CAT\",'week 3 bk'!AL23,0)","v":0},{"$f":"IF('week 3 bk'!AJ23=\"CDT\",'week 3 bk'!AL23,0)","v":0},{"$f":"IF('week 3 bk'!AJ23=\"CTT\",'week 3 bk'!AL23,0)","v":0},{"$f":"IF('week 3 bk'!AJ23=\"DBT\",'week 3 bk'!AL23,0)","v":0},{"$f":"IF('week 3 bk'!AJ23=\"DOT\",'week 3 bk'!AL23,0)","v":0},{"$f":"IF('week 3 bk'!AJ23=\"DMT\",'week 3 bk'!AL23,0)","v":0},{"$f":"IF('week 3 bk'!AJ23=\"EMT\",'week 3 bk'!AL23,0)","v":0},{"$f":"IF('week 3 bk'!AJ23=\"EST\",'week 3 bk'!AL23,0)","v":0},{"$f":"IF('week 3 bk'!AJ23=\"FFT\",'week 3 bk'!AL23,0)","v":0},{"$f":"IF('week 3 bk'!AJ23=\"FPT\",'week 3 bk'!AL23,0)","v":0},{"$f":"IF('week 4 bk'!AJ21=\"HCT\",'week 4 bk'!AL21,0)","v":0},{"$f":"IF('week 4 bk'!AJ21=\"HOB\",'week 4 bk'!AL21,0)","v":0},{"$f":"IF('week 4 bk'!AJ21=\"JST\",'week 4 bk'!AL21,0)","v":0},{"$f":"IF('week 4 bk'!AJ21=\"LDT\",'week 4 bk'!AL21,0)","v":0},{"$f":"IF('week 4 bk'!AJ21=\"LET\",'week 4 bk'!AL21,0)","v":0},{"$f":"IF('week 4 bk'!AJ21=\"LPT\",'week 4 bk'!AL21,0)","v":0},{"$f":"IF('week 4 bk'!AJ21=\"MLT\",'week 4 bk'!AL21,0)","v":0},{"$f":"IF('week 4 bk'!AJ21=\"OHT\",'week 4 bk'!AL21,0)","v":0},{"$f":"IF('week 4 bk'!AJ21=\"OTT\",'week 4 bk'!AL21,0)","v":0},{"$f":"IF('week 4 bk'!AJ21=\"RCT\",'week 4 bk'!AL21,0)","v":0},{"$f":"IF('week 4 bk'!AJ21=\"SAT\",'week 4 bk'!AL21,0)","v":0},{"$f":"IF('week 4 bk'!AJ21=\"SET\",'week 4 bk'!AL21,0)","v":0},{"$f":"IF('week 4 bk'!AJ21=\"SLT\",'week 4 bk'!AL21,0)","v":0},{"$f":"IF('week 4 bk'!AJ21=\"VCT\",'week 4 bk'!AL21,0)","v":0}]
[12,{"$f":"IF('week 3 bk'!AJ24=\"ALT\",'week 3 bk'!AL24,0)","v":0},{"$f":"IF('week 3 bk'!AJ24=\"CAT\",'week 3 bk'!AL24,0)","v":0},{"$f":"IF('week 3 bk'!AJ24=\"CDT\",'week 3 bk'!AL24,0)","v":0},{"$f":"IF('week 3 bk'!AJ24=\"CTT\",'week 3 bk'!AL24,0)","v":0},{"$f":"IF('week 3 bk'!AJ24=\"DBT\",'week 3 bk'!AL24,0)","v":0},{"$f":"IF('week 3 bk'!AJ24=\"DOT\",'week 3 bk'!AL24,0)","v":0},{"$f":"IF('week 3 bk'!AJ24=\"DMT\",'week 3 bk'!AL24,0)","v":0},{"$f":"IF('week 3 bk'!AJ24=\"EMT\",'week 3 bk'!AL24,0)","v":0},{"$f":"IF('week 3 bk'!AJ24=\"EST\",'week 3 bk'!AL24,0)","v":0},{"$f":"IF('week 3 bk'!AJ24=\"FFT\",'week 3 bk'!AL24,0)","v":0},{"$f":"IF('week 3 bk'!AJ24=\"FPT\",'week 3 bk'!AL24,0)","v":0},{"$f":"IF('week 4 bk'!AJ22=\"HCT\",'week 4 bk'!AL22,0)","v":0},{"$f":"IF('week 4 bk'!AJ22=\"HOB\",'week 4 bk'!AL22,0)","v":0},{"$f":"IF('week 4 bk'!AJ22=\"JST\",'week 4 bk'!AL22,0)","v":0},{"$f":"IF('week 4 bk'!AJ22=\"LDT\",'week 4 bk'!AL22,0)","v":0},{"$f":"IF('week 4 bk'!AJ22=\"LET\",'week 4 bk'!AL22,0)","v":0},{"$f":"IF('week 4 bk'!AJ22=\"LPT\",'week 4 bk'!AL22,0)","v":0},{"$f":"IF('week 4 bk'!AJ22=\"MLT\",'week 4 bk'!AL22,0)","v":0},{"$f":"IF('week 4 bk'!AJ22=\"OHT\",'week 4 bk'!AL22,0)","v":0},{"$f":"IF('week 4 bk'!AJ22=\"OTT\",'week 4 bk'!AL22,0)","v":0},{"$f":"IF('week 4 bk'!AJ22=\"RCT\",'week 4 bk'!AL22,0)","v":0},{"$f":"IF('week 4 bk'!AJ22=\"SAT\",'week 4 bk'!AL22,0)","v":0},{"$f":"IF('week 4 bk'!AJ22=\"SET\",'week 4 bk'!AL22,0)","v":0},{"$f":"IF('week 4 bk'!AJ22=\"SLT\",'week 4 bk'!AL22,0)","v":0},{"$f":"IF('week 4 bk'!AJ22=\"VCT\",'week 4 bk'!AL22,0)","v":0}]
[13,{"$f":"IF('week 3 bk'!AJ25=\"ALT\",'week 3 bk'!AL25,0)","v":0},{"$f":"IF('week 3 bk'!AJ25=\"CAT\",'week 3 bk'!AL25,0)","v":0},{"$f":"IF('week 3 bk'!AJ25=\"CDT\",'week 3 bk'!AL25,0)","v":0},{"$f":"IF('week 3 bk'!AJ25=\"CTT\",'week 3 bk'!AL25,0)","v":0},{"$f":"IF('week 3 bk'!AJ25=\"DBT\",'week 3 bk'!AL25,0)","v":0},{"$f":"IF('week 3 bk'!AJ25=\"DOT\",'week 3 bk'!AL25,0)","v":0},{"$f":"IF('week 3 bk'!AJ25=\"DMT\",'week 3 bk'!AL25,0)","v":0},{"$f":"IF('week 3 bk'!AJ25=\"EMT\",'week 3 bk'!AL25,0)","v":0},{"$f":"IF('week 3 bk'!AJ25=\"EST\",'week 3 bk'!AL25,0)","v":0},{"$f":"IF('week 3 bk'!AJ25=\"FFT\",'week 3 bk'!AL25,0)","v":0},{"$f":"IF('week 3 bk'!AJ25=\"FPT\",'week 3 bk'!AL25,0)","v":0},{"$f":"IF('week 4 bk'!AJ23=\"HCT\",'week 4 bk'!AL23,0)","v":0},{"$f":"IF('week 4 bk'!AJ23=\"HOB\",'week 4 bk'!AL23,0)","v":0},{"$f":"IF('week 4 bk'!AJ23=\"JST\",'week 4 bk'!AL23,0)","v":0},{"$f":"IF('week 4 bk'!AJ23=\"LDT\",'week 4 bk'!AL23,0)","v":0},{"$f":"IF('week 4 bk'!AJ23=\"LET\",'week 4 bk'!AL23,0)","v":0},{"$f":"IF('week 4 bk'!AJ23=\"LPT\",'week 4 bk'!AL23,0)","v":0},{"$f":"IF('week 4 bk'!AJ23=\"MLT\",'week 4 bk'!AL23,0)","v":0},{"$f":"IF('week 4 bk'!AJ23=\"OHT\",'week 4 bk'!AL23,0)","v":0},{"$f":"IF('week 4 bk'!AJ23=\"OTT\",'week 4 bk'!AL23,0)","v":0},{"$f":"IF('week 4 bk'!AJ23=\"RCT\",'week 4 bk'!AL23,0)","v":0},{"$f":"IF('week 4 bk'!AJ23=\"SAT\",'week 4 bk'!AL23,0)","v":0},{"$f":"IF('week 4 bk'!AJ23=\"SET\",'week 4 bk'!AL23,0)","v":0},{"$f":"IF('week 4 bk'!AJ23=\"SLT\",'week 4 bk'!AL23,0)","v":0},{"$f":"IF('week 4 bk'!AJ23=\"VCT\",'week 4 bk'!AL23,0)","v":0}]
[14,{"$f":"IF('week 3 bk'!AJ26=\"ALT\",'week 3 bk'!AL26,0)","v":0},{"$f":"IF('week 3 bk'!AJ26=\"CAT\",'week 3 bk'!AL26,0)","v":0},{"$f":"IF('week 3 bk'!AJ26=\"CDT\",'week 3 bk'!AL26,0)","v":0},{"$f":"IF('week 3 bk'!AJ26=\"CTT\",'week 3 bk'!AL26,0)","v":0},{"$f":"IF('week 3 bk'!AJ26=\"DBT\",'week 3 bk'!AL26,0)","v":0},{"$f":"IF('week 3 bk'!AJ26=\"DOT\",'week 3 bk'!AL26,0)","v":0},{"$f":"IF('week 3 bk'!AJ26=\"DMT\",'week 3 bk'!AL26,0)","v":0},{"$f":"IF('week 3 bk'!AJ26=\"EMT\",'week 3 bk'!AL26,0)","v":0},{"$f":"IF('week 3 bk'!AJ26=\"EST\",'week 3 bk'!AL26,0)","v":0},{"$f":"IF('week 3 bk'!AJ26=\"FFT\",'week 3 bk'!AL26,0)","v":0},{"$f":"IF('week 3 bk'!AJ26=\"FPT\",'week 3 bk'!AL26,0)","v":0},{"$f":"IF('week 4 bk'!AJ24=\"HCT\",'week 4 bk'!AL24,0)","v":0},{"$f":"IF('week 4 bk'!AJ24=\"HOB\",'week 4 bk'!AL24,0)","v":0},{"$f":"IF('week 4 bk'!AJ24=\"JST\",'week 4 bk'!AL24,0)","v":0},{"$f":"IF('week 4 bk'!AJ24=\"LDT\",'week 4 bk'!AL24,0)","v":0},{"$f":"IF('week 4 bk'!AJ24=\"LET\",'week 4 bk'!AL24,0)","v":0},{"$f":"IF('week 4 bk'!AJ24=\"LPT\",'week 4 bk'!AL24,0)","v":0},{"$f":"IF('week 4 bk'!AJ24=\"MLT\",'week 4 bk'!AL24,0)","v":0},{"$f":"IF('week 4 bk'!AJ24=\"OHT\",'week 4 bk'!AL24,0)","v":0},{"$f":"IF('week 4 bk'!AJ24=\"OTT\",'week 4 bk'!AL24,0)","v":0},{"$f":"IF('week 4 bk'!AJ24=\"RCT\",'week 4 bk'!AL24,0)","v":0},{"$f":"IF('week 4 bk'!AJ24=\"SAT\",'week 4 bk'!AL24,0)","v":0},{"$f":"IF('week 4 bk'!AJ24=\"SET\",'week 4 bk'!AL24,0)","v":0},{"$f":"IF('week 4 bk'!AJ24=\"SLT\",'week 4 bk'!AL24,0)","v":0},{"$f":"IF('week 4 bk'!AJ24=\"VCT\",'week 4 bk'!AL24,0)","v":0}]
[null,null,null,null,null,null,null,null,null,null,null,null,{"$f":"IF('week 4 bk'!AJ25=\"HCT\",'week 4 bk'!AL25,0)","v":0},{"$f":"IF('week 4 bk'!AJ25=\"HOB\",'week 4 bk'!AL25,0)","v":0},{"$f":"IF('week 4 bk'!AJ25=\"JST\",'week 4 bk'!AL25,0)","v":0},{"$f":"IF('week 4 bk'!AJ25=\"LDT\",'week 4 bk'!AL25,0)","v":0},{"$f":"IF('week 4 bk'!AJ25=\"LET\",'week 4 bk'!AL25,0)","v":0},{"$f":"IF('week 4 bk'!AJ25=\"LPT\",'week 4 bk'!AL25,0)","v":0},{"$f":"IF('week 4 bk'!AJ25=\"MLT\",'week 4 bk'!AL25,0)","v":0},{"$f":"IF('week 4 bk'!AJ25=\"OHT\",'week 4 bk'!AL25,0)","v":0},{"$f":"IF('week 4 bk'!AJ25=\"OTT\",'week 4 bk'!AL25,0)","v":0},{"$f":"IF('week 4 bk'!AJ25=\"RCT\",'week 4 bk'!AL25,0)","v":0},{"$f":"IF('week 4 bk'!AJ25=\"SAT\",'week 4 bk'!AL25,0)","v":0},{"$f":"IF('week 4 bk'!AJ25=\"SET\",'week 4 bk'!AL25,0)","v":0},{"$f":"IF('week 4 bk'!AJ25=\"SLT\",'week 4 bk'!AL25,0)","v":0},{"$f":"IF('week 4 bk'!AJ25=\"VCT\",'week 4 bk'!AL25,0)","v":0}]
[null,null,null,null,null,null,null,null,null,null,null,null,{"$f":"IF('week 4 bk'!AJ26=\"HCT\",'week 4 bk'!AL26,0)","v":0},{"$f":"IF('week 4 bk'!AJ26=\"HOB\",'week 4 bk'!AL26,0)","v":0},{"$f":"IF('week 4 bk'!AJ26=\"JST\",'week 4 bk'!AL26,0)","v":0},{"$f":"IF('week 4 bk'!AJ26=\"LDT\",'week 4 bk'!AL26,0)","v":0},{"$f":"IF('week 4 bk'!AJ26=\"LET\",'week 4 bk'!AL26,0)","v":0},{"$f":"IF('week 4 bk'!AJ26=\"LPT\",'week 4 bk'!AL26,0)","v":0},{"$f":"IF('week 4 bk'!AJ26=\"MLT\",'week 4 bk'!AL26,0)","v":0},{"$f":"IF('week 4 bk'!AJ26=\"OHT\",'week 4 bk'!AL26,0)","v":0},{"$f":"IF('week 4 bk'!AJ26=\"OTT\",'week 4 bk'!AL26,0)","v":0},{"$f":"IF('week 4 bk'!AJ26=\"RCT\",'week 4 bk'!AL26,0)","v":0},{"$f":"IF('week 4 bk'!AJ26=\"SAT\",'week 4 bk'!AL26,0)","v":0},{"$f":"IF('week 4 bk'!AJ26=\"SET\",'week 4 bk'!AL26,0)","v":0},{"$f":"IF('week 4 bk'!AJ26=\"SLT\",'week 4 bk'!AL26,0)","v":0},{"$f":"IF('week 4 bk'!AJ26=\"VCT\",'week 4 bk'!AL26,0)","v":0}]
[null,null,null,null,null,null,null,null,null,null,null,null,null,null,null,null,null,null,null,null,null,null,null,null,null,null,{"$f":"IF('week 4 bk'!AN13=\"\",\"\",IF(AB78=FALSE,\"\",('week 4 bk'!AN13)))","v":""},{"$f":"SUMPRODUCT(--ISNUMBER(SEARCH(TakenRng,'week 4 bk'!AJ13)))>0","v":false},{"$f":"'week 4 bk'!AL13","v":0}]
[null,null,null,null,null,null,null,null,null,null,null,null,null,null,null,null,null,null,null,null,null,null,null,null,null,null,{"$f":"IF('week 4 bk'!AN14=\"\",\"\",IF(AB79=FALSE,\"\",('week 4 bk'!AN14)))","v":""},{"$f":"SUMPRODUCT(--ISNUMBER(SEARCH(TakenRng,'week 4 bk'!AJ14)))>0","v":false},{"$f":"'week 4 bk'!AL14","v":0}]
[null,null,null,null,null,null,null,null,null,null,null,null,null,null,null,null,null,null,null,null,null,null,null,null,null,null,{"$f":"IF('week 4 bk'!AN15=\"\",\"\",IF(AB80=FALSE,\"\",('week 4 bk'!AN15)))","v":""},{"$f":"SUMPRODUCT(--ISNUMBER(SEARCH(TakenRng,'week 4 bk'!AJ15)))>0","v":false},{"$f":"'week 4 bk'!AL15","v":0}]
[null,null,null,null,null,null,null,null,null,null,null,null,null,null,null,null,null,null,null,null,null,null,null,null,null,null,{"$f":"IF('week 4 bk'!AN16=\"\",\"\",IF(AB81=FALSE,\"\",('week 4 bk'!AN16)))","v":""},{"$f":"SUMPRODUCT(--ISNUMBER(SEARCH(TakenRng,'week 4 bk'!AJ16)))>0","v":false},{"$f":"'week 4 bk'!AL16","v":0}]
[null,null,null,null,null,null,null,null,null,null,null,null,null,null,null,null,null,null,null,null,null,null,null,null,null,null,{"$f":"IF('week 4 bk'!AN17=\"\",\"\",IF(AB82=FALSE,\"\",('week 4 bk'!AN17)))","v":""},{"$f":"SUMPRODUCT(--ISNUMBER(SEARCH(TakenRng,'week 4 bk'!AJ17)))>0","v":false},{"$f":"'week 4 bk'!AL17","v":0}]
[null,null,null,null,null,null,null,null,null,null,null,null,null,null,null,null,null,null,null,null,null,null,null,null,null,null,{"$f":"IF('week 4 bk'!AN18=\"\",\"\",IF(AB83=FALSE,\"\",('week 4 bk'!AN18)))","v":""},{"$f":"SUMPRODUCT(--ISNUMBER(SEARCH(TakenRng,'week 4 bk'!AJ18)))>0","v":false},{"$f":"'week 4 bk'!AL18","v":0}]
[null,null,null,null,null,null,null,null,null,null,null,null,null,null,null,null,null,null,null,null,null,null,null,null,null,null,{"$f":"IF('week 4 bk'!AN19=\"\",\"\",IF(AB84=FALSE,\"\",('week 4 bk'!AN19)))","v":""},{"$f":"SUMPRODUCT(--ISNUMBER(SEARCH(TakenRng,'week 4 bk'!AJ19)))>0","v":false},{"$f":"'week 4 bk'!AL19","v":0}]
[null,null,null,null,null,null,null,null,null,null,null,null,null,null,null,null,null,null,null,null,null,null,null,null,null,null,{"$f":"IF('week 4 bk'!AN20=\"\",\"\",IF(AB85=FALSE,\"\",('week 4 bk'!AN20)))","v":""},{"$f":"SUMPRODUCT(--ISNUMBER(SEARCH(TakenRng,'week 4 bk'!AJ20)))>0","v":false},{"$f":"'week 4 bk'!AL20","v":0}]
[null,null,null,null,null,null,null,null,null,null,null,null,null,null,null,null,null,null,null,null,null,null,null,null,null,null,{"$f":"IF('week 4 bk'!AN21=\"\",\"\",IF(AB86=FALSE,\"\",('week 4 bk'!AN21)))","v":""},{"$f":"SUMPRODUCT(--ISNUMBER(SEARCH(TakenRng,'week 4 bk'!AJ21)))>0","v":false},{"$f":"'week 4 bk'!AL21","v":0}]
[null,null,null,null,null,null,null,null,null,null,null,null,null,null,null,null,null,null,null,null,null,null,null,null,null,null,{"$f":"IF('week 4 bk'!AN22=\"\",\"\",IF(AB87=FALSE,\"\",('week 4 bk'!AN22)))","v":""},{"$f":"SUMPRODUCT(--ISNUMBER(SEARCH(TakenRng,'week 4 bk'!AJ22)))>0","v":false},{"$f":"'week 4 bk'!AL22","v":0}]
[null,null,null,null,null,null,null,null,null,null,null,null,null,null,null,null,null,null,null,null,null,null,null,null,null,null,{"$f":"IF('week 4 bk'!AN23=\"\",\"\",IF(AB88=FALSE,\"\",('week 4 bk'!AN23)))","v":""},{"$f":"SUMPRODUCT(--ISNUMBER(SEARCH(TakenRng,'week 4 bk'!AJ23)))>0","v":false},{"$f":"'week 4 bk'!AL23","v":0}]
[null,null,null,null,null,null,null,null,null,null,null,null,null,null,null,null,null,null,null,null,null,null,null,null,null,null,{"$f":"IF('week 4 bk'!AN24=\"\",\"\",IF(AB89=FALSE,\"\",('week 4 bk'!AN24)))","v":""},{"$f":"SUMPRODUCT(--ISNUMBER(SEARCH(TakenRng,'week 4 bk'!AJ24)))>0","v":false},{"$f":"'week 4 bk'!AL24","v":0}]
[null,null,null,null,null,null,null,null,null,null,null,null,null,null,null,null,null,null,null,null,null,null,null,null,null,null,{"$f":"IF('week 4 bk'!AN25=\"\",\"\",IF(AB90=FALSE,\"\",('week 4 bk'!AN25)))","v":""},{"$f":"SUMPRODUCT(--ISNUMBER(SEARCH(TakenRng,'week 4 bk'!AJ25)))>0","v":false},{"$f":"'week 4 bk'!AL25","v":0}]
[null,null,null,null,null,null,null,null,null,null,null,null,null,null,null,null,null,null,null,null,null,null,null,null,null,null,{"$f":"IF('week 4 bk'!AN26=\"\",\"\",IF(AB91=FALSE,\"\",('week 4 bk'!AN26)))","v":""},{"$f":"SUMPRODUCT(--ISNUMBER(SEARCH(TakenRng,'week 4 bk'!AJ26)))>0","v":false},{"$f":"'week 4 bk'!AL26","v":0}]
[]
[null,null,null,null,null,null,null,null,null,null,null,null,null,null,null,null,null,null,null,null,null,null,null,null,null,null,"Date","TT","TT1","TT2"]
[null,null,null,null,null,null,null,null,null,null,null,null,null,null,null,null,null,null,null,null,null,null,null,null,null,null,{"$f":"AQ11","v":"2019-09-22"},{"$f":"IF((SUMPRODUCT(--((ISNUMBER(SEARCH(AA94,AA$78:AA$91)))),AC$78:AC$91)) > 0,\"Y\",\"N\")","v":"N"},{"$f":"SUMPRODUCT(--((ISNUMBER(SEARCH(AA94,AA$78:AA$91)))),AC$78:AC$91)","v":0},{"$f":"IF(O11=\"\",AU11,IF(OR(O11<8,O11=8),(IF(AB94=\"Y\",8-O11,IF(AB94=\"Y\",8,0)))-IF(OR(O11=8,O11<8),0,O11),IF(O11>8,0,(IF(AB94=\"Y\",AB94,0)))))","v":0}]
[null,null,null,null,null,null,null,null,null,null,null,null,null,null,null,null,null,null,null,null,null,null,null,null,null,null,{"$f":"AQ12","v":"2019-09-23"},{"$f":"IF((SUMPRODUCT(--((ISNUMBER(SEARCH(AA95,AA$78:AA$91)))),AC$78:AC$91)) > 0,\"Y\",\"N\")","v":"N"},{"$f":"SUMPRODUCT(--((ISNUMBER(SEARCH(AA95,AA$78:AA$91)))),AC$78:AC$91)","v":0},{"$f":"IF(O12=\"\",AU12,IF(OR(O12<8,O12=8),(IF(AB95=\"Y\",8-O12,IF(AB95=\"Y\",8,0)))-IF(OR(O12=8,O12<8),0,O12),IF(O12>8,0,(IF(AB95=\"Y\",AB95,0)))))","v":0}]
[null,null,null,null,null,null,null,null,null,null,null,null,null,null,null,null,null,null,null,null,null,null,null,null,null,null,"2019-09-24","N",0,0]
[null,null,null,null,null,null,null,null,null,null,null,null,null,null,null,null,null,null,null,null,null,null,null,null,null,null,"2019-09-25","N",0,0]
[null,null,null,null,null,null,null,null,null,null,null,null,null,null,null,null,null,null,null,null,null,null,null,null,null,null,"2019-09-26","N",0,0]
["DAY OF WEEK","TTL HRS MINUS TIME OFF IN TIME FORMAT","TTL HRS CONVERTED TO DECIMALS","SUM REGULAR DAY & NIGHT ","SUM STEP DAY & NIGHT ","SUM REG & STEP TTLS","DAY/NIGHT COMPARED TO TTL HRS","TTL DIST OF DUTY TIME","DIST HRS COMPARED TO TTL HRS","IF TIME BEGIN MINUS TIME ENDED =< 24 HRS","24 HRS OF DUTY","MORE THAN 24 HR SPAN IN A DAY",null,null,null,null,null,null,null,null,null,null,null,null,null,null,"2019-09-27","N",0,0]
["SUN",{"$f":"IF(F11<D11,(24-D11)+F11,F11-D11)","v":0},{"$f":"IF(OR(D11=\"\",F11=\"\"),0,IF(D11=F11,J100,IF((VALUE(HOUR(B100))+VALUE(MINUTE(B100))/60)-H11=0,0,(VALUE(HOUR(B100))+VALUE(MINUTE(B100))/60)-H11)))","v":0},{"$f":"SUM(I11:J11)","v":0},{"$f":"SUM(L11:M11)","v":0},{"$f":"SUM(K11,N11)","v":0},{"$f":"IF(C100=F100,0,1)","v":0},{"$f":"IF(SUM(P11:Y11,AE11:AI11)=0,\"\",SUM(P11:Y11,AE11:AI11))","v":""},{"$f":"IF(C100=H100,0,1)","v":1},{"$f":"IF(D11=F11,K100-H11,C100)","v":24},{"$f":"(B100+24)","v":24},{"$f":"IF(AND(D11<>\"\",F11<>\"\",K100>24),1,0)","v":0},null,null,null,null,null,null,null,null,null,null,null,null,null,null,"2019-09-28","N",0,0]
["MON",0,0,0,0,0,0,"",1,24,24,0,null,"TIME ACCRUED/TAKEN CONVERSION & VALIDATION"]
["TUES",0,0,0,0,0,0,"",1,24,24,0,null,{"$f":"VALUE(AE47)*24","v":0},{"$f":"CODE(N102)","v":48},{"$f":"IF(AE47=\"\",1,CODE(AE47))","v":1},{"$f":"IF(O102=P102,0,1)","v":1},{"$f":"IF(O102-P102=0,0,1)","v":1},{"$f":"SUM(Q102:R102)","v":2},null,null,null,null,null,null,null,"TT1","Time Taken entered on weekly"]
["WED",0,0,0,0,0,0,"",1,24,24,0,null,{"$f":"VALUE(AE48)*24","v":0},{"$f":"CODE(N103)","v":48},{"$f":"IF(AE48=\"\",1,CODE(AE48))","v":1},{"$f":"IF(O103=P103,0,1)","v":1},{"$f":"IF(O103-P103=0,0,1)","v":1},{"$f":"SUM(Q103:R103)","v":2},null,null,null,null,null,null,null,"TT2","Caculated Time Taken (based upon duty time entry)"]
["THU",0,0,0,0,0,0,"",1,24,24,0,null,{"$f":"VALUE(AE49)*24","v":0},{"$f":"CODE(N104)","v":48},{"$f":"IF(AE49=\"\",1,CODE(AE49))","v":1},{"$f":"IF(O104=P104,0,1)","v":1},{"$f":"IF(O104-P104=0,0,1)","v":1},{"$f":"SUM(Q104:R104)","v":2}]
["FRI",0,0,0,0,0,0,"",1,24,24,0,null,{"$f":"VALUE(AE50)*24","v":0},{"$f":"CODE(N105)","v":48},{"$f":"IF(AE50=\"\",1,CODE(AE50))","v":1},{"$f":"IF(O105=P105,0,1)","v":1},{"$f":"IF(O105-P105=0,0,1)","v":1},{"$f":"SUM(Q105:R105)","v":2}]
["SAT",0,0,0,0,0,0,"",1,24,24,0]
[null,"SUM",{"$f":"SUM(C100:C106)","v":0},{"$f":"A87","v":0},{"$f":"IF(B87>999, \"0.0\", B87)","v":0},{"$f":"SUM(F100:F106)","v":0},{"$f":"SUM(G100:G106)","v":0},{"$f":"SUM(H100:H106)","v":0},{"$f":"SUM(I100:I106)","v":7}]
[null,null,{"$f":"MIN(C100:C106)","v":0},{"$f":"SUM(D100:D106)-D107+E151","v":0},{"$f":"SUM(E100:E106)","v":0}]
[]
[]
[]
[]
[]
[]
[]
[]
[null,null,null,null,null,null,null,null,null,null,null,null,null,null,null,null,null,null,null,null,null,null,null,null,null,null,null,null,null,null,null,null,null,null,null,null,null,null,null,null,null,null,null,null,null,null,null,null,null,null,null,null,null,null,null,null,null,null,"Big$Mac"]
[]
[]
[]
[]
[]
[]
[]
[]
[]
[]
[null,null,null,null,null,null,null,null,null,null,null,null,null,null,null,null,null,null,null,null,null,null,null,null,null,null,null,null,null,null,null,null,null,null,null,null,null,null,"LIST OF ACCEPTABLE CODES"]
[]
[null,null,null,null,null,null,null,null,null,null,null,null,null,null,null,null,null,null,null,null,null,null,null,null,null,null,null,null,null,null,null,null,null,null,null,null,null,null,"ALT"]
[null,null,null,null,null,null,null,null,null,null,null,null,null,null,null,null,null,null,null,null,null,null,null,null,null,null,null,null,null,null,null,null,null,null,null,null,null,null,"CAT"]
[null,null,null,null,null,null,null,null,null,null,null,null,null,null,null,null,null,null,null,null,null,null,null,null,null,null,null,null,"NO MILES OVER 1000/DAY OR ON R1 DAYS",null,null,null,null,null,null,null,null,null,"CDE"]
[null,null,null,null,null,null,null,null,null,null,null,null,null,null,null,null,null,null,null,null,null,null,null,null,null,null,null,null,{"$f":"IF(AND(E204=\"R1,R2\",Z11<>\"\"),0)","v":false},{"$f":"IF(Z11>1000,1,0)","v":0},{"$f":"SUM(AC133:AD133)","v":0},null,null,null,null,null,null,null,"CDT"]
[null,null,null,null,null,null,null,null,null,null,null,null,null,null,null,null,null,null,null,null,null,null,null,null,null,null,null,null,{"$f":"IF(AND(E205=\"R1\",Z12<>\"\"),0)","v":false},0,0,null,null,null,null,null,null,null,"CTE"]
[null,null,null,null,null,null,null,null,null,null,null,null,null,null,null,null,null,null,null,null,null,null,null,null,null,null,null,null,false,0,0,null,null,null,null,null,null,null,"CTT"]
[null,null,null,null,null,null,null,null,null,null,null,null,null,null,null,null,null,null,null,null,null,null,null,null,null,null,null,null,false,0,0,null,null,null,null,null,null,null,"DBT"]
[null,null,null,null,null,null,null,null,null,null,null,null,null,null,null,null,null,null,null,null,null,null,null,null,null,null,null,null,false,0,0,null,null,null,null,null,null,null,"DOT"]
[null,null,null,null,null,null,null,null,null,null,null,null,null,null,null,null,null,null,null,null,null,null,null,null,null,null,null,null,false,0,0,null,null,null,null,null,null,null,"DMT"]
[null,null,null,null,null,null,null,null,null,null,null,null,null,null,null,null,null,null,null,null,null,null,null,null,null,null,null,null,false,0,0,null,null,null,null,null,null,null,"EMT"]
[null,null,null,null,null,null,null,null,null,null,null,null,null,null,null,null,null,null,null,null,null,null,null,null,null,null,null,null,null,null,null,null,null,null,null,null,null,null,"EST"]
[null,null,null,null,null,null,null,null,null,null,null,null,null,null,null,null,null,null,null,null,null,null,null,null,null,null,null,null,null,null,null,null,null,null,null,null,null,null,"FFT"]
[null,null,null,null,null,null,null,null,null,null,null,null,null,null,null,null,null,null,null,null,null,null,null,null,null,null,null,null,null,null,null,null,null,null,null,null,null,null,"FPT"]
[null,null,null,null,null,null,null,null,null,null,null,null,null,null,null,null,null,null,null,null,null,null,null,null,null,null,null,null,null,null,null,null,null,null,null,null,null,null,"HCE"]
[null,null,null,null,null,null,null,null,null,null,null,null,null,null,null,null,null,null,null,null,null,null,null,null,null,null,null,null,null,null,null,null,null,null,null,null,null,null,"HCT"]
[null,null,null,null,null,null,null,null,null,null,null,null,null,null,null,null,null,null,null,null,null,null,null,null,null,null,null,null,null,null,null,null,null,null,null,null,null,null,"HOB"]
[null,null,null,null,null,null,null,null,null,null,null,null,null,null,null,null,null,null,null,null,null,null,null,null,null,null,null,null,null,null,null,null,null,null,null,null,null,null,"JST"]
[null,null,null,null,null,null,null,null,null,null,null,null,null,null,null,null,null,null,null,null,null,null,null,null,null,null,null,null,null,null,null,null,null,null,null,null,null,null,"LDT"]
[null,null,null,null,null,null,null,null,null,null,null,null,null,null,null,null,null,null,null,null,null,null,null,null,null,null,null,null,null,null,null,null,null,null,null,null,null,null,"LET"]
[null,null,null,null,null,null,null,null,null,null,null,null,null,null,null,null,null,null,null,null,null,null,null,null,null,null,null,null,null,null,null,null,null,null,null,null,null,null,"LPA"]
[null,null,null,null,null,null,null,null,null,null,null,null,null,null,null,null,null,null,null,null,null,null,null,null,null,null,null,null,null,null,null,null,null,null,null,null,null,null,"LPT"]
[null,null,null,null,null,null,null,null,null,null,null,null,null,null,null,null,null,null,null,null,null,null,null,null,null,null,null,null,null,null,null,null,null,null,null,null,null,null,"LWT"]
[null,null,null,null,null,null,null,null,null,null,null,null,null,null,null,null,null,null,null,null,null,null,null,null,null,null,null,null,null,null,null,null,null,null,null,null,null,null,"MLT"]
[null,null,null,null,null,null,null,null,null,null,null,null,null,null,null,null,null,null,null,null,null,null,null,null,null,null,null,null,null,null,null,null,null,null,null,null,null,null,"OHE"]
[null,null,null,null,null,null,null,null,null,null,null,null,null,null,null,null,null,null,null,null,null,null,null,null,null,null,null,null,null,null,null,null,null,null,null,null,null,null,"OHT"]
[null,null,null,null,null,null,null,null,null,null,null,null,null,null,null,null,null,null,null,null,null,null,null,null,null,null,null,null,null,null,null,null,null,null,null,null,null,null,"OTE"]
[null,null,null,null,null,null,null,null,null,null,null,null,null,null,null,null,null,null,null,null,null,null,null,null,null,null,null,null,null,null,null,null,null,null,null,null,null,null,"OTP"]
[null,null,null,null,null,null,null,null,null,null,null,null,null,null,null,null,null,null,null,null,null,null,null,null,null,null,null,null,null,null,null,null,null,null,null,null,null,null,"OTT"]
[null,null,null,null,null,null,null,null,null,null,null,null,null,null,null,null,null,null,null,null,null,null,null,null,null,null,null,null,null,null,null,null,null,null,null,null,null,null,"RCT"]
[null,null,null,null,null,null,null,null,null,null,null,null,null,null,null,null,null,null,null,null,null,null,null,null,null,null,null,null,null,null,null,null,null,null,null,null,null,null,"SAT"]
[null,null,null,null,null,null,null,null,null,null,null,null,null,null,null,null,null,null,null,null,null,null,null,null,null,null,null,null,null,null,null,null,null,null,null,null,null,null,"SET"]
[null,null,null,null,null,null,null,null,null,null,null,null,null,null,null,null,null,null,null,null,null,null,null,null,null,null,null,null,null,null,null,null,null,null,null,null,null,null,"SLT"]
[null,null,null,null,null,null,null,null,null,null,null,null,null,null,null,null,null,null,null,null,null,null,null,null,null,null,null,null,null,null,null,null,null,null,null,null,null,null,"VCT"]
[]
[]
[]
[]
[]
[]
[]
[]
[]
[null,null,null,null,null,null,null,null,null,null,null,null,null,null,null,null,null,null,null,null,null,null,null,null,null,null,null,null,"Hours Worked"]
[null,null,null,null,null,null,null,null,null,null,null,null,null,null,null,null,null,null,null,null,null,null,null,null,null,null,null,null,0.25]
[null,null,null,null,null,null,null,null,null,null,null,null,null,null,null,null,null,null,null,null,null,null,null,null,null,null,null,null,0.5]
[null,null,null,null,null,null,null,null,null,null,null,null,null,null,null,null,null,null,null,null,null,null,null,null,null,null,null,null,0.75]
[null,null,null,null,null,null,null,null,null,null,null,null,null,null,null,null,null,null,null,null,null,null,null,null,null,null,null,null,1]
[null,null,null,null,null,null,null,null,null,null,null,null,null,null,null,null,null,null,null,null,null,null,null,null,null,null,null,null,1.25]
[null,null,null,null,null,null,null,null,null,null,null,null,null,null,null,null,null,null,null,null,null,null,null,null,null,null,null,null,1.5]
[null,null,null,null,null,null,null,null,null,null,null,null,null,null,null,null,null,null,null,null,null,null,null,null,null,null,null,null,1.75]
[null,null,null,null,null,null,null,null,null,null,null,null,null,null,null,null,null,null,null,null,null,null,null,null,null,null,null,null,2]
[null,null,null,null,null,null,null,null,null,null,null,null,null,null,null,null,null,null,null,null,null,null,null,null,null,null,null,null,2.25]
[null,null,null,null,null,null,null,null,null,null,null,null,null,null,null,null,null,null,null,null,null,null,null,null,null,null,null,null,2.5]
[null,null,null,null,null,null,null,null,null,null,null,null,null,null,null,null,null,null,null,null,null,null,null,null,null,null,null,null,2.75]
[null,null,null,null,null,null,null,null,null,null,null,null,null,null,null,null,null,null,null,null,null,null,null,null,null,null,null,null,3]
[null,null,null,null,null,null,null,null,null,null,null,null,null,null,null,null,null,null,null,null,null,null,null,null,null,null,null,null,3.25]
[null,null,null,null,null,null,null,null,null,null,null,null,null,null,null,null,null,null,null,null,null,null,null,null,null,null,null,null,3.5]
[null,null,null,null,null,null,null,null,null,null,null,null,null,null,null,null,null,null,null,null,null,null,null,null,null,null,null,null,3.75]
[null,null,null,null,null,null,null,null,null,null,null,null,null,null,null,null,null,null,null,null,null,null,null,null,null,null,null,null,4]
[null,null,null,null,null,null,null,null,null,null,null,null,null,null,null,null,null,null,null,null,null,null,null,null,null,null,null,null,4.25]
[null,null,null,null,null,null,null,null,null,null,null,null,null,null,null,null,null,null,null,null,null,null,null,null,null,null,null,null,4.5]
[null,null,null,null,null,null,null,null,null,null,null,null,null,null,null,null,null,null,null,null,null,null,null,null,null,null,null,null,4.75]
[null,null,null,null,null,null,null,null,null,null,null,null,null,null,null,null,null,null,null,null,null,null,null,null,null,null,null,null,5]
[null,null,null,null,null,null,null,null,null,null,null,null,null,null,null,null,null,null,null,null,null,null,null,null,null,null,null,null,5.25]
[null,null,null,null,null,null,null,null,null,null,null,null,null,null,null,null,null,null,null,null,null,null,null,null,null,null,null,null,5.5]
[null,null,null,null,null,null,null,null,null,null,null,null,null,null,null,null,null,null,null,null,null,null,null,null,null,null,null,null,5.75]
[null,null,null,null,null,null,null,null,null,null,null,null,null,null,null,null,null,null,null,null,null,null,null,null,null,null,null,null,6]
[null,null,null,null,null,null,null,null,null,null,null,null,null,null,null,null,null,null,null,null,null,null,null,null,null,null,null,null,6.25]
[null,null,null,null,null,null,null,null,null,null,null,null,null,null,null,null,null,null,null,null,null,null,null,null,null,null,null,null,6.5]
[null,null,null,null,null,null,null,null,null,null,null,null,null,null,null,null,null,null,null,null,null,null,null,null,null,null,null,null,6.75]
[null,null,null,null,null,null,null,null,null,null,null,null,null,null,null,null,null,null,null,null,null,null,null,null,null,null,null,null,7]
[null,null,null,null,null,null,null,null,null,null,null,null,null,null,null,null,null,null,null,null,null,null,null,null,null,null,null,null,7.25]
[null,null,null,null,null,null,null,null,null,null,null,null,null,null,null,null,null,null,null,null,null,null,null,null,null,null,null,null,7.5]
[null,null,null,null,null,null,null,null,null,null,null,null,null,null,null,null,null,null,null,null,null,null,null,null,null,null,null,null,7.75]
[null,null,null,null,null,null,null,null,null,null,null,null,null,null,null,null,null,null,null,null,null,null,null,null,null,null,null,null,8]
[null,null,null,null,null,null,null,null,null,null,null,null,null,null,null,null,null,null,null,null,null,null,null,null,null,null,null,null,8.25]
[null,null,null,null,null,null,null,null,null,null,null,null,null,null,null,null,null,null,null,null,null,null,null,null,null,null,null,null,8.5]
[null,null,null,null,null,null,null,null,null,null,null,null,null,null,null,null,null,null,null,null,null,null,null,null,null,null,null,null,8.75]
[null,null,null,null,null,null,null,null,null,null,null,null,null,null,null,null,null,null,null,null,null,null,null,null,null,null,null,null,9]
[null,null,null,null,null,null,null,null,null,null,null,null,null,null,null,null,null,null,null,null,null,null,null,null,null,null,null,null,9.25]
[null,null,null,null,null,null,null,null,null,null,null,null,null,null,null,null,null,null,null,null,null,null,null,null,null,null,null,null,9.5]
[null,null,null,null,null,null,null,null,null,null,null,null,null,null,null,null,null,null,null,null,null,null,null,null,null,null,null,null,9.75]
[null,null,null,null,null,null,null,null,null,null,null,null,null,null,null,null,null,null,null,null,null,null,null,null,null,null,null,null,10]
[null,null,null,null,null,null,null,null,null,null,null,null,null,null,null,null,null,null,null,null,null,null,null,null,null,null,null,null,10.25]
[null,null,null,null,null,null,null,null,null,null,null,null,null,null,null,null,null,null,null,null,null,null,null,null,null,null,null,null,10.5]
[null,null,null,null,null,null,null,null,null,null,null,null,null,null,null,null,null,null,null,null,null,null,null,null,null,null,null,null,10.75]
[null,null,null,null,null,null,null,null,null,null,null,null,null,null,null,null,null,null,null,null,null,null,null,null,null,null,null,null,11]
[null,null,null,null,null,null,null,null,null,null,null,null,null,null,null,null,null,null,null,null,null,null,null,null,null,null,null,null,11.25]
[null,null,null,null,null,null,null,null,null,null,null,null,null,null,null,null,null,null,null,null,null,null,null,null,null,null,null,null,11.5]
[null,null,null,null,null,null,null,null,null,null,null,null,null,null,null,null,null,null,null,null,null,null,null,null,null,null,null,null,11.75]
[null,null,null,null,null,null,null,null,null,null,null,null,null,null,null,null,null,null,null,null,null,null,null,null,null,null,null,null,12]
[null,null,null,null,null,null,null,null,null,null,null,null,null,null,null,null,null,null,null,null,null,null,null,null,null,null,null,null,12.25]
[null,null,null,null,null,null,null,null,null,null,null,null,null,null,null,null,null,null,null,null,null,null,null,null,null,null,null,null,12.5]
[null,null,null,null,null,null,null,null,null,null,null,null,null,null,null,null,null,null,null,null,null,null,null,null,null,null,null,null,12.75]
[null,null,null,null,null,null,null,null,null,null,null,null,null,null,null,null,null,null,null,null,null,null,null,null,null,null,null,null,13]
[null,null,null,null,null,null,null,null,null,null,null,null,null,null,null,null,null,null,null,null,null,null,null,null,null,null,null,null,13.25]
[null,null,null,null,null,null,null,null,null,null,null,null,null,null,null,null,null,null,null,null,null,null,null,null,null,null,null,null,13.5]
[null,null,null,null,null,null,null,null,null,null,null,null,null,null,null,null,null,null,null,null,null,null,null,null,null,null,null,null,13.75]
[null,null,null,null,null,null,null,null,null,null,null,null,null,null,null,null,null,null,null,null,null,null,null,null,null,null,null,null,14]
[null,null,null,null,null,null,null,null,null,null,null,null,null,null,null,null,null,null,null,null,null,null,null,null,null,null,null,null,14.25]
[null,null,null,null,null,null,null,null,null,null,null,null,null,null,null,null,null,null,null,null,null,null,null,null,null,null,null,null,14.5]
[null,null,null,null,null,null,null,null,null,null,null,null,null,null,null,null,null,null,null,null,null,null,null,null,null,null,null,null,14.75]
[null,null,null,null,null,null,null,null,null,null,null,null,null,null,null,null,null,null,null,null,null,null,null,null,null,null,null,null,15]
[null,null,null,null,null,null,null,null,null,null,null,null,null,null,null,null,null,null,null,null,null,null,null,null,null,null,null,null,15.25]
[null,null,null,null,null,null,null,null,null,null,null,null,null,null,null,null,null,null,null,null,null,null,null,null,null,null,null,null,15.5]
[null,null,null,"TIME VALUES",null,null,null,null,null,null,null,null,null,null,null,null,null,null,null,null,null,null,null,null,null,null,null,null,15.75]
[null,null,null,"06:00:00",null,null,null,null,null,null,null,null,null,null,null,"HOURS LEAVE",null,null,null,null,null,null,null,null,null,null,null,null,16]
[null,null,null,"06:15:00",null,null,null,null,null,null,null,null,null,null,null,null,"0:15",0.25,null,null,null,null,null,null,null,null,null,null,16.25]
[null,null,null,"06:30:00",null,null,null,null,null,null,null,null,null,null,null,null,"0:30",0.5,null,null,null,null,null,null,null,null,null,null,16.5]
[null,null,null,"06:45:00",null,null,null,null,null,null,null,null,null,null,null,null,"0:45",0.75,null,null,null,null,null,null,null,null,null,null,16.75]
[null,null,null,"07:00:00",null,null,null,null,null,null,null,null,null,null,null,null,"1:00",1,null,null,null,null,null,null,null,null,null,null,17]
[null,null,null,"07:15:00",null,null,null,null,null,null,null,null,null,null,null,null,"1:15",1.25,null,null,null,null,null,null,null,null,null,null,17.25]
[null,null,null,"07:30:00",null,null,null,null,null,null,null,null,null,null,null,null,"1:30",1.5,null,null,null,null,null,null,null,null,null,null,17.5]
[null,null,null,"07:45:00",null,null,null,null,null,null,null,null,null,null,null,null,"1:45",1.75,null,null,null,null,null,null,null,null,null,null,17.75]
[null,null,null,"08:00:00",null,null,null,null,null,null,null,null,null,null,null,null,"2:00",2,null,null,null,null,null,null,null,null,null,null,18]
[null,null,null,"08:15:00",null,null,null,null,null,null,null,null,null,null,null,null,"2:15",2.25,null,null,null,null,null,null,null,null,null,null,18.25]
[null,null,null,"08:30:00",null,null,null,null,null,null,null,null,null,null,null,null,"2:30",2.5,null,null,null,null,null,null,null,null,null,null,18.5]
[null,null,null,"08:45:00",null,null,null,null,null,null,null,null,null,null,null,null,"2:45",2.75,null,null,null,null,null,null,null,null,null,null,18.75]
[null,null,null,"09:00:00",null,null,null,null,null,null,null,null,null,null,null,null,"3:00",3,null,null,null,null,null,null,null,null,null,null,19]
[null,null,null,"09:15:00",null,null,null,null,null,null,null,null,null,null,null,null,"3:15",3.25,null,null,null,null,null,null,null,null,null,null,19.25]
[null,null,null,"09:30:00",null,null,null,null,null,null,null,null,null,null,null,null,"3:30",3.5,null,null,null,null,null,null,null,null,null,null,19.5]
[null,null,null,"09:45:00",null,null,null,null,null,null,null,null,null,null,null,null,"3:45",3.75,null,null,null,null,null,null,null,null,null,null,19.75]
[null,null,null,"10:00:00",null,null,null,null,null,null,null,null,null,null,null,null,"4:00",4,null,null,null,null,null,null,null,null,null,null,20]
[null,null,null,"10:15:00",null,null,null,null,null,null,null,null,null,null,null,null,"4:15",4.25,null,null,null,null,null,null,null,null,null,null,20.25]
[null,null,null,"10:30:00",null,null,null,null,null,null,null,null,null,null,null,null,"4:30",4.5,null,null,null,null,null,null,null,null,null,null,20.5]
[null,null,null,"10:45:00",null,null,null,null,null,null,null,null,null,null,null,null,"4:45",4.75,null,null,null,null,null,null,null,null,null,null,20.75]
[null,null,null,"11:00:00",null,null,null,null,null,null,null,null,null,null,null,null,"5:00",5,null,null,null,null,null,null,null,null,null,null,21]
[null,null,null,"11:15:00",null,null,null,null,null,null,null,null,null,null,null,null,"5:15",5.25,null,null,null,null,null,null,null,null,null,null,21.25]
[null,null,null,"11:30:00",null,null,null,null,null,null,null,null,null,null,null,null,"5:30",5.5,null,null,null,null,null,null,null,null,null,null,21.5]
[null,null,null,"11:45:00",null,null,null,null,null,null,null,null,null,null,null,null,"5:45",5.75,null,null,null,null,null,null,null,null,null,null,21.75]
[null,null,null,"12:00:00",null,null,null,null,null,null,null,null,null,null,null,null,"6:00",6,null,null,null,null,null,null,null,null,null,null,22]
[null,null,null,"12:15:00",null,null,null,null,null,null,null,null,null,null,null,null,"6:15",6.25,null,null,null,null,null,null,null,null,null,null,22.25]
[null,null,null,"12:30:00",null,null,null,null,null,null,null,null,null,null,null,null,"6:30",6.5,null,null,null,null,null,null,null,null,null,null,22.5]
[null,null,null,"12:45:00",null,null,null,null,null,null,null,null,null,null,null,null,"6:45",6.75,null,null,null,null,null,null,null,null,null,null,22.75]
[null,null,null,"13:00:00",null,null,null,null,null,null,null,null,null,null,null,null,"7:00",7,null,null,null,null,null,null,null,null,null,null,23]
[null,null,null,"13:15:00",null,null,null,null,null,null,null,null,null,null,null,null,"7:15",7.25,null,null,null,null,null,null,null,null,null,null,23.25]
[null,null,null,"13:30:00",null,null,null,null,null,null,null,null,null,null,null,null,"7:30",7.5,null,null,null,null,null,null,null,null,null,null,23.5]
[null,null,null,"13:45:00",null,null,null,null,null,null,null,null,null,null,null,null,"7:45",7.75,null,null,null,null,null,null,null,null,null,null,23.75]
[null,null,null,"14:00:00",null,null,null,null,null,null,null,null,null,null,null,null,0.33333333333333331,8,null,null,null,null,null,null,null,null,null,null,24]
[null,null,null,"14:15:00",null,null,null,null,null,null,null,null,null,null,null,null,"8:15",8.25]
[null,null,null,"14:30:00",null,null,null,null,null,null,null,null,null,null,null,null,"8:30",8.5]
[null,null,null,"14:45:00",null,null,null,null,null,null,null,null,null,null,null,null,"8:45",{"$f":"R270+0.25","v":8.75}]
[null,null,null,"15:00:00",null,null,null,null,null,null,null,null,null,null,null,null,"9:00",9]
[null,null,null,"15:15:00",null,null,null,null,null,null,null,null,null,null,null,null,"9:15",9.25]
[null,null,null,"15:30:00",null,null,null,null,null,null,null,null,null,null,null,null,"9:30",9.5]
[null,null,null,"15:45:00",null,null,null,null,null,null,null,null,null,null,null,null,"9:45",9.75]
[null,null,null,"16:00:00",null,null,null,null,null,null,null,null,null,null,null,null,"10:00",10]
[null,null,null,"16:15:00",null,null,null,null,null,null,null,null,null,null,null,null,"10:15",10.25]
[null,null,null,"16:30:00",null,null,null,null,null,null,null,null,null,null,null,null,"10:30",10.5]
[null,null,null,"16:45:00",null,null,null,null,null,null,null,null,null,null,null,null,"10:45",10.75]
[null,null,null,"17:00:00",null,null,null,null,null,null,null,null,null,null,null,null,"11:00",11]
[null,null,null,"17:15:00",null,null,null,null,null,null,null,null,null,null,null,null,"11:15",11.25]
[null,null,null,"17:30:00",null,null,null,null,null,null,null,null,null,null,null,null,"11:30",11.5]
[null,null,null,"17:45:00",null,null,null,null,null,null,null,null,null,null,null,null,"11:45",11.75]
[null,null,null,"18:00:00",null,null,null,null,null,null,null,null,null,null,null,null,"12:00",12]
[null,null,null,"18:15:00",null,null,null,null,null,null,null,null,null,null,null,null,"12:15",12.25]
[null,null,null,"18:30:00",null,null,null,null,null,null,null,null,null,null,null,null,"12:30",12.5]
[null,null,null,"18:45:00",null,null,null,null,null,null,null,null,null,null,null,null,"12:45",12.75]
[null,null,null,"19:00:00",null,null,null,null,null,null,null,null,null,null,null,null,"13:00",13]
[null,null,null,"19:15:00",null,null,null,null,null,null,null,null,null,null,null,null,"13:15",13.25]
[null,null,null,"19:30:00",null,null,null,null,null,null,null,null,null,null,null,null,"13:30",13.5]
[null,null,null,"19:45:00",null,null,null,null,null,null,null,null,null,null,null,null,"13:45",13.75]
[null,null,null,"20:00:00",null,null,null,null,null,null,null,null,null,null,null,null,"14:00",14]
[null,null,null,"20:15:00",null,null,null,null,null,null,null,null,null,null,null,null,"14:15",14.25]
[null,null,null,"20:30:00",null,null,null,null,null,null,null,null,null,null,null,null,"14:30",14.5]
[null,null,null,"20:45:00",null,null,null,null,null,null,null,null,null,null,null,null,"14:45",14.75]
[null,null,null,"21:00:00",null,null,null,null,null,null,null,null,null,null,null,null,"15:00",15]
[null,null,null,"21:15:00",null,null,null,null,null,null,null,null,null,null,null,null,"15:15",15.25]
[null,null,null,"21:30:00",null,null,null,null,null,null,null,null,null,null,null,null,"15:30",15.5]
[null,null,null,"21:45:00",null,null,null,null,null,null,null,null,null,null,null,null,"15:45",15.75]
[null,null,null,"22:00:00",null,null,null,null,null,null,null,null,null,null,null,null,"16:00",16]
[null,null,null,"22:15:00",null,null,null,null,null,null,null,null,null,null,null,null,"16:15",16.25]
[null,null,null,"22:30:00",null,null,null,null,null,null,null,null,null,null,null,null,"16:30",16.5]
[null,null,null,"22:45:00",null,null,null,null,null,null,null,null,null,null,null,null,"16:45",{"$f":"R302+0.25","v":16.75}]
[null,null,null,"23:00:00",null,null,null,null,null,null,null,null,null,null,null,null,"17:00",17]
[null,null,null,"23:15:00",null,null,null,null,null,null,null,null,null,null,null,null,"17:15",17.25]
[null,null,null,"23:30:00",null,null,null,null,null,null,null,null,null,null,null,null,"17:30",17.5]
[null,null,null,"23:45:00",null,null,null,null,null,null,null,null,null,null,null,null,"17:45",17.75]
[null,null,null,"00:00:00",null,null,null,null,null,null,null,null,null,null,null,null,"18:00",18]
[null,null,null,"00:15:00",null,null,null,null,null,null,null,null,null,null,null,null,"18:15",18.25]
[null,null,null,"00:30:00",null,null,null,null,null,null,null,null,null,null,null,null,"18:30",18.5]
[null,null,null,"00:45:00",null,null,null,null,null,null,null,null,null,null,null,null,"18:45",18.75]
[null,null,null,"01:00:00",null,null,null,null,null,null,null,null,null,null,null,null,"19:00",19]
[null,null,null,"01:15:00",null,null,null,null,null,null,null,null,null,null,null,null,"19:15",19.25]
[null,null,null,"01:30:00",null,null,null,null,null,null,null,null,null,null,null,null,"19:30",19.5]
[null,null,null,"01:45:00",null,null,null,null,null,null,null,null,null,null,null,null,"19:45",19.75]
[null,null,null,"02:00:00",null,null,null,null,null,null,null,null,null,null,null,null,"20:00",20]
[null,null,null,"02:15:00",null,null,null,null,null,null,null,null,null,null,null,null,"20:15",20.25]
[null,null,null,"02:30:00",null,null,null,null,null,null,null,null,null,null,null,null,"20:30",20.5]
[null,null,null,"02:45:00",null,null,null,null,null,null,null,null,null,null,null,null,"20:45",20.75]
[null,null,null,"03:00:00",null,null,null,null,null,null,null,null,null,null,null,null,"21:00",21]
[null,null,null,"03:15:00",null,null,null,null,null,null,null,null,null,null,null,null,"21:15",21.25]
[null,null,null,"03:30:00",null,null,null,null,null,null,null,null,null,null,null,null,"21:30",21.5]
[null,null,null,"03:45:00",null,null,null,null,null,null,null,null,null,null,null,null,"21:45",21.75]
[null,null,null,"04:00:00",null,null,null,null,null,null,null,null,null,null,null,null,"22:00",22]
[null,null,null,"04:15:00",null,null,null,null,null,null,null,null,null,null,null,null,"22:15",22.25]
[null,null,null,"04:30:00",null,null,null,null,null,null,null,null,null,null,null,null,"22:30",22.5]
[null,null,null,"04:45:00",null,null,null,null,null,null,null,null,null,null,null,null,"22:45",22.75]
[null,null,null,"05:00:00",null,null,null,null,null,null,null,null,null,null,null,null,"23:00",23]
[null,null,null,"05:15:00",null,null,null,null,null,null,null,null,null,null,null,null,"23:15",23.25]
[null,null,null,"05:30:00",null,null,null,null,null,null,null,null,null,null,null,null,"23:30",23.5]
[null,null,null,"05:45:00",null,null,null,null,null,null,null,null,null,null,null,null,"23:45",23.75]
[null,null,null,null,null,null,null,null,null,null,null,null,null,null,null,null,"24:00",24]
[null,null,null,null,null,null,null,null,null,null,null,null,null,null,null,null,"24:15",24.25]
[null,null,null,null,null,null,null,null,null,null,null,null,null,null,null,null,"24:30",24.5]
[null,null,null,null,null,null,null,null,null,null,null,null,null,null,null,null,"24:45",{"$f":"R334+0.25","v":24.75}]
[null,null,null,null,null,null,null,null,null,null,null,null,null,null,null,null,"25:00",25]
[null,null,null,null,null,null,null,null,null,null,null,null,null,null,null,null,"25:15",25.25]
[null,null,null,null,null,null,null,null,null,null,null,null,null,null,null,null,"25:30",25.5]
[null,null,null,null,null,null,null,null,null,null,null,null,null,null,null,null,"25:45",25.75]
[null,null,null,null,null,null,null,null,null,null,null,null,null,null,null,null,"26:00",26]
[null,null,null,null,null,null,null,null,null,null,null,null,null,null,null,null,"26:15",26.25]
[null,null,null,null,null,null,null,null,null,null,null,null,null,null,null,null,"26:30",26.5]
[null,null,null,null,null,null,null,null,null,null,null,null,null,null,null,null,"26:45",26.75]
[null,null,null,null,null,null,null,null,null,null,null,null,null,null,null,null,"27:00",27]
[null,null,null,null,null,null,null,null,null,null,null,null,null,null,null,null,"27:15",27.25]
[null,null,null,null,null,null,null,null,null,null,null,null,null,null,null,null,"27:30",27.5]
[null,null,null,null,null,null,null,null,null,null,null,null,null,null,null,null,"27:45",27.75]
[null,null,null,null,null,null,null,null,null,null,null,null,null,null,null,null,"28:00",28]
[null,null,null,null,null,null,null,null,null,null,null,null,null,null,null,null,"28:15",28.25]
[null,null,null,null,null,null,null,null,null,null,null,null,null,null,null,null,"28:30",28.5]
[null,null,null,null,null,null,null,null,null,null,null,null,null,null,null,null,"28:45",28.75]
[null,null,null,null,null,null,null,null,null,null,null,null,null,null,null,null,"29:00",29]
[null,null,null,null,null,null,null,null,null,null,null,null,null,null,null,null,"29:15",29.25]
[null,null,null,null,null,null,null,null,null,null,null,null,null,null,null,null,"29:30",29.5]
[null,null,null,null,null,null,null,null,null,null,null,null,null,null,null,null,"29:45",29.75]
[null,null,null,null,null,null,null,null,null,null,null,null,null,null,null,null,"30:00",30]
[null,null,null,null,null,null,null,null,null,null,null,null,null,null,null,null,"30:15",30.25]
[null,null,null,null,null,null,null,null,null,null,null,null,null,null,null,null,"30:30",30.5]
[null,null,null,null,null,null,null,null,null,null,null,null,null,null,null,null,"30:45",30.75]
[null,null,null,null,null,null,null,null,null,null,null,null,null,null,null,null,"31:00",31]
[null,null,null,null,null,null,null,null,null,null,null,null,null,null,null,null,"31:15",31.25]
[null,null,null,null,null,null,null,null,null,null,null,null,null,null,null,null,"31:30",31.5]
[null,null,null,null,null,null,null,null,null,null,null,null,null,null,null,null,"31:45",31.75]
[null,null,null,null,null,null,null,null,null,null,null,null,null,null,null,null,"32:00",32]
[null,null,null,null,null,null,null,null,null,null,null,null,null,null,null,null,"32:15",32.25]
[null,null,null,null,null,null,null,null,null,null,null,null,null,null,null,null,"32:30",32.5]
[null,null,null,null,null,null,null,null,null,null,null,null,null,null,null,null,"32:45",{"$f":"R366+0.25","v":32.75}]
[null,null,null,null,null,null,null,null,null,null,null,null,null,null,null,null,"33:00",33]
[null,null,null,null,null,null,null,null,null,null,null,null,null,null,null,null,"33:15",33.25]
[null,null,null,null,null,null,null,null,null,null,null,null,null,null,null,null,"33:30",33.5]
[null,null,null,null,null,null,null,null,null,null,null,null,null,null,null,null,"33:45",33.75]
[null,null,null,null,null,null,null,null,null,null,null,null,null,null,null,null,"34:00",34]
[null,null,null,null,null,null,null,null,null,null,null,null,null,null,null,null,"34:15",34.25]
[null,null,null,null,null,null,null,null,null,null,null,null,null,null,null,null,"34:30",34.5]
[null,null,null,null,null,null,null,null,null,null,null,null,null,null,null,null,"34:45",34.75]
[null,null,null,null,null,null,null,null,null,null,null,null,null,null,null,null,"35:00",35]
[null,null,null,null,null,null,null,null,null,null,null,null,null,null,null,null,"35:15",35.25]
[null,null,null,null,null,null,null,null,null,null,null,null,null,null,null,null,"35:30",35.5]
[null,null,null,null,null,null,null,null,null,null,null,null,null,null,null,null,"35:45",35.75]
[null,null,null,null,null,null,null,null,null,null,null,null,null,null,null,null,"36:00",36]
[null,null,null,null,null,null,null,null,null,null,null,null,null,null,null,null,"36:15",36.25]
[null,null,null,null,null,null,null,null,null,null,null,null,null,null,null,null,"36:30",36.5]
[null,null,null,null,null,null,null,null,null,null,null,null,null,null,null,null,"36:45",36.75]
[null,null,null,null,null,null,null,null,null,null,null,null,null,null,null,null,"37:00",37]
[null,null,null,null,null,null,null,null,null,null,null,null,null,null,null,null,"37:15",37.25]
[null,null,null,null,null,null,null,null,null,null,null,null,null,null,null,null,"37:30",37.5]
[null,null,null,null,null,null,null,null,null,null,null,null,null,null,null,null,"37:45",37.75]
[null,null,null,null,null,null,null,null,null,null,null,null,null,null,null,null,"38:00",38]
[null,null,null,null,null,null,null,null,null,null,null,null,null,null,null,null,"38:15",38.25]
[null,null,null,null,null,null,null,null,null,null,null,null,null,null,null,null,"38:30",38.5]
[null,null,null,null,null,null,null,null,null,null,null,null,null,null,null,null,"38:45",38.75]
[null,null,null,null,null,null,null,null,null,null,null,null,null,null,null,null,"39:00",39]
[null,null,null,null,null,null,null,null,null,null,null,null,null,null,null,null,"39:15",39.25]
[null,null,null,null,null,null,null,null,null,null,null,null,null,null,null,null,"39:30",39.5]
[null,null,null,null,null,null,null,null,null,null,null,null,null,null,null,null,"39:45",39.75]
[null,null,null,null,null,null,null,null,null,null,null,null,null,null,null,null,"40:00",40]
[null,null,null,null,null,null,null,null,null,null,null,null,null,null,null,null,"40:15"]
[null,null,null,null,null,null,null,null,null,null,null,null,null,null,null,null,"40:30"]
[null,null,null,null,null,null,null,null,null,null,null,null,null,null,null,null,"40:45"]
[null,null,null,null,null,null,null,null,null,null,null,null,null,null,null,null,"41:00"]
[null,null,null,null,null,null,null,null,null,null,null,null,null,null,null,null,"41:15"]
[null,null,null,null,null,null,null,null,null,null,null,null,null,null,null,null,"41:30"]
[null,null,null,null,null,null,null,null,null,null,null,null,null,null,null,null,"41:45"]
[null,null,null,null,null,null,null,null,null,null,null,null,null,null,null,null,"42:00"]
[null,null,null,null,null,null,null,null,null,null,null,null,null,null,null,null,"42:15"]
[null,null,null,null,null,null,null,null,null,null,null,null,null,null,null,null,"42:30"]
[null,null,null,null,null,null,null,null,null,null,null,null,null,null,null,null,"42:45"]
[null,null,null,null,null,null,null,null,null,null,null,null,null,null,null,null,"43:00"]
[null,null,null,null,null,null,null,null,null,null,null,null,null,null,null,null,"43:15"]
[null,null,null,null,null,null,null,null,null,null,null,null,null,null,null,null,"43:30"]
[null,null,null,null,null,null,null,null,null,null,null,null,null,null,null,null,"43:45"]
[null,null,null,null,null,null,null,null,null,null,null,null,null,null,null,null,"44:00"]
[null,null,null,null,null,null,null,null,null,null,null,null,null,null,null,null,"44:15"]
[null,null,null,null,null,null,null,null,null,null,null,null,null,null,null,null,"44:30"]
[null,null,null,null,null,null,null,null,null,null,null,null,null,null,null,null,"44:45"]
[null,null,null,null,null,null,null,null,null,null,null,null,null,null,null,null,"45:00"]
[null,null,null,null,null,null,null,null,null,null,null,null,null,null,null,null,"45:15"]
[null,null,null,null,null,null,null,null,null,null,null,null,null,null,null,null,"45:30"]
[null,null,null,null,null,null,null,null,null,null,null,null,null,null,null,null,"45:45"]
[null,null,null,null,null,null,null,null,null,null,null,null,null,null,null,null,"46:00"]
[null,null,null,null,null,null,null,null,null,null,null,null,null,null,null,null,"46:15"]
[null,null,null,null,null,null,null,null,null,null,null,null,null,null,null,null,"46:30"]
[null,null,null,null,null,null,null,null,null,null,null,null,null,null,null,null,"46:45"]
[null,null,null,null,null,null,null,null,null,null,null,null,null,null,null,null,"47:00"]
[null,null,null,null,null,null,null,null,null,null,null,null,null,null,null,null,"47:15"]
[null,null,null,null,null,null,null,null,null,null,null,null,null,null,null,null,"47:30"]
[null,null,null,null,null,null,null,null,null,null,null,null,null,null,null,null,"47:45"]
[null,null,null,null,null,null,null,null,null,null,null,null,null,null,null,null,"48:00"]
[null,null,null,null,null,null,null,null,null,null,null,null,null,null,null,null,"48:15"]
[null,null,null,null,null,null,null,null,null,null,null,null,null,null,null,null,"48:30"]
[null,null,null,null,null,null,null,null,null,null,null,null,null,null,null,null,"48:45"]
[null,null,null,null,null,null,null,null,null,null,null,null,null,null,null,null,"49:00"]
[null,null,null,null,null,null,null,null,null,null,null,null,null,null,null,null,"49:15"]
[null,null,null,null,null,null,null,null,null,null,null,null,null,null,null,null,"49:30"]
[null,null,null,null,null,null,null,null,null,null,null,null,null,null,null,null,"49:45"]
[null,null,null,null,null,null,null,null,null,null,null,null,null,null,null,null,"50:00"]
[null,null,null,null,null,null,null,null,null,null,null,null,null,null,null,null,"50:15"]
[null,null,null,null,null,null,null,null,null,null,null,null,null,null,null,null,"50:30"]
[null,null,null,null,null,null,null,null,null,null,null,null,null,null,null,null,"50:45"]
[null,null,null,null,null,null,null,null,null,null,null,null,null,null,null,null,"51:00"]
[null,null,null,null,null,null,null,null,null,null,null,null,null,null,null,null,"51:15"]
[null,null,null,null,null,null,null,null,null,null,null,null,null,null,null,null,"51:30"]
[null,null,null,null,null,null,null,null,null,null,null,null,null,null,null,null,"51:45"]
[null,null,null,null,null,null,null,null,null,null,null,null,null,null,null,null,"52:00"]
[null,null,null,null,null,null,null,null,null,null,null,null,null,null,null,null,"52:15"]
[null,null,null,null,null,null,null,null,null,null,null,null,null,null,null,null,"52:30"]
[null,null,null,null,null,null,null,null,null,null,null,null,null,null,null,null,"52:45"]
[null,null,null,null,null,null,null,null,null,null,null,null,null,null,null,null,"53:00"]
[null,null,null,null,null,null,null,null,null,null,null,null,null,null,null,null,"53:15"]
[null,null,null,null,null,null,null,null,null,null,null,null,null,null,null,null,"53:30"]
[null,null,null,null,null,null,null,null,null,null,null,null,null,null,null,null,"53:45"]
[null,null,null,null,null,null,null,null,null,null,null,null,null,null,null,null,"54:00"]
[null,null,null,null,null,null,null,null,null,null,null,null,null,null,null,null,"54:15"]
[null,null,null,null,null,null,null,null,null,null,null,null,null,null,null,null,"54:30"]
[null,null,null,null,null,null,null,null,null,null,null,null,null,null,null,null,"54:45"]
[null,null,null,null,null,null,null,null,null,null,null,null,null,null,null,null,"55:00"]
[null,null,null,null,null,null,null,null,null,null,null,null,null,null,null,null,"55:15"]
[null,null,null,null,null,null,null,null,null,null,null,null,null,null,null,null,"55:30"]
[null,null,null,null,null,null,null,null,null,null,null,null,null,null,null,null,"55:45"]
[null,null,null,null,null,null,null,null,null,null,null,null,null,null,null,null,"56:00"]

{"sheet":"week 4 bk","index":9,"n_rows":444,"n_cols":63,"rows_kept":444,"cut":false,"hidden":false,"merged":[[12,35,12,36],[12,37,12,38],[12,39,12,40],[14,35,14,36],[14,37,14,38],[14,39,14,40],[36,41,37,41],[36,42,37,43],[35,42,35,43],[20,42,20,43],[15,42,15,43],[16,42,16,43],[19,37,19,38],[19,39,19,40],[17,35,17,36],[17,37,17,38],[17,39,17,40],[20,35,20,36],[20,37,20,38],[20,39,20,40],[18,35,18,36],[18,37,18,38],[16,35,16,36],[16,37,16,38],[23,49,23,55],[24,44,24,47],[24,49,24,55],[25,42,25,43],[28,42,28,43],[25,44,25,47],[25,49,25,55],[26,48,27,48],[26,49,27,55],[28,49,28,55],[26,44,27,47],[28,44,28,47],[13,35,13,36],[13,37,13,38],[13,39,13,40],[15,35,15,36],[15,37,15,38],[15,39,15,40],[23,42,23,43],[24,42,24,43],[23,44,23,47],[19,42,19,43],[19,44,19,47],[15,44,15,47],[16,39,16,40],[24,37,24,38],[24,39,24,40],[23,37,23,38],[22,35,22,36],[18,39,18,40],[19,35,19,36],[19,49,19,55],[20,44,20,47],[20,49,20,55],[21,42,21,43],[22,42,22,43],[21,44,21,47],[21,49,21,55],[22,44,22,47],[22,49,22,55],[15,49,15,55],[16,44,16,47],[16,49,16,55],[17,42,17,43],[18,42,18,43],[17,44,17,47],[17,49,17,55],[18,44,18,47],[18,49,18,55],[11,42,11,43],[12,42,12,43],[11,44,11,47],[11,49,11,55],[12,44,12,47],[12,49,12,55],[13,42,13,43],[14,42,14,43],[13,44,13,47],[13,49,13,55],[14,44,14,47],[14,49,14,55],[7,42,7,43],[8,42,8,43],[7,44,7,47],[7,49,7,55],[8,44,8,47],[8,49,8,55],[9,42,9,43],[10,42,10,43],[9,44,9,47],[9,49,9,55],[10,44,10,47],[10,49,10,55],[3,42,3,43],[4,42,4,43],[3,44,3,47],[3,49,3,55],[4,44,4,47],[4,49,4,55],[5,42,5,43],[6,42,6,43],[5,44,5,47],[5,49,5,55],[6,44,6,47],[6,49,6,55],[0,42,0,43],[2,42,2,43],[1,42,1,43],[0,44,0,47],[0,49,0,55],[1,44,1,47],[1,49,1,55],[2,44,2,47],[2,49,2,55],[25,35,25,36],[23,39,23,40],[21,35,21,36],[21,37,21,38],[21,39,21,40],[22,37,22,38],[22,39,22,40],[23,35,23,36],[25,37,25,38],[25,39,25,40],[24,35,24,36],[98,12,98,13],[36,6,36,15],[98,6,98,7],[98,8,98,9],[98,10,98,11],[33,10,33,13],[35,10,35,13],[36,21,36,22],[35,14,35,15],[34,14,34,15],[35,21,35,22],[35,16,36,17],[98,14,98,15],[34,16,34,25],[35,18,36,20],[34,10,34,13],[33,16,33,25],[33,2,33,5],[31,26,31,40],[31,16,31,25],[32,26,32,40],[32,14,32,15],[33,14,33,15],[35,0,36,5],[32,0,32,1],[32,2,32,5],[34,0,34,1],[34,2,34,5],[33,0,33,1],[33,6,33,9],[34,6,34,9],[35,6,35,9],[34,26,34,40],[33,26,33,40],[26,2,27,5],[24,0,25,1],[24,2,25,3],[24,4,25,5],[24,12,25,13],[24,8,25,9],[24,10,25,11],[29,0,29,1],[28,2,28,5],[28,0,28,1],[29,2,29,5],[24,14,25,15],[24,16,25,17],[24,6,25,7],[29,14,29,15],[29,16,29,25],[18,0,19,1],[18,2,19,3],[16,0,17,1],[16,2,17,3],[22,12,23,13],[22,8,23,9],[22,10,23,11],[22,4,23,5],[18,14,19,15],[20,0,21,1],[20,4,21,5],[22,0,23,1],[22,14,23,15],[22,6,23,7],[20,6,21,7],[20,10,21,11],[20,14,21,15],[18,16,19,17],[26,0,27,1],[18,12,19,13],[18,6,19,7],[20,12,21,13],[22,2,23,3],[16,4,17,5],[18,4,19,5],[16,6,17,7],[16,14,17,15],[16,16,17,17],[16,12,17,13],[20,2,21,3],[22,16,23,17],[20,16,21,17],[16,8,17,9],[18,8,19,9],[16,10,17,11],[18,10,19,11],[20,8,21,9],[9,21,9,25],[11,14,11,15],[12,0,13,1],[12,2,13,3],[10,0,11,1],[10,2,11,3],[14,0,15,1],[12,4,13,5],[12,6,13,7],[14,22,15,23],[14,24,15,34],[12,10,13,11],[14,10,15,11],[7,35,7,40],[8,19,8,20],[8,21,8,25],[8,26,8,34],[7,21,7,25],[8,35,8,40],[14,2,15,3],[14,4,15,5],[14,6,15,7],[14,8,15,9],[9,19,9,20],[11,6,11,7],[11,8,11,9],[11,10,11,11],[11,12,11,13],[10,4,10,11],[10,39,11,40],[10,35,11,36],[10,37,11,38],[10,12,10,23],[10,24,11,34],[11,4,11,5],[12,8,13,9],[14,20,15,21],[8,0,8,1],[8,2,8,6],[8,7,8,12],[9,35,9,40],[9,0,9,1],[9,2,9,6],[9,7,9,12],[9,13,9,18],[5,13,5,18],[6,21,6,25],[9,26,9,34],[8,13,8,18],[6,0,6,1],[6,2,6,6],[6,7,6,12],[6,13,6,18],[7,0,7,1],[7,2,7,6],[7,7,7,12],[7,13,7,18],[7,26,7,34],[6,26,6,34],[6,35,6,40],[7,19,7,20],[5,19,5,20],[5,21,5,25],[5,26,5,34],[5,35,5,40],[6,19,6,20],[5,0,5,1],[5,2,5,6],[5,7,5,12],[2,26,2,34],[2,35,2,40],[3,19,3,20],[3,21,3,25],[4,0,4,1],[4,2,4,6],[4,7,4,12],[4,13,4,18],[3,0,3,1],[3,26,3,34],[3,35,3,40],[4,19,4,20],[4,21,4,25],[4,26,4,34],[4,35,4,40],[1,13,1,18],[1,19,1,20],[1,21,1,25],[1,26,1,34],[1,35,1,40],[2,13,2,18],[2,19,2,20],[2,21,2,25],[14,16,15,17],[12,12,13,13],[12,14,13,15],[12,16,13,17],[14,12,15,13],[14,14,15,15],[3,13,3,18],[11,18,11,19],[11,20,11,21],[11,22,11,23],[11,16,11,17],[12,18,13,19],[12,20,13,21],[12,22,13,23],[12,24,13,34],[14,18,15,19],[0,0,0,1],[1,0,1,1],[1,2,1,6],[1,7,1,12],[3,2,3,6],[3,7,3,12],[2,0,2,1],[2,2,2,6],[2,7,2,12],[16,24,17,34],[16,18,17,19],[16,20,17,21],[16,22,17,23],[22,18,23,19],[22,20,23,21],[22,22,23,23],[22,24,23,34],[24,18,25,19],[24,20,25,21],[24,22,25,23],[24,24,25,34],[18,18,19,19],[18,20,19,21],[18,22,19,23],[18,24,19,34],[20,18,21,19],[20,20,21,21],[20,22,21,23],[20,24,21,34],[26,41,27,41],[26,42,27,43],[31,6,31,9],[31,10,31,13],[28,6,28,9],[28,10,28,13],[29,6,29,9],[29,10,29,13],[26,6,26,13],[26,14,27,15],[26,16,27,25],[26,26,27,40],[27,6,27,9],[27,10,27,13],[29,42,29,43],[31,14,31,15],[29,26,29,40],[28,16,28,25],[28,26,28,40],[28,14,28,15],[30,0,30,1],[30,2,30,5],[30,26,30,40],[30,16,30,25],[30,10,30,13],[31,0,31,1],[30,14,30,15],[32,6,32,9],[32,10,32,13],[30,6,30,9],[31,2,31,5],[32,16,32,25],[36,44,37,47],[36,48,37,48],[36,49,37,55],[30,42,30,43],[31,42,31,43],[29,44,29,47],[29,49,29,55],[30,44,30,47],[30,49,30,55],[31,44,31,47],[31,49,31,55],[32,42,32,43],[33,42,33,43],[32,44,32,47],[33,44,33,47],[33,49,33,55],[34,42,34,43],[34,44,34,47],[34,49,34,55],[35,44,35,47],[35,49,35,55]]}
["DATE",null," ACTIVITY ",null,null,null,null," IDENTIFICATION ",null,null,null,null,null," LOCATION ",null,null,null,null,null,"DATE",null," ACTIVITY ",null,null,null,null," IDENTIFICATION ",null,null,null,null,null,null,null,null," LOCATION ",null,null,null,null,null,"EXERCISE","DATE",null,"EXERCISE",null,null,null,"HORSE","DETAILS"]
[null,null,null,null,null,null,null,null,null,null,null,null,null,null,null,null,null,null,null,null,null,null,null,null,null,null,null,null,null,null,null,null,null,null,null,null,null,null,null,null,null,1]
[null,null,null,null,null,null,null,null,null,null,null,null,null,null,null,null,null,null,null,null,null,null,null,null,null,null,null,null,null,null,null,null,null,null,null,null,null,null,null,null,null,2]
[null,null,null,null,null,null,null,null,null,null,null,null,null,null,null,null,null,null,null,null,null,null,null,null,null,null,null,null,null,null,null,null,null,null,null,null,null,null,null,null,null,3]
[null,null,null,null,null,null,null,null,null,null,null,null,null,null,null,null,null,null,null,null,null,null,null,null,null,null,null,null,null,null,null,null,null,null,null,null,null,null,null,null,null,4]
[null,null,null,null,null,null,null,null,null,null,null,null,null,null,null,null,null,null,null,null,null,null,null,null,null,null,null,null,null,null,null,null,null,null,null,null,null,null,null,null,null,5]
[null,null,null,null,null,null,null,null,null,null,null,null,null,null,null,null,null,null,null,null,null,null,null,null,null,null,null,null,null,null,null,null,null,null,null,null,null,null,null,null,null,6]
[null,null,null,null,null,null,null,null,null,null,null,null,null,null,null,null,null,null,null,null,null,null,null,null,null,null,null,null,null,null,null,null,null,null,null,null,null,null,null,null,null,7]
[null,null,null,null,null,null,null,null,null,null,null,null,null,null,null,null,null,null,null,null,null,null,null,null,null,null,null,null,null,null,null,null,null,null,null,null,null,null,null,null,null,8]
[null,null,null,null,null,null,null,null,null,null,null,null,null,null,null,null,null,null,null,null,null,null,null,null,null,null,null,null,null,null,null,null,null,null,null,null,null,null,null,null,null,9]
["DAY",null,"DATE",null,"OVERTIME",null,null,null,null,null,null,null,"AWAY FROM DUTY STATION",null,null,null,null,null,null,null,null,null,null,null,"EXPLANATION OF DUTIES PERFORMED, AREA WORKED, JUSTIFICATION FOR OVERTIME",null,null,null,null,null,null,null,null,null,null,"CODE",null,"HOURS\n(DECIMAL)",null,"DATE",null,10]
[null,null,null,null,"OT PROJECT",null,"SPEED CHART #",null,"SHIFT WORKED",null,"# OT HOURS",null,"TIME LEFT",null,"ARRIVED BACK",null,"HOURS AWAY",null,"MEALS",null,"ROOMS & OTHER",null,"TOTAL EXPENSE",null,null,null,null,null,null,null,null,null,null,null,null,null,null,null,null,null,null,11,null,null,null,null,null,null,null,null,null,null,null,null,null,null,null,null,null,null,null,null,{"$f":"C13","v":"2019-09-22"}]
["SUN",null,{"$f":"IF('Week 4'!B11=\"\",\"\",'Week 4'!B11)","v":"2019-09-22"},null,null,null,null,null,null,null,null,null,null,null,null,null,null,null,null,null,null,null,{"$f":"IF(SUM(S13+U13)=0,\"\",SUM(S13+U13))","v":""},null,null,null,null,null,null,null,null,null,null,null,null,null,null,null,null,null,null,12,null,null,null,null,null,null,null,null,null,null,null,null,null,null,null,null,null,null,null,null,{"$f":"C25","v":"2019-09-28"}]
[null,null,null,null,null,null,null,null,null,null,null,null,null,null,null,null,null,null,null,null,null,null,null,null,null,null,null,null,null,null,null,null,null,null,null,null,null,null,null,null,null,13]
["MON",null,{"$f":"IF('Week 4'!B12=\"\",\"\",'Week 4'!B12)","v":"2019-09-23"},null,null,null,null,null,null,null,null,null,null,null,null,null,null,null,null,null,null,null,{"$f":"IF(SUM(S15+U15)=0,\"\",SUM(S15+U15))","v":""},null,null,null,null,null,null,null,null,null,null,null,null,null,null,null,null,null,null,14]
[null,null,null,null,null,null,null,null,null,null,null,null,null,null,null,null,null,null,null,null,null,null,null,null,null,null,null,null,null,null,null,null,null,null,null,null,null,null,null,null,null,15]
["TUE",null,{"$f":"IF('Week 4'!B13=\"\",\"\",'Week 4'!B13)","v":"2019-09-24"},null,null,null,null,null,null,null,null,null,null,null,null,null,null,null,null,null,null,null,{"$f":"IF(SUM(S17+U17)=0,\"\",SUM(S17+U17))","v":""},null,null,null,null,null,null,null,null,null,null,null,null,null,null,null,null,null,null,16]
[null,null,null,null,null,null,null,null,null,null,null,null,null,null,null,null,null,null,null,null,null,null,null,null,null,null,null,null,null,null,null,null,null,null,null,null,null,null,null,null,null,17]
["WED",null,{"$f":"IF('Week 4'!B14=\"\",\"\",'Week 4'!B14)","v":"2019-09-25"},null,null,null,null,null,null,null,null,null,null,null,null,null,null,null,null,null,null,null,{"$f":"IF(SUM(S19+U19)=0,\"\",SUM(S19+U19))","v":""},null,null,null,null,null,null,null,null,null,null,null,null,null,null,null,null,null,null,18]
[null,null,null,null,null,null,null,null,null,null,null,null,null,null,null,null,null,null,null,null,null,null,null,null,null,null,null,null,null,null,null,null,null,null,null,null,null,null,null,null,null,19]
["THU",null,{"$f":"IF('Week 4'!B15=\"\",\"\",'Week 4'!B15)","v":"2019-09-26"},null,null,null,null,null,null,null,null,null,null,null,null,null,null,null,null,null,null,null,{"$f":"IF(SUM(S21+U21)=0,\"\",SUM(S21+U21))","v":""},null,null,null,null,null,null,null,null,null,null,null,null,null,null,null,null,null,null,20]
[null,null,null,null,null,null,null,null,null,null,null,null,null,null,null,null,null,null,null,null,null,null,null,null,null,null,null,null,null,null,null,null,null,null,null,null,null,null,null,null,null,21]
["FRI",null,{"$f":"IF('Week 4'!B16=\"\",\"\",'Week 4'!B16)","v":"2019-09-27"},null,null,null,null,null,null,null,null,null,null,null,null,null,null,null,null,null,null,null,{"$f":"IF(SUM(S23+U23)=0,\"\",SUM(S23+U23))","v":""},null,null,null,null,null,null,null,null,null,null,null,null,null,null,null,null,null,null,22]
[null,null,null,null,null,null,null,null,null,null,null,null,null,null,null,null,null,null,null,null,null,null,null,null,null,null,null,null,null,null,null,null,null,null,null,null,null,null,null,null,null,23]
["SAT",null,{"$f":"IF('Week 4'!B17=\"\",\"\",'Week 4'!B17)","v":"2019-09-28"},null,null,null,null,null,null,null,null,null,null,null,null,null,null,null,null,null,null,null,{"$f":"IF(SUM(S25+U25)=0,\"\",SUM(S25+U25))","v":""},null,null,null,null,null,null,null,null,null,null,null,null,null,null,null,null,null,null,24]
[null,null,null,null,null,null,null,null,null,null,null,null,null,null,null,null,null,null,null,null,null,null,null,null,null,null,null,null,null,null,null,null,null,null,null,null,null,null,null,null,null,25]
["DAY          DATE",null,"SECONDARY EMPLOYMENT SHIFT",null,null,null,"HOURS WORKED",null,null,null,null,null,null,null,"LEAVE\nHOURS\n(DECIMAL)",null," BUSINESS NAME AND LOCATION ",null,null,null,null,null,null,null,null,null," OTHER REMARKS ",null,null,null,null,null,null,null,null,null,null,null,null,null,null,26]
[null,null,null,null,null,null,"SECONDARY EMPLORMENT",null,null,null,"ALL DPS HOURS"]
[{"$f":"IF('Week 4'!B11=\"\",\"\",'Week 4'!B11)","v":"2019-09-22"},null,null,null,null,null,null,null,null,null,{"$f":"'Week 4'!O11","v":""},null,null,null,null,null,null,null,null,null,null,null,null,null,null,null,null,null,null,null,null,null,null,null,null,null,null,null,null,null,null,27]
[{"$f":"IF('Week 4'!B12=\"\",\"\",'Week 4'!B12)","v":"2019-09-23"},null,null,null,null,null,null,null,null,null,{"$f":"'Week 4'!O12","v":""},null,null,null,null,null,null,null,null,null,null,null,null,null,null,null,null,null,null,null,null,null,null,null,null,null,null,null,null,null,null,28]
[{"$f":"IF('Week 4'!B13=\"\",\"\",'Week 4'!B13)","v":"2019-09-24"},null,null,null,null,null,null,null,null,null,{"$f":"'Week 4'!O13","v":""},null,null,null,null,null,null,null,null,null,null,null,null,null,null,null,null,null,null,null,null,null,null,null,null,null,null,null,null,null,null,29]
[{"$f":"IF('Week 4'!B14=\"\",\"\",'Week 4'!B14)","v":"2019-09-25"},null,null,null,null,null,null,null,null,null,{"$f":"'Week 4'!O14","v":""},null,null,null,null,null,null,null,null,null,null,null,null,null,null,null,null,null,null,null,null,null,null,null,null,null,null,null,null,null,null,30]
[{"$f":"IF('Week 4'!B15=\"\",\"\",'Week 4'!B15)","v":"2019-09-26"},null,null,null,null,null,null,null,null,null,{"$f":"'Week 4'!O15","v":""},null,null,null,null,null,null,null,null,null,null,null,null,null,null,null,null,null,null,null,null,null,null,null,null,null,null,null,null,null,null,31]
[{"$f":"IF('Week 4'!B16=\"\",\"\",'Week 4'!B16)","v":"2019-09-27"},null,null,null,null,null,null,null,null,null,{"$f":"'Week 4'!O16","v":""},null,null,null,null,null,null,null,null,null,null,null,null,null,null,null,null,null,null,null,null,null,null,null,null,null,null,null,null,null,null,32]
[{"$f":"IF('Week 4'!B17=\"\",\"\",'Week 4'!B17)","v":"2019-09-28"},null,null,null,null,null,null,null,null,null,{"$f":"'Week 4'!O17","v":""},null,null,null,null,null,null,null,null,null,null,null,null,null,null,null,null,null,null,null,null,null,null,null,null,null,null,null,null,null,null,33]
["MAXIMUM 62 HRS (DPS + SECONDARY EMPLOYMENT) A WEEKLY PERIOD",null,null,null,null,null,{"$f":"IF(SUM(G29:G35)=0,\"\",SUM(G29:G35))","v":""},null,null,null,{"$f":"IF(SUM(K29:K35)=0,\"\",SUM(K29:K35))","v":""},null,null,null,{"$f":"IF(SUM(O29:O35)=0,\"\",SUM(O29:O35))","v":""},null,{"$f":"IFERROR(62-(SUM(G36:K36)),\"\")","v":62},null,"TOTAL HOURS AVAILABLE TO WORK",null,null,"INITIALS",null,"INITIALS IN BOX CERTIFIES THAT NO SECONDARY",null,null,null,null,null,null,null,null,null,null," *TOTAL HOURS WORKED SHOULD NOT",null,null,null,null,null,null,34]
[null,null,null,null,null,null,"62 - (SECONDARY  EMPLOYMENT HRS + ALL DPS HRS) = ",null,null,null,null,null,null,null,null,null,null,null,null,null,null,null,null,"EMPLOYMENT WAS PERFORMED DURING THIS PERIOD",null,null,null,null,null,null,null,null,null,null," EXCEED 16 HOURS IN ANY 24 HOUR PERIOD",null,null,null,null,null,null,35]
[]
[]
[]
[]
[]
[]
[null,null,null,null,null,null,null,null,"TYPE","RATING",null,"DRUG",null,"EXP",null,null,null,"HIDE","END","UNKNOWN"]
[null,null,"BURIED AID",null,null,null,null,null,"DRUG","S",null,"M",null,1,"C-4 Taged",null,null,"HDS","P","X"]
[null,null,"QUARTERING",null,null,null,null,null,"EXP","U",null,"PMT",null,2,"C-4 Untaged",null,null,"HDM","R"]
[null,null,"POINT TO POINT",null,null,null,null,null,null,"B",null,"PC",null,3,"Semtex Taged",null,null,"HDL","S"]
[null,null,"EXTERIOR WALL",null,null,null,null,null,null,null,null,"PH",null,4,"DS PETN Taged",null,null,"LDS"]
[null,null,"INTERIOR WALL",null,null,null,null,null,null,null,null,"C",null,5,"DS RDX Taged",null,null,"LDM"]
[null,null,"PASSENGER VEHICLE INTERIOR",null,null,null,null,null,null,null,null,"H",null,6,"Comp B",null,null,"LDL"]
[null,null,"COMMERCIAL VEHICLE INTERIOR",null,null,null,null,null,null,null,null,"MT",null,7,"ANFO",null,null,"T"]
[null,null,"PASSENGER VEHICLE EXTERIOR",null,null,null,null,null,null,null,null,null,null,8,"Cast Booster",null,null,"HT"]
[null,null,"COMMERCIAL VEHICLE EXTERIOR",null,null,null,null,null,null,null,null,null,null,9,"Unigel"]
[null,null,"LUGGAGE",null,null,null,null,null,null,null,null,null,null,10,"DC PETN"]
[null,null,"FREIGHT",null,null,null,null,null,null,null,null,null,null,11,"DC RDX"]
[null,null,"BUILDING INTERIOR",null,null,null,null,null,null,null,null,null,null,12,"Watergel"]
[null,null,"BUILDING EXTERIOR",null,null,null,null,null,null,null,null,null,null,13,"TNT Granular"]
[null,null,"BASIC RETRIEVE",null,null,null,null,null,null,null,null,null,null,14,"Slip-on Booster"]
[null,null,"CONTROLLED RETRIEVE (SIGHT)",null,null,null,null,null,null,null,null,null,null,15,"Nitro Dynamite"]
[null,null,"CONTROLLED RETRIEVE (SCENT)",null,null,null,null,null,null,null,null,null,null,16,"Nitro Methane"]
[null,null,"VESSELS",null,null,null,null,null,null,null,null,null,null,17,"Black Powder"]
[null,null,"AIRCRAFT",null,null,null,null,null,null,null,null,null,null,18,"AN Prills"]
[null,null,"OTHER",null,null,null,null,null,null,null,null,null,null,19,"AP"]
[null,null,"DROP AID",null,null,null,null,null,null,null,null,null,null,20,"PP"]
[null,null,null,null,null,null,null,null,null,null,null,null,null,21,"Pyrodex"]
[null,null,null,null,null,null,null,null,null,null,null,null,null,22,"SP Single Base"]
[null,null,null,null,null,null,null,null,null,null,null,null,null,23,"SP Double Base"]
[null,null,null,null,null,null,null,null,null,null,null,null,null,24,"Safety Fuse"]
[]
[]
[]
[]
[]
[]
[]
[]
[]
[]
[]
[]
[]
[]
[]
[]
[]
[]
[]
[]
[]
[null,null,"SUN",{"$f":"IF(G20<E20,(24-E20)+G20,G20-E20)","v":"00:00:00"},{"$f":"IF((VALUE(HOUR(D90))+VALUE(MINUTE(D90))/60)=0,\"\",(VALUE(HOUR(D90))+VALUE(MINUTE(D90))/60))","v":""}]
[null,null,"MON",{"$f":"IF(G21<E21,(24-E21)+G21,IF(E21<G21,G21-E21,IF(E21=0,24-G21,IF(G21=0,24-E21))))","v":24},"","CONVERSIONS"]
[null,null,"TUES",24,"","AND CALCULATIONS"]
[null,null,"WED",24,"","FOR TIME LEFT &"]
[null,null,"THU",24,"","RETURNED & TIME"]
[null,null,"FRI",24,"","AWAY FROM DUTY"]
[null,null,"SAT",24,"","STATION"]
[]
[]
[null,null,null,null,null,null,{"$f":"IF(SUM(G29:G35)=0,0,SUM(G29:G35))","v":0},null,{"$f":"IF(SUM(K29:K35)=0,0,SUM(K29:K35))","v":0},null,{"$f":"IF(I99>40,\"0\",((40)-(I99)))","v":40},null,{"$f":"IF(SUM(O29:O35)=0,0,SUM(O29:O35))","v":0},null,{"$f":"24+K99","v":64}]
[null,null,null,null,null,null,"SUBTOTAL   +",null,"SUBTOTAL   =",null,"GRAND TOTAL",null," -  LEAVE  =",null,"HOURS"]
[]
[]
[]
[]
[]
[]
[]
[]
[]
[]
[]
[]
[]
[]
[]
[]
[]
[]
[]
[]
[]
[]
[]
[]
[]
[]
[]
[]
[]
[]
[]
[]
[]
[]
[]
[]
[]
[]
[]
[]
[]
[]
[null,null,null,null,null,null,null,null,null,null,null,null,"LIST OF ACCEPTABLE CODES"]
[]
[null,null,null,null,null,null,null,null,null,null,null,null,"ALT"]
[null,null,null,null,null,null,null,null,null,null,null,null,"CAT"]
[null,null,null,null,null,null,null,null,null,null,null,null,"CDT"]
[null,null,null,null,null,null,null,null,null,null,null,null,"CTT"]
[null,null,null,null,null,null,null,null,null,null,null,null,"DBT"]
[null,null,null,null,null,null,null,null,null,null,null,null,"DOT"]
[null,null,null,null,null,null,null,null,null,null,null,null,"DMT"]
[null,null,null,null,null,null,null,null,null,null,null,null,"EMT"]
[null,null,null,null,null,null,null,null,null,null,null,null,"EST"]
[null,null,null,null,null,null,null,null,null,null,null,null,"FFT"]
[null,null,null,null,null,null,null,null,null,null,null,null,"FPT"]
[null,null,null,null,null,null,null,null,null,null,null,null,"HCT"]
[null,null,null,null,null,null,null,null,null,null,null,null,"HOB"]
[null,null,null,null,null,null,null,null,null,null,null,null,"JST"]
[null,null,null,null,null,null,null,null,null,null,null,null,"LDT"]
[null,null,null,null,null,null,null,null,null,null,null,null,"LET"]
[null,null,null,null,null,null,null,null,null,null,null,null,"LPT"]
[null,null,null,null,null,null,null,null,null,null,null,null,"LWT"]
[null,null,null,null,null,null,null,null,null,null,null,null,"MLT"]
[null,null,null,null,null,null,null,null,null,null,null,null,"OHT"]
[null,null,null,null,null,null,null,null,null,null,null,null,"OTT"]
[null,null,null,null,null,null,null,null,null,null,null,null,"RCT"]
[null,null,null,null,null,null,null,null,null,null,null,null,"SAT"]
[null,null,null,null,null,null,null,null,null,null,null,null,"SET"]
[null,null,null,null,null,null,null,null,null,null,null,null,"SLT"]
[null,null,null,null,null,null,null,null,null,null,null,null,"VCT"]
[]
[]
[]
[]
[]
[]
[]
[]
[]
[]
[]
[]
[]
[]
[]
[]
[]
[]
[null,null,null,null,null,null,null,null,null,null,null,null,null,null,null,null,null,null,null,null,null,null,null,null,null,null,null,null,null,null,null,null,null,null,null,null,null,null,null,null,null,null,null,null,null,null,null,null,null,null,null,null,null,null,"HOURS WORKED"]
[null,null,null,null,null,null,null,null,null,null,null,null,null,null,null,null,null,null,null,null,null,null,null,null,null,null,null,null,null,null,null,null,null,null,null,null,null,null,null,null,null,null,null,null,null,null,null,null,null,null,null,null,null,null,0.25]
[null,null,null,null,null,null,null,null,null,null,null,null,null,null,null,null,null,null,null,null,null,null,null,null,null,null,null,null,null,null,null,null,null,null,null,null,null,null,null,null,null,null,null,null,null,null,null,null,null,null,null,null,null,null,0.5]
[null,null,null,null,null,null,null,null,null,null,null,null,null,null,null,null,null,null,null,null,null,null,null,null,null,null,null,null,null,null,null,null,null,null,null,null,null,null,null,null,null,null,null,null,null,null,null,null,null,null,null,null,null,null,0.75]
[null,null,null,null,null,null,null,null,null,null,null,null,null,null,null,null,null,null,null,null,null,null,null,null,null,null,null,null,null,null,null,null,null,null,null,null,null,null,null,null,null,null,null,null,null,null,null,null,null,null,null,null,null,null,1]
[null,null,null,null,null,null,null,null,null,null,null,null,null,null,null,null,null,null,null,null,null,null,null,null,null,null,null,null,null,null,null,null,null,null,null,null,null,null,null,null,null,null,null,null,null,null,null,null,null,null,null,null,null,null,1.25]
[null,null,null,null,null,null,null,null,null,null,null,null,null,null,null,null,null,null,null,null,null,null,null,null,null,null,null,null,null,null,null,null,null,null,null,null,null,null,null,null,null,null,null,null,null,null,null,null,null,null,null,null,null,null,1.5]
[null,null,null,null,null,null,null,null,null,null,null,null,null,null,null,null,null,null,null,null,null,null,null,null,null,null,null,null,null,null,null,null,null,null,null,null,null,null,null,null,null,null,null,null,null,null,null,null,null,null,null,null,null,null,1.75]
[null,null,null,null,null,null,null,null,null,null,null,null,null,null,null,null,null,null,null,null,null,null,null,null,null,null,null,null,null,null,null,null,null,null,null,null,null,null,null,null,null,null,null,null,null,null,null,null,null,null,null,null,null,null,2]
[null,null,null,null,null,null,null,null,null,null,null,null,null,null,null,null,null,null,null,null,null,null,null,null,null,null,null,null,null,null,null,null,null,null,null,null,null,null,null,null,null,null,null,null,null,null,null,null,null,null,null,null,null,null,2.25]
[null,null,null,null,null,null,null,null,null,null,null,null,null,null,null,null,null,null,null,null,null,null,null,null,null,null,null,null,null,null,null,null,null,null,null,null,null,null,null,null,null,null,null,null,null,null,null,null,null,null,null,null,null,null,2.5]
[null,null,null,null,null,null,null,null,null,null,null,null,null,null,null,null,null,null,null,null,null,null,null,null,null,null,null,null,null,null,null,null,null,null,null,null,null,null,null,null,null,null,null,null,null,null,null,null,null,null,null,null,null,null,2.75]
[null,null,null,null,null,null,null,null,null,null,null,null,null,null,null,null,null,null,null,null,null,null,null,null,null,null,null,null,null,null,null,null,null,null,null,null,null,null,null,null,null,null,null,null,null,null,null,null,null,null,null,null,null,null,3]
[null,null,null,null,null,null,null,null,null,null,null,null,null,null,null,null,null,null,null,null,null,null,null,null,null,null,null,null,null,null,null,null,null,null,null,null,null,null,null,null,null,null,null,null,null,null,null,null,null,null,null,null,null,null,3.25]
[null,null,null,null,null,null,null,null,null,null,null,null,null,null,null,null,null,null,null,null,null,null,null,null,null,null,null,null,null,null,null,null,null,null,null,null,null,null,null,null,null,null,null,null,null,null,null,null,null,null,null,null,null,null,3.5]
[null,null,null,null,null,null,null,null,null,null,null,null,null,null,null,null,null,null,null,null,null,null,null,null,null,null,null,null,null,null,null,null,null,null,null,null,null,null,null,null,null,null,null,null,null,null,null,null,null,null,null,null,null,null,3.75]
[null,null,null,null,null,null,null,null,null,null,null,null,null,null,null,null,null,null,null,null,null,null,null,null,null,null,null,null,null,null,null,null,null,null,null,null,null,null,null,null,null,null,null,null,null,null,null,null,null,null,null,null,null,null,4]
[null,null,null,null,null,null,null,null,null,null,null,null,null,null,null,null,null,null,null,null,null,null,null,null,null,null,null,null,null,null,null,null,null,null,null,null,null,null,null,null,null,null,null,null,null,null,null,null,null,null,null,null,null,null,4.25]
[null,null,null,null,null,null,null,null,null,null,null,null,null,null,null,null,null,null,null,null,null,null,null,null,null,null,null,null,null,null,null,null,null,null,null,null,null,null,null,null,null,null,null,null,null,null,null,null,null,null,null,null,null,null,4.5]
[null,null,null,null,null,null,null,null,null,null,null,null,null,null,null,null,null,null,null,null,null,null,null,null,null,null,null,null,null,null,null,null,null,null,null,null,null,null,null,null,null,null,null,null,null,null,null,null,null,null,null,null,null,null,4.75]
[null,null,null,null,null,null,null,null,null,null,null,null,null,null,null,null,null,null,null,null,null,null,null,null,null,null,null,null,null,null,null,null,null,null,null,null,null,null,null,null,null,null,null,null,null,null,null,null,null,null,null,null,null,null,5]
[null,null,null,null,null,"TIME VALUES",null,null,null,null,null,null,null,null,null,null,null,null,null,null,null,null,null,null,null,null,null,null,null,null,null,null,null,null,null,null,null,null,null,null,null,null,null,null,null,null,null,null,null,null,null,null,null,null,5.25]
[null,null,null,null,null,"06:00:00",null,null,null,null,null,null,null,null,null,null,null,null,null,null,null,null,null,null,null,null,null,null,null,null,null,null,null,null,null,null,null,null,null,null,null,null,null,null,null,null,null,null,null,null,null,null,null,null,5.5]
[null,null,null,null,null,"06:15:00",null,null,null,null,null,null,null,null,null,null,null,null,null,null,null,null,null,null,null,null,null,null,null,null,null,null,null,null,null,null,null,null,null,null,null,null,null,null,null,null,null,null,null,null,null,null,null,null,5.75]
[null,null,null,null,null,"06:30:00",null,null,null,null,null,null,null,null,null,null,null,null,null,null,null,null,null,null,null,null,null,null,null,null,null,null,null,null,null,null,null,null,null,null,null,null,null,null,null,null,null,null,null,null,null,null,null,null,6]
[null,null,null,null,null,"06:45:00",null,null,null,null,null,null,null,null,null,null,null,null,null,null,null,null,null,null,null,null,null,null,null,null,null,null,null,null,null,null,null,null,null,null,null,null,null,null,null,null,null,null,null,null,null,null,null,null,6.25]
[null,null,null,null,null,"07:00:00",null,null,null,null,null,null,null,null,null,null,null,null,null,null,null,null,null,null,null,null,null,null,null,null,null,null,null,null,null,null,null,null,null,null,null,null,null,null,null,null,null,null,null,null,null,null,null,null,6.5]
[null,null,null,null,null,"07:15:00",null,null,null,null,null,null,null,null,null,null,null,null,null,null,null,null,null,null,null,null,null,null,null,null,null,null,null,null,null,null,null,null,null,null,null,null,null,null,null,null,null,null,null,null,null,null,null,null,6.75]
[null,null,null,null,null,"07:30:00",null,null,null,null,null,null,null,null,null,null,null,null,null,null,null,null,null,null,null,null,null,null,null,null,null,null,null,null,null,null,null,null,null,null,null,null,null,null,null,null,null,null,null,null,null,null,null,null,7]
[null,null,null,null,null,"07:45:00",null,null,null,null,null,null,null,null,null,null,null,null,null,null,null,null,null,null,null,null,null,null,null,null,null,null,null,null,null,null,null,null,null,null,null,null,null,null,null,null,null,null,null,null,null,null,null,null,7.25]
[null,null,null,null,null,"08:00:00",null,null,null,null,null,null,null,null,null,null,null,null,null,null,null,null,null,null,null,null,null,null,null,null,null,null,null,null,null,null,null,null,null,null,null,null,null,null,null,null,null,null,null,null,null,null,null,null,7.5]
[null,null,null,null,null,"08:15:00",null,null,null,null,null,null,null,null,null,null,"HOURS LEAVE",null,null,null,null,null,null,null,null,null,null,null,null,null,null,null,null,null,null,null,null,null,null,null,null,null,null,null,null,null,null,null,null,null,null,null,null,null,7.75]
[null,null,null,null,null,"08:30:00",null,null,null,null,null,null,null,null,null,null,null,"0:15",0.25,null,null,null,null,null,null,null,null,null,null,null,null,null,null,null,null,null,null,null,null,null,null,null,null,null,null,null,null,null,null,null,null,null,null,null,8]
[null,null,null,null,null,"08:45:00",null,null,null,null,null,null,null,null,null,null,null,"0:30",0.5,null,null,null,null,null,null,null,null,null,null,null,null,null,null,null,null,null,null,null,null,null,null,null,null,null,null,null,null,null,null,null,null,null,null,null,8.25]
[null,null,null,null,null,"09:00:00",null,null,null,null,null,null,null,null,null,null,null,"0:45",0.75,null,null,null,null,null,null,null,null,null,null,null,null,null,null,null,null,null,null,null,null,null,null,null,null,null,null,null,null,null,null,null,null,null,null,null,8.5]
[null,null,null,null,null,"09:15:00",null,null,null,null,null,null,null,null,null,null,null,"1:00",1,null,null,null,null,null,null,null,null,null,null,null,null,null,null,null,null,null,null,null,null,null,null,null,null,null,null,null,null,null,null,null,null,null,null,null,8.75]
[null,null,null,null,null,"09:30:00",null,null,null,null,null,null,null,null,null,null,null,"1:15",1.25,null,null,null,null,null,null,null,null,null,null,null,null,null,null,null,null,null,null,null,null,null,null,null,null,null,null,null,null,null,null,null,null,null,null,null,9]
[null,null,null,null,null,"09:45:00",null,null,null,null,null,null,null,null,null,null,null,"1:30",1.5,null,null,null,null,null,null,null,null,null,null,null,null,null,null,null,null,null,null,null,null,null,null,null,null,null,null,null,null,null,null,null,null,null,null,null,9.25]
[null,null,null,null,null,"10:00:00",null,null,null,null,null,null,null,null,null,null,null,"1:45",1.75,null,null,null,null,null,null,null,null,null,null,null,null,null,null,null,null,null,null,null,null,null,null,null,null,null,null,null,null,null,null,null,null,null,null,null,9.5]
[null,null,null,null,null,"10:15:00",null,null,null,null,null,null,null,null,null,null,null,"2:00",2,null,null,null,null,null,null,null,null,null,null,null,null,null,null,null,null,null,null,null,null,null,null,null,null,null,null,null,null,null,null,null,null,null,null,null,9.75]
[null,null,null,null,null,"10:30:00",null,null,null,null,null,null,null,null,null,null,null,"2:15",2.25,null,null,null,null,null,null,null,null,null,null,null,null,null,null,null,null,null,null,null,null,null,null,null,null,null,null,null,null,null,null,null,null,null,null,null,10]
[null,null,null,null,null,"10:45:00",null,null,null,null,null,null,null,null,null,null,null,"2:30",2.5,null,null,null,null,null,null,null,null,null,null,null,null,null,null,null,null,null,null,null,null,null,null,null,null,null,null,null,null,null,null,null,null,null,null,null,10.25]
[null,null,null,null,null,"11:00:00",null,null,null,null,null,null,null,null,null,null,null,"2:45",2.75,null,null,null,null,null,null,null,null,null,null,null,null,null,null,null,null,null,null,null,null,null,null,null,null,null,null,null,null,null,null,null,null,null,null,null,10.5]
[null,null,null,null,null,"11:15:00",null,null,null,null,null,null,null,null,null,null,null,"3:00",3,null,null,null,null,null,null,null,null,null,null,null,null,null,null,null,null,null,null,null,null,null,null,null,null,null,null,null,null,null,null,null,null,null,null,null,10.75]
[null,null,null,null,null,"11:30:00",null,null,null,null,null,null,null,null,null,null,null,"3:15",3.25,null,null,null,null,null,null,null,null,null,null,null,null,null,null,null,null,null,null,null,null,null,null,null,null,null,null,null,null,null,null,null,null,null,null,null,11]
[null,null,null,null,null,"11:45:00",null,null,null,null,null,null,null,null,null,null,null,"3:30",3.5,null,null,null,null,null,null,null,null,null,null,null,null,null,null,null,null,null,null,null,null,null,null,null,null,null,null,null,null,null,null,null,null,null,null,null,11.25]
[null,null,null,null,null,"12:00:00",null,null,null,null,null,null,null,null,null,null,null,"3:45",3.75,null,null,null,null,null,null,null,null,null,null,null,null,null,null,null,null,null,null,null,null,null,null,null,null,null,null,null,null,null,null,null,null,null,null,null,11.5]
[null,null,null,null,null,"12:15:00",null,null,null,null,null,null,null,null,null,null,null,"4:00",4,null,null,null,null,null,null,null,null,null,null,null,null,null,null,null,null,null,null,null,null,null,null,null,null,null,null,null,null,null,null,null,null,null,null,null,11.75]
[null,null,null,null,null,"12:30:00",null,null,null,null,null,null,null,null,null,null,null,"4:15",4.25,null,null,null,null,null,null,null,null,null,null,null,null,null,null,null,null,null,null,null,null,null,null,null,null,null,null,null,null,null,null,null,null,null,null,null,12]
[null,null,null,null,null,"12:45:00",null,null,null,null,null,null,null,null,null,null,null,"4:30",4.5,null,null,null,null,null,null,null,null,null,null,null,null,null,null,null,null,null,null,null,null,null,null,null,null,null,null,null,null,null,null,null,null,null,null,null,12.25]
[null,null,null,null,null,"13:00:00",null,null,null,null,null,null,null,null,null,null,null,"4:45",4.75,null,null,null,null,null,null,null,null,null,null,null,null,null,null,null,null,null,null,null,null,null,null,null,null,null,null,null,null,null,null,null,null,null,null,null,12.5]
[null,null,null,null,null,"13:15:00",null,null,null,null,null,null,null,null,null,null,null,"5:00",5,null,null,null,null,null,null,null,null,null,null,null,null,null,null,null,null,null,null,null,null,null,null,null,null,null,null,null,null,null,null,null,null,null,null,null,12.75]
[null,null,null,null,null,"13:30:00",null,null,null,null,null,null,null,null,null,null,null,"5:15",5.25,null,null,null,null,null,null,null,null,null,null,null,null,null,null,null,null,null,null,null,null,null,null,null,null,null,null,null,null,null,null,null,null,null,null,null,13]
[null,null,null,null,null,"13:45:00",null,null,null,null,null,null,null,null,null,null,null,"5:30",5.5,null,null,null,null,null,null,null,null,null,null,null,null,null,null,null,null,null,null,null,null,null,null,null,null,null,null,null,null,null,null,null,null,null,null,null,13.25]
[null,null,null,null,null,"14:00:00",null,null,null,null,null,null,null,null,null,null,null,"5:45",5.75,null,null,null,null,null,null,null,null,null,null,null,null,null,null,null,null,null,null,null,null,null,null,null,null,null,null,null,null,null,null,null,null,null,null,null,13.5]
[null,null,null,null,null,"14:15:00",null,null,null,null,null,null,null,null,null,null,null,"6:00",6,null,null,null,null,null,null,null,null,null,null,null,null,null,null,null,null,null,null,null,null,null,null,null,null,null,null,null,null,null,null,null,null,null,null,null,13.75]
[null,null,null,null,null,"14:30:00",null,null,null,null,null,null,null,null,null,null,null,"6:15",6.25,null,null,null,null,null,null,null,null,null,null,null,null,null,null,null,null,null,null,null,null,null,null,null,null,null,null,null,null,null,null,null,null,null,null,null,14]
[null,null,null,null,null,"14:45:00",null,null,null,null,null,null,null,null,null,null,null,"6:30",6.5,null,null,null,null,null,null,null,null,null,null,null,null,null,null,null,null,null,null,null,null,null,null,null,null,null,null,null,null,null,null,null,null,null,null,null,14.25]
[null,null,null,null,null,"15:00:00",null,null,null,null,null,null,null,null,null,null,null,"6:45",6.75,null,null,null,null,null,null,null,null,null,null,null,null,null,null,null,null,null,null,null,null,null,null,null,null,null,null,null,null,null,null,null,null,null,null,null,14.5]
[null,null,null,null,null,"15:15:00",null,null,null,null,null,null,null,null,null,null,null,"7:00",7,null,null,null,null,null,null,null,null,null,null,null,null,null,null,null,null,null,null,null,null,null,null,null,null,null,null,null,null,null,null,null,null,null,null,null,14.75]
[null,null,null,null,null,"15:30:00",null,null,null,null,null,null,null,null,null,null,null,"7:15",7.25,null,null,null,null,null,null,null,null,null,null,null,null,null,null,null,null,null,null,null,null,null,null,null,null,null,null,null,null,null,null,null,null,"LIST OF TIME CODES",null,null,15]
[null,null,null,null,null,"15:45:00",null,null,null,null,null,null,null,null,null,null,null,"7:30",7.5,null,null,null,null,null,null,null,null,null,null,null,null,null,null,null,null,null,null,null,null,null,null,null,null,null,null,null,null,null,null,null,null,"ALT",null,null,15.25]
[null,null,null,null,null,"16:00:00",null,null,null,null,null,null,null,null,null,null,null,"7:45",7.75,null,null,null,null,null,null,null,null,null,null,null,null,null,null,null,null,null,null,null,null,null,null,null,null,null,null,null,null,null,null,null,null,"CTT",null,null,15.5]
[null,null,null,null,null,"16:15:00",null,null,null,null,null,null,null,null,null,null,null,0.33333333333333331,8,null,null,null,null,null,null,null,null,null,null,null,null,null,null,null,null,null,null,null,null,null,null,null,null,null,null,null,null,null,null,null,null,"EMT",null,null,15.75]
[null,null,null,null,null,"16:30:00",null,null,null,null,null,null,null,null,null,null,null,"8:15",8.25,null,null,null,null,null,null,null,null,null,null,null,null,null,null,null,null,null,null,null,null,null,null,null,null,null,null,null,null,null,null,null,null,"EOT",null,null,16]
[null,null,null,null,null,"16:45:00",null,null,null,null,null,null,null,null,null,null,null,"8:30",8.5,null,null,null,null,null,null,null,null,null,null,null,null,null,null,null,null,null,null,null,null,null,null,null,null,null,null,null,null,null,null,null,null,"EST",null,null,16.25]
[null,null,null,null,null,"17:00:00",null,null,null,null,null,null,null,null,null,null,null,"8:45",{"$f":"S254+0.25","v":8.75},null,null,null,null,null,null,null,null,null,null,null,null,null,null,null,null,null,null,null,null,null,null,null,null,null,null,null,null,null,null,null,null,"FFT",null,null,16.5]
[null,null,null,null,null,"17:15:00",null,null,null,null,null,null,null,null,null,null,null,"9:00",9,null,null,null,null,null,null,null,null,null,null,null,null,null,null,null,null,null,null,null,null,null,null,null,null,null,null,null,null,null,null,null,null,"FPT",null,null,16.75]
[null,null,null,null,null,"17:30:00",null,null,null,null,null,null,null,null,null,null,null,"9:15",9.25,null,null,null,null,null,null,null,null,null,null,null,null,null,null,null,null,null,null,null,null,null,null,null,null,null,null,null,null,null,null,null,null,"HCT",null,null,17]
[null,null,null,null,null,"17:45:00",null,null,null,null,null,null,null,null,null,null,null,"9:30",9.5,null,null,null,null,null,null,null,null,null,null,null,null,null,null,null,null,null,null,null,null,null,null,null,null,null,null,null,null,null,null,null,null,"HOB",null,null,17.25]
[null,null,null,null,null,"18:00:00",null,null,null,null,null,null,null,null,null,null,null,"9:45",9.75,null,null,null,null,null,null,null,null,null,null,null,null,null,null,null,null,null,null,null,null,null,null,null,null,null,null,null,null,null,null,null,null,"JST",null,null,17.5]
[null,null,null,null,null,"18:15:00",null,null,null,null,null,null,null,null,null,null,null,"10:00",10,null,null,null,null,null,null,null,null,null,null,null,null,null,null,null,null,null,null,null,null,null,null,null,null,null,null,null,null,null,null,null,null,"LET",null,null,17.75]
[null,null,null,null,null,"18:30:00",null,null,null,null,null,null,null,null,null,null,null,"10:15",10.25,null,null,null,null,null,null,null,null,null,null,null,null,null,null,null,null,null,null,null,null,null,null,null,null,null,null,null,null,null,null,null,null,"LWT",null,null,18]
[null,null,null,null,null,"18:45:00",null,null,null,null,null,null,null,null,null,null,null,"10:30",10.5,null,null,null,null,null,null,null,null,null,null,null,null,null,null,null,null,null,null,null,null,null,null,null,null,null,null,null,null,null,null,null,null,"MLT",null,null,18.25]
[null,null,null,null,null,"19:00:00",null,null,null,null,null,null,null,null,null,null,null,"10:45",10.75,null,null,null,null,null,null,null,null,null,null,null,null,null,null,null,null,null,null,null,null,null,null,null,null,null,null,null,null,null,null,null,null,"OHD",null,null,18.5]
[null,null,null,null,null,"19:15:00",null,null,null,null,null,null,null,null,null,null,null,"11:00",11,null,null,null,null,null,null,null,null,null,null,null,null,null,null,null,null,null,null,null,null,null,null,null,null,null,null,null,null,null,null,null,null,"OHT",null,null,18.75]
[null,null,null,null,null,"19:30:00",null,null,null,null,null,null,null,null,null,null,null,"11:15",11.25,null,null,null,null,null,null,null,null,null,null,null,null,null,null,null,null,null,null,null,null,null,null,null,null,null,null,null,null,null,null,null,null,"OTP",null,null,19]
[null,null,null,null,null,"19:45:00",null,null,null,null,null,null,null,null,null,null,null,"11:30",11.5,null,null,null,null,null,null,null,null,null,null,null,null,null,null,null,null,null,null,null,null,null,null,null,null,null,null,null,null,null,null,null,null,"OTT",null,null,19.25]
[null,null,null,null,null,"20:00:00",null,null,null,null,null,null,null,null,null,null,null,"11:45",11.75,null,null,null,null,null,null,null,null,null,null,null,null,null,null,null,null,null,null,null,null,null,null,null,null,null,null,null,null,null,null,null,null,"RCT",null,null,19.5]
[null,null,null,null,null,"20:15:00",null,null,null,null,null,null,null,null,null,null,null,"12:00",12,null,null,null,null,null,null,null,null,null,null,null,null,null,null,null,null,null,null,null,null,null,null,null,null,null,null,null,null,null,null,null,null,"SAT",null,null,19.75]
[null,null,null,null,null,"20:30:00",null,null,null,null,null,null,null,null,null,null,null,"12:15",12.25,null,null,null,null,null,null,null,null,null,null,null,null,null,null,null,null,null,null,null,null,null,null,null,null,null,null,null,null,null,null,null,null,"SET",null,null,20]
[null,null,null,null,null,"20:45:00",null,null,null,null,null,null,null,null,null,null,null,"12:30",12.5,null,null,null,null,null,null,null,null,null,null,null,null,null,null,null,null,null,null,null,null,null,null,null,null,null,null,null,null,null,null,null,null,"SLT",null,null,20.25]
[null,null,null,null,null,"21:00:00",null,null,null,null,null,null,null,null,null,null,null,"12:45",12.75,null,null,null,null,null,null,null,null,null,null,null,null,null,null,null,null,null,null,null,null,null,null,null,null,null,null,null,null,null,null,null,null,"VCT",null,null,20.5]
[null,null,null,null,null,"21:15:00",null,null,null,null,null,null,null,null,null,null,null,"13:00",13,null,null,null,null,null,null,null,null,null,null,null,null,null,null,null,null,null,null,null,null,null,null,null,null,null,null,null,null,null,null,null,null,null,null,null,20.75]
[null,null,null,null,null,"21:30:00",null,null,null,null,null,null,null,null,null,null,null,"13:15",13.25,null,null,null,null,null,null,null,null,null,null,null,null,null,null,null,null,null,null,null,null,null,null,null,null,null,null,null,null,null,null,null,null,null,null,null,21]
[null,null,null,null,null,"21:45:00",null,null,null,null,null,null,null,null,null,null,null,"13:30",13.5,null,null,null,null,null,null,null,null,null,null,null,null,null,null,null,null,null,null,null,null,null,null,null,null,null,null,null,null,null,null,null,null,null,null,null,21.25]
[null,null,null,null,null,"22:00:00",null,null,null,null,null,null,null,null,null,null,null,"13:45",13.75,null,null,null,null,null,null,null,null,null,null,null,null,null,null,null,null,null,null,null,null,null,null,null,null,null,null,null,null,null,null,null,null,null,null,null,21.5]
[null,null,null,null,null,"22:15:00",null,null,null,null,null,null,null,null,null,null,null,"14:00",14,null,null,null,null,null,null,null,null,null,null,null,null,null,null,null,null,null,null,null,null,null,null,null,null,null,null,null,null,null,null,null,null,null,null,null,21.75]
[null,null,null,null,null,"22:30:00",null,null,null,null,null,null,null,null,null,null,null,"14:15",14.25,null,null,null,null,null,null,null,null,null,null,null,null,null,null,null,null,null,null,null,null,null,null,null,null,null,null,null,null,null,null,null,null,null,null,null,22]
[null,null,null,null,null,"22:45:00",null,null,null,null,null,null,null,null,null,null,null,"14:30",14.5,null,null,null,null,null,null,null,null,null,null,null,null,null,null,null,null,null,null,null,null,null,null,null,null,null,null,null,null,null,null,null,null,null,null,null,22.25]
[null,null,null,null,null,"23:00:00",null,null,null,null,null,null,null,null,null,null,null,"14:45",14.75,null,null,null,null,null,null,null,null,null,null,null,null,null,null,null,null,null,null,null,null,null,null,null,null,null,null,null,null,null,null,null,null,null,null,null,22.5]
[null,null,null,null,null,"23:15:00",null,null,null,null,null,null,null,null,null,null,null,"15:00",15,null,null,null,null,null,null,null,null,null,null,null,null,null,null,null,null,null,null,null,null,null,null,null,null,null,null,null,null,null,null,null,null,null,null,null,22.75]
[null,null,null,null,null,"23:30:00",null,null,null,null,null,null,null,null,null,null,null,"15:15",15.25,null,null,null,null,null,null,null,null,null,null,null,null,null,null,null,null,null,null,null,null,null,null,null,null,null,null,null,null,null,null,null,null,null,null,null,23]
[null,null,null,null,null,"23:45:00",null,null,null,null,null,null,null,null,null,null,null,"15:30",15.5,null,null,null,null,null,null,null,null,null,null,null,null,null,null,null,null,null,null,null,null,null,null,null,null,null,null,null,null,null,null,null,null,null,null,null,23.25]
[null,null,null,null,null,"00:00:00",null,null,null,null,null,null,null,null,null,null,null,"15:45",15.75,null,null,null,null,null,null,null,null,null,null,null,null,null,null,null,null,null,null,null,null,null,null,null,null,null,null,null,null,null,null,null,null,null,null,null,23.5]
[null,null,null,null,null,"00:15:00",null,null,null,null,null,null,null,null,null,null,null,"16:00",16,null,null,null,null,null,null,null,null,null,null,null,null,null,null,null,null,null,null,null,null,null,null,null,null,null,null,null,null,null,null,null,null,null,null,null,23.75]
[null,null,null,null,null,"00:30:00",null,null,null,null,null,null,null,null,null,null,null,"16:15",16.25,null,null,null,null,null,null,null,null,null,null,null,null,null,null,null,null,null,null,null,null,null,null,null,null,null,null,null,null,null,null,null,null,null,null,null,24]
[null,null,null,null,null,"00:45:00",null,null,null,null,null,null,null,null,null,null,null,"16:30",16.5]
[null,null,null,null,null,"01:00:00",null,null,null,null,null,null,null,null,null,null,null,"16:45",{"$f":"S286+0.25","v":16.75}]
[null,null,null,null,null,"01:15:00",null,null,null,null,null,null,null,null,null,null,null,"17:00",17]
[null,null,null,null,null,"01:30:00",null,null,null,null,null,null,null,null,null,null,null,"17:15",17.25]
[null,null,null,null,null,"01:45:00",null,null,null,null,null,null,null,null,null,null,null,"17:30",17.5]
[null,null,null,null,null,"02:00:00",null,null,null,null,null,null,null,null,null,null,null,"17:45",17.75]
[null,null,null,null,null,"02:15:00",null,null,null,null,null,null,null,null,null,null,null,"18:00",18]
[null,null,null,null,null,"02:30:00",null,null,null,null,null,null,null,null,null,null,null,"18:15",18.25]
[null,null,null,null,null,"02:45:00",null,null,null,null,null,null,null,null,null,null,null,"18:30",18.5]
[null,null,null,null,null,"03:00:00",null,null,null,null,null,null,null,null,null,null,null,"18:45",18.75]
[null,null,null,null,null,"03:15:00",null,null,null,null,null,null,null,null,null,null,null,"19:00",19]
[null,null,null,null,null,"03:30:00",null,null,null,null,null,null,null,null,null,null,null,"19:15",19.25]
[null,null,null,null,null,"03:45:00",null,null,null,null,null,null,null,null,null,null,null,"19:30",19.5]
[null,null,null,null,null,"04:00:00",null,null,null,null,null,null,null,null,null,null,null,"19:45",19.75]
[null,null,null,null,null,"04:15:00",null,null,null,null,null,null,null,null,null,null,null,"20:00",20]
[null,null,null,null,null,"04:30:00",null,null,null,null,null,null,null,null,null,null,null,"20:15",20.25]
[null,null,null,null,null,"04:45:00",null,null,null,null,null,null,null,null,null,null,null,"20:30",20.5]
[null,null,null,null,null,"05:00:00",null,null,null,null,null,null,null,null,null,null,null,"20:45",20.75]
[null,null,null,null,null,"05:15:00",null,null,null,null,null,null,null,null,null,null,null,"21:00",21]
[null,null,null,null,null,"05:30:00",null,null,null,null,null,null,null,null,null,null,null,"21:15",21.25]
[null,null,null,null,null,"05:45:00",null,null,null,null,null,null,null,null,null,null,null,"21:30",21.5]
[null,null,null,null,null,null,null,null,null,null,null,null,null,null,null,null,null,"21:45",21.75]
[null,null,null,null,null,null,null,null,null,null,null,null,null,null,null,null,null,"22:00",22]
[null,null,null,null,null,null,null,null,null,null,null,null,null,null,null,null,null,"22:15",22.25]
[null,null,null,null,null,null,null,null,null,null,null,null,null,null,null,null,null,"22:30",22.5]
[null,null,null,null,null,null,null,null,null,null,null,null,null,null,null,null,null,"22:45",22.75]
[null,null,null,null,null,null,null,null,null,null,null,null,null,null,null,null,null,"23:00",23]
[null,null,null,null,null,null,null,null,null,null,null,null,null,null,null,null,null,"23:15",23.25]
[null,null,null,null,null,null,null,null,null,null,null,null,null,null,null,null,null,"23:30",23.5]
[null,null,null,null,null,null,null,null,null,null,null,null,null,null,null,null,null,"23:45",23.75]
[null,null,null,null,null,null,null,null,null,null,null,null,null,null,null,null,null,"24:00",24]
[null,null,null,null,null,null,null,null,null,null,null,null,null,null,null,null,null,"24:15",24.25]
[null,null,null,null,null,null,null,null,null,null,null,null,null,null,null,null,null,"24:30",24.5]
[null,null,null,null,null,null,null,null,null,null,null,null,null,null,null,null,null,"24:45",{"$f":"S318+0.25","v":24.75}]
[null,null,null,null,null,null,null,null,null,null,null,null,null,null,null,null,null,"25:00",25]
[null,null,null,null,null,null,null,null,null,null,null,null,null,null,null,null,null,"25:15",25.25]
[null,null,null,null,null,null,null,null,null,null,null,null,null,null,null,null,null,"25:30",25.5]
[null,null,null,null,null,null,null,null,null,null,null,null,null,null,null,null,null,"25:45",25.75]
[null,null,null,null,null,null,null,null,null,null,null,null,null,null,null,null,null,"26:00",26]
[null,null,null,null,null,null,null,null,null,null,null,null,null,null,null,null,null,"26:15",26.25]
[null,null,null,null,null,null,null,null,null,null,null,null,null,null,null,null,null,"26:30",26.5]
[null,null,null,null,null,null,null,null,null,null,null,null,null,null,null,null,null,"26:45",26.75]
[null,null,null,null,null,null,null,null,null,null,null,null,null,null,null,null,null,"27:00",27]
[null,null,null,null,null,null,null,null,null,null,null,null,null,null,null,null,null,"27:15",27.25]
[null,null,null,null,null,null,null,null,null,null,null,null,null,null,null,null,null,"27:30",27.5]
[null,null,null,null,null,null,null,null,null,null,null,null,null,null,null,null,null,"27:45",27.75]
[null,null,null,null,null,null,null,null,null,null,null,null,null,null,null,null,null,"28:00",28]
[null,null,null,null,null,null,null,null,null,null,null,null,null,null,null,null,null,"28:15",28.25]
[null,null,null,null,null,null,null,null,null,null,null,null,null,null,null,null,null,"28:30",28.5]
[null,null,null,null,null,null,null,null,null,null,null,null,null,null,null,null,null,"28:45",28.75]
[null,null,null,null,null,null,null,null,null,null,null,null,null,null,null,null,null,"29:00",29]
[null,null,null,null,null,null,null,null,null,null,null,null,null,null,null,null,null,"29:15",29.25]
[null,null,null,null,null,null,null,null,null,null,null,null,null,null,null,null,null,"29:30",29.5]
[null,null,null,null,null,null,null,null,null,null,null,null,null,null,null,null,null,"29:45",29.75]
[null,null,null,null,null,null,null,null,null,null,null,null,null,null,null,null,null,"30:00",30]
[null,null,null,null,null,null,null,null,null,null,null,null,null,null,null,null,null,"30:15",30.25]
[null,null,null,null,null,null,null,null,null,null,null,null,null,null,null,null,null,"30:30",30.5]
[null,null,null,null,null,null,null,null,null,null,null,null,null,null,null,null,null,"30:45",30.75]
[null,null,null,null,null,null,null,null,null,null,null,null,null,null,null,null,null,"31:00",31]
[null,null,null,null,null,null,null,null,null,null,null,null,null,null,null,null,null,"31:15",31.25]
[null,null,null,null,null,null,null,null,null,null,null,null,null,null,null,null,null,"31:30",31.5]
[null,null,null,null,null,null,null,null,null,null,null,null,null,null,null,null,null,"31:45",31.75]
[null,null,null,null,null,null,null,null,null,null,null,null,null,null,null,null,null,"32:00",32]
[null,null,null,null,null,null,null,null,null,null,null,null,null,null,null,null,null,"32:15",32.25]
[null,null,null,null,null,null,null,null,null,null,null,null,null,null,null,null,null,"32:30",32.5]
[null,null,null,null,null,null,null,null,null,null,null,null,null,null,null,null,null,"32:45",{"$f":"S350+0.25","v":32.75}]
[null,null,null,null,null,null,null,null,null,null,null,null,null,null,null,null,null,"33:00",33]
[null,null,null,null,null,null,null,null,null,null,null,null,null,null,null,null,null,"33:15",33.25]
[null,null,null,null,null,null,null,null,null,null,null,null,null,null,null,null,null,"33:30",33.5]
[null,null,null,null,null,null,null,null,null,null,null,null,null,null,null,null,null,"33:45",33.75]
[null,null,null,null,null,null,null,null,null,null,null,null,null,null,null,null,null,"34:00",34]
[null,null,null,null,null,null,null,null,null,null,null,null,null,null,null,null,null,"34:15",34.25]
[null,null,null,null,null,null,null,null,null,null,null,null,null,null,null,null,null,"34:30",34.5]
[null,null,null,null,null,null,null,null,null,null,null,null,null,null,null,null,null,"34:45",34.75]
[null,null,null,null,null,null,null,null,null,null,null,null,null,null,null,null,null,"35:00",35]
[null,null,null,null,null,null,null,null,null,null,null,null,null,null,null,null,null,"35:15",35.25]
[null,null,null,null,null,null,null,null,null,null,null,null,null,null,null,null,null,"35:30",35.5]
[null,null,null,null,null,null,null,null,null,null,null,null,null,null,null,null,null,"35:45",35.75]
[null,null,null,null,null,null,null,null,null,null,null,null,null,null,null,null,null,"36:00",36]
[null,null,null,null,null,null,null,null,null,null,null,null,null,null,null,null,null,"36:15",36.25]
[null,null,null,null,null,null,null,null,null,null,null,null,null,null,null,null,null,"36:30",36.5]
[null,null,null,null,null,null,null,null,null,null,null,null,null,null,null,null,null,"36:45",36.75]
[null,null,null,null,null,null,null,null,null,null,null,null,null,null,null,null,null,"37:00",37]
[null,null,null,null,null,null,null,null,null,null,null,null,null,null,null,null,null,"37:15",37.25]
[null,null,null,null,null,null,null,null,null,null,null,null,null,null,null,null,null,"37:30",37.5]
[null,null,null,null,null,null,null,null,null,null,null,null,null,null,null,null,null,"37:45",37.75]
[null,null,null,null,null,null,null,null,null,null,null,null,null,null,null,null,null,"38:00",38]
[null,null,null,null,null,null,null,null,null,null,null,null,null,null,null,null,null,"38:15",38.25]
[null,null,null,null,null,null,null,null,null,null,null,null,null,null,null,null,null,"38:30",38.5]
[null,null,null,null,null,null,null,null,null,null,null,null,null,null,null,null,null,"38:45",38.75]
[null,null,null,null,null,null,null,null,null,null,null,null,null,null,null,null,null,"39:00",39]
[null,null,null,null,null,null,null,null,null,null,null,null,null,null,null,null,null,"39:15",39.25]
[null,null,null,null,null,null,null,null,null,null,null,null,null,null,null,null,null,"39:30",39.5]
[null,null,null,null,null,null,null,null,null,null,null,null,null,null,null,null,null,"39:45",39.75]
[null,null,null,null,null,null,null,null,null,null,null,null,null,null,null,null,null,"40:00",40]
[null,null,null,null,null,null,null,null,null,null,null,null,null,null,null,null,null,"40:15"]
[null,null,null,null,null,null,null,null,null,null,null,null,null,null,null,null,null,"40:30"]
[null,null,null,null,null,null,null,null,null,null,null,null,null,null,null,null,null,"40:45"]
[null,null,null,null,null,null,null,null,null,null,null,null,null,null,null,null,null,"41:00"]
[null,null,null,null,null,null,null,null,null,null,null,null,null,null,null,null,null,"41:15"]
[null,null,null,null,null,null,null,null,null,null,null,null,null,null,null,null,null,"41:30"]
[null,null,null,null,null,null,null,null,null,null,null,null,null,null,null,null,null,"41:45"]
[null,null,null,null,null,null,null,null,null,null,null,null,null,null,null,null,null,"42:00"]
[null,null,null,null,null,null,null,null,null,null,null,null,null,null,null,null,null,"42:15"]
[null,null,null,null,null,null,null,null,null,null,null,null,null,null,null,null,null,"42:30"]
[null,null,null,null,null,null,null,null,null,null,null,null,null,null,null,null,null,"42:45"]
[null,null,null,null,null,null,null,null,null,null,null,null,null,null,null,null,null,"43:00"]
[null,null,null,null,null,null,null,null,null,null,null,null,null,null,null,null,null,"43:15"]
[null,null,null,null,null,null,null,null,null,null,null,null,null,null,null,null,null,"43:30"]
[null,null,null,null,null,null,null,null,null,null,null,null,null,null,null,null,null,"43:45"]
[null,null,null,null,null,null,null,null,null,null,null,null,null,null,null,null,null,"44:00"]
[null,null,null,null,null,null,null,null,null,null,null,null,null,null,null,null,null,"44:15"]
[null,null,null,null,null,null,null,null,null,null,null,null,null,null,null,null,null,"44:30"]
[null,null,null,null,null,null,null,null,null,null,null,null,null,null,null,null,null,"44:45"]
[null,null,null,null,null,null,null,null,null,null,null,null,null,null,null,null,null,"45:00"]
[null,null,null,null,null,null,null,null,null,null,null,null,null,null,null,null,null,"45:15"]
[null,null,null,null,null,null,null,null,null,null,null,null,null,null,null,null,null,"45:30"]
[null,null,null,null,null,null,null,null,null,null,null,null,null,null,null,null,null,"45:45"]
[null,null,null,null,null,null,null,null,null,null,null,null,null,null,null,null,null,"46:00"]
[null,null,null,null,null,null,null,null,null,null,null,null,null,null,null,null,null,"46:15"]
[null,null,null,null,null,null,null,null,null,null,null,null,null,null,null,null,null,"46:30"]
[null,null,null,null,null,null,null,null,null,null,null,null,null,null,null,null,null,"46:45"]
[null,null,null,null,null,null,null,null,null,null,null,null,null,null,null,null,null,"47:00"]
[null,null,null,null,null,null,null,null,null,null,null,null,null,null,null,null,null,"47:15"]
[null,null,null,null,null,null,null,null,null,null,null,null,null,null,null,null,null,"47:30"]
[null,null,null,null,null,null,null,null,null,null,null,null,null,null,null,null,null,"47:45"]
[null,null,null,null,null,null,null,null,null,null,null,null,null,null,null,null,null,"48:00"]
[null,null,null,null,null,null,null,null,null,null,null,null,null,null,null,null,null,"48:15"]
[null,null,null,null,null,null,null,null,null,null,null,null,null,null,null,null,null,"48:30"]
[null,null,null,null,null,null,null,null,null,null,null,null,null,null,null,null,null,"48:45"]
[null,null,null,null,null,null,null,null,null,null,null,null,null,null,null,null,null,"49:00"]
[null,null,null,null,null,null,null,null,null,null,null,null,null,null,null,null,null,"49:15"]
[null,null,null,null,null,null,null,null,null,null,null,null,null,null,null,null,null,"49:30"]
[null,null,null,null,null,null,null,null,null,null,null,null,null,null,null,null,null,"49:45"]
[null,null,null,null,null,null,null,null,null,null,null,null,null,null,null,null,null,"50:00"]
[null,null,null,null,null,null,null,null,null,null,null,null,null,null,null,null,null,"50:15"]
[null,null,null,null,null,null,null,null,null,null,null,null,null,null,null,null,null,"50:30"]
[null,null,null,null,null,null,null,null,null,null,null,null,null,null,null,null,null,"50:45"]
[null,null,null,null,null,null,null,null,null,null,null,null,null,null,null,null,null,"51:00"]
[null,null,null,null,null,null,null,null,null,null,null,null,null,null,null,null,null,"51:15"]
[null,null,null,null,null,null,null,null,null,null,null,null,null,null,null,null,null,"51:30"]
[null,null,null,null,null,null,null,null,null,null,null,null,null,null,null,null,null,"51:45"]
[null,null,null,null,null,null,null,null,null,null,null,null,null,null,null,null,null,"52:00"]
[null,null,null,null,null,null,null,null,null,null,null,null,null,null,null,null,null,"52:15"]
[null,null,null,null,null,null,null,null,null,null,null,null,null,null,null,null,null,"52:30"]
[null,null,null,null,null,null,null,null,null,null,null,null,null,null,null,null,null,"52:45"]
[null,null,null,null,null,null,null,null,null,null,null,null,null,null,null,null,null,"53:00"]
[null,null,null,null,null,null,null,null,null,null,null,null,null,null,null,null,null,"53:15"]
[null,null,null,null,null,null,null,null,null,null,null,null,null,null,null,null,null,"53:30"]
[null,null,null,null,null,null,null,null,null,null,null,null,null,null,null,null,null,"53:45"]
[null,null,null,null,null,null,null,null,null,null,null,null,null,null,null,null,null,"54:00"]
[null,null,null,null,null,null,null,null,null,null,null,null,null,null,null,null,null,"54:15"]
[null,null,null,null,null,null,null,null,null,null,null,null,null,null,null,null,null,"54:30"]
[null,null,null,null,null,null,null,null,null,null,null,null,null,null,null,null,null,"54:45"]
[null,null,null,null,null,null,null,null,null,null,null,null,null,null,null,null,null,"55:00"]
[null,null,null,null,null,null,null,null,null,null,null,null,null,null,null,null,null,"55:15"]
[null,null,null,null,null,null,null,null,null,null,null,null,null,null,null,null,null,"55:30"]
[null,null,null,null,null,null,null,null,null,null,null,null,null,null,null,null,null,"55:45"]
[null,null,null,null,null,null,null,null,null,null,null,null,null,null,null,null,null,"56:00"]

{"sheet":"Week 5","index":10,"n_rows":460,"n_cols":63,"rows_kept":460,"cut":false,"hidden":false,"merged":[[7,22,7,24],[7,30,7,35],[7,36,7,40],[8,30,9,30],[8,31,9,31],[8,32,9,34],[8,35,9,35],[8,36,9,40],[10,32,10,34],[10,36,10,40],[43,21,43,22],[48,17,48,20],[49,17,49,20],[43,19,43,20],[17,25,18,25],[43,39,43,40],[21,39,21,40],[20,35,20,40],[43,37,43,38],[17,21,18,21],[17,22,18,22],[43,27,43,28],[43,35,43,36],[43,23,43,24],[43,25,43,26],[43,31,43,32],[43,33,43,34],[43,29,43,30],[11,32,11,34],[11,36,11,40],[12,32,12,34],[12,36,12,40],[13,32,13,34],[50,0,50,4],[45,0,45,11],[45,12,45,16],[48,0,48,4],[49,0,49,4],[40,0,40,6],[36,0,36,6],[23,0,23,6],[38,0,38,6],[29,0,29,6],[43,13,43,14],[43,9,43,10],[41,0,41,6],[35,0,35,6],[16,1,16,2],[43,15,43,16],[37,0,37,6],[43,7,43,8],[43,17,43,18],[54,36,54,38],[45,28,45,39],[53,36,53,38],[52,36,52,38],[52,28,52,35],[52,5,53,5],[51,17,51,20],[47,6,47,10],[47,12,47,15],[50,17,50,20],[48,12,48,15],[48,36,48,38],[49,36,49,38],[50,22,50,25],[51,0,51,4],[17,44,18,44],[17,23,18,23],[17,24,18,24],[17,45,18,45],[17,46,18,46],[17,43,18,43],[13,36,13,40],[14,32,14,34],[14,36,14,40],[15,32,15,34],[15,36,15,40],[16,32,16,34],[16,36,16,40],[17,27,18,27],[17,28,18,28],[17,32,18,34],[17,35,18,35],[17,36,18,40],[17,26,18,26],[17,29,18,29],[17,31,18,31],[17,30,18,30],[17,12,18,12],[17,13,18,13],[131,28,131,30],[42,0,43,6],[43,11,43,12],[46,17,46,20],[47,17,47,20],[48,22,48,25],[51,22,51,25],[100,13,100,18],[46,6,46,10],[46,0,46,4],[52,22,52,25],[49,22,49,25],[46,12,46,15],[52,12,52,15],[50,12,50,15],[47,22,47,25],[46,22,46,25],[51,12,51,15],[49,12,49,15],[52,0,53,4],[52,17,52,20],[47,0,47,4],[13,5,13,6],[14,3,14,4],[14,5,14,6],[8,1,9,2],[10,1,10,2],[7,3,7,10],[7,15,7,20],[8,5,9,6],[17,19,18,19],[17,10,18,10],[16,3,16,4],[16,5,16,6],[15,3,15,4],[15,5,15,6],[10,3,10,4],[10,5,10,6],[11,3,11,4],[11,5,11,6],[17,20,18,20],[17,14,18,14],[17,17,18,17],[17,15,18,15],[8,7,9,7],[17,18,18,18],[7,25,7,29],[32,0,32,6],[28,0,28,6],[33,0,33,6],[27,0,27,6],[17,11,18,11],[17,7,18,7],[17,0,18,6],[17,8,18,8],[17,16,18,16],[17,9,18,9],[25,0,25,6],[24,0,24,6],[26,0,26,6],[20,0,22,6],[30,0,30,6],[31,0,31,6],[8,0,9,0],[8,3,9,4],[14,1,14,2],[15,1,15,2],[12,3,12,4],[12,5,12,6],[13,3,13,4],[6,0,6,6],[39,0,39,6],[0,12,0,25],[1,12,2,25],[6,28,6,32],[13,1,13,2],[11,1,11,2],[12,1,12,2],[0,32,0,40],[2,32,2,40],[2,3,2,8],[6,26,6,27],[6,35,6,39],[6,13,6,14],[6,33,6,34],[5,34,5,40],[8,9,9,9],[8,10,9,10],[7,11,7,13],[6,7,6,12],[8,8,9,8],[2,9,2,10],[6,21,6,25],[6,16,6,19]]}
[{"$f":"\"THP-2C (\"&\"\"&(MAIN!A1)&\")\"","v":"THP-2C (08/2020 Version 1.1)"},null,null,null,null,null,null,null,null,null,null,null,"Texas Department of Public Safety",null,null,null,null,null,null,null,null,null,null,null,null,null,null,null,null,null,null,"GRANT OT SPEED CHART #"]
[null,null,null,null,null,null,null,null,null,null,null,null,"TEXAS HIGHWAY PATROL EQUINE WEEKLY REPORT"]
[null,null,"POSITION TITLE ",{"$f":"IF('Week 1'!D3=\"\",\"\",'Week 1'!D3)","v":"Trooper II"},null,null,null,null,null,"FUNCTION",null,{"$f":"IF('Week 1'!L3=\"\",\"\",'Week 1'!L3)","v":"HP"},null,null,null,null,null,null,null,null,null,null,null,null,null,null,null,null,null,null,null,"GRANT OT SPEED CHART #"]
[]
["                                         "]
[" NAME:  LAST",null,null,null,null,null,null,"FIRST",null,null,null,null,null," INITIAL",null," ID NO.",null,null,null,null," AREA",null,null,null,null,null," REPORTING PERIOD"]
[{"$f":"IF('Week 1'!A7:G7=\"\",\"\",'Week 1'!A7:G7)","v":"SMITH"},null,null,null,null,null,null,{"$f":"IF('Week 1'!H7:M7=\"\",\"\",'Week 1'!H7:M7)","v":"JOE"},null,null,null,null,null,{"$f":"IF('Week 1'!N7:O7=\"\",\"\",'Week 1'!N7:O7)","v":""},null,null,{"$f":"IF('Week 1'!Q7:T7=\"\",\"\",'Week 1'!Q7:T7)","v":1333},null,null,null,null,{"$f":"IF('Week 1'!V7:Z7=\"\",\"\",'Week 1'!V7:Z7)","v":"3EO1"},null,null,null,null,"  FROM:",null,{"$f":"'THP-71'!D14","v":""},null,null,null,null," THROUGH: ",null,{"$f":"'THP-71'!F14","v":""}]
["DUTY DAYS",null,null,"HOURS WORKED",null,null,null,null,null,null,null,"GRANT OT WORKED",null,null,"TOTAL DUTY HOURS","ADMINISTRATIVE DUTIES",null,null,null,null,null,null,"ROUTINE DUTIES",null,null,"EQUINE ADMINISTRATIVE",null,null,null,null,"AUTO",null,null,null,null,null,"COUNTY WORKED"]
["DAY","DATE",null,"TIME STARTED WORK",null,"TIME ENDED WORK",null,"HOURS OFF DUTY","REG & OT DAY DUTY HOURS","REG & OT NIGHT DUTY HOURS","TOTAL REG & OT DUTY HOURS","DAY GRANT OT HOURS","NIGHT GRANT OT HOURS","TOTAL GRANT OT HOURS","TOTAL DUTY HOURS","VEHICLE MAINTENANCE","SAFETY / TRAINING PROGRAMS","COURT","BACKGROUND INVESTIGATION","TRAINING","OFFICE DUTY",null,"PATROL ENFORCEMENT","CRASH INVESTIGATION","MOTOR CARRIER WORK","EQUINE TRAINING","EQUINE MAINTENANCE","VETERINARIAN","STABLE, VEHICLE, TRAILER MAINT.","TRAINING CONSTRUCTION","REG & OT DUTY MILES","GRANT OT DUTY MILES","UNIT NUMBER",null,null,"TOTAL DUTY MILES","SELECT COUNTY WHERE 60% OR MORE DUTY TIME SPENT",null,null,null,null,"SCHEDULED DAY OFF","DATE","REG OT","REG + GRANT OT","TIME TAKEN CALC\n(TT2)","TIME TAKEN ACTUAL\n(TT1)","TIME TAKEN","LT 8 HRS DUTY","LT DIFF","Day Off","Total Duty Hours","Total Daily OT"]
[]
["SUN",{"$f":"IF(AC7=\"\",\"\",AC7)","v":""},null,null,null,null,null,null,null,null,{"$f":"IF(OR(D11=\"\",F11=\"\"),\"\",IF(AND(I11=\"\",J11=\"\"),\"\",SUM(I11:J11)))","v":""},null,null,{"$f":"IF(AND(D11=\"\",F11=\"\"),\"\",SUM(L11:M11))","v":""},{"$f":"IF(OR(D11=\"\",F11=\"\"),\"\",IF(AND(G102>0,I102>0),\"*\"&C102&\"*\",IF(G102>0,\"<\"&C102,IF(I102>0,C102&\">\",C102))))","v":""},null,null,null,null,null,null,null,null,null,null,null,null,null,null,null,null,null,null,null,null,{"$f":"IF(SUM(AE11,AF11)=0, \"\", SUM(AE11,AF11))","v":""},null,null,null,null,null,null,{"$f":"B11","v":""},{"$f":"IF(OR(K11 =\"\",IFERROR((K11-8)<0,0)),0,K11-8)","v":0},{"$f":"IFERROR(IF(OR(O11=\"\",IFERROR((O11-8)<0,0)),0,O11-8),0)","v":0},{"$f":"IF(AD94 = 0,0,AD94)","v":0},{"$f":"IF(AC94 = 0,0,AC94)","v":0},{"$f":"IF((SUMPRODUCT(--((ISNUMBER(SEARCH(AA94,AA$78:AA$91)))),AC$78:AC$91)) > 0,\"Y\",\"N\")","v":"N"},{"$f":"IF(O11 < 8,\"Y\",\"N\")","v":"N"},{"$f":"IF(AW11=\"N\",0,ABS(O11-8))","v":0},{"$f":"IF(AP11<>\"\",\"Y\",\"N\")","v":"N"},{"$f":"IF(O11=\"\",0,IF(ISNUMBER(FIND(\"*\",O11))=TRUE,0,O11))","v":0},{"$f":"AS11","v":0},{"$f":"A11","v":"SUN"}]
["MON",{"$f":"IF(AC7=\"\",\"\",B11+1)","v":""},null,null,null,null,null,null,null,null,"",null,null,"","",null,null,null,null,null,null,null,null,null,null,null,null,null,null,null,null,null,null,null,null,{"$f":"IF(SUM(AE12,AF12)=0, \"\", SUM(AE12,AF12))","v":""},null,null,null,null,null,null,{"$f":"B12","v":""},{"$f":"IF(OR(K12 =\"\",IFERROR((K12-8)<0,0)),0,K12-8)","v":0},{"$f":"IFERROR(IF(OR(O12=\"\",IFERROR((O12-8)<0,0)),0,O12-8),0)","v":0},{"$f":"IF(AD95 = 0,0,AD95)","v":0},{"$f":"IF(AC95 = 0,0,AC95)","v":0},{"$f":"IF((SUMPRODUCT(--((ISNUMBER(SEARCH(AA95,AA$78:AA$91)))),AC$78:AC$91)) > 0,\"Y\",\"N\")","v":"N"},{"$f":"IF(O12 < 8,\"Y\",\"N\")","v":"N"},{"$f":"IF(AW12=\"N\",0,ABS(O12-8))","v":0},{"$f":"IF(AP12<>\"\",\"Y\",\"N\")","v":"N"},0,{"$f":"AS12","v":0},{"$f":"A12","v":"MON"}]
["TUE",{"$f":"IF(AC7=\"\",\"\",B11+2)","v":""},null,null,null,null,null,null,null,null,"",null,null,"","",null,null,null,null,null,null,null,null,null,null,null,null,null,null,null,null,null,null,null,null,"",null,null,null,null,null,null,"",0,0,0,0,"N","N",0,"N",0,0,"TUE"]
["WED",{"$f":"IF(AC7=\"\",\"\",B11+3)","v":""},null,null,null,null,null,null,null,null,"",null,null,"","",null,null,null,null,null,null,null,null,null,null,null,null,null,null,null,null,null,null,null,null,"",null,null,null,null,null,null,"",0,0,0,0,"N","N",0,"N",0,0,"WED"]
["THU",{"$f":"IF(AC7=\"\",\"\",B11+4)","v":""},null,null,null,null,null,null,null,null,"",null,null,"","",null,null,null,null,null,null,null,null,null,null,null,null,null,null,null,null,null,null,null,null,"",null,null,null,null,null,null,"",0,0,0,0,"N","N",0,"N",0,0,"THU"]
["FRI",{"$f":"IF(AC7=\"\",\"\",B11+5)","v":""},null,null,null,null,null,null,null,null,"",null,null,"","",null,null,null,null,null,null,null,null,null,null,null,null,null,null,null,null,null,null,null,null,"",null,null,null,null,null,null,"",0,0,0,0,"N","N",0,"N",0,0,"FRI"]
["SAT",{"$f":"IF(AC7=\"\",\"\",B11+6)","v":""},null,null,null,null,null,null,null,null,"",null,null,"","",null,null,null,null,null,null,null,null,null,null,null,null,null,null,null,null,null,null,null,null,"",null,null,null,null,null,null,"",0,0,0,0,"N","N",0,"N",{"$f":"IF(O17=\"\",0,IF(ISNUMBER(FIND(\"*\",O17))=TRUE,0,O17))","v":0},0,"SAT"]
["WEEKLY TOTALS",null,null,null,null,null,null,{"$f":"IF(SUM(H11:H17)=0,\"\",SUM(H11:H17))","v":""},"","",{"$f":"IF(SUM(K11:K17)=0,0,SUM(K11:K17))","v":0},"","","",{"$f":"IF(SUM(O11:O17)=0,0,SUM(O11:O17))","v":0},"","","","","","","","","","",{"$f":"IF(SUM(Z11:Z17)=0,\"\",SUM(Z11:Z17))","v":""},"","","","","","",{"$f":"IF(SUM(AI11:AI17)=0,\"\",SUM(AI11:AI17))","v":""},null,null,{"$f":"IF(SUM(AJ11:AJ17)=0,\"\",SUM(AJ11:AJ17))","v":""},null,null,null,null,null,null,null,{"$f":"SUM(AR11:AR17)","v":0},{"$f":"SUM(AS11:AS17)","v":0},{"$f":"SUM(AT11:AT17)","v":0},{"$f":"SUM(AU11:AU17)","v":0}]
[null,null,null,null,null,null,null,null,null,null,null,null,null,null,null,null,null,null,null,null,null,null,null,null,null,null,null,null,null,null,null,null,null,null,null,null,null,null,null,null,null,null,null,null,null,null,null,null,null,null,null,{"$f":"SUM(AZ11:AZ17)","v":0},{"$f":"SUM(BA11:BA17)","v":0}]
[null,null,null,null,null,null,null,"ENFORCEMENT SUMMARY"]
["VIOLATION",null,null,null,null,null,null,"SUNDAY",null,null,null,"MONDAY",null,null,null,"TUESDAY",null,null,null,"WEDNESDAY",null,null,null,"THURSDAY",null,null,null,"FRIDAY",null,null,null,"SATURDAY",null,null,null,"TOTALS"]
[null,null,null,null,null,null,null,"Routine",null,"GRANT OT",null,"Routine",null,"GRANT OT",null,"Routine",null,"GRANT OT",null,"Routine",null,"GRANT OT",null,"Routine",null,"GRANT OT",null,"Routine",null,"GRANT OT",null,"Routine",null,"GRANT OT",null,"Routine",null,"GRANT OT",null,"ALL"]
[null,null,null,null,null,null,null,"A","W","A","W","A","W","A","W","A","W","A","W","A","W","A","W","A","W","A","W","A","W","A","W","A","W","A","W","A","W","A","W","A","W"]
["  SPEEDING",null,null,null,null,null,null,null,null,null,null,null,null,null,null,null,null,null,null,null,null,null,null,null,null,null,null,null,null,null,null,null,null,null,null,{"$f":"SUM(H24+L24+P24+T24+X24+AB24+AF24)","v":0},{"$f":"SUM(I24+M24+Q24+U24+Y24+AC24+AG24)","v":0},{"$f":"SUM(J24+N24+R24+V24+Z24+AD24+AH24)","v":0},{"$f":"SUM(K24+O24+S24+W24+AA24+AE24+AI24)","v":0},{"$f":"AJ24+AL24","v":0},{"$f":"AK24+AM24","v":0},null,null,null,null,null,null,null,"Total Daily OT:",{"$f":"BA19","v":0}]
["  DWI",null,null,null,null,null,null,null,null,null,null,null,null,null,null,null,null,null,null,null,null,null,null,null,null,null,null,null,null,null,null,null,null,null,null,{"$f":"SUM(H25+L25+P25+T25+X25+AB25+AF25)","v":0},null,{"$f":"SUM(J25+N25+R25+V25+Z25+AD25+AH25)","v":0},null,{"$f":"AJ25+AL25","v":0},null,null,null,null,null,null,null,null,"Total Weekly OT:",{"$f":"IF((AZ19-BA19-40)<0,0,AZ19-BA19-40)","v":0}]
["  DUI - MINOR",null,null,null,null,null,null,null,null,null,null,null,null,null,null,null,null,null,null,null,null,null,null,null,null,null,null,null,null,null,null,null,null,null,null,0,null,0,null,0,null,null,null,null,null,null,null,null,"Total OT:",{"$f":"IF((AZ19-BA19-40)<0,BA19,AZ19-40)","v":0}]
["  ADULT RESTRAINT VIOLATIONS",null,null,null,null,null,null,null,null,null,null,null,null,null,null,null,null,null,null,null,null,null,null,null,null,null,null,null,null,null,null,null,null,null,null,0,{"$f":"SUM(AG27,AC27,Y27,U27,Q27,M27,I27)","v":0},0,{"$f":"SUM(K27+O27+S27+W27+AA27+AE27+AI27)","v":0},0,{"$f":"AK27+AM27","v":0},null,null,null,null,null,null,null,"Total CTE:",{"$f":"IF(OR((AZ19+AU18-AX26)<40,(AZ19+AU18-AX26)=40),0,(AZ19+AU18-AX26)-40)","v":0}]
["  CHILD RESTRAINT VIOLATIONS",null,null,null,null,null,null,null,null,null,null,null,null,null,null,null,null,null,null,null,null,null,null,null,null,null,null,null,null,null,null,null,null,null,null,0,{"$f":"SUM(AG28,AC28,Y28,U28,Q28,M28,I28)","v":0},0,0,0,0]
["  HAZMAT (CVE ONLY)",null,null,null,null,null,null,null,null,null,null,null,null,null,null,null,null,null,null,null,null,null,null,null,null,null,null,null,null,null,null,null,null,null,null,0,{"$f":"SUM(AG29,AC29,Y29,U29,Q29,M29,I29)","v":0},0,0,0,0]
["  OVERSIZE",null,null,null,null,null,null,null,null,null,null,null,null,null,null,null,null,null,null,null,null,null,null,null,null,null,null,null,null,null,null,null,null,null,null,0,{"$f":"SUM(AG30,AC30,Y30,U30,Q30,M30,I30)","v":0},0,0,0,0]
["  OVERWEIGHT (CVE ONLY)",null,null,null,null,null,null,null,null,null,null,null,null,null,null,null,null,null,null,null,null,null,null,null,null,null,null,null,null,null,null,null,null,null,null,0,{"$f":"SUM(I31+M31+Q31+U31+Y31+AC31+AG31)","v":0},0,0,0,0]
["  NO INSURANCE OR MC AUTH",null,null,null,null,null,null,null,null,null,null,null,null,null,null,null,null,null,null,null,null,null,null,null,null,null,null,null,null,null,null,null,null,null,null,0,0,0,0,0,0]
["  FMCSR DRIVER",null,null,null,null,null,null,null,null,null,null,null,null,null,null,null,null,null,null,null,null,null,null,null,null,null,null,null,null,null,null,null,null,null,null,0,0,0,0,0,0]
["  DRIVER LICENSE / DWLI ",null,null,null,null,null,null,null,null,null,null,null,null,null,null,null,null,null,null,null,null,null,null,null,null,null,null,null,null,null,null,null,null,null,null,0,0,0,0,0,0]
["  REGISTRATION",null,null,null,null,null,null,null,null,null,null,null,null,null,null,null,null,null,null,null,null,null,null,null,null,null,null,null,null,null,null,null,null,null,null,0,0,0,0,0,0]
["  EQUIPMENT ",null,null,null,null,null,null,null,null,null,null,null,null,null,null,null,null,null,null,null,null,null,null,null,null,null,null,null,null,null,null,null,null,null,null,{"$f":"SUM(H36+L36+P36+T36+X36+AB36+AF36)","v":0},0,{"$f":"SUM(J36+N36+R36+V36+Z36+AD36+AH36)","v":0},{"$f":"SUM(K36+O36+S36+W36+AA36+AE36+AI36)","v":0},{"$f":"AJ36+AL36","v":0},{"$f":"AK36+AM36","v":0}]
["  CRIMINAL (FELONY)",null,null,null,null,null,null,null,null,null,null,null,null,null,null,null,null,null,null,null,null,null,null,null,null,null,null,null,null,null,null,null,null,null,null,0,null,{"$f":"SUM(J37+N37+R37+V37+Z37+AD37+AH37)","v":0},null,{"$f":"AJ37+AL37","v":0}]
["  CRIMINAL (MISDEMEANOR)",null,null,null,null,null,null,null,null,null,null,null,null,null,null,null,null,null,null,null,null,null,null,null,null,null,null,null,null,null,null,null,null,null,null,0,null,{"$f":"SUM(J38+N38+R38+V38+Z38+AD38+AH38)","v":0},null,{"$f":"AJ38+AL38","v":0}]
["  FUGITIVE (FELONY)",null,null,null,null,null,null,null,null,null,null,null,null,null,null,null,null,null,null,null,null,null,null,null,null,null,null,null,null,null,null,null,null,null,null,0,null,{"$f":"SUM(J39+N39+R39+V39+Z39+AD39+AH39)","v":0},null,{"$f":"AJ39+AL39","v":0}]
["  FUGITIVE (MISDEMEANOR)",null,null,null,null,null,null,null,null,null,null,null,null,null,null,null,null,null,null,null,null,null,null,null,null,null,null,null,null,null,null,null,null,null,null,0,null,{"$f":"SUM(J40+N40+R40+V40+Z40+AD40+AH40)","v":0},null,{"$f":"AJ40+AL40","v":0}]
["  ALL OTHER VIOLATIONS",null,null,null,null,null,null,null,null,null,null,null,null,null,null,null,null,null,null,null,null,null,null,null,null,null,null,null,null,null,null,null,null,null,null,0,{"$f":"SUM(I41+M41+Q41+U41+Y41+AC41+AG41)","v":0},{"$f":"SUM(J41+N41+R41+V41+Z41+AD41+AH41)","v":0},{"$f":"SUM(K41+O41+S41+W41+AA41+AE41+AI41)","v":0},{"$f":"AJ41+AL41","v":0},{"$f":"AK41+AM41","v":0}]
["  TOTALS",null,null,null,null,null,null,{"$f":"IF(SUM(H24:H41)<1,\"\", SUM(H24:H41))","v":""},"","","","","","","","","","","","","","","","","","","","","","","","","","","","","","","","",""]
["TOTAL NUMBER OF VEHICLES \nSTOPPED WITH ENFORCEMENT ACTION"]
[null,null,null,null,null,null,null,null,null,null,null,null,null,null,null,null,null,null,null,null,null,null,null,null,null,null,null,null,null,null,null,null,null,null,null,{"$f":"SUM(H44+L44+P44+T44+X44+AB44+AF44)","v":0},null,{"$f":"SUM(J44+N44+R44+V44+Z44+AD44+AH44)","v":0},null,{"$f":"IF(SUM(AJ44+AL44)=0,\"\",SUM(AJ44+AL44))","v":""}]
[]
["ACTIVITIES",null,null,null,null,null,null,null,null,null,null,null,"MOTOR CARRIER",null,null,null,null,null,null,null,null,null,null,null,null,null,null,null,"BE SURE TO CHECK SECONDARY EMPLOYMENT ON BACK"]
["  CRASHES INVESTIGATED",null,null,null,null,null,"  BACKGROUND INV.",null,null,null,null,null," LEVEL 2 INSPECTION"]
["  AGENCY ASSISTS",null,null,null,null,null,"  STOLEN VEH. RECOVERED",null,null,null,null,null," VEHICLE O.O.S."]
["    # TRAFFIC OPS  (W/ OTHER AGENCY)",null,null,null,null,null,"  WARRANTS SERVED",null,null,null,null,null," DRIVER O.O.S."]
["  SCHOOLS VISITED",null,null,null,null,null,"  HQ-35 SEIZURES",null,null,null,null,null,"VEHICLES CHECKED",null,null,null,null,null,null,null,null,null,null,null,null,null,null,null,"TROOPER'S SIGNATURE",null,null,null,null,null,null,null,"DATE"]
["  MOTORIST ASSISTS",null,null,null,null,null,"  INTEL HITS (WATCHLIST)"]
["  SAFETY PROGRAMS",null,null,null,null,null,"  INTEL REPORTS SUBMITTED"]
["  TRAINING PROGRAMS \n  FOR OTHER LE AGENCIES ",null,null,null,null,null,"  VEHICLE PURSUITS"]
[null,null,null,null,null,null,"# OF TASKS",null,null,null,null,null,null,null,null,null,null,null,null,null,null,null,null,null,null,null,null,null,"SUPERVISOR'S SIGNATURE",null,null,null,null,null,null,null,"    DATE"]
[]
[]
[]
[]
[]
[]
[null,"ALT","CAT","CDT","CTT","DBT","DOT","DMT","EMT","EST","FFT","FPT"]
[1,{"$f":"IF('week 3 bk'!AJ13=\"ALT\",'week 3 bk'!AL13,0)","v":0},{"$f":"IF('week 3 bk'!AJ13=\"CAT\",'week 3 bk'!AL13,0)","v":0},{"$f":"IF('week 3 bk'!AJ13=\"CDT\",'week 3 bk'!AL13,0)","v":0},{"$f":"IF('week 3 bk'!AJ13=\"CTT\",'week 3 bk'!AL13,0)","v":0},{"$f":"IF('week 3 bk'!AJ13=\"DBT\",'week 3 bk'!AL13,0)","v":0},{"$f":"IF('week 3 bk'!AJ13=\"DOT\",'week 3 bk'!AL13,0)","v":0},{"$f":"IF('week 3 bk'!AJ13=\"DMT\",'week 3 bk'!AL13,0)","v":0},{"$f":"IF('week 3 bk'!AJ13=\"EMT\",'week 3 bk'!AL13,0)","v":0},{"$f":"IF('week 3 bk'!AJ13=\"EST\",'week 3 bk'!AL13,0)","v":0},{"$f":"IF('week 3 bk'!AJ13=\"FFT\",'week 3 bk'!AL13,0)","v":0},{"$f":"IF('week 3 bk'!AJ13=\"FPT\",'week 3 bk'!AL13,0)","v":0}]
[2,{"$f":"IF('week 3 bk'!AJ14=\"ALT\",'week 3 bk'!AL14,0)","v":0},{"$f":"IF('week 3 bk'!AJ14=\"CAT\",'week 3 bk'!AL14,0)","v":0},{"$f":"IF('week 3 bk'!AJ14=\"CDT\",'week 3 bk'!AL14,0)","v":0},{"$f":"IF('week 3 bk'!AJ14=\"CTT\",'week 3 bk'!AL14,0)","v":0},{"$f":"IF('week 3 bk'!AJ14=\"DBT\",'week 3 bk'!AL14,0)","v":0},{"$f":"IF('week 3 bk'!AJ14=\"DOT\",'week 3 bk'!AL14,0)","v":0},{"$f":"IF('week 3 bk'!AJ14=\"DMT\",'week 3 bk'!AL14,0)","v":0},{"$f":"IF('week 3 bk'!AJ14=\"EMT\",'week 3 bk'!AL14,0)","v":0},{"$f":"IF('week 3 bk'!AJ14=\"EST\",'week 3 bk'!AL14,0)","v":0},{"$f":"IF('week 3 bk'!AJ14=\"FFT\",'week 3 bk'!AL14,0)","v":0},{"$f":"IF('week 3 bk'!AJ14=\"FPT\",'week 3 bk'!AL14,0)","v":0},"HCT","HOB","JST","LDT","LET","LPT","MLT","OHT","OTT","RCT","SAT","SET","SLT","VCT"]
[3,{"$f":"IF('week 3 bk'!AJ15=\"ALT\",'week 3 bk'!AL15,0)","v":0},{"$f":"IF('week 3 bk'!AJ15=\"CAT\",'week 3 bk'!AL15,0)","v":0},{"$f":"IF('week 3 bk'!AJ15=\"CDT\",'week 3 bk'!AL15,0)","v":0},{"$f":"IF('week 3 bk'!AJ15=\"CTT\",'week 3 bk'!AL15,0)","v":0},{"$f":"IF('week 3 bk'!AJ15=\"DBT\",'week 3 bk'!AL15,0)","v":0},{"$f":"IF('week 3 bk'!AJ15=\"DOT\",'week 3 bk'!AL15,0)","v":0},{"$f":"IF('week 3 bk'!AJ15=\"DMT\",'week 3 bk'!AL15,0)","v":0},{"$f":"IF('week 3 bk'!AJ15=\"EMT\",'week 3 bk'!AL15,0)","v":0},{"$f":"IF('week 3 bk'!AJ15=\"EST\",'week 3 bk'!AL15,0)","v":0},{"$f":"IF('week 3 bk'!AJ15=\"FFT\",'week 3 bk'!AL15,0)","v":0},{"$f":"IF('week 3 bk'!AJ15=\"FPT\",'week 3 bk'!AL15,0)","v":0},{"$f":"IF('week 5 bk'!AJ13=\"HCT\",'week 5 bk'!AL13,0)","v":0},{"$f":"IF('week 5 bk'!AJ13=\"HOB\",'week 5 bk'!AL13,0)","v":0},{"$f":"IF('week 5 bk'!AJ13=\"JST\",'week 5 bk'!AL13,0)","v":0},{"$f":"IF('week 5 bk'!AJ13=\"LDT\",'week 5 bk'!AL13,0)","v":0},{"$f":"IF('week 5 bk'!AJ13=\"LET\",'week 5 bk'!AL13,0)","v":0},{"$f":"IF('week 5 bk'!AJ13=\"LPT\",'week 5 bk'!AL13,0)","v":0},{"$f":"IF('week 5 bk'!AJ13=\"MLT\",'week 5 bk'!AL13,0)","v":0},{"$f":"IF('week 5 bk'!AJ13=\"OHT\",'week 5 bk'!AL13,0)","v":0},{"$f":"IF('week 5 bk'!AJ13=\"OTT\",'week 5 bk'!AL13,0)","v":0},{"$f":"IF('week 5 bk'!AJ13=\"RCT\",'week 5 bk'!AL13,0)","v":0},{"$f":"IF('week 5 bk'!AJ13=\"SAT\",'week 5 bk'!AL13,0)","v":0},{"$f":"IF('week 5 bk'!AJ13=\"SET\",'week 5 bk'!AL13,0)","v":0},{"$f":"IF('week 5 bk'!AJ13=\"SLT\",'week 5 bk'!AL13,0)","v":0},{"$f":"IF('week 5 bk'!AJ13=\"VCT\",'week 5 bk'!AL13,0)","v":0}]
[4,{"$f":"IF('week 3 bk'!AJ16=\"ALT\",'week 3 bk'!AL16,0)","v":0},{"$f":"IF('week 3 bk'!AJ16=\"CAT\",'week 3 bk'!AL16,0)","v":0},{"$f":"IF('week 3 bk'!AJ16=\"CDT\",'week 3 bk'!AL16,0)","v":0},{"$f":"IF('week 3 bk'!AJ16=\"CTT\",'week 3 bk'!AL16,0)","v":0},{"$f":"IF('week 3 bk'!AJ16=\"DBT\",'week 3 bk'!AL16,0)","v":0},{"$f":"IF('week 3 bk'!AJ16=\"DOT\",'week 3 bk'!AL16,0)","v":0},{"$f":"IF('week 3 bk'!AJ16=\"DMT\",'week 3 bk'!AL16,0)","v":0},{"$f":"IF('week 3 bk'!AJ16=\"EMT\",'week 3 bk'!AL16,0)","v":0},{"$f":"IF('week 3 bk'!AJ16=\"EST\",'week 3 bk'!AL16,0)","v":0},{"$f":"IF('week 3 bk'!AJ16=\"FFT\",'week 3 bk'!AL16,0)","v":0},{"$f":"IF('week 3 bk'!AJ16=\"FPT\",'week 3 bk'!AL16,0)","v":0},{"$f":"IF('week 5 bk'!AJ14=\"HCT\",'week 5 bk'!AL14,0)","v":0},{"$f":"IF('week 5 bk'!AJ14=\"HOB\",'week 5 bk'!AL14,0)","v":0},{"$f":"IF('week 5 bk'!AJ14=\"JST\",'week 5 bk'!AL14,0)","v":0},{"$f":"IF('week 5 bk'!AJ14=\"LDT\",'week 5 bk'!AL14,0)","v":0},{"$f":"IF('week 5 bk'!AJ14=\"LET\",'week 5 bk'!AL14,0)","v":0},{"$f":"IF('week 5 bk'!AJ14=\"LPT\",'week 5 bk'!AL14,0)","v":0},{"$f":"IF('week 5 bk'!AJ14=\"MLT\",'week 5 bk'!AL14,0)","v":0},{"$f":"IF('week 5 bk'!AJ14=\"OHT\",'week 5 bk'!AL14,0)","v":0},{"$f":"IF('week 5 bk'!AJ14=\"OTT\",'week 5 bk'!AL14,0)","v":0},{"$f":"IF('week 5 bk'!AJ14=\"RCT\",'week 5 bk'!AL14,0)","v":0},{"$f":"IF('week 5 bk'!AJ14=\"SAT\",'week 5 bk'!AL14,0)","v":0},{"$f":"IF('week 5 bk'!AJ14=\"SET\",'week 5 bk'!AL14,0)","v":0},{"$f":"IF('week 5 bk'!AJ14=\"SLT\",'week 5 bk'!AL14,0)","v":0},{"$f":"IF('week 5 bk'!AJ14=\"VCT\",'week 5 bk'!AL14,0)","v":0}]
[5,{"$f":"IF('week 3 bk'!AJ17=\"ALT\",'week 3 bk'!AL17,0)","v":0},{"$f":"IF('week 3 bk'!AJ17=\"CAT\",'week 3 bk'!AL17,0)","v":0},{"$f":"IF('week 3 bk'!AJ17=\"CDT\",'week 3 bk'!AL17,0)","v":0},{"$f":"IF('week 3 bk'!AJ17=\"CTT\",'week 3 bk'!AL17,0)","v":0},{"$f":"IF('week 3 bk'!AJ17=\"DBT\",'week 3 bk'!AL17,0)","v":0},{"$f":"IF('week 3 bk'!AJ17=\"DOT\",'week 3 bk'!AL17,0)","v":0},{"$f":"IF('week 3 bk'!AJ17=\"DMT\",'week 3 bk'!AL17,0)","v":0},{"$f":"IF('week 3 bk'!AJ17=\"EMT\",'week 3 bk'!AL17,0)","v":0},{"$f":"IF('week 3 bk'!AJ17=\"EST\",'week 3 bk'!AL17,0)","v":0},{"$f":"IF('week 3 bk'!AJ17=\"FFT\",'week 3 bk'!AL17,0)","v":0},{"$f":"IF('week 3 bk'!AJ17=\"FPT\",'week 3 bk'!AL17,0)","v":0},{"$f":"IF('week 5 bk'!AJ15=\"HCT\",'week 5 bk'!AL15,0)","v":0},{"$f":"IF('week 5 bk'!AJ15=\"HOB\",'week 5 bk'!AL15,0)","v":0},{"$f":"IF('week 5 bk'!AJ15=\"JST\",'week 5 bk'!AL15,0)","v":0},{"$f":"IF('week 5 bk'!AJ15=\"LDT\",'week 5 bk'!AL15,0)","v":0},{"$f":"IF('week 5 bk'!AJ15=\"LET\",'week 5 bk'!AL15,0)","v":0},{"$f":"IF('week 5 bk'!AJ15=\"LPT\",'week 5 bk'!AL15,0)","v":0},{"$f":"IF('week 5 bk'!AJ15=\"MLT\",'week 5 bk'!AL15,0)","v":0},{"$f":"IF('week 5 bk'!AJ15=\"OHT\",'week 5 bk'!AL15,0)","v":0},{"$f":"IF('week 5 bk'!AJ15=\"OTT\",'week 5 bk'!AL15,0)","v":0},{"$f":"IF('week 5 bk'!AJ15=\"RCT\",'week 5 bk'!AL15,0)","v":0},{"$f":"IF('week 5 bk'!AJ15=\"SAT\",'week 5 bk'!AL15,0)","v":0},{"$f":"IF('week 5 bk'!AJ15=\"SET\",'week 5 bk'!AL15,0)","v":0},{"$f":"IF('week 5 bk'!AJ15=\"SLT\",'week 5 bk'!AL15,0)","v":0},{"$f":"IF('week 5 bk'!AJ15=\"VCT\",'week 5 bk'!AL15,0)","v":0}]
[6,{"$f":"IF('week 3 bk'!AJ18=\"ALT\",'week 3 bk'!AL18,0)","v":0},{"$f":"IF('week 3 bk'!AJ18=\"CAT\",'week 3 bk'!AL18,0)","v":0},{"$f":"IF('week 3 bk'!AJ18=\"CDT\",'week 3 bk'!AL18,0)","v":0},{"$f":"IF('week 3 bk'!AJ18=\"CTT\",'week 3 bk'!AL18,0)","v":0},{"$f":"IF('week 3 bk'!AJ18=\"DBT\",'week 3 bk'!AL18,0)","v":0},{"$f":"IF('week 3 bk'!AJ18=\"DOT\",'week 3 bk'!AL18,0)","v":0},{"$f":"IF('week 3 bk'!AJ18=\"DMT\",'week 3 bk'!AL18,0)","v":0},{"$f":"IF('week 3 bk'!AJ18=\"EMT\",'week 3 bk'!AL18,0)","v":0},{"$f":"IF('week 3 bk'!AJ18=\"EST\",'week 3 bk'!AL18,0)","v":0},{"$f":"IF('week 3 bk'!AJ18=\"FFT\",'week 3 bk'!AL18,0)","v":0},{"$f":"IF('week 3 bk'!AJ18=\"FPT\",'week 3 bk'!AL18,0)","v":0},{"$f":"IF('week 5 bk'!AJ16=\"HCT\",'week 5 bk'!AL16,0)","v":0},{"$f":"IF('week 5 bk'!AJ16=\"HOB\",'week 5 bk'!AL16,0)","v":0},{"$f":"IF('week 5 bk'!AJ16=\"JST\",'week 5 bk'!AL16,0)","v":0},{"$f":"IF('week 5 bk'!AJ16=\"LDT\",'week 5 bk'!AL16,0)","v":0},{"$f":"IF('week 5 bk'!AJ16=\"LET\",'week 5 bk'!AL16,0)","v":0},{"$f":"IF('week 5 bk'!AJ16=\"LPT\",'week 5 bk'!AL16,0)","v":0},{"$f":"IF('week 5 bk'!AJ16=\"MLT\",'week 5 bk'!AL16,0)","v":0},{"$f":"IF('week 5 bk'!AJ16=\"OHT\",'week 5 bk'!AL16,0)","v":0},{"$f":"IF('week 5 bk'!AJ16=\"OTT\",'week 5 bk'!AL16,0)","v":0},{"$f":"IF('week 5 bk'!AJ16=\"RCT\",'week 5 bk'!AL16,0)","v":0},{"$f":"IF('week 5 bk'!AJ16=\"SAT\",'week 5 bk'!AL16,0)","v":0},{"$f":"IF('week 5 bk'!AJ16=\"SET\",'week 5 bk'!AL16,0)","v":0},{"$f":"IF('week 5 bk'!AJ16=\"SLT\",'week 5 bk'!AL16,0)","v":0},{"$f":"IF('week 5 bk'!AJ16=\"VCT\",'week 5 bk'!AL16,0)","v":0}]
[7,{"$f":"IF('week 3 bk'!AJ19=\"ALT\",'week 3 bk'!AL19,0)","v":0},{"$f":"IF('week 3 bk'!AJ19=\"CAT\",'week 3 bk'!AL19,0)","v":0},{"$f":"IF('week 3 bk'!AJ19=\"CDT\",'week 3 bk'!AL19,0)","v":0},{"$f":"IF('week 3 bk'!AJ19=\"CTT\",'week 3 bk'!AL19,0)","v":0},{"$f":"IF('week 3 bk'!AJ19=\"DBT\",'week 3 bk'!AL19,0)","v":0},{"$f":"IF('week 3 bk'!AJ19=\"DOT\",'week 3 bk'!AL19,0)","v":0},{"$f":"IF('week 3 bk'!AJ19=\"DMT\",'week 3 bk'!AL19,0)","v":0},{"$f":"IF('week 3 bk'!AJ19=\"EMT\",'week 3 bk'!AL19,0)","v":0},{"$f":"IF('week 3 bk'!AJ19=\"EST\",'week 3 bk'!AL19,0)","v":0},{"$f":"IF('week 3 bk'!AJ19=\"FFT\",'week 3 bk'!AL19,0)","v":0},{"$f":"IF('week 3 bk'!AJ19=\"FPT\",'week 3 bk'!AL19,0)","v":0},{"$f":"IF('week 5 bk'!AJ17=\"HCT\",'week 5 bk'!AL17,0)","v":0},{"$f":"IF('week 5 bk'!AJ17=\"HOB\",'week 5 bk'!AL17,0)","v":0},{"$f":"IF('week 5 bk'!AJ17=\"JST\",'week 5 bk'!AL17,0)","v":0},{"$f":"IF('week 5 bk'!AJ17=\"LDT\",'week 5 bk'!AL17,0)","v":0},{"$f":"IF('week 5 bk'!AJ17=\"LET\",'week 5 bk'!AL17,0)","v":0},{"$f":"IF('week 5 bk'!AJ17=\"LPT\",'week 5 bk'!AL17,0)","v":0},{"$f":"IF('week 5 bk'!AJ17=\"MLT\",'week 5 bk'!AL17,0)","v":0},{"$f":"IF('week 5 bk'!AJ17=\"OHT\",'week 5 bk'!AL17,0)","v":0},{"$f":"IF('week 5 bk'!AJ17=\"OTT\",'week 5 bk'!AL17,0)","v":0},{"$f":"IF('week 5 bk'!AJ17=\"RCT\",'week 5 bk'!AL17,0)","v":0},{"$f":"IF('week 5 bk'!AJ17=\"SAT\",'week 5 bk'!AL17,0)","v":0},{"$f":"IF('week 5 bk'!AJ17=\"SET\",'week 5 bk'!AL17,0)","v":0},{"$f":"IF('week 5 bk'!AJ17=\"SLT\",'week 5 bk'!AL17,0)","v":0},{"$f":"IF('week 5 bk'!AJ17=\"VCT\",'week 5 bk'!AL17,0)","v":0}]
[8,{"$f":"IF('week 3 bk'!AJ20=\"ALT\",'week 3 bk'!AL20,0)","v":0},{"$f":"IF('week 3 bk'!AJ20=\"CAT\",'week 3 bk'!AL20,0)","v":0},{"$f":"IF('week 3 bk'!AJ20=\"CDT\",'week 3 bk'!AL20,0)","v":0},{"$f":"IF('week 3 bk'!AJ20=\"CTT\",'week 3 bk'!AL20,0)","v":0},{"$f":"IF('week 3 bk'!AJ20=\"DBT\",'week 3 bk'!AL20,0)","v":0},{"$f":"IF('week 3 bk'!AJ20=\"DOT\",'week 3 bk'!AL20,0)","v":0},{"$f":"IF('week 3 bk'!AJ20=\"DMT\",'week 3 bk'!AL20,0)","v":0},{"$f":"IF('week 3 bk'!AJ20=\"EMT\",'week 3 bk'!AL20,0)","v":0},{"$f":"IF('week 3 bk'!AJ20=\"EST\",'week 3 bk'!AL20,0)","v":0},{"$f":"IF('week 3 bk'!AJ20=\"FFT\",'week 3 bk'!AL20,0)","v":0},{"$f":"IF('week 3 bk'!AJ20=\"FPT\",'week 3 bk'!AL20,0)","v":0},{"$f":"IF('week 5 bk'!AJ18=\"HCT\",'week 5 bk'!AL18,0)","v":0},{"$f":"IF('week 5 bk'!AJ18=\"HOB\",'week 5 bk'!AL18,0)","v":0},{"$f":"IF('week 5 bk'!AJ18=\"JST\",'week 5 bk'!AL18,0)","v":0},{"$f":"IF('week 5 bk'!AJ18=\"LDT\",'week 5 bk'!AL18,0)","v":0},{"$f":"IF('week 5 bk'!AJ18=\"LET\",'week 5 bk'!AL18,0)","v":0},{"$f":"IF('week 5 bk'!AJ18=\"LPT\",'week 5 bk'!AL18,0)","v":0},{"$f":"IF('week 5 bk'!AJ18=\"MLT\",'week 5 bk'!AL18,0)","v":0},{"$f":"IF('week 5 bk'!AJ18=\"OHT\",'week 5 bk'!AL18,0)","v":0},{"$f":"IF('week 5 bk'!AJ18=\"OTT\",'week 5 bk'!AL18,0)","v":0},{"$f":"IF('week 5 bk'!AJ18=\"RCT\",'week 5 bk'!AL18,0)","v":0},{"$f":"IF('week 5 bk'!AJ18=\"SAT\",'week 5 bk'!AL18,0)","v":0},{"$f":"IF('week 5 bk'!AJ18=\"SET\",'week 5 bk'!AL18,0)","v":0},{"$f":"IF('week 5 bk'!AJ18=\"SLT\",'week 5 bk'!AL18,0)","v":0},{"$f":"IF('week 5 bk'!AJ18=\"VCT\",'week 5 bk'!AL18,0)","v":0}]
[9,{"$f":"IF('week 3 bk'!AJ21=\"ALT\",'week 3 bk'!AL21,0)","v":0},{"$f":"IF('week 3 bk'!AJ21=\"CAT\",'week 3 bk'!AL21,0)","v":0},{"$f":"IF('week 3 bk'!AJ21=\"CDT\",'week 3 bk'!AL21,0)","v":0},{"$f":"IF('week 3 bk'!AJ21=\"CTT\",'week 3 bk'!AL21,0)","v":0},{"$f":"IF('week 3 bk'!AJ21=\"DBT\",'week 3 bk'!AL21,0)","v":0},{"$f":"IF('week 3 bk'!AJ21=\"DOT\",'week 3 bk'!AL21,0)","v":0},{"$f":"IF('week 3 bk'!AJ21=\"DMT\",'week 3 bk'!AL21,0)","v":0},{"$f":"IF('week 3 bk'!AJ21=\"EMT\",'week 3 bk'!AL21,0)","v":0},{"$f":"IF('week 3 bk'!AJ21=\"EST\",'week 3 bk'!AL21,0)","v":0},{"$f":"IF('week 3 bk'!AJ21=\"FFT\",'week 3 bk'!AL21,0)","v":0},{"$f":"IF('week 3 bk'!AJ21=\"FPT\",'week 3 bk'!AL21,0)","v":0},{"$f":"IF('week 5 bk'!AJ19=\"HCT\",'week 5 bk'!AL19,0)","v":0},{"$f":"IF('week 5 bk'!AJ19=\"HOB\",'week 5 bk'!AL19,0)","v":0},{"$f":"IF('week 5 bk'!AJ19=\"JST\",'week 5 bk'!AL19,0)","v":0},{"$f":"IF('week 5 bk'!AJ19=\"LDT\",'week 5 bk'!AL19,0)","v":0},{"$f":"IF('week 5 bk'!AJ19=\"LET\",'week 5 bk'!AL19,0)","v":0},{"$f":"IF('week 5 bk'!AJ19=\"LPT\",'week 5 bk'!AL19,0)","v":0},{"$f":"IF('week 5 bk'!AJ19=\"MLT\",'week 5 bk'!AL19,0)","v":0},{"$f":"IF('week 5 bk'!AJ19=\"OHT\",'week 5 bk'!AL19,0)","v":0},{"$f":"IF('week 5 bk'!AJ19=\"OTT\",'week 5 bk'!AL19,0)","v":0},{"$f":"IF('week 5 bk'!AJ19=\"RCT\",'week 5 bk'!AL19,0)","v":0},{"$f":"IF('week 5 bk'!AJ19=\"SAT\",'week 5 bk'!AL19,0)","v":0},{"$f":"IF('week 5 bk'!AJ19=\"SET\",'week 5 bk'!AL19,0)","v":0},{"$f":"IF('week 5 bk'!AJ19=\"SLT\",'week 5 bk'!AL19,0)","v":0},{"$f":"IF('week 5 bk'!AJ19=\"VCT\",'week 5 bk'!AL19,0)","v":0}]
[10,{"$f":"IF('week 3 bk'!AJ22=\"ALT\",'week 3 bk'!AL22,0)","v":0},{"$f":"IF('week 3 bk'!AJ22=\"CAT\",'week 3 bk'!AL22,0)","v":0},{"$f":"IF('week 3 bk'!AJ22=\"CDT\",'week 3 bk'!AL22,0)","v":0},{"$f":"IF('week 3 bk'!AJ22=\"CTT\",'week 3 bk'!AL22,0)","v":0},{"$f":"IF('week 3 bk'!AJ22=\"DBT\",'week 3 bk'!AL22,0)","v":0},{"$f":"IF('week 3 bk'!AJ22=\"DOT\",'week 3 bk'!AL22,0)","v":0},{"$f":"IF('week 3 bk'!AJ22=\"DMT\",'week 3 bk'!AL22,0)","v":0},{"$f":"IF('week 3 bk'!AJ22=\"EMT\",'week 3 bk'!AL22,0)","v":0},{"$f":"IF('week 3 bk'!AJ22=\"EST\",'week 3 bk'!AL22,0)","v":0},{"$f":"IF('week 3 bk'!AJ22=\"FFT\",'week 3 bk'!AL22,0)","v":0},{"$f":"IF('week 3 bk'!AJ22=\"FPT\",'week 3 bk'!AL22,0)","v":0},{"$f":"IF('week 5 bk'!AJ20=\"HCT\",'week 5 bk'!AL20,0)","v":0},{"$f":"IF('week 5 bk'!AJ20=\"HOB\",'week 5 bk'!AL20,0)","v":0},{"$f":"IF('week 5 bk'!AJ20=\"JST\",'week 5 bk'!AL20,0)","v":0},{"$f":"IF('week 5 bk'!AJ20=\"LDT\",'week 5 bk'!AL20,0)","v":0},{"$f":"IF('week 5 bk'!AJ20=\"LET\",'week 5 bk'!AL20,0)","v":0},{"$f":"IF('week 5 bk'!AJ20=\"LPT\",'week 5 bk'!AL20,0)","v":0},{"$f":"IF('week 5 bk'!AJ20=\"MLT\",'week 5 bk'!AL20,0)","v":0},{"$f":"IF('week 5 bk'!AJ20=\"OHT\",'week 5 bk'!AL20,0)","v":0},{"$f":"IF('week 5 bk'!AJ20=\"OTT\",'week 5 bk'!AL20,0)","v":0},{"$f":"IF('week 5 bk'!AJ20=\"RCT\",'week 5 bk'!AL20,0)","v":0},{"$f":"IF('week 5 bk'!AJ20=\"SAT\",'week 5 bk'!AL20,0)","v":0},{"$f":"IF('week 5 bk'!AJ20=\"SET\",'week 5 bk'!AL20,0)","v":0},{"$f":"IF('week 5 bk'!AJ20=\"SLT\",'week 5 bk'!AL20,0)","v":0},{"$f":"IF('week 5 bk'!AJ20=\"VCT\",'week 5 bk'!AL20,0)","v":0}]
[11,{"$f":"IF('week 3 bk'!AJ23=\"ALT\",'week 3 bk'!AL23,0)","v":0},{"$f":"IF('week 3 bk'!AJ23=\"CAT\",'week 3 bk'!AL23,0)","v":0},{"$f":"IF('week 3 bk'!AJ23=\"CDT\",'week 3 bk'!AL23,0)","v":0},{"$f":"IF('week 3 bk'!AJ23=\"CTT\",'week 3 bk'!AL23,0)","v":0},{"$f":"IF('week 3 bk'!AJ23=\"DBT\",'week 3 bk'!AL23,0)","v":0},{"$f":"IF('week 3 bk'!AJ23=\"DOT\",'week 3 bk'!AL23,0)","v":0},{"$f":"IF('week 3 bk'!AJ23=\"DMT\",'week 3 bk'!AL23,0)","v":0},{"$f":"IF('week 3 bk'!AJ23=\"EMT\",'week 3 bk'!AL23,0)","v":0},{"$f":"IF('week 3 bk'!AJ23=\"EST\",'week 3 bk'!AL23,0)","v":0},{"$f":"IF('week 3 bk'!AJ23=\"FFT\",'week 3 bk'!AL23,0)","v":0},{"$f":"IF('week 3 bk'!AJ23=\"FPT\",'week 3 bk'!AL23,0)","v":0},{"$f":"IF('week 5 bk'!AJ21=\"HCT\",'week 5 bk'!AL21,0)","v":0},{"$f":"IF('week 5 bk'!AJ21=\"HOB\",'week 5 bk'!AL21,0)","v":0},{"$f":"IF('week 5 bk'!AJ21=\"JST\",'week 5 bk'!AL21,0)","v":0},{"$f":"IF('week 5 bk'!AJ21=\"LDT\",'week 5 bk'!AL21,0)","v":0},{"$f":"IF('week 5 bk'!AJ21=\"LET\",'week 5 bk'!AL21,0)","v":0},{"$f":"IF('week 5 bk'!AJ21=\"LPT\",'week 5 bk'!AL21,0)","v":0},{"$f":"IF('week 5 bk'!AJ21=\"MLT\",'week 5 bk'!AL21,0)","v":0},{"$f":"IF('week 5 bk'!AJ21=\"OHT\",'week 5 bk'!AL21,0)","v":0},{"$f":"IF('week 5 bk'!AJ21=\"OTT\",'week 5 bk'!AL21,0)","v":0},{"$f":"IF('week 5 bk'!AJ21=\"RCT\",'week 5 bk'!AL21,0)","v":0},{"$f":"IF('week 5 bk'!AJ21=\"SAT\",'week 5 bk'!AL21,0)","v":0},{"$f":"IF('week 5 bk'!AJ21=\"SET\",'week 5 bk'!AL21,0)","v":0},{"$f":"IF('week 5 bk'!AJ21=\"SLT\",'week 5 bk'!AL21,0)","v":0},{"$f":"IF('week 5 bk'!AJ21=\"VCT\",'week 5 bk'!AL21,0)","v":0}]
[12,{"$f":"IF('week 3 bk'!AJ24=\"ALT\",'week 3 bk'!AL24,0)","v":0},{"$f":"IF('week 3 bk'!AJ24=\"CAT\",'week 3 bk'!AL24,0)","v":0},{"$f":"IF('week 3 bk'!AJ24=\"CDT\",'week 3 bk'!AL24,0)","v":0},{"$f":"IF('week 3 bk'!AJ24=\"CTT\",'week 3 bk'!AL24,0)","v":0},{"$f":"IF('week 3 bk'!AJ24=\"DBT\",'week 3 bk'!AL24,0)","v":0},{"$f":"IF('week 3 bk'!AJ24=\"DOT\",'week 3 bk'!AL24,0)","v":0},{"$f":"IF('week 3 bk'!AJ24=\"DMT\",'week 3 bk'!AL24,0)","v":0},{"$f":"IF('week 3 bk'!AJ24=\"EMT\",'week 3 bk'!AL24,0)","v":0},{"$f":"IF('week 3 bk'!AJ24=\"EST\",'week 3 bk'!AL24,0)","v":0},{"$f":"IF('week 3 bk'!AJ24=\"FFT\",'week 3 bk'!AL24,0)","v":0},{"$f":"IF('week 3 bk'!AJ24=\"FPT\",'week 3 bk'!AL24,0)","v":0},{"$f":"IF('week 5 bk'!AJ22=\"HCT\",'week 5 bk'!AL22,0)","v":0},{"$f":"IF('week 5 bk'!AJ22=\"HOB\",'week 5 bk'!AL22,0)","v":0},{"$f":"IF('week 5 bk'!AJ22=\"JST\",'week 5 bk'!AL22,0)","v":0},{"$f":"IF('week 5 bk'!AJ22=\"LDT\",'week 5 bk'!AL22,0)","v":0},{"$f":"IF('week 5 bk'!AJ22=\"LET\",'week 5 bk'!AL22,0)","v":0},{"$f":"IF('week 5 bk'!AJ22=\"LPT\",'week 5 bk'!AL22,0)","v":0},{"$f":"IF('week 5 bk'!AJ22=\"MLT\",'week 5 bk'!AL22,0)","v":0},{"$f":"IF('week 5 bk'!AJ22=\"OHT\",'week 5 bk'!AL22,0)","v":0},{"$f":"IF('week 5 bk'!AJ22=\"OTT\",'week 5 bk'!AL22,0)","v":0},{"$f":"IF('week 5 bk'!AJ22=\"RCT\",'week 5 bk'!AL22,0)","v":0},{"$f":"IF('week 5 bk'!AJ22=\"SAT\",'week 5 bk'!AL22,0)","v":0},{"$f":"IF('week 5 bk'!AJ22=\"SET\",'week 5 bk'!AL22,0)","v":0},{"$f":"IF('week 5 bk'!AJ22=\"SLT\",'week 5 bk'!AL22,0)","v":0},{"$f":"IF('week 5 bk'!AJ22=\"VCT\",'week 5 bk'!AL22,0)","v":0}]
[13,{"$f":"IF('week 3 bk'!AJ25=\"ALT\",'week 3 bk'!AL25,0)","v":0},{"$f":"IF('week 3 bk'!AJ25=\"CAT\",'week 3 bk'!AL25,0)","v":0},{"$f":"IF('week 3 bk'!AJ25=\"CDT\",'week 3 bk'!AL25,0)","v":0},{"$f":"IF('week 3 bk'!AJ25=\"CTT\",'week 3 bk'!AL25,0)","v":0},{"$f":"IF('week 3 bk'!AJ25=\"DBT\",'week 3 bk'!AL25,0)","v":0},{"$f":"IF('week 3 bk'!AJ25=\"DOT\",'week 3 bk'!AL25,0)","v":0},{"$f":"IF('week 3 bk'!AJ25=\"DMT\",'week 3 bk'!AL25,0)","v":0},{"$f":"IF('week 3 bk'!AJ25=\"EMT\",'week 3 bk'!AL25,0)","v":0},{"$f":"IF('week 3 bk'!AJ25=\"EST\",'week 3 bk'!AL25,0)","v":0},{"$f":"IF('week 3 bk'!AJ25=\"FFT\",'week 3 bk'!AL25,0)","v":0},{"$f":"IF('week 3 bk'!AJ25=\"FPT\",'week 3 bk'!AL25,0)","v":0},{"$f":"IF('week 5 bk'!AJ23=\"HCT\",'week 5 bk'!AL23,0)","v":0},{"$f":"IF('week 5 bk'!AJ23=\"HOB\",'week 5 bk'!AL23,0)","v":0},{"$f":"IF('week 5 bk'!AJ23=\"JST\",'week 5 bk'!AL23,0)","v":0},{"$f":"IF('week 5 bk'!AJ23=\"LDT\",'week 5 bk'!AL23,0)","v":0},{"$f":"IF('week 5 bk'!AJ23=\"LET\",'week 5 bk'!AL23,0)","v":0},{"$f":"IF('week 5 bk'!AJ23=\"LPT\",'week 5 bk'!AL23,0)","v":0},{"$f":"IF('week 5 bk'!AJ23=\"MLT\",'week 5 bk'!AL23,0)","v":0},{"$f":"IF('week 5 bk'!AJ23=\"OHT\",'week 5 bk'!AL23,0)","v":0},{"$f":"IF('week 5 bk'!AJ23=\"OTT\",'week 5 bk'!AL23,0)","v":0},{"$f":"IF('week 5 bk'!AJ23=\"RCT\",'week 5 bk'!AL23,0)","v":0},{"$f":"IF('week 5 bk'!AJ23=\"SAT\",'week 5 bk'!AL23,0)","v":0},{"$f":"IF('week 5 bk'!AJ23=\"SET\",'week 5 bk'!AL23,0)","v":0},{"$f":"IF('week 5 bk'!AJ23=\"SLT\",'week 5 bk'!AL23,0)","v":0},{"$f":"IF('week 5 bk'!AJ23=\"VCT\",'week 5 bk'!AL23,0)","v":0}]
[14,{"$f":"IF('week 3 bk'!AJ26=\"ALT\",'week 3 bk'!AL26,0)","v":0},{"$f":"IF('week 3 bk'!AJ26=\"CAT\",'week 3 bk'!AL26,0)","v":0},{"$f":"IF('week 3 bk'!AJ26=\"CDT\",'week 3 bk'!AL26,0)","v":0},{"$f":"IF('week 3 bk'!AJ26=\"CTT\",'week 3 bk'!AL26,0)","v":0},{"$f":"IF('week 3 bk'!AJ26=\"DBT\",'week 3 bk'!AL26,0)","v":0},{"$f":"IF('week 3 bk'!AJ26=\"DOT\",'week 3 bk'!AL26,0)","v":0},{"$f":"IF('week 3 bk'!AJ26=\"DMT\",'week 3 bk'!AL26,0)","v":0},{"$f":"IF('week 3 bk'!AJ26=\"EMT\",'week 3 bk'!AL26,0)","v":0},{"$f":"IF('week 3 bk'!AJ26=\"EST\",'week 3 bk'!AL26,0)","v":0},{"$f":"IF('week 3 bk'!AJ26=\"FFT\",'week 3 bk'!AL26,0)","v":0},{"$f":"IF('week 3 bk'!AJ26=\"FPT\",'week 3 bk'!AL26,0)","v":0},{"$f":"IF('week 5 bk'!AJ24=\"HCT\",'week 5 bk'!AL24,0)","v":0},{"$f":"IF('week 5 bk'!AJ24=\"HOB\",'week 5 bk'!AL24,0)","v":0},{"$f":"IF('week 5 bk'!AJ24=\"JST\",'week 5 bk'!AL24,0)","v":0},{"$f":"IF('week 5 bk'!AJ24=\"LDT\",'week 5 bk'!AL24,0)","v":0},{"$f":"IF('week 5 bk'!AJ24=\"LET\",'week 5 bk'!AL24,0)","v":0},{"$f":"IF('week 5 bk'!AJ24=\"LPT\",'week 5 bk'!AL24,0)","v":0},{"$f":"IF('week 5 bk'!AJ24=\"MLT\",'week 5 bk'!AL24,0)","v":0},{"$f":"IF('week 5 bk'!AJ24=\"OHT\",'week 5 bk'!AL24,0)","v":0},{"$f":"IF('week 5 bk'!AJ24=\"OTT\",'week 5 bk'!AL24,0)","v":0},{"$f":"IF('week 5 bk'!AJ24=\"RCT\",'week 5 bk'!AL24,0)","v":0},{"$f":"IF('week 5 bk'!AJ24=\"SAT\",'week 5 bk'!AL24,0)","v":0},{"$f":"IF('week 5 bk'!AJ24=\"SET\",'week 5 bk'!AL24,0)","v":0},{"$f":"IF('week 5 bk'!AJ24=\"SLT\",'week 5 bk'!AL24,0)","v":0},{"$f":"IF('week 5 bk'!AJ24=\"VCT\",'week 5 bk'!AL24,0)","v":0}]
[null,null,null,null,null,null,null,null,null,null,null,null,{"$f":"IF('week 5 bk'!AJ25=\"HCT\",'week 5 bk'!AL25,0)","v":0},{"$f":"IF('week 5 bk'!AJ25=\"HOB\",'week 5 bk'!AL25,0)","v":0},{"$f":"IF('week 5 bk'!AJ25=\"JST\",'week 5 bk'!AL25,0)","v":0},{"$f":"IF('week 5 bk'!AJ25=\"LDT\",'week 5 bk'!AL25,0)","v":0},{"$f":"IF('week 5 bk'!AJ25=\"LET\",'week 5 bk'!AL25,0)","v":0},{"$f":"IF('week 5 bk'!AJ25=\"LPT\",'week 5 bk'!AL25,0)","v":0},{"$f":"IF('week 5 bk'!AJ25=\"MLT\",'week 5 bk'!AL25,0)","v":0},{"$f":"IF('week 5 bk'!AJ25=\"OHT\",'week 5 bk'!AL25,0)","v":0},{"$f":"IF('week 5 bk'!AJ25=\"OTT\",'week 5 bk'!AL25,0)","v":0},{"$f":"IF('week 5 bk'!AJ25=\"RCT\",'week 5 bk'!AL25,0)","v":0},{"$f":"IF('week 5 bk'!AJ25=\"SAT\",'week 5 bk'!AL25,0)","v":0},{"$f":"IF('week 5 bk'!AJ25=\"SET\",'week 5 bk'!AL25,0)","v":0},{"$f":"IF('week 5 bk'!AJ25=\"SLT\",'week 5 bk'!AL25,0)","v":0},{"$f":"IF('week 5 bk'!AJ25=\"VCT\",'week 5 bk'!AL25,0)","v":0}]
[null,null,null,null,null,null,null,null,null,null,null,null,{"$f":"IF('week 5 bk'!AJ26=\"HCT\",'week 5 bk'!AL26,0)","v":0},{"$f":"IF('week 5 bk'!AJ26=\"HOB\",'week 5 bk'!AL26,0)","v":0},{"$f":"IF('week 5 bk'!AJ26=\"JST\",'week 5 bk'!AL26,0)","v":0},{"$f":"IF('week 5 bk'!AJ26=\"LDT\",'week 5 bk'!AL26,0)","v":0},{"$f":"IF('week 5 bk'!AJ26=\"LET\",'week 5 bk'!AL26,0)","v":0},{"$f":"IF('week 5 bk'!AJ26=\"LPT\",'week 5 bk'!AL26,0)","v":0},{"$f":"IF('week 5 bk'!AJ26=\"MLT\",'week 5 bk'!AL26,0)","v":0},{"$f":"IF('week 5 bk'!AJ26=\"OHT\",'week 5 bk'!AL26,0)","v":0},{"$f":"IF('week 5 bk'!AJ26=\"OTT\",'week 5 bk'!AL26,0)","v":0},{"$f":"IF('week 5 bk'!AJ26=\"RCT\",'week 5 bk'!AL26,0)","v":0},{"$f":"IF('week 5 bk'!AJ26=\"SAT\",'week 5 bk'!AL26,0)","v":0},{"$f":"IF('week 5 bk'!AJ26=\"SET\",'week 5 bk'!AL26,0)","v":0},{"$f":"IF('week 5 bk'!AJ26=\"SLT\",'week 5 bk'!AL26,0)","v":0},{"$f":"IF('week 5 bk'!AJ26=\"VCT\",'week 5 bk'!AL26,0)","v":0}]
[null,null,null,null,null,null,null,null,null,null,null,null,null,null,null,null,null,null,null,null,null,null,null,null,null,null,{"$f":"IF('week 5 bk'!AN13=\"\",\"\",IF(AB78=FALSE,\"\",('week 5 bk'!AN13)))","v":""},{"$f":"SUMPRODUCT(--ISNUMBER(SEARCH(TakenRng,'week 5 bk'!AJ13)))>0","v":false},{"$f":"'week 5 bk'!AL13","v":0}]
[null,null,null,null,null,null,null,null,null,null,null,null,null,null,null,null,null,null,null,null,null,null,null,null,null,null,{"$f":"IF('week 5 bk'!AN14=\"\",\"\",IF(AB79=FALSE,\"\",('week 5 bk'!AN14)))","v":""},{"$f":"SUMPRODUCT(--ISNUMBER(SEARCH(TakenRng,'week 5 bk'!AJ14)))>0","v":false},{"$f":"'week 5 bk'!AL14","v":0}]
[null,null,null,null,null,null,null,null,null,null,null,null,null,null,null,null,null,null,null,null,null,null,null,null,null,null,{"$f":"IF('week 5 bk'!AN15=\"\",\"\",IF(AB80=FALSE,\"\",('week 5 bk'!AN15)))","v":""},{"$f":"SUMPRODUCT(--ISNUMBER(SEARCH(TakenRng,'week 5 bk'!AJ15)))>0","v":false},{"$f":"'week 5 bk'!AL15","v":0}]
[null,null,null,null,null,null,null,null,null,null,null,null,null,null,null,null,null,null,null,null,null,null,null,null,null,null,{"$f":"IF('week 5 bk'!AN16=\"\",\"\",IF(AB81=FALSE,\"\",('week 5 bk'!AN16)))","v":""},{"$f":"SUMPRODUCT(--ISNUMBER(SEARCH(TakenRng,'week 5 bk'!AJ16)))>0","v":false},{"$f":"'week 5 bk'!AL16","v":0}]
[null,null,null,null,null,null,null,null,null,null,null,null,null,null,null,null,null,null,null,null,null,null,null,null,null,null,{"$f":"IF('week 5 bk'!AN17=\"\",\"\",IF(AB82=FALSE,\"\",('week 5 bk'!AN17)))","v":""},{"$f":"SUMPRODUCT(--ISNUMBER(SEARCH(TakenRng,'week 5 bk'!AJ17)))>0","v":false},{"$f":"'week 5 bk'!AL17","v":0}]
[null,null,null,null,null,null,null,null,null,null,null,null,null,null,null,null,null,null,null,null,null,null,null,null,null,null,{"$f":"IF('week 5 bk'!AN18=\"\",\"\",IF(AB83=FALSE,\"\",('week 5 bk'!AN18)))","v":""},{"$f":"SUMPRODUCT(--ISNUMBER(SEARCH(TakenRng,'week 5 bk'!AJ18)))>0","v":false},{"$f":"'week 5 bk'!AL18","v":0}]
[null,null,null,null,null,null,null,null,null,null,null,null,null,null,null,null,null,null,null,null,null,null,null,null,null,null,{"$f":"IF('week 5 bk'!AN19=\"\",\"\",IF(AB84=FALSE,\"\",('week 5 bk'!AN19)))","v":""},{"$f":"SUMPRODUCT(--ISNUMBER(SEARCH(TakenRng,'week 5 bk'!AJ19)))>0","v":false},{"$f":"'week 5 bk'!AL19","v":0}]
[null,null,null,null,null,null,null,null,null,null,null,null,null,null,null,null,null,null,null,null,null,null,null,null,null,null,{"$f":"IF('week 5 bk'!AN20=\"\",\"\",IF(AB85=FALSE,\"\",('week 5 bk'!AN20)))","v":""},{"$f":"SUMPRODUCT(--ISNUMBER(SEARCH(TakenRng,'week 5 bk'!AJ20)))>0","v":false},{"$f":"'week 5 bk'!AL20","v":0}]
[null,null,null,null,null,null,null,null,null,null,null,null,null,null,null,null,null,null,null,null,null,null,null,null,null,null,{"$f":"IF('week 5 bk'!AN21=\"\",\"\",IF(AB86=FALSE,\"\",('week 5 bk'!AN21)))","v":""},{"$f":"SUMPRODUCT(--ISNUMBER(SEARCH(TakenRng,'week 5 bk'!AJ21)))>0","v":false},{"$f":"'week 5 bk'!AL21","v":0}]
[null,null,null,null,null,null,null,null,null,null,null,null,null,null,null,null,null,null,null,null,null,null,null,null,null,null,{"$f":"IF('week 5 bk'!AN22=\"\",\"\",IF(AB87=FALSE,\"\",('week 5 bk'!AN22)))","v":""},{"$f":"SUMPRODUCT(--ISNUMBER(SEARCH(TakenRng,'week 5 bk'!AJ22)))>0","v":false},{"$f":"'week 5 bk'!AL22","v":0}]
[null,null,null,null,null,null,null,null,null,null,null,null,null,null,null,null,null,null,null,null,null,null,null,null,null,null,{"$f":"IF('week 5 bk'!AN23=\"\",\"\",IF(AB88=FALSE,\"\",('week 5 bk'!AN23)))","v":""},{"$f":"SUMPRODUCT(--ISNUMBER(SEARCH(TakenRng,'week 5 bk'!AJ23)))>0","v":false},{"$f":"'week 5 bk'!AL23","v":0}]
[null,null,null,null,null,null,null,null,null,null,null,null,null,null,null,null,null,null,null,null,null,null,null,null,null,null,{"$f":"IF('week 5 bk'!AN24=\"\",\"\",IF(AB89=FALSE,\"\",('week 5 bk'!AN24)))","v":""},{"$f":"SUMPRODUCT(--ISNUMBER(SEARCH(TakenRng,'week 5 bk'!AJ24)))>0","v":false},{"$f":"'week 5 bk'!AL24","v":0}]
[null,null,null,null,null,null,null,null,null,null,null,null,null,null,null,null,null,null,null,null,null,null,null,null,null,null,{"$f":"IF('week 5 bk'!AN25=\"\",\"\",IF(AB90=FALSE,\"\",('week 5 bk'!AN25)))","v":""},{"$f":"SUMPRODUCT(--ISNUMBER(SEARCH(TakenRng,'week 5 bk'!AJ25)))>0","v":false},{"$f":"'week 5 bk'!AL25","v":0}]
[null,null,null,null,null,null,null,null,null,null,null,null,null,null,null,null,null,null,null,null,null,null,null,null,null,null,{"$f":"IF('week 5 bk'!AN26=\"\",\"\",IF(AB91=FALSE,\"\",('week 5 bk'!AN26)))","v":""},{"$f":"SUMPRODUCT(--ISNUMBER(SEARCH(TakenRng,'week 5 bk'!AJ26)))>0","v":false},{"$f":"'week 5 bk'!AL26","v":0}]
[]
[null,null,null,null,null,null,null,null,null,null,null,null,null,null,null,null,null,null,null,null,null,null,null,null,null,null,"Date","TT","TT1","TT2"]
[null,null,null,null,null,null,null,null,null,null,null,null,null,null,null,null,null,null,null,null,null,null,null,null,null,null,{"$f":"AQ11","v":""},{"$f":"IF((SUMPRODUCT(--((ISNUMBER(SEARCH(AA94,AA$78:AA$91)))),AC$78:AC$91)) > 0,\"Y\",\"N\")","v":"N"},{"$f":"SUMPRODUCT(--((ISNUMBER(SEARCH(AA94,AA$78:AA$91)))),AC$78:AC$91)","v":0},{"$f":"IF(O11=\"\",AU11,IF(OR(O11<8,O11=8),(IF(AB94=\"Y\",8-O11,IF(AB94=\"Y\",8,0)))-IF(OR(O11=8,O11<8),0,O11),IF(O11>8,0,(IF(AB94=\"Y\",AB94,0)))))","v":0}]
[null,null,null,null,null,null,null,null,null,null,null,null,null,null,null,null,null,null,null,null,null,null,null,null,null,null,{"$f":"AQ12","v":""},{"$f":"IF((SUMPRODUCT(--((ISNUMBER(SEARCH(AA95,AA$78:AA$91)))),AC$78:AC$91)) > 0,\"Y\",\"N\")","v":"N"},{"$f":"SUMPRODUCT(--((ISNUMBER(SEARCH(AA95,AA$78:AA$91)))),AC$78:AC$91)","v":0},{"$f":"IF(O12=\"\",AU12,IF(OR(O12<8,O12=8),(IF(AB95=\"Y\",8-O12,IF(AB95=\"Y\",8,0)))-IF(OR(O12=8,O12<8),0,O12),IF(O12>8,0,(IF(AB95=\"Y\",AB95,0)))))","v":0}]
[null,null,null,null,null,null,null,null,null,null,null,null,null,null,null,null,null,null,null,null,null,null,null,null,null,null,"","N",0,0]
[null,null,null,null,null,null,null,null,null,null,null,null,null,null,null,null,null,null,null,null,null,null,null,null,null,null,"","N",0,0]
[null,null,null,null,null,null,null,null,null,null,null,null,null,null,null,null,null,null,null,null,null,null,null,null,null,null,"","N",0,0]
["DAY OF WEEK","TTL HRS MINUS TIME OFF IN TIME FORMAT","TTL HRS CONVERTED TO DECIMALS","SUM REGULAR DAY & NIGHT ","SUM STEP DAY & NIGHT ","SUM REG & STEP TTLS","DAY/NIGHT COMPARED TO TTL HRS","TTL DIST OF DUTY TIME","DIST HRS COMPARED TO TTL HRS","IF TIME BEGIN MINUS TIME ENDED =< 24 HRS","24 HRS OF DUTY","MORE THAN 24 HR SPAN IN A DAY",null,null,null,null,null,null,null,null,null,null,null,null,null,null,"","N",0,0]
["SUN",{"$f":"IF(F11<D11,(24-D11)+F11,F11-D11)","v":0},{"$f":"IF(OR(D11=\"\",F11=\"\"),0,IF(D11=F11,J100,IF((VALUE(HOUR(B100))+VALUE(MINUTE(B100))/60)-H11=0,0,(VALUE(HOUR(B100))+VALUE(MINUTE(B100))/60)-H11)))","v":0},{"$f":"SUM(I11:J11)","v":0},{"$f":"SUM(L11:M11)","v":0},{"$f":"SUM(K11,N11)","v":0},{"$f":"IF(C100=F100,0,1)","v":0},{"$f":"IF(SUM(P11:Y11,AE11:AI11)=0,\"\",SUM(P11:Y11,AE11:AI11))","v":""},{"$f":"IF(C100=H100,0,1)","v":1},{"$f":"IF(D11=F11,K100-H11,C100)","v":24},{"$f":"(B100+24)","v":24},{"$f":"IF(AND(D11<>\"\",F11<>\"\",K100>24),1,0)","v":0},null,null,null,null,null,null,null,null,null,null,null,null,null,null,"","N",0,0]
["MON",0,0,0,0,0,0,"",1,24,24,0,null,"TIME ACCRUED/TAKEN CONVERSION & VALIDATION"]
["TUES",0,0,0,0,0,0,"",1,24,24,0,null,{"$f":"VALUE(AE47)*24","v":0},{"$f":"CODE(N102)","v":48},{"$f":"IF(AE47=\"\",1,CODE(AE47))","v":1},{"$f":"IF(O102=P102,0,1)","v":1},{"$f":"IF(O102-P102=0,0,1)","v":1},{"$f":"SUM(Q102:R102)","v":2},null,null,null,null,null,null,null,"TT1","Time Taken entered on weekly"]
["WED",0,0,0,0,0,0,"",1,24,24,0,null,{"$f":"VALUE(AE48)*24","v":0},{"$f":"CODE(N103)","v":48},{"$f":"IF(AE48=\"\",1,CODE(AE48))","v":1},{"$f":"IF(O103=P103,0,1)","v":1},{"$f":"IF(O103-P103=0,0,1)","v":1},{"$f":"SUM(Q103:R103)","v":2},null,null,null,null,null,null,null,"TT2","Caculated Time Taken (based upon duty time entry)"]
["THU",0,0,0,0,0,0,"",1,24,24,0,null,{"$f":"VALUE(AE49)*24","v":0},{"$f":"CODE(N104)","v":48},{"$f":"IF(AE49=\"\",1,CODE(AE49))","v":1},{"$f":"IF(O104=P104,0,1)","v":1},{"$f":"IF(O104-P104=0,0,1)","v":1},{"$f":"SUM(Q104:R104)","v":2}]
["FRI",0,0,0,0,0,0,"",1,24,24,0,null,{"$f":"VALUE(AE50)*24","v":0},{"$f":"CODE(N105)","v":48},{"$f":"IF(AE50=\"\",1,CODE(AE50))","v":1},{"$f":"IF(O105=P105,0,1)","v":1},{"$f":"IF(O105-P105=0,0,1)","v":1},{"$f":"SUM(Q105:R105)","v":2}]
["SAT",0,0,0,0,0,0,"",1,24,24,0]
[null,"SUM",{"$f":"SUM(C100:C106)","v":0},{"$f":"A87","v":0},{"$f":"IF(B87>999, \"0.0\", B87)","v":0},{"$f":"SUM(F100:F106)","v":0},{"$f":"SUM(G100:G106)","v":0},{"$f":"SUM(H100:H106)","v":0},{"$f":"SUM(I100:I106)","v":7}]
[null,null,{"$f":"MIN(C100:C106)","v":0},{"$f":"SUM(D100:D106)-D107+E151","v":0},{"$f":"SUM(E100:E106)","v":0}]
[]
[]
[]
[]
[]
[]
[]
[]
[null,null,null,null,null,null,null,null,null,null,null,null,null,null,null,null,null,null,null,null,null,null,null,null,null,null,null,null,null,null,null,null,null,null,null,null,null,null,null,null,null,null,null,null,null,null,null,null,null,null,null,null,null,null,null,null,null,null,null,null,null,null,"Big$Mac"]
[]
[]
[]
[]
[]
[]
[]
[]
[]
[]
[null,null,null,null,null,null,null,null,null,null,null,null,null,null,null,null,null,null,null,null,null,null,null,null,null,null,null,null,null,null,null,null,null,null,null,null,null,null,"LIST OF ACCEPTABLE CODES"]
[]
[null,null,null,null,null,null,null,null,null,null,null,null,null,null,null,null,null,null,null,null,null,null,null,null,null,null,null,null,null,null,null,null,null,null,null,null,null,null,"ALT"]
[null,null,null,null,null,null,null,null,null,null,null,null,null,null,null,null,null,null,null,null,null,null,null,null,null,null,null,null,null,null,null,null,null,null,null,null,null,null,"CAT"]
[null,null,null,null,null,null,null,null,null,null,null,null,null,null,null,null,null,null,null,null,null,null,null,null,null,null,null,null,"NO MILES OVER 1000/DAY OR ON R1 DAYS",null,null,null,null,null,null,null,null,null,"CDE"]
[null,null,null,null,null,null,null,null,null,null,null,null,null,null,null,null,null,null,null,null,null,null,null,null,null,null,null,null,{"$f":"IF(AND(E204=\"R1,R2\",Z11<>\"\"),0)","v":false},{"$f":"IF(Z11>1000,1,0)","v":0},{"$f":"SUM(AC133:AD133)","v":0},null,null,null,null,null,null,null,"CDT"]
[null,null,null,null,null,null,null,null,null,null,null,null,null,null,null,null,null,null,null,null,null,null,null,null,null,null,null,null,{"$f":"IF(AND(E205=\"R1\",Z12<>\"\"),0)","v":false},0,0,null,null,null,null,null,null,null,"CTE"]
[null,null,null,null,null,null,null,null,null,null,null,null,null,null,null,null,null,null,null,null,null,null,null,null,null,null,null,null,false,0,0,null,null,null,null,null,null,null,"CTT"]
[null,null,null,null,null,null,null,null,null,null,null,null,null,null,null,null,null,null,null,null,null,null,null,null,null,null,null,null,false,0,0,null,null,null,null,null,null,null,"DBT"]
[null,null,null,null,null,null,null,null,null,null,null,null,null,null,null,null,null,null,null,null,null,null,null,null,null,null,null,null,false,0,0,null,null,null,null,null,null,null,"DOT"]
[null,null,null,null,null,null,null,null,null,null,null,null,null,null,null,null,null,null,null,null,null,null,null,null,null,null,null,null,false,0,0,null,null,null,null,null,null,null,"DMT"]
[null,null,null,null,null,null,null,null,null,null,null,null,null,null,null,null,null,null,null,null,null,null,null,null,null,null,null,null,false,0,0,null,null,null,null,null,null,null,"EMT"]
[null,null,null,null,null,null,null,null,null,null,null,null,null,null,null,null,null,null,null,null,null,null,null,null,null,null,null,null,null,null,null,null,null,null,null,null,null,null,"EST"]
[null,null,null,null,null,null,null,null,null,null,null,null,null,null,null,null,null,null,null,null,null,null,null,null,null,null,null,null,null,null,null,null,null,null,null,null,null,null,"FFT"]
[null,null,null,null,null,null,null,null,null,null,null,null,null,null,null,null,null,null,null,null,null,null,null,null,null,null,null,null,null,null,null,null,null,null,null,null,null,null,"FPT"]
[null,null,null,null,null,null,null,null,null,null,null,null,null,null,null,null,null,null,null,null,null,null,null,null,null,null,null,null,null,null,null,null,null,null,null,null,null,null,"HCE"]
[null,null,null,null,null,null,null,null,null,null,null,null,null,null,null,null,null,null,null,null,null,null,null,null,null,null,null,null,null,null,null,null,null,null,null,null,null,null,"HCT"]
[null,null,null,null,null,null,null,null,null,null,null,null,null,null,null,null,null,null,null,null,null,null,null,null,null,null,null,null,null,null,null,null,null,null,null,null,null,null,"HOB"]
[null,null,null,null,null,null,null,null,null,null,null,null,null,null,null,null,null,null,null,null,null,null,null,null,null,null,null,null,null,null,null,null,null,null,null,null,null,null,"JST"]
[null,null,null,null,null,null,null,null,null,null,null,null,null,null,null,null,null,null,null,null,null,null,null,null,null,null,null,null,null,null,null,null,null,null,null,null,null,null,"LDT"]
[null,null,null,null,null,null,null,null,null,null,null,null,null,null,null,null,null,null,null,null,null,null,null,null,null,null,null,null,null,null,null,null,null,null,null,null,null,null,"LET"]
[null,null,null,null,null,null,null,null,null,null,null,null,null,null,null,null,null,null,null,null,null,null,null,null,null,null,null,null,null,null,null,null,null,null,null,null,null,null,"LPA"]
[null,null,null,null,null,null,null,null,null,null,null,null,null,null,null,null,null,null,null,null,null,null,null,null,null,null,null,null,null,null,null,null,null,null,null,null,null,null,"LPT"]
[null,null,null,null,null,null,null,null,null,null,null,null,null,null,null,null,null,null,null,null,null,null,null,null,null,null,null,null,null,null,null,null,null,null,null,null,null,null,"LWT"]
[null,null,null,null,null,null,null,null,null,null,null,null,null,null,null,null,null,null,null,null,null,null,null,null,null,null,null,null,null,null,null,null,null,null,null,null,null,null,"MLT"]
[null,null,null,null,null,null,null,null,null,null,null,null,null,null,null,null,null,null,null,null,null,null,null,null,null,null,null,null,null,null,null,null,null,null,null,null,null,null,"OHE"]
[null,null,null,null,null,null,null,null,null,null,null,null,null,null,null,null,null,null,null,null,null,null,null,null,null,null,null,null,null,null,null,null,null,null,null,null,null,null,"OHT"]
[null,null,null,null,null,null,null,null,null,null,null,null,null,null,null,null,null,null,null,null,null,null,null,null,null,null,null,null,null,null,null,null,null,null,null,null,null,null,"OTE"]
[null,null,null,null,null,null,null,null,null,null,null,null,null,null,null,null,null,null,null,null,null,null,null,null,null,null,null,null,null,null,null,null,null,null,null,null,null,null,"OTP"]
[null,null,null,null,null,null,null,null,null,null,null,null,null,null,null,null,null,null,null,null,null,null,null,null,null,null,null,null,null,null,null,null,null,null,null,null,null,null,"OTT"]
[null,null,null,null,null,null,null,null,null,null,null,null,null,null,null,null,null,null,null,null,null,null,null,null,null,null,null,null,null,null,null,null,null,null,null,null,null,null,"RCT"]
[null,null,null,null,null,null,null,null,null,null,null,null,null,null,null,null,null,null,null,null,null,null,null,null,null,null,null,null,null,null,null,null,null,null,null,null,null,null,"SAT"]
[null,null,null,null,null,null,null,null,null,null,null,null,null,null,null,null,null,null,null,null,null,null,null,null,null,null,null,null,null,null,null,null,null,null,null,null,null,null,"SET"]
[null,null,null,null,null,null,null,null,null,null,null,null,null,null,null,null,null,null,null,null,null,null,null,null,null,null,null,null,null,null,null,null,null,null,null,null,null,null,"SLT"]
[null,null,null,null,null,null,null,null,null,null,null,null,null,null,null,null,null,null,null,null,null,null,null,null,null,null,null,null,null,null,null,null,null,null,null,null,null,null,"VCT"]
[]
[]
[]
[]
[]
[]
[]
[]
[]
[null,null,null,null,null,null,null,null,null,null,null,null,null,null,null,null,null,null,null,null,null,null,null,null,null,null,null,null,"Hours Worked"]
[null,null,null,null,null,null,null,null,null,null,null,null,null,null,null,null,null,null,null,null,null,null,null,null,null,null,null,null,0.25]
[null,null,null,null,null,null,null,null,null,null,null,null,null,null,null,null,null,null,null,null,null,null,null,null,null,null,null,null,0.5]
[null,null,null,null,null,null,null,null,null,null,null,null,null,null,null,null,null,null,null,null,null,null,null,null,null,null,null,null,0.75]
[null,null,null,null,null,null,null,null,null,null,null,null,null,null,null,null,null,null,null,null,null,null,null,null,null,null,null,null,1]
[null,null,null,null,null,null,null,null,null,null,null,null,null,null,null,null,null,null,null,null,null,null,null,null,null,null,null,null,1.25]
[null,null,null,null,null,null,null,null,null,null,null,null,null,null,null,null,null,null,null,null,null,null,null,null,null,null,null,null,1.5]
[null,null,null,null,null,null,null,null,null,null,null,null,null,null,null,null,null,null,null,null,null,null,null,null,null,null,null,null,1.75]
[null,null,null,null,null,null,null,null,null,null,null,null,null,null,null,null,null,null,null,null,null,null,null,null,null,null,null,null,2]
[null,null,null,null,null,null,null,null,null,null,null,null,null,null,null,null,null,null,null,null,null,null,null,null,null,null,null,null,2.25]
[null,null,null,null,null,null,null,null,null,null,null,null,null,null,null,null,null,null,null,null,null,null,null,null,null,null,null,null,2.5]
[null,null,null,null,null,null,null,null,null,null,null,null,null,null,null,null,null,null,null,null,null,null,null,null,null,null,null,null,2.75]
[null,null,null,null,null,null,null,null,null,null,null,null,null,null,null,null,null,null,null,null,null,null,null,null,null,null,null,null,3]
[null,null,null,null,null,null,null,null,null,null,null,null,null,null,null,null,null,null,null,null,null,null,null,null,null,null,null,null,3.25]
[null,null,null,null,null,null,null,null,null,null,null,null,null,null,null,null,null,null,null,null,null,null,null,null,null,null,null,null,3.5]
[null,null,null,null,null,null,null,null,null,null,null,null,null,null,null,null,null,null,null,null,null,null,null,null,null,null,null,null,3.75]
[null,null,null,null,null,null,null,null,null,null,null,null,null,null,null,null,null,null,null,null,null,null,null,null,null,null,null,null,4]
[null,null,null,null,null,null,null,null,null,null,null,null,null,null,null,null,null,null,null,null,null,null,null,null,null,null,null,null,4.25]
[null,null,null,null,null,null,null,null,null,null,null,null,null,null,null,null,null,null,null,null,null,null,null,null,null,null,null,null,4.5]
[null,null,null,null,null,null,null,null,null,null,null,null,null,null,null,null,null,null,null,null,null,null,null,null,null,null,null,null,4.75]
[null,null,null,null,null,null,null,null,null,null,null,null,null,null,null,null,null,null,null,null,null,null,null,null,null,null,null,null,5]
[null,null,null,null,null,null,null,null,null,null,null,null,null,null,null,null,null,null,null,null,null,null,null,null,null,null,null,null,5.25]
[null,null,null,null,null,null,null,null,null,null,null,null,null,null,null,null,null,null,null,null,null,null,null,null,null,null,null,null,5.5]
[null,null,null,null,null,null,null,null,null,null,null,null,null,null,null,null,null,null,null,null,null,null,null,null,null,null,null,null,5.75]
[null,null,null,null,null,null,null,null,null,null,null,null,null,null,null,null,null,null,null,null,null,null,null,null,null,null,null,null,6]
[null,null,null,null,null,null,null,null,null,null,null,null,null,null,null,null,null,null,null,null,null,null,null,null,null,null,null,null,6.25]
[null,null,null,null,null,null,null,null,null,null,null,null,null,null,null,null,null,null,null,null,null,null,null,null,null,null,null,null,6.5]
[null,null,null,null,null,null,null,null,null,null,null,null,null,null,null,null,null,null,null,null,null,null,null,null,null,null,null,null,6.75]
[null,null,null,null,null,null,null,null,null,null,null,null,null,null,null,null,null,null,null,null,null,null,null,null,null,null,null,null,7]
[null,null,null,null,null,null,null,null,null,null,null,null,null,null,null,null,null,null,null,null,null,null,null,null,null,null,null,null,7.25]
[null,null,null,null,null,null,null,null,null,null,null,null,null,null,null,null,null,null,null,null,null,null,null,null,null,null,null,null,7.5]
[null,null,null,null,null,null,null,null,null,null,null,null,null,null,null,null,null,null,null,null,null,null,null,null,null,null,null,null,7.75]
[null,null,null,null,null,null,null,null,null,null,null,null,null,null,null,null,null,null,null,null,null,null,null,null,null,null,null,null,8]
[null,null,null,null,null,null,null,null,null,null,null,null,null,null,null,null,null,null,null,null,null,null,null,null,null,null,null,null,8.25]
[null,null,null,null,null,null,null,null,null,null,null,null,null,null,null,null,null,null,null,null,null,null,null,null,null,null,null,null,8.5]
[null,null,null,null,null,null,null,null,null,null,null,null,null,null,null,null,null,null,null,null,null,null,null,null,null,null,null,null,8.75]
[null,null,null,null,null,null,null,null,null,null,null,null,null,null,null,null,null,null,null,null,null,null,null,null,null,null,null,null,9]
[null,null,null,null,null,null,null,null,null,null,null,null,null,null,null,null,null,null,null,null,null,null,null,null,null,null,null,null,9.25]
[null,null,null,null,null,null,null,null,null,null,null,null,null,null,null,null,null,null,null,null,null,null,null,null,null,null,null,null,9.5]
[null,null,null,null,null,null,null,null,null,null,null,null,null,null,null,null,null,null,null,null,null,null,null,null,null,null,null,null,9.75]
[null,null,null,null,null,null,null,null,null,null,null,null,null,null,null,null,null,null,null,null,null,null,null,null,null,null,null,null,10]
[null,null,null,null,null,null,null,null,null,null,null,null,null,null,null,null,null,null,null,null,null,null,null,null,null,null,null,null,10.25]
[null,null,null,null,null,null,null,null,null,null,null,null,null,null,null,null,null,null,null,null,null,null,null,null,null,null,null,null,10.5]
[null,null,null,null,null,null,null,null,null,null,null,null,null,null,null,null,null,null,null,null,null,null,null,null,null,null,null,null,10.75]
[null,null,null,null,null,null,null,null,null,null,null,null,null,null,null,null,null,null,null,null,null,null,null,null,null,null,null,null,11]
[null,null,null,null,null,null,null,null,null,null,null,null,null,null,null,null,null,null,null,null,null,null,null,null,null,null,null,null,11.25]
[null,null,null,null,null,null,null,null,null,null,null,null,null,null,null,null,null,null,null,null,null,null,null,null,null,null,null,null,11.5]
[null,null,null,null,null,null,null,null,null,null,null,null,null,null,null,null,null,null,null,null,null,null,null,null,null,null,null,null,11.75]
[null,null,null,null,null,null,null,null,null,null,null,null,null,null,null,null,null,null,null,null,null,null,null,null,null,null,null,null,12]
[null,null,null,null,null,null,null,null,null,null,null,null,null,null,null,null,null,null,null,null,null,null,null,null,null,null,null,null,12.25]
[null,null,null,null,null,null,null,null,null,null,null,null,null,null,null,null,null,null,null,null,null,null,null,null,null,null,null,null,12.5]
[null,null,null,null,null,null,null,null,null,null,null,null,null,null,null,null,null,null,null,null,null,null,null,null,null,null,null,null,12.75]
[null,null,null,null,null,null,null,null,null,null,null,null,null,null,null,null,null,null,null,null,null,null,null,null,null,null,null,null,13]
[null,null,null,null,null,null,null,null,null,null,null,null,null,null,null,null,null,null,null,null,null,null,null,null,null,null,null,null,13.25]
[null,null,null,null,null,null,null,null,null,null,null,null,null,null,null,null,null,null,null,null,null,null,null,null,null,null,null,null,13.5]
[null,null,null,null,null,null,null,null,null,null,null,null,null,null,null,null,null,null,null,null,null,null,null,null,null,null,null,null,13.75]
[null,null,null,null,null,null,null,null,null,null,null,null,null,null,null,null,null,null,null,null,null,null,null,null,null,null,null,null,14]
[null,null,null,null,null,null,null,null,null,null,null,null,null,null,null,null,null,null,null,null,null,null,null,null,null,null,null,null,14.25]
[null,null,null,null,null,null,null,null,null,null,null,null,null,null,null,null,null,null,null,null,null,null,null,null,null,null,null,null,14.5]
[null,null,null,null,null,null,null,null,null,null,null,null,null,null,null,null,null,null,null,null,null,null,null,null,null,null,null,null,14.75]
[null,null,null,null,null,null,null,null,null,null,null,null,null,null,null,null,null,null,null,null,null,null,null,null,null,null,null,null,15]
[null,null,null,null,null,null,null,null,null,null,null,null,null,null,null,null,null,null,null,null,null,null,null,null,null,null,null,null,15.25]
[null,null,null,null,null,null,null,null,null,null,null,null,null,null,null,null,null,null,null,null,null,null,null,null,null,null,null,null,15.5]
[null,null,null,"TIME VALUES",null,null,null,null,null,null,null,null,null,null,null,null,null,null,null,null,null,null,null,null,null,null,null,null,15.75]
[null,null,null,"06:00:00",null,null,null,null,null,null,null,null,null,null,null,"HOURS LEAVE",null,null,null,null,null,null,null,null,null,null,null,null,16]
[null,null,null,"06:15:00",null,null,null,null,null,null,null,null,null,null,null,null,"0:15",0.25,null,null,null,null,null,null,null,null,null,null,16.25]
[null,null,null,"06:30:00",null,null,null,null,null,null,null,null,null,null,null,null,"0:30",0.5,null,null,null,null,null,null,null,null,null,null,16.5]
[null,null,null,"06:45:00",null,null,null,null,null,null,null,null,null,null,null,null,"0:45",0.75,null,null,null,null,null,null,null,null,null,null,16.75]
[null,null,null,"07:00:00",null,null,null,null,null,null,null,null,null,null,null,null,"1:00",1,null,null,null,null,null,null,null,null,null,null,17]
[null,null,null,"07:15:00",null,null,null,null,null,null,null,null,null,null,null,null,"1:15",1.25,null,null,null,null,null,null,null,null,null,null,17.25]
[null,null,null,"07:30:00",null,null,null,null,null,null,null,null,null,null,null,null,"1:30",1.5,null,null,null,null,null,null,null,null,null,null,17.5]
[null,null,null,"07:45:00",null,null,null,null,null,null,null,null,null,null,null,null,"1:45",1.75,null,null,null,null,null,null,null,null,null,null,17.75]
[null,null,null,"08:00:00",null,null,null,null,null,null,null,null,null,null,null,null,"2:00",2,null,null,null,null,null,null,null,null,null,null,18]
[null,null,null,"08:15:00",null,null,null,null,null,null,null,null,null,null,null,null,"2:15",2.25,null,null,null,null,null,null,null,null,null,null,18.25]
[null,null,null,"08:30:00",null,null,null,null,null,null,null,null,null,null,null,null,"2:30",2.5,null,null,null,null,null,null,null,null,null,null,18.5]
[null,null,null,"08:45:00",null,null,null,null,null,null,null,null,null,null,null,null,"2:45",2.75,null,null,null,null,null,null,null,null,null,null,18.75]
[null,null,null,"09:00:00",null,null,null,null,null,null,null,null,null,null,null,null,"3:00",3,null,null,null,null,null,null,null,null,null,null,19]
[null,null,null,"09:15:00",null,null,null,null,null,null,null,null,null,null,null,null,"3:15",3.25,null,null,null,null,null,null,null,null,null,null,19.25]
[null,null,null,"09:30:00",null,null,null,null,null,null,null,null,null,null,null,null,"3:30",3.5,null,null,null,null,null,null,null,null,null,null,19.5]
[null,null,null,"09:45:00",null,null,null,null,null,null,null,null,null,null,null,null,"3:45",3.75,null,null,null,null,null,null,null,null,null,null,19.75]
[null,null,null,"10:00:00",null,null,null,null,null,null,null,null,null,null,null,null,"4:00",4,null,null,null,null,null,null,null,null,null,null,20]
[null,null,null,"10:15:00",null,null,null,null,null,null,null,null,null,null,null,null,"4:15",4.25,null,null,null,null,null,null,null,null,null,null,20.25]
[null,null,null,"10:30:00",null,null,null,null,null,null,null,null,null,null,null,null,"4:30",4.5,null,null,null,null,null,null,null,null,null,null,20.5]
[null,null,null,"10:45:00",null,null,null,null,null,null,null,null,null,null,null,null,"4:45",4.75,null,null,null,null,null,null,null,null,null,null,20.75]
[null,null,null,"11:00:00",null,null,null,null,null,null,null,null,null,null,null,null,"5:00",5,null,null,null,null,null,null,null,null,null,null,21]
[null,null,null,"11:15:00",null,null,null,null,null,null,null,null,null,null,null,null,"5:15",5.25,null,null,null,null,null,null,null,null,null,null,21.25]
[null,null,null,"11:30:00",null,null,null,null,null,null,null,null,null,null,null,null,"5:30",5.5,null,null,null,null,null,null,null,null,null,null,21.5]
[null,null,null,"11:45:00",null,null,null,null,null,null,null,null,null,null,null,null,"5:45",5.75,null,null,null,null,null,null,null,null,null,null,21.75]
[null,null,null,"12:00:00",null,null,null,null,null,null,null,null,null,null,null,null,"6:00",6,null,null,null,null,null,null,null,null,null,null,22]
[null,null,null,"12:15:00",null,null,null,null,null,null,null,null,null,null,null,null,"6:15",6.25,null,null,null,null,null,null,null,null,null,null,22.25]
[null,null,null,"12:30:00",null,null,null,null,null,null,null,null,null,null,null,null,"6:30",6.5,null,null,null,null,null,null,null,null,null,null,22.5]
[null,null,null,"12:45:00",null,null,null,null,null,null,null,null,null,null,null,null,"6:45",6.75,null,null,null,null,null,null,null,null,null,null,22.75]
[null,null,null,"13:00:00",null,null,null,null,null,null,null,null,null,null,null,null,"7:00",7,null,null,null,null,null,null,null,null,null,null,23]
[null,null,null,"13:15:00",null,null,null,null,null,null,null,null,null,null,null,null,"7:15",7.25,null,null,null,null,null,null,null,null,null,null,23.25]
[null,null,null,"13:30:00",null,null,null,null,null,null,null,null,null,null,null,null,"7:30",7.5,null,null,null,null,null,null,null,null,null,null,23.5]
[null,null,null,"13:45:00",null,null,null,null,null,null,null,null,null,null,null,null,"7:45",7.75,null,null,null,null,null,null,null,null,null,null,23.75]
[null,null,null,"14:00:00",null,null,null,null,null,null,null,null,null,null,null,null,0.33333333333333331,8,null,null,null,null,null,null,null,null,null,null,24]
[null,null,null,"14:15:00",null,null,null,null,null,null,null,null,null,null,null,null,"8:15",8.25]
[null,null,null,"14:30:00",null,null,null,null,null,null,null,null,null,null,null,null,"8:30",8.5]
[null,null,null,"14:45:00",null,null,null,null,null,null,null,null,null,null,null,null,"8:45",{"$f":"R270+0.25","v":8.75}]
[null,null,null,"15:00:00",null,null,null,null,null,null,null,null,null,null,null,null,"9:00",9]
[null,null,null,"15:15:00",null,null,null,null,null,null,null,null,null,null,null,null,"9:15",9.25]
[null,null,null,"15:30:00",null,null,null,null,null,null,null,null,null,null,null,null,"9:30",9.5]
[null,null,null,"15:45:00",null,null,null,null,null,null,null,null,null,null,null,null,"9:45",9.75]
[null,null,null,"16:00:00",null,null,null,null,null,null,null,null,null,null,null,null,"10:00",10]
[null,null,null,"16:15:00",null,null,null,null,null,null,null,null,null,null,null,null,"10:15",10.25]
[null,null,null,"16:30:00",null,null,null,null,null,null,null,null,null,null,null,null,"10:30",10.5]
[null,null,null,"16:45:00",null,null,null,null,null,null,null,null,null,null,null,null,"10:45",10.75]
[null,null,null,"17:00:00",null,null,null,null,null,null,null,null,null,null,null,null,"11:00",11]
[null,null,null,"17:15:00",null,null,null,null,null,null,null,null,null,null,null,null,"11:15",11.25]
[null,null,null,"17:30:00",null,null,null,null,null,null,null,null,null,null,null,null,"11:30",11.5]
[null,null,null,"17:45:00",null,null,null,null,null,null,null,null,null,null,null,null,"11:45",11.75]
[null,null,null,"18:00:00",null,null,null,null,null,null,null,null,null,null,null,null,"12:00",12]
[null,null,null,"18:15:00",null,null,null,null,null,null,null,null,null,null,null,null,"12:15",12.25]
[null,null,null,"18:30:00",null,null,null,null,null,null,null,null,null,null,null,null,"12:30",12.5]
[null,null,null,"18:45:00",null,null,null,null,null,null,null,null,null,null,null,null,"12:45",12.75]
[null,null,null,"19:00:00",null,null,null,null,null,null,null,null,null,null,null,null,"13:00",13]
[null,null,null,"19:15:00",null,null,null,null,null,null,null,null,null,null,null,null,"13:15",13.25]
[null,null,null,"19:30:00",null,null,null,null,null,null,null,null,null,null,null,null,"13:30",13.5]
[null,null,null,"19:45:00",null,null,null,null,null,null,null,null,null,null,null,null,"13:45",13.75]
[null,null,null,"20:00:00",null,null,null,null,null,null,null,null,null,null,null,null,"14:00",14]
[null,null,null,"20:15:00",null,null,null,null,null,null,null,null,null,null,null,null,"14:15",14.25]
[null,null,null,"20:30:00",null,null,null,null,null,null,null,null,null,null,null,null,"14:30",14.5]
[null,null,null,"20:45:00",null,null,null,null,null,null,null,null,null,null,null,null,"14:45",14.75]
[null,null,null,"21:00:00",null,null,null,null,null,null,null,null,null,null,null,null,"15:00",15]
[null,null,null,"21:15:00",null,null,null,null,null,null,null,null,null,null,null,null,"15:15",15.25]
[null,null,null,"21:30:00",null,null,null,null,null,null,null,null,null,null,null,null,"15:30",15.5]
[null,null,null,"21:45:00",null,null,null,null,null,null,null,null,null,null,null,null,"15:45",15.75]
[null,null,null,"22:00:00",null,null,null,null,null,null,null,null,null,null,null,null,"16:00",16]
[null,null,null,"22:15:00",null,null,null,null,null,null,null,null,null,null,null,null,"16:15",16.25]
[null,null,null,"22:30:00",null,null,null,null,null,null,null,null,null,null,null,null,"16:30",16.5]
[null,null,null,"22:45:00",null,null,null,null,null,null,null,null,null,null,null,null,"16:45",{"$f":"R302+0.25","v":16.75}]
[null,null,null,"23:00:00",null,null,null,null,null,null,null,null,null,null,null,null,"17:00",17]
[null,null,null,"23:15:00",null,null,null,null,null,null,null,null,null,null,null,null,"17:15",17.25]
[null,null,null,"23:30:00",null,null,null,null,null,null,null,null,null,null,null,null,"17:30",17.5]
[null,null,null,"23:45:00",null,null,null,null,null,null,null,null,null,null,null,null,"17:45",17.75]
[null,null,null,"00:00:00",null,null,null,null,null,null,null,null,null,null,null,null,"18:00",18]
[null,null,null,"00:15:00",null,null,null,null,null,null,null,null,null,null,null,null,"18:15",18.25]
[null,null,null,"00:30:00",null,null,null,null,null,null,null,null,null,null,null,null,"18:30",18.5]
[null,null,null,"00:45:00",null,null,null,null,null,null,null,null,null,null,null,null,"18:45",18.75]
[null,null,null,"01:00:00",null,null,null,null,null,null,null,null,null,null,null,null,"19:00",19]
[null,null,null,"01:15:00",null,null,null,null,null,null,null,null,null,null,null,null,"19:15",19.25]
[null,null,null,"01:30:00",null,null,null,null,null,null,null,null,null,null,null,null,"19:30",19.5]
[null,null,null,"01:45:00",null,null,null,null,null,null,null,null,null,null,null,null,"19:45",19.75]
[null,null,null,"02:00:00",null,null,null,null,null,null,null,null,null,null,null,null,"20:00",20]
[null,null,null,"02:15:00",null,null,null,null,null,null,null,null,null,null,null,null,"20:15",20.25]
[null,null,null,"02:30:00",null,null,null,null,null,null,null,null,null,null,null,null,"20:30",20.5]
[null,null,null,"02:45:00",null,null,null,null,null,null,null,null,null,null,null,null,"20:45",20.75]
[null,null,null,"03:00:00",null,null,null,null,null,null,null,null,null,null,null,null,"21:00",21]
[null,null,null,"03:15:00",null,null,null,null,null,null,null,null,null,null,null,null,"21:15",21.25]
[null,null,null,"03:30:00",null,null,null,null,null,null,null,null,null,null,null,null,"21:30",21.5]
[null,null,null,"03:45:00",null,null,null,null,null,null,null,null,null,null,null,null,"21:45",21.75]
[null,null,null,"04:00:00",null,null,null,null,null,null,null,null,null,null,null,null,"22:00",22]
[null,null,null,"04:15:00",null,null,null,null,null,null,null,null,null,null,null,null,"22:15",22.25]
[null,null,null,"04:30:00",null,null,null,null,null,null,null,null,null,null,null,null,"22:30",22.5]
[null,null,null,"04:45:00",null,null,null,null,null,null,null,null,null,null,null,null,"22:45",22.75]
[null,null,null,"05:00:00",null,null,null,null,null,null,null,null,null,null,null,null,"23:00",23]
[null,null,null,"05:15:00",null,null,null,null,null,null,null,null,null,null,null,null,"23:15",23.25]
[null,null,null,"05:30:00",null,null,null,null,null,null,null,null,null,null,null,null,"23:30",23.5]
[null,null,null,"05:45:00",null,null,null,null,null,null,null,null,null,null,null,null,"23:45",23.75]
[null,null,null,null,null,null,null,null,null,null,null,null,null,null,null,null,"24:00",24]
[null,null,null,null,null,null,null,null,null,null,null,null,null,null,null,null,"24:15",24.25]
[null,null,null,null,null,null,null,null,null,null,null,null,null,null,null,null,"24:30",24.5]
[null,null,null,null,null,null,null,null,null,null,null,null,null,null,null,null,"24:45",{"$f":"R334+0.25","v":24.75}]
[null,null,null,null,null,null,null,null,null,null,null,null,null,null,null,null,"25:00",25]
[null,null,null,null,null,null,null,null,null,null,null,null,null,null,null,null,"25:15",25.25]
[null,null,null,null,null,null,null,null,null,null,null,null,null,null,null,null,"25:30",25.5]
[null,null,null,null,null,null,null,null,null,null,null,null,null,null,null,null,"25:45",25.75]
[null,null,null,null,null,null,null,null,null,null,null,null,null,null,null,null,"26:00",26]
[null,null,null,null,null,null,null,null,null,null,null,null,null,null,null,null,"26:15",26.25]
[null,null,null,null,null,null,null,null,null,null,null,null,null,null,null,null,"26:30",26.5]
[null,null,null,null,null,null,null,null,null,null,null,null,null,null,null,null,"26:45",26.75]
[null,null,null,null,null,null,null,null,null,null,null,null,null,null,null,null,"27:00",27]
[null,null,null,null,null,null,null,null,null,null,null,null,null,null,null,null,"27:15",27.25]
[null,null,null,null,null,null,null,null,null,null,null,null,null,null,null,null,"27:30",27.5]
[null,null,null,null,null,null,null,null,null,null,null,null,null,null,null,null,"27:45",27.75]
[null,null,null,null,null,null,null,null,null,null,null,null,null,null,null,null,"28:00",28]
[null,null,null,null,null,null,null,null,null,null,null,null,null,null,null,null,"28:15",28.25]
[null,null,null,null,null,null,null,null,null,null,null,null,null,null,null,null,"28:30",28.5]
[null,null,null,null,null,null,null,null,null,null,null,null,null,null,null,null,"28:45",28.75]
[null,null,null,null,null,null,null,null,null,null,null,null,null,null,null,null,"29:00",29]
[null,null,null,null,null,null,null,null,null,null,null,null,null,null,null,null,"29:15",29.25]
[null,null,null,null,null,null,null,null,null,null,null,null,null,null,null,null,"29:30",29.5]
[null,null,null,null,null,null,null,null,null,null,null,null,null,null,null,null,"29:45",29.75]
[null,null,null,null,null,null,null,null,null,null,null,null,null,null,null,null,"30:00",30]
[null,null,null,null,null,null,null,null,null,null,null,null,null,null,null,null,"30:15",30.25]
[null,null,null,null,null,null,null,null,null,null,null,null,null,null,null,null,"30:30",30.5]
[null,null,null,null,null,null,null,null,null,null,null,null,null,null,null,null,"30:45",30.75]
[null,null,null,null,null,null,null,null,null,null,null,null,null,null,null,null,"31:00",31]
[null,null,null,null,null,null,null,null,null,null,null,null,null,null,null,null,"31:15",31.25]
[null,null,null,null,null,null,null,null,null,null,null,null,null,null,null,null,"31:30",31.5]
[null,null,null,null,null,null,null,null,null,null,null,null,null,null,null,null,"31:45",31.75]
[null,null,null,null,null,null,null,null,null,null,null,null,null,null,null,null,"32:00",32]
[null,null,null,null,null,null,null,null,null,null,null,null,null,null,null,null,"32:15",32.25]
[null,null,null,null,null,null,null,null,null,null,null,null,null,null,null,null,"32:30",32.5]
[null,null,null,null,null,null,null,null,null,null,null,null,null,null,null,null,"32:45",{"$f":"R366+0.25","v":32.75}]
[null,null,null,null,null,null,null,null,null,null,null,null,null,null,null,null,"33:00",33]
[null,null,null,null,null,null,null,null,null,null,null,null,null,null,null,null,"33:15",33.25]
[null,null,null,null,null,null,null,null,null,null,null,null,null,null,null,null,"33:30",33.5]
[null,null,null,null,null,null,null,null,null,null,null,null,null,null,null,null,"33:45",33.75]
[null,null,null,null,null,null,null,null,null,null,null,null,null,null,null,null,"34:00",34]
[null,null,null,null,null,null,null,null,null,null,null,null,null,null,null,null,"34:15",34.25]
[null,null,null,null,null,null,null,null,null,null,null,null,null,null,null,null,"34:30",34.5]
[null,null,null,null,null,null,null,null,null,null,null,null,null,null,null,null,"34:45",34.75]
[null,null,null,null,null,null,null,null,null,null,null,null,null,null,null,null,"35:00",35]
[null,null,null,null,null,null,null,null,null,null,null,null,null,null,null,null,"35:15",35.25]
[null,null,null,null,null,null,null,null,null,null,null,null,null,null,null,null,"35:30",35.5]
[null,null,null,null,null,null,null,null,null,null,null,null,null,null,null,null,"35:45",35.75]
[null,null,null,null,null,null,null,null,null,null,null,null,null,null,null,null,"36:00",36]
[null,null,null,null,null,null,null,null,null,null,null,null,null,null,null,null,"36:15",36.25]
[null,null,null,null,null,null,null,null,null,null,null,null,null,null,null,null,"36:30",36.5]
[null,null,null,null,null,null,null,null,null,null,null,null,null,null,null,null,"36:45",36.75]
[null,null,null,null,null,null,null,null,null,null,null,null,null,null,null,null,"37:00",37]
[null,null,null,null,null,null,null,null,null,null,null,null,null,null,null,null,"37:15",37.25]
[null,null,null,null,null,null,null,null,null,null,null,null,null,null,null,null,"37:30",37.5]
[null,null,null,null,null,null,null,null,null,null,null,null,null,null,null,null,"37:45",37.75]
[null,null,null,null,null,null,null,null,null,null,null,null,null,null,null,null,"38:00",38]
[null,null,null,null,null,null,null,null,null,null,null,null,null,null,null,null,"38:15",38.25]
[null,null,null,null,null,null,null,null,null,null,null,null,null,null,null,null,"38:30",38.5]
[null,null,null,null,null,null,null,null,null,null,null,null,null,null,null,null,"38:45",38.75]
[null,null,null,null,null,null,null,null,null,null,null,null,null,null,null,null,"39:00",39]
[null,null,null,null,null,null,null,null,null,null,null,null,null,null,null,null,"39:15",39.25]
[null,null,null,null,null,null,null,null,null,null,null,null,null,null,null,null,"39:30",39.5]
[null,null,null,null,null,null,null,null,null,null,null,null,null,null,null,null,"39:45",39.75]
[null,null,null,null,null,null,null,null,null,null,null,null,null,null,null,null,"40:00",40]
[null,null,null,null,null,null,null,null,null,null,null,null,null,null,null,null,"40:15"]
[null,null,null,null,null,null,null,null,null,null,null,null,null,null,null,null,"40:30"]
[null,null,null,null,null,null,null,null,null,null,null,null,null,null,null,null,"40:45"]
[null,null,null,null,null,null,null,null,null,null,null,null,null,null,null,null,"41:00"]
[null,null,null,null,null,null,null,null,null,null,null,null,null,null,null,null,"41:15"]
[null,null,null,null,null,null,null,null,null,null,null,null,null,null,null,null,"41:30"]
[null,null,null,null,null,null,null,null,null,null,null,null,null,null,null,null,"41:45"]
[null,null,null,null,null,null,null,null,null,null,null,null,null,null,null,null,"42:00"]
[null,null,null,null,null,null,null,null,null,null,null,null,null,null,null,null,"42:15"]
[null,null,null,null,null,null,null,null,null,null,null,null,null,null,null,null,"42:30"]
[null,null,null,null,null,null,null,null,null,null,null,null,null,null,null,null,"42:45"]
[null,null,null,null,null,null,null,null,null,null,null,null,null,null,null,null,"43:00"]
[null,null,null,null,null,null,null,null,null,null,null,null,null,null,null,null,"43:15"]
[null,null,null,null,null,null,null,null,null,null,null,null,null,null,null,null,"43:30"]
[null,null,null,null,null,null,null,null,null,null,null,null,null,null,null,null,"43:45"]
[null,null,null,null,null,null,null,null,null,null,null,null,null,null,null,null,"44:00"]
[null,null,null,null,null,null,null,null,null,null,null,null,null,null,null,null,"44:15"]
[null,null,null,null,null,null,null,null,null,null,null,null,null,null,null,null,"44:30"]
[null,null,null,null,null,null,null,null,null,null,null,null,null,null,null,null,"44:45"]
[null,null,null,null,null,null,null,null,null,null,null,null,null,null,null,null,"45:00"]
[null,null,null,null,null,null,null,null,null,null,null,null,null,null,null,null,"45:15"]
[null,null,null,null,null,null,null,null,null,null,null,null,null,null,null,null,"45:30"]
[null,null,null,null,null,null,null,null,null,null,null,null,null,null,null,null,"45:45"]
[null,null,null,null,null,null,null,null,null,null,null,null,null,null,null,null,"46:00"]
[null,null,null,null,null,null,null,null,null,null,null,null,null,null,null,null,"46:15"]
[null,null,null,null,null,null,null,null,null,null,null,null,null,null,null,null,"46:30"]
[null,null,null,null,null,null,null,null,null,null,null,null,null,null,null,null,"46:45"]
[null,null,null,null,null,null,null,null,null,null,null,null,null,null,null,null,"47:00"]
[null,null,null,null,null,null,null,null,null,null,null,null,null,null,null,null,"47:15"]
[null,null,null,null,null,null,null,null,null,null,null,null,null,null,null,null,"47:30"]
[null,null,null,null,null,null,null,null,null,null,null,null,null,null,null,null,"47:45"]
[null,null,null,null,null,null,null,null,null,null,null,null,null,null,null,null,"48:00"]
[null,null,null,null,null,null,null,null,null,null,null,null,null,null,null,null,"48:15"]
[null,null,null,null,null,null,null,null,null,null,null,null,null,null,null,null,"48:30"]
[null,null,null,null,null,null,null,null,null,null,null,null,null,null,null,null,"48:45"]
[null,null,null,null,null,null,null,null,null,null,null,null,null,null,null,null,"49:00"]
[null,null,null,null,null,null,null,null,null,null,null,null,null,null,null,null,"49:15"]
[null,null,null,null,null,null,null,null,null,null,null,null,null,null,null,null,"49:30"]
[null,null,null,null,null,null,null,null,null,null,null,null,null,null,null,null,"49:45"]
[null,null,null,null,null,null,null,null,null,null,null,null,null,null,null,null,"50:00"]
[null,null,null,null,null,null,null,null,null,null,null,null,null,null,null,null,"50:15"]
[null,null,null,null,null,null,null,null,null,null,null,null,null,null,null,null,"50:30"]
[null,null,null,null,null,null,null,null,null,null,null,null,null,null,null,null,"50:45"]
[null,null,null,null,null,null,null,null,null,null,null,null,null,null,null,null,"51:00"]
[null,null,null,null,null,null,null,null,null,null,null,null,null,null,null,null,"51:15"]
[null,null,null,null,null,null,null,null,null,null,null,null,null,null,null,null,"51:30"]
[null,null,null,null,null,null,null,null,null,null,null,null,null,null,null,null,"51:45"]
[null,null,null,null,null,null,null,null,null,null,null,null,null,null,null,null,"52:00"]
[null,null,null,null,null,null,null,null,null,null,null,null,null,null,null,null,"52:15"]
[null,null,null,null,null,null,null,null,null,null,null,null,null,null,null,null,"52:30"]
[null,null,null,null,null,null,null,null,null,null,null,null,null,null,null,null,"52:45"]
[null,null,null,null,null,null,null,null,null,null,null,null,null,null,null,null,"53:00"]
[null,null,null,null,null,null,null,null,null,null,null,null,null,null,null,null,"53:15"]
[null,null,null,null,null,null,null,null,null,null,null,null,null,null,null,null,"53:30"]
[null,null,null,null,null,null,null,null,null,null,null,null,null,null,null,null,"53:45"]
[null,null,null,null,null,null,null,null,null,null,null,null,null,null,null,null,"54:00"]
[null,null,null,null,null,null,null,null,null,null,null,null,null,null,null,null,"54:15"]
[null,null,null,null,null,null,null,null,null,null,null,null,null,null,null,null,"54:30"]
[null,null,null,null,null,null,null,null,null,null,null,null,null,null,null,null,"54:45"]
[null,null,null,null,null,null,null,null,null,null,null,null,null,null,null,null,"55:00"]
[null,null,null,null,null,null,null,null,null,null,null,null,null,null,null,null,"55:15"]
[null,null,null,null,null,null,null,null,null,null,null,null,null,null,null,null,"55:30"]
[null,null,null,null,null,null,null,null,null,null,null,null,null,null,null,null,"55:45"]
[null,null,null,null,null,null,null,null,null,null,null,null,null,null,null,null,"56:00"]

{"sheet":"week 5 bk","index":11,"n_rows":444,"n_cols":63,"rows_kept":444,"cut":false,"hidden":false,"merged":[[16,35,16,36],[10,35,11,36],[10,37,11,38],[19,35,19,36],[19,37,19,38],[19,39,19,40],[17,35,17,36],[17,37,17,38],[17,39,17,40],[18,35,18,36],[18,37,18,38],[18,39,18,40],[12,37,12,38],[12,39,12,40],[13,35,13,36],[13,37,13,38],[13,39,13,40],[12,35,12,36],[14,37,14,38],[14,39,14,40],[15,35,15,36],[15,37,15,38],[0,0,0,1],[1,0,1,1],[1,2,1,6],[1,7,1,12],[14,16,15,17],[12,4,13,5],[12,12,13,13],[12,14,13,15],[12,16,13,17],[12,6,13,7],[12,8,13,9],[14,10,15,11],[14,8,15,9],[14,12,15,13],[10,2,11,3],[11,10,11,11],[9,0,9,1],[9,2,9,6],[9,7,9,12],[10,0,11,1],[11,4,11,5],[9,13,9,18],[11,6,11,7],[14,0,15,1],[1,35,1,40],[2,0,2,1],[2,2,2,6],[2,7,2,12],[2,13,2,18],[2,19,2,20],[2,21,2,25],[2,26,2,34],[2,35,2,40],[1,13,1,18],[1,19,1,20],[1,21,1,25],[1,26,1,34],[5,26,5,34],[5,35,5,40],[5,19,5,20],[5,21,5,25],[5,0,5,1],[5,2,5,6],[5,7,5,12],[5,13,5,18],[3,26,3,34],[3,35,3,40],[4,19,4,20],[4,21,4,25],[4,26,4,34],[4,35,4,40],[3,19,3,20],[3,21,3,25],[3,2,3,6],[3,7,3,12],[3,13,3,18],[4,0,4,1],[4,2,4,6],[4,7,4,12],[4,13,4,18],[3,0,3,1],[8,2,8,6],[8,7,8,12],[8,13,8,18],[6,19,6,20],[6,21,6,25],[6,0,6,1],[6,2,6,6],[6,7,6,12],[6,13,6,18],[7,0,7,1],[7,2,7,6],[7,7,7,12],[7,13,7,18],[8,19,8,20],[8,21,8,25],[7,19,7,20],[7,21,7,25],[8,0,8,1],[11,22,11,23],[12,18,13,19],[10,24,11,34],[10,39,11,40],[14,22,15,23],[14,24,15,34],[15,39,15,40],[14,35,14,36],[6,26,6,34],[6,35,6,40],[7,26,7,34],[7,35,7,40],[8,26,8,34],[8,35,8,40],[14,18,15,19],[14,2,15,3],[12,0,13,1],[12,2,13,3],[14,4,15,5],[18,12,19,13],[18,10,19,11],[16,8,17,9],[18,2,19,3],[16,6,17,7],[18,4,19,5],[18,0,19,1],[14,6,15,7],[12,10,13,11],[16,0,17,1],[16,2,17,3],[18,8,19,9],[18,14,19,15],[18,16,19,17],[22,4,23,5],[20,6,21,7],[22,6,23,7],[22,12,23,13],[20,10,21,11],[22,10,23,11],[20,8,21,9],[22,8,23,9],[24,0,25,1],[24,2,25,3],[24,4,25,5],[24,6,25,7],[20,12,21,13],[22,0,23,1],[22,2,23,3],[20,0,21,1],[20,2,21,3],[20,4,21,5],[24,12,25,13],[29,0,29,1],[29,2,29,5],[30,0,30,1],[31,6,31,9],[32,6,32,9],[21,39,21,40],[22,35,22,36],[24,8,25,9],[21,35,21,36],[21,37,21,38],[22,37,22,38],[22,18,23,19],[24,10,25,11],[22,14,23,15],[22,16,23,17],[20,14,21,15],[20,16,21,17],[24,35,24,36],[24,37,24,38],[24,39,24,40],[20,35,20,36],[20,37,20,38],[20,39,20,40],[23,35,23,36],[35,0,36,5],[98,10,98,11],[98,12,98,13],[36,6,36,15],[98,6,98,7],[33,14,33,15],[33,0,33,1],[34,0,34,1],[34,2,34,5],[34,6,34,9],[34,10,34,13],[33,2,33,5],[30,16,30,25],[29,14,29,15],[28,14,28,15],[98,8,98,9],[35,6,35,9],[35,10,35,13],[35,18,36,20],[33,6,33,9],[33,10,33,13],[33,16,33,25],[28,6,28,9],[28,10,28,13],[29,6,29,9],[29,10,29,13],[28,16,28,25],[29,16,29,25],[33,26,33,40],[98,14,98,15],[34,14,34,15],[34,16,34,25],[35,21,35,22],[36,21,36,22],[35,16,36,17],[35,14,35,15],[31,10,31,13],[32,10,32,13],[34,26,34,40],[6,44,6,47],[6,49,6,55],[27,10,27,13],[24,14,25,15],[24,16,25,17],[16,14,17,15],[16,16,17,17],[16,12,17,13],[9,35,9,40],[10,42,10,43],[11,42,11,43],[24,18,25,19],[24,20,25,21],[22,20,23,21],[24,42,24,43],[20,42,20,43],[24,22,25,23],[24,24,25,34],[22,22,23,23],[6,42,6,43],[9,42,9,43],[12,42,12,43],[15,42,15,43],[12,20,13,21],[26,6,26,13],[26,14,27,15],[26,16,27,25],[26,26,27,40],[11,16,11,17],[9,19,9,20],[9,21,9,25],[9,26,9,34],[11,8,11,9],[11,12,11,13],[11,14,11,15],[10,4,10,11],[10,12,10,23],[14,14,15,15],[11,18,11,19],[11,20,11,21],[12,22,13,23],[12,24,13,34],[14,20,15,21],[16,18,17,19],[16,20,17,21],[18,6,19,7],[16,10,17,11],[16,4,17,5],[4,42,4,43],[5,42,5,43],[3,44,3,47],[3,49,3,55],[4,44,4,47],[4,49,4,55],[5,44,5,47],[5,49,5,55],[0,44,0,47],[0,49,0,55],[1,44,1,47],[1,49,1,55],[2,44,2,47],[2,49,2,55],[1,42,1,43],[2,42,2,43],[0,42,0,43],[3,42,3,43],[9,44,9,47],[9,49,9,55],[10,44,10,47],[10,49,10,55],[11,44,11,47],[11,49,11,55],[7,42,7,43],[8,42,8,43],[15,44,15,47],[15,49,15,55],[7,44,7,47],[7,49,7,55],[8,44,8,47],[8,49,8,55],[16,44,16,47],[16,49,16,55],[17,44,17,47],[17,49,17,55],[13,42,13,43],[14,42,14,43],[12,44,12,47],[12,49,12,55],[13,44,13,47],[13,49,13,55],[14,44,14,47],[14,49,14,55],[30,42,30,43],[28,42,28,43],[29,42,29,43],[28,44,28,47],[28,49,28,55],[29,44,29,47],[29,49,29,55],[30,44,30,47],[30,49,30,55],[35,42,35,43],[36,41,37,41],[36,42,37,43],[34,42,34,43],[31,42,31,43],[32,42,32,43],[33,42,33,43],[31,44,31,47],[31,49,31,55],[32,44,32,47],[33,44,33,47],[33,49,33,55],[34,44,34,47],[34,49,34,55],[35,44,35,47],[35,49,35,55],[36,44,37,47],[36,48,37,48],[36,49,37,55],[20,49,20,55],[21,44,21,47],[16,22,17,23],[16,24,17,34],[18,22,19,23],[18,24,19,34],[20,18,21,19],[20,20,21,21],[20,22,21,23],[20,24,21,34],[18,18,19,19],[18,20,19,21],[21,42,21,43],[18,42,18,43],[19,42,19,43],[18,44,18,47],[18,49,18,55],[19,44,19,47],[19,49,19,55],[21,49,21,55],[16,42,16,43],[17,42,17,43],[16,37,16,38],[16,39,16,40],[20,44,20,47],[22,24,23,34],[25,42,25,43],[22,42,22,43],[23,42,23,43],[23,37,23,38],[23,39,23,40],[22,39,22,40],[25,35,25,36],[25,37,25,38],[25,39,25,40],[22,44,22,47],[26,0,27,1],[26,2,27,5],[27,6,27,9],[26,41,27,41],[26,42,27,43],[28,26,28,40],[32,26,32,40],[30,26,30,40],[29,26,29,40],[31,26,31,40],[31,14,31,15],[31,16,31,25],[31,0,31,1],[32,14,32,15],[32,16,32,25],[32,0,32,1],[32,2,32,5],[30,2,30,5],[30,6,30,9],[30,10,30,13],[28,2,28,5],[28,0,28,1],[31,2,31,5],[30,14,30,15],[22,49,22,55],[23,44,23,47],[23,49,23,55],[24,44,24,47],[24,49,24,55],[25,44,25,47],[25,49,25,55],[26,44,27,47],[26,48,27,48],[26,49,27,55]]}
["DATE",null," ACTIVITY ",null,null,null,null," IDENTIFICATION ",null,null,null,null,null," LOCATION ",null,null,null,null,null,"DATE",null," ACTIVITY ",null,null,null,null," IDENTIFICATION ",null,null,null,null,null,null,null,null," LOCATION ",null,null,null,null,null,"EXERCISE","DATE",null,"EXERCISE",null,null,null,"HORSE","DETAILS"]
[null,null,null,null,null,null,null,null,null,null,null,null,null,null,null,null,null,null,null,null,null,null,null,null,null,null,null,null,null,null,null,null,null,null,null,null,null,null,null,null,null,1]
[null,null,null,null,null,null,null,null,null,null,null,null,null,null,null,null,null,null,null,null,null,null,null,null,null,null,null,null,null,null,null,null,null,null,null,null,null,null,null,null,null,2]
[null,null,null,null,null,null,null,null,null,null,null,null,null,null,null,null,null,null,null,null,null,null,null,null,null,null,null,null,null,null,null,null,null,null,null,null,null,null,null,null,null,3]
[null,null,null,null,null,null,null,null,null,null,null,null,null,null,null,null,null,null,null,null,null,null,null,null,null,null,null,null,null,null,null,null,null,null,null,null,null,null,null,null,null,4]
[null,null,null,null,null,null,null,null,null,null,null,null,null,null,null,null,null,null,null,null,null,null,null,null,null,null,null,null,null,null,null,null,null,null,null,null,null,null,null,null,null,5]
[null,null,null,null,null,null,null,null,null,null,null,null,null,null,null,null,null,null,null,null,null,null,null,null,null,null,null,null,null,null,null,null,null,null,null,null,null,null,null,null,null,6]
[null,null,null,null,null,null,null,null,null,null,null,null,null,null,null,null,null,null,null,null,null,null,null,null,null,null,null,null,null,null,null,null,null,null,null,null,null,null,null,null,null,7]
[null,null,null,null,null,null,null,null,null,null,null,null,null,null,null,null,null,null,null,null,null,null,null,null,null,null,null,null,null,null,null,null,null,null,null,null,null,null,null,null,null,8]
[null,null,null,null,null,null,null,null,null,null,null,null,null,null,null,null,null,null,null,null,null,null,null,null,null,null,null,null,null,null,null,null,null,null,null,null,null,null,null,null,null,9]
["DAY",null,"DATE",null,"OVERTIME",null,null,null,null,null,null,null,"AWAY FROM DUTY STATION",null,null,null,null,null,null,null,null,null,null,null,"EXPLANATION OF DUTIES PERFORMED, AREA WORKED, JUSTIFICATION FOR OVERTIME",null,null,null,null,null,null,null,null,null,null,"CODE",null,"HOURS\n(DECIMAL)",null,"DATE",null,10]
[null,null,null,null,"OT PROJECT",null,"SPEED CHART #",null,"SHIFT WORKED",null,"# OT HOURS",null,"TIME LEFT",null,"ARRIVED BACK",null,"HOURS AWAY",null,"MEALS",null,"ROOMS & OTHER",null,"TOTAL EXPENSE",null,null,null,null,null,null,null,null,null,null,null,null,null,null,null,null,null,null,11,null,null,null,null,null,null,null,null,null,null,null,null,null,null,null,null,null,null,null,null,{"$f":"C13","v":""}]
["SUN",null,{"$f":"IF('Week 5'!B11=\"\",\"\",'Week 5'!B11)","v":""},null,null,null,null,null,null,null,null,null,null,null,null,null,null,null,null,null,null,null,{"$f":"IF(SUM(S13+U13)=0,\"\",SUM(S13+U13))","v":""},null,null,null,null,null,null,null,null,null,null,null,null,null,null,null,null,null,null,12,null,null,null,null,null,null,null,null,null,null,null,null,null,null,null,null,null,null,null,null,{"$f":"C25","v":""}]
[null,null,null,null,null,null,null,null,null,null,null,null,null,null,null,null,null,null,null,null,null,null,null,null,null,null,null,null,null,null,null,null,null,null,null,null,null,null,null,null,null,13]
["MON",null,{"$f":"IF('Week 5'!B12=\"\",\"\",'Week 5'!B12)","v":""},null,null,null,null,null,null,null,null,null,null,null,null,null,null,null,null,null,null,null,{"$f":"IF(SUM(S15+U15)=0,\"\",SUM(S15+U15))","v":""},null,null,null,null,null,null,null,null,null,null,null,null,null,null,null,null,null,null,14]
[null,null,null,null,null,null,null,null,null,null,null,null,null,null,null,null,null,null,null,null,null,null,null,null,null,null,null,null,null,null,null,null,null,null,null,null,null,null,null,null,null,15]
["TUE",null,{"$f":"IF('Week 5'!B13=\"\",\"\",'Week 5'!B13)","v":""},null,null,null,null,null,null,null,null,null,null,null,null,null,null,null,null,null,null,null,{"$f":"IF(SUM(S17+U17)=0,\"\",SUM(S17+U17))","v":""},null,null,null,null,null,null,null,null,null,null,null,null,null,null,null,null,null,null,16]
[null,null,null,null,null,null,null,null,null,null,null,null,null,null,null,null,null,null,null,null,null,null,null,null,null,null,null,null,null,null,null,null,null,null,null,null,null,null,null,null,null,17]
["WED",null,{"$f":"IF('Week 5'!B14=\"\",\"\",'Week 5'!B14)","v":""},null,null,null,null,null,null,null,null,null,null,null,null,null,null,null,null,null,null,null,{"$f":"IF(SUM(S19+U19)=0,\"\",SUM(S19+U19))","v":""},null,null,null,null,null,null,null,null,null,null,null,null,null,null,null,null,null,null,18]
[null,null,null,null,null,null,null,null,null,null,null,null,null,null,null,null,null,null,null,null,null,null,null,null,null,null,null,null,null,null,null,null,null,null,null,null,null,null,null,null,null,19]
["THU",null,{"$f":"IF('Week 5'!B15=\"\",\"\",'Week 5'!B15)","v":""},null,null,null,null,null,null,null,null,null,null,null,null,null,null,null,null,null,null,null,{"$f":"IF(SUM(S21+U21)=0,\"\",SUM(S21+U21))","v":""},null,null,null,null,null,null,null,null,null,null,null,null,null,null,null,null,null,null,20]
[null,null,null,null,null,null,null,null,null,null,null,null,null,null,null,null,null,null,null,null,null,null,null,null,null,null,null,null,null,null,null,null,null,null,null,null,null,null,null,null,null,21]
["FRI",null,{"$f":"IF('Week 5'!B16=\"\",\"\",'Week 5'!B16)","v":""},null,null,null,null,null,null,null,null,null,null,null,null,null,null,null,null,null,null,null,{"$f":"IF(SUM(S23+U23)=0,\"\",SUM(S23+U23))","v":""},null,null,null,null,null,null,null,null,null,null,null,null,null,null,null,null,null,null,22]
[null,null,null,null,null,null,null,null,null,null,null,null,null,null,null,null,null,null,null,null,null,null,null,null,null,null,null,null,null,null,null,null,null,null,null,null,null,null,null,null,null,23]
["SAT",null,{"$f":"IF('Week 5'!B17=\"\",\"\",'Week 5'!B17)","v":""},null,null,null,null,null,null,null,null,null,null,null,null,null,null,null,null,null,null,null,{"$f":"IF(SUM(S25+U25)=0,\"\",SUM(S25+U25))","v":""},null,null,null,null,null,null,null,null,null,null,null,null,null,null,null,null,null,null,24]
[null,null,null,null,null,null,null,null,null,null,null,null,null,null,null,null,null,null,null,null,null,null,null,null,null,null,null,null,null,null,null,null,null,null,null,null,null,null,null,null,null,25]
["DAY          DATE",null,"SECONDARY EMPLOYMENT SHIFT",null,null,null,"HOURS WORKED",null,null,null,null,null,null,null,"LEAVE\nHOURS\n(DECIMAL)",null," BUSINESS NAME AND LOCATION ",null,null,null,null,null,null,null,null,null," OTHER REMARKS ",null,null,null,null,null,null,null,null,null,null,null,null,null,null,26]
[null,null,null,null,null,null,"SECONDARY EMPLORMENT",null,null,null,"ALL DPS HOURS"]
[{"$f":"IF('Week 5'!B11=\"\",\"\",'Week 5'!B11)","v":""},null,null,null,null,null,null,null,null,null,{"$f":"'Week 5'!O11","v":""},null,null,null,null,null,null,null,null,null,null,null,null,null,null,null,null,null,null,null,null,null,null,null,null,null,null,null,null,null,null,27]
[{"$f":"IF('Week 5'!B12=\"\",\"\",'Week 5'!B12)","v":""},null,null,null,null,null,null,null,null,null,{"$f":"'Week 5'!O12","v":""},null,null,null,null,null,null,null,null,null,null,null,null,null,null,null,null,null,null,null,null,null,null,null,null,null,null,null,null,null,null,28]
[{"$f":"IF('Week 5'!B13=\"\",\"\",'Week 5'!B13)","v":""},null,null,null,null,null,null,null,null,null,{"$f":"'Week 5'!O13","v":""},null,null,null,null,null,null,null,null,null,null,null,null,null,null,null,null,null,null,null,null,null,null,null,null,null,null,null,null,null,null,29]
[{"$f":"IF('Week 5'!B14=\"\",\"\",'Week 5'!B14)","v":""},null,null,null,null,null,null,null,null,null,{"$f":"'Week 5'!O14","v":""},null,null,null,null,null,null,null,null,null,null,null,null,null,null,null,null,null,null,null,null,null,null,null,null,null,null,null,null,null,null,30]
[{"$f":"IF('Week 5'!B15=\"\",\"\",'Week 5'!B15)","v":""},null,null,null,null,null,null,null,null,null,{"$f":"'Week 5'!O15","v":""},null,null,null,null,null,null,null,null,null,null,null,null,null,null,null,null,null,null,null,null,null,null,null,null,null,null,null,null,null,null,31]
[{"$f":"IF('Week 5'!B16=\"\",\"\",'Week 5'!B16)","v":""},null,null,null,null,null,null,null,null,null,{"$f":"'Week 5'!O16","v":""},null,null,null,null,null,null,null,null,null,null,null,null,null,null,null,null,null,null,null,null,null,null,null,null,null,null,null,null,null,null,32]
[{"$f":"IF('Week 5'!B17=\"\",\"\",'Week 5'!B17)","v":""},null,null,null,null,null,null,null,null,null,{"$f":"'Week 5'!O17","v":""},null,null,null,null,null,null,null,null,null,null,null,null,null,null,null,null,null,null,null,null,null,null,null,null,null,null,null,null,null,null,33]
["MAXIMUM 62 HRS (DPS + SECONDARY EMPLOYMENT) A WEEKLY PERIOD",null,null,null,null,null,{"$f":"IF(SUM(G29:G35)=0,\"\",SUM(G29:G35))","v":""},null,null,null,{"$f":"IF(SUM(K29:K35)=0,\"\",SUM(K29:K35))","v":""},null,null,null,{"$f":"IF(SUM(O29:O35)=0,\"\",SUM(O29:O35))","v":""},null,{"$f":"IFERROR(62-(SUM(G36:K36)),\"\")","v":62},null,"TOTAL HOURS AVAILABLE TO WORK",null,null,"INITIALS",null,"INITIALS IN BOX CERTIFIES THAT NO SECONDARY",null,null,null,null,null,null,null,null,null,null," *TOTAL HOURS WORKED SHOULD NOT",null,null,null,null,null,null,34]
[null,null,null,null,null,null,"62 - (SECONDARY  EMPLOYMENT HRS + ALL DPS HRS) = ",null,null,null,null,null,null,null,null,null,null,null,null,null,null,null,null,"EMPLOYMENT WAS PERFORMED DURING THIS PERIOD",null,null,null,null,null,null,null,null,null,null," EXCEED 16 HOURS IN ANY 24 HOUR PERIOD",null,null,null,null,null,null,35]
[]
[]
[]
[]
[]
[]
[null,null,null,null,null,null,null,null,"TYPE","RATING",null,"DRUG",null,"EXP",null,null,null,"HIDE","END","UNKNOWN"]
[null,null,"BURIED AID",null,null,null,null,null,"DRUG","S",null,"M",null,1,"C-4 Taged",null,null,"HDS","P","X"]
[null,null,"QUARTERING",null,null,null,null,null,"EXP","U",null,"PMT",null,2,"C-4 Untaged",null,null,"HDM","R"]
[null,null,"POINT TO POINT",null,null,null,null,null,null,"B",null,"PC",null,3,"Semtex Taged",null,null,"HDL","S"]
[null,null,"EXTERIOR WALL",null,null,null,null,null,null,null,null,"PH",null,4,"DS PETN Taged",null,null,"LDS"]
[null,null,"INTERIOR WALL",null,null,null,null,null,null,null,null,"C",null,5,"DS RDX Taged",null,null,"LDM"]
[null,null,"PASSENGER VEHICLE INTERIOR",null,null,null,null,null,null,null,null,"H",null,6,"Comp B",null,null,"LDL"]
[null,null,"COMMERCIAL VEHICLE INTERIOR",null,null,null,null,null,null,null,null,"MT",null,7,"ANFO",null,null,"T"]
[null,null,"PASSENGER VEHICLE EXTERIOR",null,null,null,null,null,null,null,null,null,null,8,"Cast Booster",null,null,"HT"]
[null,null,"COMMERCIAL VEHICLE EXTERIOR",null,null,null,null,null,null,null,null,null,null,9,"Unigel"]
[null,null,"LUGGAGE",null,null,null,null,null,null,null,null,null,null,10,"DC PETN"]
[null,null,"FREIGHT",null,null,null,null,null,null,null,null,null,null,11,"DC RDX"]
[null,null,"BUILDING INTERIOR",null,null,null,null,null,null,null,null,null,null,12,"Watergel"]
[null,null,"BUILDING EXTERIOR",null,null,null,null,null,null,null,null,null,null,13,"TNT Granular"]
[null,null,"BASIC RETRIEVE",null,null,null,null,null,null,null,null,null,null,14,"Slip-on Booster"]
[null,null,"CONTROLLED RETRIEVE (SIGHT)",null,null,null,null,null,null,null,null,null,null,15,"Nitro Dynamite"]
[null,null,"CONTROLLED RETRIEVE (SCENT)",null,null,null,null,null,null,null,null,null,null,16,"Nitro Methane"]
[null,null,"VESSELS",null,null,null,null,null,null,null,null,null,null,17,"Black Powder"]
[null,null,"AIRCRAFT",null,null,null,null,null,null,null,null,null,null,18,"AN Prills"]
[null,null,"OTHER",null,null,null,null,null,null,null,null,null,null,19,"AP"]
[null,null,"DROP AID",null,null,null,null,null,null,null,null,null,null,20,"PP"]
[null,null,null,null,null,null,null,null,null,null,null,null,null,21,"Pyrodex"]
[null,null,null,null,null,null,null,null,null,null,null,null,null,22,"SP Single Base"]
[null,null,null,null,null,null,null,null,null,null,null,null,null,23,"SP Double Base"]
[null,null,null,null,null,null,null,null,null,null,null,null,null,24,"Safety Fuse"]
[]
[]
[]
[]
[]
[]
[]
[]
[]
[]
[]
[]
[]
[]
[]
[]
[]
[]
[]
[]
[]
[null,null,"SUN",{"$f":"IF(G20<E20,(24-E20)+G20,G20-E20)","v":"00:00:00"},{"$f":"IF((VALUE(HOUR(D90))+VALUE(MINUTE(D90))/60)=0,\"\",(VALUE(HOUR(D90))+VALUE(MINUTE(D90))/60))","v":""}]
[null,null,"MON",{"$f":"IF(G21<E21,(24-E21)+G21,IF(E21<G21,G21-E21,IF(E21=0,24-G21,IF(G21=0,24-E21))))","v":24},"","CONVERSIONS"]
[null,null,"TUES",24,"","AND CALCULATIONS"]
[null,null,"WED",24,"","FOR TIME LEFT &"]
[null,null,"THU",24,"","RETURNED & TIME"]
[null,null,"FRI",24,"","AWAY FROM DUTY"]
[null,null,"SAT",24,"","STATION"]
[]
[]
[null,null,null,null,null,null,{"$f":"IF(SUM(G29:G35)=0,0,SUM(G29:G35))","v":0},null,{"$f":"IF(SUM(K29:K35)=0,0,SUM(K29:K35))","v":0},null,{"$f":"IF(I99>40,\"0\",((40)-(I99)))","v":40},null,{"$f":"IF(SUM(O29:O35)=0,0,SUM(O29:O35))","v":0},null,{"$f":"24+K99","v":64}]
[null,null,null,null,null,null,"SUBTOTAL   +",null,"SUBTOTAL   =",null,"GRAND TOTAL",null," -  LEAVE  =",null,"HOURS"]
[]
[]
[]
[]
[]
[]
[]
[]
[]
[]
[]
[]
[]
[]
[]
[]
[]
[]
[]
[]
[]
[]
[]
[]
[]
[]
[]
[]
[]
[]
[]
[]
[]
[]
[]
[]
[]
[]
[]
[]
[]
[]
[null,null,null,null,null,null,null,null,null,null,null,null,"LIST OF ACCEPTABLE CODES"]
[]
[null,null,null,null,null,null,null,null,null,null,null,null,"ALT"]
[null,null,null,null,null,null,null,null,null,null,null,null,"CAT"]
[null,null,null,null,null,null,null,null,null,null,null,null,"CDT"]
[null,null,null,null,null,null,null,null,null,null,null,null,"CTT"]
[null,null,null,null,null,null,null,null,null,null,null,null,"DBT"]
[null,null,null,null,null,null,null,null,null,null,null,null,"DOT"]
[null,null,null,null,null,null,null,null,null,null,null,null,"DMT"]
[null,null,null,null,null,null,null,null,null,null,null,null,"EMT"]
[null,null,null,null,null,null,null,null,null,null,null,null,"EST"]
[null,null,null,null,null,null,null,null,null,null,null,null,"FFT"]
[null,null,null,null,null,null,null,null,null,null,null,null,"FPT"]
[null,null,null,null,null,null,null,null,null,null,null,null,"HCT"]
[null,null,null,null,null,null,null,null,null,null,null,null,"HOB"]
[null,null,null,null,null,null,null,null,null,null,null,null,"JST"]
[null,null,null,null,null,null,null,null,null,null,null,null,"LDT"]
[null,null,null,null,null,null,null,null,null,null,null,null,"LET"]
[null,null,null,null,null,null,null,null,null,null,null,null,"LPT"]
[null,null,null,null,null,null,null,null,null,null,null,null,"LWT"]
[null,null,null,null,null,null,null,null,null,null,null,null,"MLT"]
[null,null,null,null,null,null,null,null,null,null,null,null,"OHT"]
[null,null,null,null,null,null,null,null,null,null,null,null,"OTT"]
[null,null,null,null,null,null,null,null,null,null,null,null,"RCT"]
[null,null,null,null,null,null,null,null,null,null,null,null,"SAT"]
[null,null,null,null,null,null,null,null,null,null,null,null,"SET"]
[null,null,null,null,null,null,null,null,null,null,null,null,"SLT"]
[null,null,null,null,null,null,null,null,null,null,null,null,"VCT"]
[]
[]
[]
[]
[]
[]
[]
[]
[]
[]
[]
[]
[]
[]
[]
[]
[]
[]
[null,null,null,null,null,null,null,null,null,null,null,null,null,null,null,null,null,null,null,null,null,null,null,null,null,null,null,null,null,null,null,null,null,null,null,null,null,null,null,null,null,null,null,null,null,null,null,null,null,null,null,null,null,null,"HOURS WORKED"]
[null,null,null,null,null,null,null,null,null,null,null,null,null,null,null,null,null,null,null,null,null,null,null,null,null,null,null,null,null,null,null,null,null,null,null,null,null,null,null,null,null,null,null,null,null,null,null,null,null,null,null,null,null,null,0.25]
[null,null,null,null,null,null,null,null,null,null,null,null,null,null,null,null,null,null,null,null,null,null,null,null,null,null,null,null,null,null,null,null,null,null,null,null,null,null,null,null,null,null,null,null,null,null,null,null,null,null,null,null,null,null,0.5]
[null,null,null,null,null,null,null,null,null,null,null,null,null,null,null,null,null,null,null,null,null,null,null,null,null,null,null,null,null,null,null,null,null,null,null,null,null,null,null,null,null,null,null,null,null,null,null,null,null,null,null,null,null,null,0.75]
[null,null,null,null,null,null,null,null,null,null,null,null,null,null,null,null,null,null,null,null,null,null,null,null,null,null,null,null,null,null,null,null,null,null,null,null,null,null,null,null,null,null,null,null,null,null,null,null,null,null,null,null,null,null,1]
[null,null,null,null,null,null,null,null,null,null,null,null,null,null,null,null,null,null,null,null,null,null,null,null,null,null,null,null,null,null,null,null,null,null,null,null,null,null,null,null,null,null,null,null,null,null,null,null,null,null,null,null,null,null,1.25]
[null,null,null,null,null,null,null,null,null,null,null,null,null,null,null,null,null,null,null,null,null,null,null,null,null,null,null,null,null,null,null,null,null,null,null,null,null,null,null,null,null,null,null,null,null,null,null,null,null,null,null,null,null,null,1.5]
[null,null,null,null,null,null,null,null,null,null,null,null,null,null,null,null,null,null,null,null,null,null,null,null,null,null,null,null,null,null,null,null,null,null,null,null,null,null,null,null,null,null,null,null,null,null,null,null,null,null,null,null,null,null,1.75]
[null,null,null,null,null,null,null,null,null,null,null,null,null,null,null,null,null,null,null,null,null,null,null,null,null,null,null,null,null,null,null,null,null,null,null,null,null,null,null,null,null,null,null,null,null,null,null,null,null,null,null,null,null,null,2]
[null,null,null,null,null,null,null,null,null,null,null,null,null,null,null,null,null,null,null,null,null,null,null,null,null,null,null,null,null,null,null,null,null,null,null,null,null,null,null,null,null,null,null,null,null,null,null,null,null,null,null,null,null,null,2.25]
[null,null,null,null,null,null,null,null,null,null,null,null,null,null,null,null,null,null,null,null,null,null,null,null,null,null,null,null,null,null,null,null,null,null,null,null,null,null,null,null,null,null,null,null,null,null,null,null,null,null,null,null,null,null,2.5]
[null,null,null,null,null,null,null,null,null,null,null,null,null,null,null,null,null,null,null,null,null,null,null,null,null,null,null,null,null,null,null,null,null,null,null,null,null,null,null,null,null,null,null,null,null,null,null,null,null,null,null,null,null,null,2.75]
[null,null,null,null,null,null,null,null,null,null,null,null,null,null,null,null,null,null,null,null,null,null,null,null,null,null,null,null,null,null,null,null,null,null,null,null,null,null,null,null,null,null,null,null,null,null,null,null,null,null,null,null,null,null,3]
[null,null,null,null,null,null,null,null,null,null,null,null,null,null,null,null,null,null,null,null,null,null,null,null,null,null,null,null,null,null,null,null,null,null,null,null,null,null,null,null,null,null,null,null,null,null,null,null,null,null,null,null,null,null,3.25]
[null,null,null,null,null,null,null,null,null,null,null,null,null,null,null,null,null,null,null,null,null,null,null,null,null,null,null,null,null,null,null,null,null,null,null,null,null,null,null,null,null,null,null,null,null,null,null,null,null,null,null,null,null,null,3.5]
[null,null,null,null,null,null,null,null,null,null,null,null,null,null,null,null,null,null,null,null,null,null,null,null,null,null,null,null,null,null,null,null,null,null,null,null,null,null,null,null,null,null,null,null,null,null,null,null,null,null,null,null,null,null,3.75]
[null,null,null,null,null,null,null,null,null,null,null,null,null,null,null,null,null,null,null,null,null,null,null,null,null,null,null,null,null,null,null,null,null,null,null,null,null,null,null,null,null,null,null,null,null,null,null,null,null,null,null,null,null,null,4]
[null,null,null,null,null,null,null,null,null,null,null,null,null,null,null,null,null,null,null,null,null,null,null,null,null,null,null,null,null,null,null,null,null,null,null,null,null,null,null,null,null,null,null,null,null,null,null,null,null,null,null,null,null,null,4.25]
[null,null,null,null,null,null,null,null,null,null,null,null,null,null,null,null,null,null,null,null,null,null,null,null,null,null,null,null,null,null,null,null,null,null,null,null,null,null,null,null,null,null,null,null,null,null,null,null,null,null,null,null,null,null,4.5]
[null,null,null,null,null,null,null,null,null,null,null,null,null,null,null,null,null,null,null,null,null,null,null,null,null,null,null,null,null,null,null,null,null,null,null,null,null,null,null,null,null,null,null,null,null,null,null,null,null,null,null,null,null,null,4.75]
[null,null,null,null,null,null,null,null,null,null,null,null,null,null,null,null,null,null,null,null,null,null,null,null,null,null,null,null,null,null,null,null,null,null,null,null,null,null,null,null,null,null,null,null,null,null,null,null,null,null,null,null,null,null,5]
[null,null,null,null,null,"TIME VALUES",null,null,null,null,null,null,null,null,null,null,null,null,null,null,null,null,null,null,null,null,null,null,null,null,null,null,null,null,null,null,null,null,null,null,null,null,null,null,null,null,null,null,null,null,null,null,null,null,5.25]
[null,null,null,null,null,"06:00:00",null,null,null,null,null,null,null,null,null,null,null,null,null,null,null,null,null,null,null,null,null,null,null,null,null,null,null,null,null,null,null,null,null,null,null,null,null,null,null,null,null,null,null,null,null,null,null,null,5.5]
[null,null,null,null,null,"06:15:00",null,null,null,null,null,null,null,null,null,null,null,null,null,null,null,null,null,null,null,null,null,null,null,null,null,null,null,null,null,null,null,null,null,null,null,null,null,null,null,null,null,null,null,null,null,null,null,null,5.75]
[null,null,null,null,null,"06:30:00",null,null,null,null,null,null,null,null,null,null,null,null,null,null,null,null,null,null,null,null,null,null,null,null,null,null,null,null,null,null,null,null,null,null,null,null,null,null,null,null,null,null,null,null,null,null,null,null,6]
[null,null,null,null,null,"06:45:00",null,null,null,null,null,null,null,null,null,null,null,null,null,null,null,null,null,null,null,null,null,null,null,null,null,null,null,null,null,null,null,null,null,null,null,null,null,null,null,null,null,null,null,null,null,null,null,null,6.25]
[null,null,null,null,null,"07:00:00",null,null,null,null,null,null,null,null,null,null,null,null,null,null,null,null,null,null,null,null,null,null,null,null,null,null,null,null,null,null,null,null,null,null,null,null,null,null,null,null,null,null,null,null,null,null,null,null,6.5]
[null,null,null,null,null,"07:15:00",null,null,null,null,null,null,null,null,null,null,null,null,null,null,null,null,null,null,null,null,null,null,null,null,null,null,null,null,null,null,null,null,null,null,null,null,null,null,null,null,null,null,null,null,null,null,null,null,6.75]
[null,null,null,null,null,"07:30:00",null,null,null,null,null,null,null,null,null,null,null,null,null,null,null,null,null,null,null,null,null,null,null,null,null,null,null,null,null,null,null,null,null,null,null,null,null,null,null,null,null,null,null,null,null,null,null,null,7]
[null,null,null,null,null,"07:45:00",null,null,null,null,null,null,null,null,null,null,null,null,null,null,null,null,null,null,null,null,null,null,null,null,null,null,null,null,null,null,null,null,null,null,null,null,null,null,null,null,null,null,null,null,null,null,null,null,7.25]
[null,null,null,null,null,"08:00:00",null,null,null,null,null,null,null,null,null,null,null,null,null,null,null,null,null,null,null,null,null,null,null,null,null,null,null,null,null,null,null,null,null,null,null,null,null,null,null,null,null,null,null,null,null,null,null,null,7.5]
[null,null,null,null,null,"08:15:00",null,null,null,null,null,null,null,null,null,null,"HOURS LEAVE",null,null,null,null,null,null,null,null,null,null,null,null,null,null,null,null,null,null,null,null,null,null,null,null,null,null,null,null,null,null,null,null,null,null,null,null,null,7.75]
[null,null,null,null,null,"08:30:00",null,null,null,null,null,null,null,null,null,null,null,"0:15",0.25,null,null,null,null,null,null,null,null,null,null,null,null,null,null,null,null,null,null,null,null,null,null,null,null,null,null,null,null,null,null,null,null,null,null,null,8]
[null,null,null,null,null,"08:45:00",null,null,null,null,null,null,null,null,null,null,null,"0:30",0.5,null,null,null,null,null,null,null,null,null,null,null,null,null,null,null,null,null,null,null,null,null,null,null,null,null,null,null,null,null,null,null,null,null,null,null,8.25]
[null,null,null,null,null,"09:00:00",null,null,null,null,null,null,null,null,null,null,null,"0:45",0.75,null,null,null,null,null,null,null,null,null,null,null,null,null,null,null,null,null,null,null,null,null,null,null,null,null,null,null,null,null,null,null,null,null,null,null,8.5]
[null,null,null,null,null,"09:15:00",null,null,null,null,null,null,null,null,null,null,null,"1:00",1,null,null,null,null,null,null,null,null,null,null,null,null,null,null,null,null,null,null,null,null,null,null,null,null,null,null,null,null,null,null,null,null,null,null,null,8.75]
[null,null,null,null,null,"09:30:00",null,null,null,null,null,null,null,null,null,null,null,"1:15",1.25,null,null,null,null,null,null,null,null,null,null,null,null,null,null,null,null,null,null,null,null,null,null,null,null,null,null,null,null,null,null,null,null,null,null,null,9]
[null,null,null,null,null,"09:45:00",null,null,null,null,null,null,null,null,null,null,null,"1:30",1.5,null,null,null,null,null,null,null,null,null,null,null,null,null,null,null,null,null,null,null,null,null,null,null,null,null,null,null,null,null,null,null,null,null,null,null,9.25]
[null,null,null,null,null,"10:00:00",null,null,null,null,null,null,null,null,null,null,null,"1:45",1.75,null,null,null,null,null,null,null,null,null,null,null,null,null,null,null,null,null,null,null,null,null,null,null,null,null,null,null,null,null,null,null,null,null,null,null,9.5]
[null,null,null,null,null,"10:15:00",null,null,null,null,null,null,null,null,null,null,null,"2:00",2,null,null,null,null,null,null,null,null,null,null,null,null,null,null,null,null,null,null,null,null,null,null,null,null,null,null,null,null,null,null,null,null,null,null,null,9.75]
[null,null,null,null,null,"10:30:00",null,null,null,null,null,null,null,null,null,null,null,"2:15",2.25,null,null,null,null,null,null,null,null,null,null,null,null,null,null,null,null,null,null,null,null,null,null,null,null,null,null,null,null,null,null,null,null,null,null,null,10]
[null,null,null,null,null,"10:45:00",null,null,null,null,null,null,null,null,null,null,null,"2:30",2.5,null,null,null,null,null,null,null,null,null,null,null,null,null,null,null,null,null,null,null,null,null,null,null,null,null,null,null,null,null,null,null,null,null,null,null,10.25]
[null,null,null,null,null,"11:00:00",null,null,null,null,null,null,null,null,null,null,null,"2:45",2.75,null,null,null,null,null,null,null,null,null,null,null,null,null,null,null,null,null,null,null,null,null,null,null,null,null,null,null,null,null,null,null,null,null,null,null,10.5]
[null,null,null,null,null,"11:15:00",null,null,null,null,null,null,null,null,null,null,null,"3:00",3,null,null,null,null,null,null,null,null,null,null,null,null,null,null,null,null,null,null,null,null,null,null,null,null,null,null,null,null,null,null,null,null,null,null,null,10.75]
[null,null,null,null,null,"11:30:00",null,null,null,null,null,null,null,null,null,null,null,"3:15",3.25,null,null,null,null,null,null,null,null,null,null,null,null,null,null,null,null,null,null,null,null,null,null,null,null,null,null,null,null,null,null,null,null,null,null,null,11]
[null,null,null,null,null,"11:45:00",null,null,null,null,null,null,null,null,null,null,null,"3:30",3.5,null,null,null,null,null,null,null,null,null,null,null,null,null,null,null,null,null,null,null,null,null,null,null,null,null,null,null,null,null,null,null,null,null,null,null,11.25]
[null,null,null,null,null,"12:00:00",null,null,null,null,null,null,null,null,null,null,null,"3:45",3.75,null,null,null,null,null,null,null,null,null,null,null,null,null,null,null,null,null,null,null,null,null,null,null,null,null,null,null,null,null,null,null,null,null,null,null,11.5]
[null,null,null,null,null,"12:15:00",null,null,null,null,null,null,null,null,null,null,null,"4:00",4,null,null,null,null,null,null,null,null,null,null,null,null,null,null,null,null,null,null,null,null,null,null,null,null,null,null,null,null,null,null,null,null,null,null,null,11.75]
[null,null,null,null,null,"12:30:00",null,null,null,null,null,null,null,null,null,null,null,"4:15",4.25,null,null,null,null,null,null,null,null,null,null,null,null,null,null,null,null,null,null,null,null,null,null,null,null,null,null,null,null,null,null,null,null,null,null,null,12]
[null,null,null,null,null,"12:45:00",null,null,null,null,null,null,null,null,null,null,null,"4:30",4.5,null,null,null,null,null,null,null,null,null,null,null,null,null,null,null,null,null,null,null,null,null,null,null,null,null,null,null,null,null,null,null,null,null,null,null,12.25]
[null,null,null,null,null,"13:00:00",null,null,null,null,null,null,null,null,null,null,null,"4:45",4.75,null,null,null,null,null,null,null,null,null,null,null,null,null,null,null,null,null,null,null,null,null,null,null,null,null,null,null,null,null,null,null,null,null,null,null,12.5]
[null,null,null,null,null,"13:15:00",null,null,null,null,null,null,null,null,null,null,null,"5:00",5,null,null,null,null,null,null,null,null,null,null,null,null,null,null,null,null,null,null,null,null,null,null,null,null,null,null,null,null,null,null,null,null,null,null,null,12.75]
[null,null,null,null,null,"13:30:00",null,null,null,null,null,null,null,null,null,null,null,"5:15",5.25,null,null,null,null,null,null,null,null,null,null,null,null,null,null,null,null,null,null,null,null,null,null,null,null,null,null,null,null,null,null,null,null,null,null,null,13]
[null,null,null,null,null,"13:45:00",null,null,null,null,null,null,null,null,null,null,null,"5:30",5.5,null,null,null,null,null,null,null,null,null,null,null,null,null,null,null,null,null,null,null,null,null,null,null,null,null,null,null,null,null,null,null,null,null,null,null,13.25]
[null,null,null,null,null,"14:00:00",null,null,null,null,null,null,null,null,null,null,null,"5:45",5.75,null,null,null,null,null,null,null,null,null,null,null,null,null,null,null,null,null,null,null,null,null,null,null,null,null,null,null,null,null,null,null,null,null,null,null,13.5]
[null,null,null,null,null,"14:15:00",null,null,null,null,null,null,null,null,null,null,null,"6:00",6,null,null,null,null,null,null,null,null,null,null,null,null,null,null,null,null,null,null,null,null,null,null,null,null,null,null,null,null,null,null,null,null,null,null,null,13.75]
[null,null,null,null,null,"14:30:00",null,null,null,null,null,null,null,null,null,null,null,"6:15",6.25,null,null,null,null,null,null,null,null,null,null,null,null,null,null,null,null,null,null,null,null,null,null,null,null,null,null,null,null,null,null,null,null,null,null,null,14]
[null,null,null,null,null,"14:45:00",null,null,null,null,null,null,null,null,null,null,null,"6:30",6.5,null,null,null,null,null,null,null,null,null,null,null,null,null,null,null,null,null,null,null,null,null,null,null,null,null,null,null,null,null,null,null,null,null,null,null,14.25]
[null,null,null,null,null,"15:00:00",null,null,null,null,null,null,null,null,null,null,null,"6:45",6.75,null,null,null,null,null,null,null,null,null,null,null,null,null,null,null,null,null,null,null,null,null,null,null,null,null,null,null,null,null,null,null,null,null,null,null,14.5]
[null,null,null,null,null,"15:15:00",null,null,null,null,null,null,null,null,null,null,null,"7:00",7,null,null,null,null,null,null,null,null,null,null,null,null,null,null,null,null,null,null,null,null,null,null,null,null,null,null,null,null,null,null,null,null,null,null,null,14.75]
[null,null,null,null,null,"15:30:00",null,null,null,null,null,null,null,null,null,null,null,"7:15",7.25,null,null,null,null,null,null,null,null,null,null,null,null,null,null,null,null,null,null,null,null,null,null,null,null,null,null,null,null,null,null,null,null,"LIST OF TIME CODES",null,null,15]
[null,null,null,null,null,"15:45:00",null,null,null,null,null,null,null,null,null,null,null,"7:30",7.5,null,null,null,null,null,null,null,null,null,null,null,null,null,null,null,null,null,null,null,null,null,null,null,null,null,null,null,null,null,null,null,null,"ALT",null,null,15.25]
[null,null,null,null,null,"16:00:00",null,null,null,null,null,null,null,null,null,null,null,"7:45",7.75,null,null,null,null,null,null,null,null,null,null,null,null,null,null,null,null,null,null,null,null,null,null,null,null,null,null,null,null,null,null,null,null,"CTT",null,null,15.5]
[null,null,null,null,null,"16:15:00",null,null,null,null,null,null,null,null,null,null,null,0.33333333333333331,8,null,null,null,null,null,null,null,null,null,null,null,null,null,null,null,null,null,null,null,null,null,null,null,null,null,null,null,null,null,null,null,null,"EMT",null,null,15.75]
[null,null,null,null,null,"16:30:00",null,null,null,null,null,null,null,null,null,null,null,"8:15",8.25,null,null,null,null,null,null,null,null,null,null,null,null,null,null,null,null,null,null,null,null,null,null,null,null,null,null,null,null,null,null,null,null,"EOT",null,null,16]
[null,null,null,null,null,"16:45:00",null,null,null,null,null,null,null,null,null,null,null,"8:30",8.5,null,null,null,null,null,null,null,null,null,null,null,null,null,null,null,null,null,null,null,null,null,null,null,null,null,null,null,null,null,null,null,null,"EST",null,null,16.25]
[null,null,null,null,null,"17:00:00",null,null,null,null,null,null,null,null,null,null,null,"8:45",{"$f":"S254+0.25","v":8.75},null,null,null,null,null,null,null,null,null,null,null,null,null,null,null,null,null,null,null,null,null,null,null,null,null,null,null,null,null,null,null,null,"FFT",null,null,16.5]
[null,null,null,null,null,"17:15:00",null,null,null,null,null,null,null,null,null,null,null,"9:00",9,null,null,null,null,null,null,null,null,null,null,null,null,null,null,null,null,null,null,null,null,null,null,null,null,null,null,null,null,null,null,null,null,"FPT",null,null,16.75]
[null,null,null,null,null,"17:30:00",null,null,null,null,null,null,null,null,null,null,null,"9:15",9.25,null,null,null,null,null,null,null,null,null,null,null,null,null,null,null,null,null,null,null,null,null,null,null,null,null,null,null,null,null,null,null,null,"HCT",null,null,17]
[null,null,null,null,null,"17:45:00",null,null,null,null,null,null,null,null,null,null,null,"9:30",9.5,null,null,null,null,null,null,null,null,null,null,null,null,null,null,null,null,null,null,null,null,null,null,null,null,null,null,null,null,null,null,null,null,"HOB",null,null,17.25]
[null,null,null,null,null,"18:00:00",null,null,null,null,null,null,null,null,null,null,null,"9:45",9.75,null,null,null,null,null,null,null,null,null,null,null,null,null,null,null,null,null,null,null,null,null,null,null,null,null,null,null,null,null,null,null,null,"JST",null,null,17.5]
[null,null,null,null,null,"18:15:00",null,null,null,null,null,null,null,null,null,null,null,"10:00",10,null,null,null,null,null,null,null,null,null,null,null,null,null,null,null,null,null,null,null,null,null,null,null,null,null,null,null,null,null,null,null,null,"LET",null,null,17.75]
[null,null,null,null,null,"18:30:00",null,null,null,null,null,null,null,null,null,null,null,"10:15",10.25,null,null,null,null,null,null,null,null,null,null,null,null,null,null,null,null,null,null,null,null,null,null,null,null,null,null,null,null,null,null,null,null,"LWT",null,null,18]
[null,null,null,null,null,"18:45:00",null,null,null,null,null,null,null,null,null,null,null,"10:30",10.5,null,null,null,null,null,null,null,null,null,null,null,null,null,null,null,null,null,null,null,null,null,null,null,null,null,null,null,null,null,null,null,null,"MLT",null,null,18.25]
[null,null,null,null,null,"19:00:00",null,null,null,null,null,null,null,null,null,null,null,"10:45",10.75,null,null,null,null,null,null,null,null,null,null,null,null,null,null,null,null,null,null,null,null,null,null,null,null,null,null,null,null,null,null,null,null,"OHD",null,null,18.5]
[null,null,null,null,null,"19:15:00",null,null,null,null,null,null,null,null,null,null,null,"11:00",11,null,null,null,null,null,null,null,null,null,null,null,null,null,null,null,null,null,null,null,null,null,null,null,null,null,null,null,null,null,null,null,null,"OHT",null,null,18.75]
[null,null,null,null,null,"19:30:00",null,null,null,null,null,null,null,null,null,null,null,"11:15",11.25,null,null,null,null,null,null,null,null,null,null,null,null,null,null,null,null,null,null,null,null,null,null,null,null,null,null,null,null,null,null,null,null,"OTP",null,null,19]
[null,null,null,null,null,"19:45:00",null,null,null,null,null,null,null,null,null,null,null,"11:30",11.5,null,null,null,null,null,null,null,null,null,null,null,null,null,null,null,null,null,null,null,null,null,null,null,null,null,null,null,null,null,null,null,null,"OTT",null,null,19.25]
[null,null,null,null,null,"20:00:00",null,null,null,null,null,null,null,null,null,null,null,"11:45",11.75,null,null,null,null,null,null,null,null,null,null,null,null,null,null,null,null,null,null,null,null,null,null,null,null,null,null,null,null,null,null,null,null,"RCT",null,null,19.5]
[null,null,null,null,null,"20:15:00",null,null,null,null,null,null,null,null,null,null,null,"12:00",12,null,null,null,null,null,null,null,null,null,null,null,null,null,null,null,null,null,null,null,null,null,null,null,null,null,null,null,null,null,null,null,null,"SAT",null,null,19.75]
[null,null,null,null,null,"20:30:00",null,null,null,null,null,null,null,null,null,null,null,"12:15",12.25,null,null,null,null,null,null,null,null,null,null,null,null,null,null,null,null,null,null,null,null,null,null,null,null,null,null,null,null,null,null,null,null,"SET",null,null,20]
[null,null,null,null,null,"20:45:00",null,null,null,null,null,null,null,null,null,null,null,"12:30",12.5,null,null,null,null,null,null,null,null,null,null,null,null,null,null,null,null,null,null,null,null,null,null,null,null,null,null,null,null,null,null,null,null,"SLT",null,null,20.25]
[null,null,null,null,null,"21:00:00",null,null,null,null,null,null,null,null,null,null,null,"12:45",12.75,null,null,null,null,null,null,null,null,null,null,null,null,null,null,null,null,null,null,null,null,null,null,null,null,null,null,null,null,null,null,null,null,"VCT",null,null,20.5]
[null,null,null,null,null,"21:15:00",null,null,null,null,null,null,null,null,null,null,null,"13:00",13,null,null,null,null,null,null,null,null,null,null,null,null,null,null,null,null,null,null,null,null,null,null,null,null,null,null,null,null,null,null,null,null,null,null,null,20.75]
[null,null,null,null,null,"21:30:00",null,null,null,null,null,null,null,null,null,null,null,"13:15",13.25,null,null,null,null,null,null,null,null,null,null,null,null,null,null,null,null,null,null,null,null,null,null,null,null,null,null,null,null,null,null,null,null,null,null,null,21]
[null,null,null,null,null,"21:45:00",null,null,null,null,null,null,null,null,null,null,null,"13:30",13.5,null,null,null,null,null,null,null,null,null,null,null,null,null,null,null,null,null,null,null,null,null,null,null,null,null,null,null,null,null,null,null,null,null,null,null,21.25]
[null,null,null,null,null,"22:00:00",null,null,null,null,null,null,null,null,null,null,null,"13:45",13.75,null,null,null,null,null,null,null,null,null,null,null,null,null,null,null,null,null,null,null,null,null,null,null,null,null,null,null,null,null,null,null,null,null,null,null,21.5]
[null,null,null,null,null,"22:15:00",null,null,null,null,null,null,null,null,null,null,null,"14:00",14,null,null,null,null,null,null,null,null,null,null,null,null,null,null,null,null,null,null,null,null,null,null,null,null,null,null,null,null,null,null,null,null,null,null,null,21.75]
[null,null,null,null,null,"22:30:00",null,null,null,null,null,null,null,null,null,null,null,"14:15",14.25,null,null,null,null,null,null,null,null,null,null,null,null,null,null,null,null,null,null,null,null,null,null,null,null,null,null,null,null,null,null,null,null,null,null,null,22]
[null,null,null,null,null,"22:45:00",null,null,null,null,null,null,null,null,null,null,null,"14:30",14.5,null,null,null,null,null,null,null,null,null,null,null,null,null,null,null,null,null,null,null,null,null,null,null,null,null,null,null,null,null,null,null,null,null,null,null,22.25]
[null,null,null,null,null,"23:00:00",null,null,null,null,null,null,null,null,null,null,null,"14:45",14.75,null,null,null,null,null,null,null,null,null,null,null,null,null,null,null,null,null,null,null,null,null,null,null,null,null,null,null,null,null,null,null,null,null,null,null,22.5]
[null,null,null,null,null,"23:15:00",null,null,null,null,null,null,null,null,null,null,null,"15:00",15,null,null,null,null,null,null,null,null,null,null,null,null,null,null,null,null,null,null,null,null,null,null,null,null,null,null,null,null,null,null,null,null,null,null,null,22.75]
[null,null,null,null,null,"23:30:00",null,null,null,null,null,null,null,null,null,null,null,"15:15",15.25,null,null,null,null,null,null,null,null,null,null,null,null,null,null,null,null,null,null,null,null,null,null,null,null,null,null,null,null,null,null,null,null,null,null,null,23]
[null,null,null,null,null,"23:45:00",null,null,null,null,null,null,null,null,null,null,null,"15:30",15.5,null,null,null,null,null,null,null,null,null,null,null,null,null,null,null,null,null,null,null,null,null,null,null,null,null,null,null,null,null,null,null,null,null,null,null,23.25]
[null,null,null,null,null,"00:00:00",null,null,null,null,null,null,null,null,null,null,null,"15:45",15.75,null,null,null,null,null,null,null,null,null,null,null,null,null,null,null,null,null,null,null,null,null,null,null,null,null,null,null,null,null,null,null,null,null,null,null,23.5]
[null,null,null,null,null,"00:15:00",null,null,null,null,null,null,null,null,null,null,null,"16:00",16,null,null,null,null,null,null,null,null,null,null,null,null,null,null,null,null,null,null,null,null,null,null,null,null,null,null,null,null,null,null,null,null,null,null,null,23.75]
[null,null,null,null,null,"00:30:00",null,null,null,null,null,null,null,null,null,null,null,"16:15",16.25,null,null,null,null,null,null,null,null,null,null,null,null,null,null,null,null,null,null,null,null,null,null,null,null,null,null,null,null,null,null,null,null,null,null,null,24]
[null,null,null,null,null,"00:45:00",null,null,null,null,null,null,null,null,null,null,null,"16:30",16.5]
[null,null,null,null,null,"01:00:00",null,null,null,null,null,null,null,null,null,null,null,"16:45",{"$f":"S286+0.25","v":16.75}]
[null,null,null,null,null,"01:15:00",null,null,null,null,null,null,null,null,null,null,null,"17:00",17]
[null,null,null,null,null,"01:30:00",null,null,null,null,null,null,null,null,null,null,null,"17:15",17.25]
[null,null,null,null,null,"01:45:00",null,null,null,null,null,null,null,null,null,null,null,"17:30",17.5]
[null,null,null,null,null,"02:00:00",null,null,null,null,null,null,null,null,null,null,null,"17:45",17.75]
[null,null,null,null,null,"02:15:00",null,null,null,null,null,null,null,null,null,null,null,"18:00",18]
[null,null,null,null,null,"02:30:00",null,null,null,null,null,null,null,null,null,null,null,"18:15",18.25]
[null,null,null,null,null,"02:45:00",null,null,null,null,null,null,null,null,null,null,null,"18:30",18.5]
[null,null,null,null,null,"03:00:00",null,null,null,null,null,null,null,null,null,null,null,"18:45",18.75]
[null,null,null,null,null,"03:15:00",null,null,null,null,null,null,null,null,null,null,null,"19:00",19]
[null,null,null,null,null,"03:30:00",null,null,null,null,null,null,null,null,null,null,null,"19:15",19.25]
[null,null,null,null,null,"03:45:00",null,null,null,null,null,null,null,null,null,null,null,"19:30",19.5]
[null,null,null,null,null,"04:00:00",null,null,null,null,null,null,null,null,null,null,null,"19:45",19.75]
[null,null,null,null,null,"04:15:00",null,null,null,null,null,null,null,null,null,null,null,"20:00",20]
[null,null,null,null,null,"04:30:00",null,null,null,null,null,null,null,null,null,null,null,"20:15",20.25]
[null,null,null,null,null,"04:45:00",null,null,null,null,null,null,null,null,null,null,null,"20:30",20.5]
[null,null,null,null,null,"05:00:00",null,null,null,null,null,null,null,null,null,null,null,"20:45",20.75]
[null,null,null,null,null,"05:15:00",null,null,null,null,null,null,null,null,null,null,null,"21:00",21]
[null,null,null,null,null,"05:30:00",null,null,null,null,null,null,null,null,null,null,null,"21:15",21.25]
[null,null,null,null,null,"05:45:00",null,null,null,null,null,null,null,null,null,null,null,"21:30",21.5]
[null,null,null,null,null,null,null,null,null,null,null,null,null,null,null,null,null,"21:45",21.75]
[null,null,null,null,null,null,null,null,null,null,null,null,null,null,null,null,null,"22:00",22]
[null,null,null,null,null,null,null,null,null,null,null,null,null,null,null,null,null,"22:15",22.25]
[null,null,null,null,null,null,null,null,null,null,null,null,null,null,null,null,null,"22:30",22.5]
[null,null,null,null,null,null,null,null,null,null,null,null,null,null,null,null,null,"22:45",22.75]
[null,null,null,null,null,null,null,null,null,null,null,null,null,null,null,null,null,"23:00",23]
[null,null,null,null,null,null,null,null,null,null,null,null,null,null,null,null,null,"23:15",23.25]
[null,null,null,null,null,null,null,null,null,null,null,null,null,null,null,null,null,"23:30",23.5]
[null,null,null,null,null,null,null,null,null,null,null,null,null,null,null,null,null,"23:45",23.75]
[null,null,null,null,null,null,null,null,null,null,null,null,null,null,null,null,null,"24:00",24]
[null,null,null,null,null,null,null,null,null,null,null,null,null,null,null,null,null,"24:15",24.25]
[null,null,null,null,null,null,null,null,null,null,null,null,null,null,null,null,null,"24:30",24.5]
[null,null,null,null,null,null,null,null,null,null,null,null,null,null,null,null,null,"24:45",{"$f":"S318+0.25","v":24.75}]
[null,null,null,null,null,null,null,null,null,null,null,null,null,null,null,null,null,"25:00",25]
[null,null,null,null,null,null,null,null,null,null,null,null,null,null,null,null,null,"25:15",25.25]
[null,null,null,null,null,null,null,null,null,null,null,null,null,null,null,null,null,"25:30",25.5]
[null,null,null,null,null,null,null,null,null,null,null,null,null,null,null,null,null,"25:45",25.75]
[null,null,null,null,null,null,null,null,null,null,null,null,null,null,null,null,null,"26:00",26]
[null,null,null,null,null,null,null,null,null,null,null,null,null,null,null,null,null,"26:15",26.25]
[null,null,null,null,null,null,null,null,null,null,null,null,null,null,null,null,null,"26:30",26.5]
[null,null,null,null,null,null,null,null,null,null,null,null,null,null,null,null,null,"26:45",26.75]
[null,null,null,null,null,null,null,null,null,null,null,null,null,null,null,null,null,"27:00",27]
[null,null,null,null,null,null,null,null,null,null,null,null,null,null,null,null,null,"27:15",27.25]
[null,null,null,null,null,null,null,null,null,null,null,null,null,null,null,null,null,"27:30",27.5]
[null,null,null,null,null,null,null,null,null,null,null,null,null,null,null,null,null,"27:45",27.75]
[null,null,null,null,null,null,null,null,null,null,null,null,null,null,null,null,null,"28:00",28]
[null,null,null,null,null,null,null,null,null,null,null,null,null,null,null,null,null,"28:15",28.25]
[null,null,null,null,null,null,null,null,null,null,null,null,null,null,null,null,null,"28:30",28.5]
[null,null,null,null,null,null,null,null,null,null,null,null,null,null,null,null,null,"28:45",28.75]
[null,null,null,null,null,null,null,null,null,null,null,null,null,null,null,null,null,"29:00",29]
[null,null,null,null,null,null,null,null,null,null,null,null,null,null,null,null,null,"29:15",29.25]
[null,null,null,null,null,null,null,null,null,null,null,null,null,null,null,null,null,"29:30",29.5]
[null,null,null,null,null,null,null,null,null,null,null,null,null,null,null,null,null,"29:45",29.75]
[null,null,null,null,null,null,null,null,null,null,null,null,null,null,null,null,null,"30:00",30]
[null,null,null,null,null,null,null,null,null,null,null,null,null,null,null,null,null,"30:15",30.25]
[null,null,null,null,null,null,null,null,null,null,null,null,null,null,null,null,null,"30:30",30.5]
[null,null,null,null,null,null,null,null,null,null,null,null,null,null,null,null,null,"30:45",30.75]
[null,null,null,null,null,null,null,null,null,null,null,null,null,null,null,null,null,"31:00",31]
[null,null,null,null,null,null,null,null,null,null,null,null,null,null,null,null,null,"31:15",31.25]
[null,null,null,null,null,null,null,null,null,null,null,null,null,null,null,null,null,"31:30",31.5]
[null,null,null,null,null,null,null,null,null,null,null,null,null,null,null,null,null,"31:45",31.75]
[null,null,null,null,null,null,null,null,null,null,null,null,null,null,null,null,null,"32:00",32]
[null,null,null,null,null,null,null,null,null,null,null,null,null,null,null,null,null,"32:15",32.25]
[null,null,null,null,null,null,null,null,null,null,null,null,null,null,null,null,null,"32:30",32.5]
[null,null,null,null,null,null,null,null,null,null,null,null,null,null,null,null,null,"32:45",{"$f":"S350+0.25","v":32.75}]
[null,null,null,null,null,null,null,null,null,null,null,null,null,null,null,null,null,"33:00",33]
[null,null,null,null,null,null,null,null,null,null,null,null,null,null,null,null,null,"33:15",33.25]
[null,null,null,null,null,null,null,null,null,null,null,null,null,null,null,null,null,"33:30",33.5]
[null,null,null,null,null,null,null,null,null,null,null,null,null,null,null,null,null,"33:45",33.75]
[null,null,null,null,null,null,null,null,null,null,null,null,null,null,null,null,null,"34:00",34]
[null,null,null,null,null,null,null,null,null,null,null,null,null,null,null,null,null,"34:15",34.25]
[null,null,null,null,null,null,null,null,null,null,null,null,null,null,null,null,null,"34:30",34.5]
[null,null,null,null,null,null,null,null,null,null,null,null,null,null,null,null,null,"34:45",34.75]
[null,null,null,null,null,null,null,null,null,null,null,null,null,null,null,null,null,"35:00",35]
[null,null,null,null,null,null,null,null,null,null,null,null,null,null,null,null,null,"35:15",35.25]
[null,null,null,null,null,null,null,null,null,null,null,null,null,null,null,null,null,"35:30",35.5]
[null,null,null,null,null,null,null,null,null,null,null,null,null,null,null,null,null,"35:45",35.75]
[null,null,null,null,null,null,null,null,null,null,null,null,null,null,null,null,null,"36:00",36]
[null,null,null,null,null,null,null,null,null,null,null,null,null,null,null,null,null,"36:15",36.25]
[null,null,null,null,null,null,null,null,null,null,null,null,null,null,null,null,null,"36:30",36.5]
[null,null,null,null,null,null,null,null,null,null,null,null,null,null,null,null,null,"36:45",36.75]
[null,null,null,null,null,null,null,null,null,null,null,null,null,null,null,null,null,"37:00",37]
[null,null,null,null,null,null,null,null,null,null,null,null,null,null,null,null,null,"37:15",37.25]
[null,null,null,null,null,null,null,null,null,null,null,null,null,null,null,null,null,"37:30",37.5]
[null,null,null,null,null,null,null,null,null,null,null,null,null,null,null,null,null,"37:45",37.75]
[null,null,null,null,null,null,null,null,null,null,null,null,null,null,null,null,null,"38:00",38]
[null,null,null,null,null,null,null,null,null,null,null,null,null,null,null,null,null,"38:15",38.25]
[null,null,null,null,null,null,null,null,null,null,null,null,null,null,null,null,null,"38:30",38.5]
[null,null,null,null,null,null,null,null,null,null,null,null,null,null,null,null,null,"38:45",38.75]
[null,null,null,null,null,null,null,null,null,null,null,null,null,null,null,null,null,"39:00",39]
[null,null,null,null,null,null,null,null,null,null,null,null,null,null,null,null,null,"39:15",39.25]
[null,null,null,null,null,null,null,null,null,null,null,null,null,null,null,null,null,"39:30",39.5]
[null,null,null,null,null,null,null,null,null,null,null,null,null,null,null,null,null,"39:45",39.75]
[null,null,null,null,null,null,null,null,null,null,null,null,null,null,null,null,null,"40:00",40]
[null,null,null,null,null,null,null,null,null,null,null,null,null,null,null,null,null,"40:15"]
[null,null,null,null,null,null,null,null,null,null,null,null,null,null,null,null,null,"40:30"]
[null,null,null,null,null,null,null,null,null,null,null,null,null,null,null,null,null,"40:45"]
[null,null,null,null,null,null,null,null,null,null,null,null,null,null,null,null,null,"41:00"]
[null,null,null,null,null,null,null,null,null,null,null,null,null,null,null,null,null,"41:15"]
[null,null,null,null,null,null,null,null,null,null,null,null,null,null,null,null,null,"41:30"]
[null,null,null,null,null,null,null,null,null,null,null,null,null,null,null,null,null,"41:45"]
[null,null,null,null,null,null,null,null,null,null,null,null,null,null,null,null,null,"42:00"]
[null,null,null,null,null,null,null,null,null,null,null,null,null,null,null,null,null,"42:15"]
[null,null,null,null,null,null,null,null,null,null,null,null,null,null,null,null,null,"42:30"]
[null,null,null,null,null,null,null,null,null,null,null,null,null,null,null,null,null,"42:45"]
[null,null,null,null,null,null,null,null,null,null,null,null,null,null,null,null,null,"43:00"]
[null,null,null,null,null,null,null,null,null,null,null,null,null,null,null,null,null,"43:15"]
[null,null,null,null,null,null,null,null,null,null,null,null,null,null,null,null,null,"43:30"]
[null,null,null,null,null,null,null,null,null,null,null,null,null,null,null,null,null,"43:45"]
[null,null,null,null,null,null,null,null,null,null,null,null,null,null,null,null,null,"44:00"]
[null,null,null,null,null,null,null,null,null,null,null,null,null,null,null,null,null,"44:15"]
[null,null,null,null,null,null,null,null,null,null,null,null,null,null,null,null,null,"44:30"]
[null,null,null,null,null,null,null,null,null,null,null,null,null,null,null,null,null,"44:45"]
[null,null,null,null,null,null,null,null,null,null,null,null,null,null,null,null,null,"45:00"]
[null,null,null,null,null,null,null,null,null,null,null,null,null,null,null,null,null,"45:15"]
[null,null,null,null,null,null,null,null,null,null,null,null,null,null,null,null,null,"45:30"]
[null,null,null,null,null,null,null,null,null,null,null,null,null,null,null,null,null,"45:45"]
[null,null,null,null,null,null,null,null,null,null,null,null,null,null,null,null,null,"46:00"]
[null,null,null,null,null,null,null,null,null,null,null,null,null,null,null,null,null,"46:15"]
[null,null,null,null,null,null,null,null,null,null,null,null,null,null,null,null,null,"46:30"]
[null,null,null,null,null,null,null,null,null,null,null,null,null,null,null,null,null,"46:45"]
[null,null,null,null,null,null,null,null,null,null,null,null,null,null,null,null,null,"47:00"]
[null,null,null,null,null,null,null,null,null,null,null,null,null,null,null,null,null,"47:15"]
[null,null,null,null,null,null,null,null,null,null,null,null,null,null,null,null,null,"47:30"]
[null,null,null,null,null,null,null,null,null,null,null,null,null,null,null,null,null,"47:45"]
[null,null,null,null,null,null,null,null,null,null,null,null,null,null,null,null,null,"48:00"]
[null,null,null,null,null,null,null,null,null,null,null,null,null,null,null,null,null,"48:15"]
[null,null,null,null,null,null,null,null,null,null,null,null,null,null,null,null,null,"48:30"]
[null,null,null,null,null,null,null,null,null,null,null,null,null,null,null,null,null,"48:45"]
[null,null,null,null,null,null,null,null,null,null,null,null,null,null,null,null,null,"49:00"]
[null,null,null,null,null,null,null,null,null,null,null,null,null,null,null,null,null,"49:15"]
[null,null,null,null,null,null,null,null,null,null,null,null,null,null,null,null,null,"49:30"]
[null,null,null,null,null,null,null,null,null,null,null,null,null,null,null,null,null,"49:45"]
[null,null,null,null,null,null,null,null,null,null,null,null,null,null,null,null,null,"50:00"]
[null,null,null,null,null,null,null,null,null,null,null,null,null,null,null,null,null,"50:15"]
[null,null,null,null,null,null,null,null,null,null,null,null,null,null,null,null,null,"50:30"]
[null,null,null,null,null,null,null,null,null,null,null,null,null,null,null,null,null,"50:45"]
[null,null,null,null,null,null,null,null,null,null,null,null,null,null,null,null,null,"51:00"]
[null,null,null,null,null,null,null,null,null,null,null,null,null,null,null,null,null,"51:15"]
[null,null,null,null,null,null,null,null,null,null,null,null,null,null,null,null,null,"51:30"]
[null,null,null,null,null,null,null,null,null,null,null,null,null,null,null,null,null,"51:45"]
[null,null,null,null,null,null,null,null,null,null,null,null,null,null,null,null,null,"52:00"]
[null,null,null,null,null,null,null,null,null,null,null,null,null,null,null,null,null,"52:15"]
[null,null,null,null,null,null,null,null,null,null,null,null,null,null,null,null,null,"52:30"]
[null,null,null,null,null,null,null,null,null,null,null,null,null,null,null,null,null,"52:45"]
[null,null,null,null,null,null,null,null,null,null,null,null,null,null,null,null,null,"53:00"]
[null,null,null,null,null,null,null,null,null,null,null,null,null,null,null,null,null,"53:15"]
[null,null,null,null,null,null,null,null,null,null,null,null,null,null,null,null,null,"53:30"]
[null,null,null,null,null,null,null,null,null,null,null,null,null,null,null,null,null,"53:45"]
[null,null,null,null,null,null,null,null,null,null,null,null,null,null,null,null,null,"54:00"]
[null,null,null,null,null,null,null,null,null,null,null,null,null,null,null,null,null,"54:15"]
[null,null,null,null,null,null,null,null,null,null,null,null,null,null,null,null,null,"54:30"]
[null,null,null,null,null,null,null,null,null,null,null,null,null,null,null,null,null,"54:45"]
[null,null,null,null,null,null,null,null,null,null,null,null,null,null,null,null,null,"55:00"]
[null,null,null,null,null,null,null,null,null,null,null,null,null,null,null,null,null,"55:15"]
[null,null,null,null,null,null,null,null,null,null,null,null,null,null,null,null,null,"55:30"]
[null,null,null,null,null,null,null,null,null,null,null,null,null,null,null,null,null,"55:45"]
[null,null,null,null,null,null,null,null,null,null,null,null,null,null,null,null,null,"56:00"]

{"sheet":"THP-2C Instructions","index":12,"n_rows":156,"n_cols":1,"rows_kept":156,"cut":false,"hidden":false,"merged":[]}
[]
["TEXAS HIGHWAY PATROL DIVISION WEEKLY REPORT (THP-2C) INSTRUCTIONS"]
[]
["Instructions for Front of Report"]
[]
["Purpose. The Highway Patrol Division weekly report (THP-2) is intended to be utilized by CR Investigators, CMV Inspectors, Troopers and Corporals.  It will serve several purposes, such as:"]
["1. Provide an official record of daily activities of each employee completing the report."]
["2. Provide a means of supervisory review and evaluation of the activities performed."]
["3. Provide a system for supplying all levels of command with necessary statistical information."]
["The THP-2C is to be utilized by Equine personnel.  It contains specific categories for the performance of Equine duties."]
[]
["Detailed Procedure"]
["Position Title.  Select from the drop down box the current position the employee holds or enter the employee’s current position on the form."]
["Function. Select from the drop down box the appropriate service the employee is assigned or enter the employees current service on the form."]
["OT Index Number.  Enter the appropriate overtime or Special (Grant Funded) Index Number for the assigned project the employee is working.  If employee has worked multiple projects during the week, enter both index numbers.  "]
["Name.  Enter the employee’s Last name, First Name and Initial of middle name (ie.  Doe, John R.)"]
["ID Number. Enter the employee’s identification number (ie. 3456)"]
["Area.  Enter the employee’s Sergeant area number (ie. 1C10)"]
["Reporting Period.  Enter the beginning day of the week (Sunday) through the end of the week (Saturday)."]
[]
["Days Worked"]
["1. The work week begins on Sunday, at 6:00 a.m. and end on the next Sunday, at 5:59 a.m.  Record the date the work week begins and ends, even if it covers more than one month.  Example:  If Sunday, August 28th is the first day of the work week, continue recording the dates during the week throughSaturday, September 3rd.  Show all days in one weekly report.  Do not split the days covering two separate months on separate weekly reports."]
[]
["2. The calculation of FLSA time and overtime will begin on Saturday and end on Friday for each week."]
[]
["Hours Worked"]
["1. Time Started Work. This is the actual time that each day’s work begins, for each corresponding scheduled day."]
[]
["2. Time Ended Work. This is the actual time work ended for the day."]
["a.) When working night duty, disregard the fact that the first or last few duty hours might be another calendar day - record the shift worked as it is indicated on the schedule. Example: The scheduled time for working Monday is 9:00 PM to 6:00 AM, - time start indicated on the report would be 9:00 PM and the ending time would be 6:00 AM. The time scheduled for Tuesday is 4:00 PM to 1:00 AM - time start indicated on the report would be 4:00 PM and the ending time would be 1:00 AM. "]
["b.) When a special operation or event is conducted and a considerable portion of two or more calendar days is included in a single uninterrupted tour of duty, and there is no clear point at which to end one day and begin the next, so far as duty is concerned, use 6:00 AM as the breaking point. Example: A special operation event begins at 2:00 PM Wednesday and ends at 8:00 AM Thursday. Wednesday’s report would begin at 2:00 PM and end at 6:00 AM. Thursday’s report would begin at 6:00 AM and end at 8:00 AM."]
[]
["3. Hours Off-Duty. Time off duty non-duty type activities. Example: You start work at 9:00 AM and quit work at 2:00 PM. At 6:00 PM you return to work and quit at 10:00 PM. This would be recorded as a total of five hours off duty and a total of eight duty hours. Show to the nearest 1/4 hour."]
[]
["4. Regular Duty and EEP Overtime:  All regular duty hours and any EEP overtime will be shown in this area. "]
["a. Regular Day Duty Hours. Time worked between the hours of 6:00 AM and 6:00 PM. Show to the nearest 1/4 hour."]
["b. Regular Night Duty Hours. Time worked between the hours of 6:00 PM and 6:00 AM. Show to the nearest 1/4 hour."]
["c. Total Regular Duty Hours. This will be the total of all day duty time plus any night duty time for that tour of duty. Show to the nearest 1/4 hour."]
["5. Grant Funded Overtime Hours:  All special project overtime hours will be shown in this area.  Special project overtime is defined as overtime that directly advances enforcement related missions, including court testimony.  Typically enforcement overtime is that time indicated under \"Routine Duties\" for the distribution of duty hours, and will include hours shown in \"Court\".  Special project overtime is defined as overtime worked on special enforcement projects, such as:  Comprehensive STEP, Impaired Driving Mobilization (IDM) STEP, Tx DOT Construction Zone projects, and Border Security projects."]
["a. Special Project OT Day Hours.  Time worked between the hours of 6:00 AM and 6:00 PM while working an enforcement overtime project.  Show to the nearest ¼ hr. "]
["b. Special Project OT Night Hours. Time worked between the hours of 6:00 PM and 6:00 AM while working an enforcement overtime project.  Show to the nearest ¼ hr. "]
["c. Total Special Project OT Hours.  Total number of hours worked while working an enforcement overtime project.  Show to nearest ¼ hr."]
[]
["Distribution of Duty Time. Travel time necessary to perform any activity will be properly charged to that activity when routine duties to your destination are not practical. Show to the nearest 1/4 hour."]
[]
["Administrative."]
["Administrative Duties include training, office duty assigned by a supervisor, court, vehicle maintenance, conducting background investigations, and conducting safety talks. These duties indirectly advance or support the programs of the Highway Patrol Division or Department. "]
["1. Vehicle Maintenance.  Time spent having scheduled maintenance, car wash and or emergency repairs conducted on assigned unit or unit driven at the time of such scheduled maintenance or repairs. Includes but not limited to video, radar, computer and other related equipment."]
["2. Safety / Training Programs. Time spent preparing and presenting public safety programs to group(s). In the REMARKS section on the back of the Weekly Report (THP-2), identify the group and the topic discussed."]
["3. Court  Duty. Time spent in attending court or grand jury as a witness or complainant, checking dispositions, filing cases, or when conferring with judges or prosecutors on specific cases. "]
["4. Background Investigations. Time spent conducting applicant background investigations."]
["5. Training. Time spent in Austin or in the field including Equine training. The time spent by Troopers who are providing and or receiving training while participating in a FTO program and riding in the passenger seat.  Troopers in the lead will show time spent on duty in the respective area of those duties conducted."]
["6. Office Duty. Time spent preparing any required reports or correspondence that cannot be prepared in the field while on patrol. Time also spent in regional, district, or area office when specifically assigned to office duty. "]
[]
["Routine Duties"]
[]
["1. Patrol Enforcement. Time spent performing traffic patrol duties, conducting criminal investigations, border security operations, developing evidence, interviewing witnesses, manhunts, serving or attempting to serve and processing a warrant, capias, or summons, assisting and/or assigned to conduct surveillance on criminal suspects or persons of interest, vehicle searches for contraband and Canine searches; also, includes time spent assisting the Criminal Investigations Division or other agencies with wiretaps or raids, securing crime scenes, and other similar duties.  \n\nTime spent on safety-related duties directed towards primary (elementary & middle school), secondary (high school), and tertiary (higher education) public and private school campuses.  This time includes, but is not necessarily limited to, school walkthroughs, meeting with school administration and employees regarding campus security, assisting school administrators with security threat assessments, and presenting civilian security training to school personnel (C.R.A.S.E - Civilian Response to Active Shooter Events.)\n\nThis does not include time spent on Motor Carrier Safety Grant related activities listed in 4 or enforcement of FMCSR regulations.\n"]
["2. Crash Investigation. Time spent en route to and at the scene of a crash as well as any time spent on follow-up at hospitals, mortuaries, garages, notifying next of kin, reconstruction as a part of a district or state team, directing traffic at a crash scene when you are not the investigating officer, and completing the CR-3 Crash Report."]
["3. Motor Carrier Safety Work. Non-enforcement time spent performing “Motor Carrier Safety” activities not directly specified in a federal grant. The activities that are required to be placed in this category include motor coach/bus inspection activity, driver/carrier education, training conducted in the field which is not a designated FMCSA approved course, seminars and MCSAP related court duties. Travel time will not be shown under this heading."]
[]
["Auto"]
["1. Regular Duty Miles. Record the total duty miles traveled during a regular tour of duty and during non-enforcement overtime.  Include assigned DPS vehicles, other DPS vehicles, and non-DPS vehicles."]
["2. Enforcement Overtime Duty Miles. Record the total duty miles traveled during an enforcement overtime shift. Combined miles if more than one unit used during an enforcement overtime shift."]
["3. Unit Number. Enter the unit number of the vehicle used during the shift."]
["4. Total Duty Miles.  Enter the combined total of number of miles driven during a shift including regular/non-enforcement overtime duty miles and miles driven during an enforcement overtime shift."]
[]
["Equine Administrative Time - those hours that directly contribute to furthering the Department's equine program"]
["1. Equine Training- Record the total time training (actual time:conducting training) . This does not include the"]
["time to make up training courses. "]
["  - Travel within area is training time. Travel to another city for, training is not training time."]
["2. Equine Maintenance- Record the total time for each day required for equine maintenance ( time grooming,"]
["feeding equine, etc.). This will consist of time directly related to the care and health of the Equine."]
["3. Stable, Vehicle, Trailer Maintenance- time spent maintaining, disinfecting, and cleaning the stables, barn,"]
["pasture, building, mounted vehicles, trailers, etc."]
["4. Veterinarian - Time spent taking a equine to the vet and time spent at the veterinarian's office"]
["5. Training Construction- Time spent developing, setting up, creating training."]
["Violations"]
["1. Speeding. Record the total number of arrests and/or warnings for any offense of speeding regardless of the method used in determining the speed."]
["2. DWl. Record the total number of arrests made for any offense of Driving While Intoxicated. Warnings will not be issued for DWI."]
["3. DUI (Minor). Record the total number of arrests for Driving Under the Influence-Minor. Warnings will not be issued for DUI (Minor)."]
["4. Adult Restraint Violations. Record the total number of arrests/warnings for any adult restraint violation."]
["5. Child Restraint Violations. Record the total number of arrests/warnings for child restraint violations. These include arrests for all child safety seat violations, and for restraint violations of children younger than seventeen issued to the driver. "]
["6. Haz-mat (CVE Only). Record the total number of arrests/warnings issued for any of the federal or state Hazardous Material Regulations adopted by the Department."]
["7. Oversize. Record the total number of arrests/warnings for any over width, over height, over length, or illegal load extension offenses."]
["8. Overweight (CVE Only). Record the number of arrests/warnings for any overweight offense. This includes Over Gross Weight, Overweight, Overweight Group of Axles, Over Single Axle, Over Tandem Axle, Over Tire Rating, and all Aiding and Abetting offenses."]
["9. No Insurance / MC Authority. Record the total number of arrests/warnings for any offense of failing to maintain financial responsibility. Motor carrier registration offenses such as Fail to Display TxDOT Insurance Certificate. Also includes the violations found in FMCSR 392.9a such as No Operating Authority, Operating Beyond the Scope of Authority, etc."]
["10. FMCSR Driver. Record the total number of arrests/warnings for any Federal Motor Carrier Safety offenses committed by the driver. This will include Part 391 (Qualifications of Drivers), Part 392 (Driving of Motor Vehicles) and Part 395 (Hours of Service of Drivers) violations. Examples: FMCSR 391.41 –No Medical Certificate, FMCSR 392.9-Load Not Secured Safely, FMCSR 392.71 -Driver in Possession of Radar Detector, FMCSR 395.8(f)(l)-Duty Status Report Not Current, FMCSR 395.8(e)-False Records of Duty Status, etc. (FMCSR seat belt violations will not be reported here. Report these under Adult Restraint Violations) "]
["11. Driver License/DWLI. Record the total number of arrests/warnings for any state driver license violation. This will include No Driver License, Violate D.L. Restrictions, Expired Driver License, Wrong Class Driver License, DWLI, and all state CDL violations. "]
["12. Registration. Record the total number of arrests/ warnings for registration offenses. This includes Operating Unregistered Motor Vehicle, Display Expired License Plates, Fail to Display License Receipt, Fail to Display Apportioned Cab Card, Over Registered Weight, Farm License violations, and any registration permit violations."]
["13. Equipment. Record the total number of arrests/warnings for state or federal (CVE & HP Level 2 certified personnel only) equipment offenses including, but not limited to brakes, lights, wheels, tires, frames, mirrors, fire extinguishers, and vehicle maintenance requirements. All parts of FMCSR, Part 393 (Parts and Accessories Necessary for Safe Operation violations will be recorded here.) Include No Valid Inspection Certificate, No Identifying Markings-Commercial Vehicle and FMCSR 396.17- No Annual Inspection. Record violations of FMCSR 396.5(6) - Engine Oil Leak here."]
["14. Criminal (Felony). Enter the number of felony arrests for violations of criminal statutes."]
["15. Criminal (Misdemeanor). Enter the number of misdemeanor arrests for violations of criminal statutes."]
["16. Fugitive (Felony). Record all arrests made on a felony warrant where a fugitive arrest ticket is completed as required under 20.10.95.01.  If more than one arrest warrant is served on an individual, document this as only one fugitive arrest in this section.  If an individual is arrested for outstanding felony and misdemeanor warrants, document one arrest made in the felony category."]
["17. Fugitive (Misdemeanor). Record all arrests made for a misdemeanor warrant where a fugitive arrest ticket is completed as required under 20.10.95.01.  If more than one arrest warrant is served on an individual, document this as only one fugitive arrest in this section."]
["18. All Other Violations. Record all other arrests/warnings issued for violations under this category. Examples: Failed to Yield Right of Way, Turned Across Divided Section, Disregarded Red Light, Failed to Pass to Left Safely, Following Too Closely, Fail to Drive In A Single Lane, etc."]
["19. Total. Record the sum of each day’s activity. The totals added horizontally and vertically in this section should be the same. "]
["20. Total Number of Vehicles Stopped with Enforcement Action. Enter the total number of contacts made that generated an inspection report (CVE-3), citation (THP-6), warning (THP-3) or arrest."]
[]
["Activities"]
["1. Crashes Investigated. Enter the number of crashes investigated. Record a corresponding entry in the Activity section on the back of the report indicating the date of the crash, the driver(s) involved, and the location where the crash occurred."]
["2. Agency Assist. Enter the number of law enforcement/ governmental agencies assisted. Record a corresponding entry in the Activity section on the back of the report indicating the date, the name of the agency assisted, and location where the assistance was provided. "]
["3. # of Traffic Enforcement Ops with Other Agencies. Enter the number of traffic enforcement Ops worked with other law enforcement agencies. Record a corresponding entry in the Activity Section on the back of the report indicating the date, the agencies worked along with, and the location of operation."]
["\n4. Schools Visited:  Enter the total number of school campuses visited for school safety purposes.\n"]
["5. Motorist Assist. Enter the number of motorists/persons assisted. Do not include providing routine information, such as providing directions or telephone information. Assistance does not require the presence of a vehicle. Record a corresponding entry in the Activity section on the back of the report that indicating the date, the identification factor (Name, License Plate, Driver License number, etc.) and the location where the assistance was provided."]
["6. Safety Programs.  Enter the number of public safety programs presented. Report one program for each hour of presentation or one program for each speech, demonstration, or instruction in a class of less than one hour. Record in the Activity section on the back of the report including the date, type of program presented, and its location. Media/press releases will not be considered safety programs, and therefore will not be recorded as activity in this section; however media releases and their type shall be entered into the Activity section on the back of the report.   "]
["7. Training Programs for other Law Enforcement Agencies. Enter the number of training programs for other law enforcement agencies provided by reporting one program for each hour of presentation or one program for each speech, demonstration, or instruction in a class of less than one hour. Record a corresponding entry in the Activity section on the back of the report indicating the date, the type of training program provided, and its location.  "]
["8. Background Investigations. Enter number of background investigations completed. Record a corresponding entry in the Activity section on the back of the report indicating the date the investigation was completed, the applicant’s name, and the location where the investigation was conducted. "]
["9. Stolen Vehicles Recovered. Enter number of stolen vehicles recovered (with or without apprehensions). Record a corresponding entry in the Activity section on the back of the report indicating the date of recovery, vehicle information (include vehicle identification number), and the location of the recovery."]
["10. Warrants Served. Enter the number of warrants served. Record a corresponding entry in the Activity section on the back of the report indicating the date, the subject’s name, and location of warrant service.\n"]
["11. HQ-35 Seizures. Enter the number of seizures of drugs (more than a user amount), money, or vehicles requiring completion of a HQ-35. Record a corresponding entry in the Activity section on the back of the report indicating the date, the amount of contraband or personal property that was seized, defendant, and the location or jurisdiction handling seizure. \n"]
["12. Intel Hits (WatchList). Enter the number of Intel Hits subjects encountered. An intel hit subject is a person identified on a watchlist maintained by state or federal government. Record a corresponding entry in the Activity section on the back of the report indicating the date, subject information, and location of encounter.\n"]
["13. Intel Reports Submitted. Enter the number of reports generated and submitted for intelligence purposes. An intel report includes the INT-7 or similar report submitted to the Fusion Center.  Record a corresponding entry in the Activity section on the back of the report indicating the date, subject/vehicle information, and location of encounter.\n"]
["14. Vehicle Pursuits. Enter the number of vehicle pursuits that were initiated, or assistance in pursuits initiated by another agency.  Do not document assistance in pursuits that another trooper initiated.\n"]
["15. DL IVS Investigations Completed.  Enter the number of Image Verification System (IVS) investigations that were completed during this weekly reporting period.\n"]
[]
["Motor Carrier Safety Summary"]
["1. Level 2 Inspections. Enter the total number of Level 2 inspections conducted during the reporting period."]
["2. Vehicle OOS. Enter the total number of vehicles placed out-of-service during the reporting period. (Note: If both power unit and trailer are placed out-of-service, this would count as two (2) vehicles out-of-service."]
["3. Driver OOS. Enter the total number of drivers placed out-of-service during the reporting period."]
["4. Vehicles Checked. Enter the number of vehicles stopped where an inspection report (CVE-3) was completed. This would include FMCSA inspections and non FMCSA regulated inspections."]
["17. Weigh in Motion. Enter the number of vehicles weighed using weigh in motion scales during the reporting period."]
[]
["Instructions for Back of Report"]
["1. Date of Activity. Enter the date corresponding to the activity and/or activities recorded on the front of the report."]
["2. Activity. List any activity requiring clarification from front of report."]
["3. Identification. Name of person, place or thing requiring identification that is recorded on the front of the report."]
["4. Location. Location where activity was conducted."]
["5. Date. Enter the date that corresponds with the day of the week."]
["6. OT Hours. Enter the total hours worked in excess of those hours prescribed in a normal duty day or all hours worked on an assigned day off."]
["7. Time Left. Enter time left duty station"]
["8. Arrived Back. Enter the time arrived back to duty station"]
["9. Hours Away. For travel expenses and supervisory review, record the necessary information. One (1) DAY may be used for a full 24-hour period, otherwise show the number of hours."]
["10. Meal. List any full/partial per diem meal expenses claimed. See General Manual Chapter 10 for specific instructions relating to expense vouchers."]
["11. Room and Other. List hotel room and any other expenses claimed."]
["12. Total Expenses. Total of Meals and Room and Other."]
["13. Explanation of Duties Performed, Area Worked, Justification for Overtime. Enter in the space the actual duties performed, location where the duties were performed and expenses incurred. Also, note any extra duty or call out information in which overtime was worked.  Indicate in this section if any overtime worked was non-enforcement or enforcement related overtime."]
[]
["Time Accrued / Taken"]
["1. Code. All off duty time, other than assigned days off, and all time accrued will be reported in chronological order by day according to the proper code(s). If more than one code is needed for a particular day, record each code separately."]
["2. Hours. Show the number of hours decimal equivalent"]
["(in .25 increments) corresponding with the code(s) reported."]
["3. Date. Enter the date(s) the corresponds with the code(s) reported."]
[]
["Secondary Employment"]
["1. Date. Enter date secondary employment worked  "]
["2. Shift. Enter time started/ended at secondary employment."]
["3. Number of Hours Worked. Enter the total hours spent on secondary employment. Total at the bottom of the report. "]
["4. DPS Hours Worked. Enter the number of hours spent that day working for DPS. Total at the bottom of the report."]
["5. Total Hours Worked. Total of DPS time and secondary job hours. Total at the bottom of the report also."]
["6. Leave Type. Enter the proper time off code for any paid DPS leave taken."]
["7. Leave Hours. Enter number of hours claimed corresponding to leave code."]
["8. Business Name and Location. Self-explanatory"]
["9. Other remarks. Self-explanatory,"]
["10. Initial Box. If no secondary employment was worked during this reporting period, either electronically or manually initial the box to certify that no secondary employment was performed."]
[]
["***NOTE***  The maximum number of secondary employment hours when combined with Department work hours cannot exceed 62 hours per work week.  The maximum number of secondary employment hours when combined with Department work hours cannot exceed 14 hours in a 24 hour period.  An employee must rest a minimum of 6 hours following secondary employment that exceeds 4 hours before returning to work for the Department.  The week referenced here for secondary employment is the period defined as a week for reporting purposes: begins on Sunday at 6:00 am and ends on the next Sunday, at 5:59 am.  For the purposes of this policy, a 24 hour period is not necessarily midnight to midnight, for example: 1pm-12:59pm; 3:15am-3:14am.\n\n\nEXAMPLES \n\nMaximum Hours per Week Rule:  An employee working 50 hours for the Department in a work week would be permitted to work 12 hours of secondary employment.  An employee working 40 hours for the Department in a work week would be permitted to work 22 hours of secondary employment.\n\nMaximum Hours per 24 Period Hour Rule:  An employee working 10 hours for the Department would be permitted to work up to 4 hours of secondary employment in a 24 hour period.  An employee working 6 hours for the Department would be permitted to work up to 8 hours of secondary employment in a 24 hour period.  An employee that does not work any hours for the Department would be permitted to work 14 hours of secondary employment in a 24 hour period.\n\nMinimum Hours Rest Rule:  An employee working an assigned work day ending at 6 p.m. on Monday, and working a 12 hour secondary employment shift on their day off on Tuesday from Noon to Midnight, cannot begin work again for the Department until 6 a.m. on Wednesday."]

{"sheet":"Update Log","index":13,"n_rows":65,"n_cols":3,"rows_kept":65,"cut":false,"hidden":false,"merged":[[0,0,0,2],[8,0,8,2],[30,0,30,2],[46,0,46,2],[25,0,25,2],[16,0,16,2],[12,0,12,2]]}
["THP-2C UPDATES (01/2020 rev 1.0)"]
[]
["Form #/Name Change:",null,"Form name changed from THP-2A to THP-2C. "]
[]
["K9 Drop Box Removed:",null,"The K-9 drop box was removed from the back of each week worksheet."]
[]
["Setup Menu:",null,"Additional form fields were added to the setup menu."]
[]
["THP-2A UPDATES (09/2019 rev 1.72)"]
[]
["Banked OT:",null,"OTE Hours banked fields and instructions removed from THP-71 to accommodate FY2020 changes."]
[]
["THP-2A UPDATES (08/2019 rev 1.71)"]
[]
["Time Codes:",null,"The code \"PRADT\" has been added to the CAPPS code listing to allow for troopers to use Physical Readiness Administrative Leave Taken.  The leave will now properly calculate on the THP-71."]
[]
["THP-2A UPDATES (09/2018 rev 1.7)"]
[]
["OT Index",null,"\"OT Index #\" has been changed to \"OT Speed Chart #.\""]
[]
["THP-2 (Routine Duties)",null,"\"Patrol Enforcement\" - This category is additionally to be used for classifying time spent on safety-related duties directed towards primary (elementary & middle school), secondary (high school), and tertiary (higher education) public and private school campuses.  This time includes, but is not necessarily limited to, school walkthroughs, meeting with school administration and employees regarding campus security, assisting school administrators with security threat assessments, and presenting civilian security training to school personnel (C.R.A.S.E - Civilian Response to Active Shooter Events.)"]
[]
["THP-2 (Activities)",null,"\"Schools Visited\" has been added as a category to \"Activities.\"  The total number of school campuses visited during the reporting cycle is listed in this field."]
[]
[]
["THP-2A UPDATES (03/2018 rev 1.5)"]
[]
["THP-2 (Routine Duties)",null,"\"Traffic Enforcement\" and \"Criminal Enforcement\" have been consolidated into one category, \"Patrol Enforcement.\"  Refer to the THP-2A Instructions for a detailed description of the category."]
[]
[]
["THP-2A UPDATES (09/2017 rev 1.4)"]
[]
[]
["Scheduled Day Off:",null,"A new column, \"SCHEDULED DAY OFF,\" was added to the right of the \"COUNTY WORKED\" column.  Double-click the cell that corresponds to each non-duty day (only regular, assigned days off - DOES NOT include days on which leave time is taken).  The double-clicked cell will display a blue check mark.  The corresponding \"DAY\" cell located to the far left of the weekly report will transition to gray with blue font.  NOTE:  If double-clicking a cell in the \"SCHEDULED DAY OFF\" column does not insert a blue checkmark, typing \"x\" in the cell will function as a work-around and allow the OT formulas to calculate properly. \n\nDouble-clicking a \"SCHEDULED DAY OFF\" cell that already contains a blue checkmark will remove the checkmark and transition the corresponding \"DAY\" cell to the original format (no background color with black font).\n\nTo ensure correct calculation of overtime for the THP-71, two (2) regular, scheduled days off must be selected for each weekly report.\n\nUpon resetting the workbook at the end of the cycle, the \"SCHEDULED DAY OFF\" cells will be cleared and the \"DAY\" cells will return to the original format in the file for the next cycle."]
[]
["THP-71:",null,"The THP-71 and underlying formulas have been updated to conform to the new overtime calculation policy.  If a trooper chooses to \"bank\" OTE after the 10th hour worked in each week, the trooper must manually enter the desired number of \"banked\" hours in \"OT Hours to be banked (above 10).\""]
[]
[null,null,"NOTE:  \"Special Project\" hours cannot be banked"]
[]
["Spell Check:",null,"A \"Spell Check\" button has been added to the back page for each week.  By clicking this button, the spelling of text typed into unlocked cells on the back page will be checked against Excel's word dictionary."]
[]
["Report Export:",null,"\"Report Export\" has been updated on \"MAIN\" page.  This function allows the user to select a report (Week 1 - Week 5, THP-71) to be exported to a new Excel file, displaying only that specific report in the new file.  The newly created export file will contain a front and back tab for the weekly report.  You will have the ability to highlight any portion of both the front and the back of the weekly report."]
[]
["Time Codes:",null,"The code \"OTHER\" has been added to the CAPPS ode listing in the event a new leave code is added to the CAPPS system after the distribution of this weekly file.\n\nThe code \"HOB\" has been added to the CAPPS code listing for \"Holiday Observed.\"  Even though this isn't an actual CAPPS code, using this code to document holiday leave observed on the day it is earned will ensure accurate time calculations."]
[]
[]
["THP-2 UPDATES (10/2016 rev 1.2)"]
[]
["Time Codes:",null,"The CAPPS codes for time taken have been added to this workbook.  You will need to setup your commonly-used codes upon first launch of this application or set it up prior to first use by selecting \"Setup CAPPS codes\" on \"MAIN\" page."]
[]
[null,null,"Since the transition to CAPPS, the code \"OTP\" for Overtime Paid is no longer required to be reported on the weekly file.  Continue to record all time taken and all other time earned, including Compensatory Time Earned, with the appropriate code."]
[]
["Select County:",null,"At the top right of each front page, select the county in which you spent 60% or more of your duty time for that day.  Upon first launch of this form, you will be required to setup your commonly-used county list.  The list can be updated by selecting \"Setup County\" on \"MAIN\" page.  If 60% or more time is spent traveling, select \"Traveling.\""]
[]
[null,null,"For each field where county name is entered, **DOUBLE CLICK** the cell to launch the selection form or type the county name into the cell."]
[]
["Setup Cycle:",null,"\"Setup Cycle\"  has been added to \"MAIN\" page.  This will allow you to set the cycle month and year for the current workbook.  This button should only be used if setting up a new workbook file OR if the \"Reset Workbook\" button/procedure is not used.  "]
[]
["Reset Workbook:",null,"Reset Workbook\" has been added to \"MAIN\" page.  Clicking this button will increment the month (and year, if applicable) and create a new cycle workbook file."]
[]
["Signature Image:",null,"\"Insert Signature\" and \"Delete Signature\" have been updated and added to \"MAIN\" page.  "]
[]
["Secondary Emp:",null,"\"Insert Typed Initials\" and \"Delete Typed Initials\" buttons have been added to each report page.  The secondary employment formulas have been updated to remain consistent with current DPS policy.\n\nREMINDER:  An employee who works a secondary employment shift is required to continue entering that information on the weekly report AND submit that information to the Department's on-line Secondary Employment System."]
[]
["Exercise Codes:"]

{"sheet":"DrugType","index":14,"n_rows":9,"n_cols":5,"rows_kept":9,"cut":false,"hidden":true,"merged":[]}
["Type","Value",1,{"$f":"INDEX(A2:A9,$C$1,0)","v":"Marijuana"},{"$f":"INDEX(B2:B9,$C$1,0)","v":"M"}]
["Marijuana","M"]
["Pseudo-Meth","PMT"]
["Pseudo-Cocaine","PC"]
["Pseudo-Heroin","PH"]
["Cocaine","C"]
["Heroin","H"]
["Methamphetamine","MT"]
["Distractor","DIS"]

{"sheet":"ExpType","index":15,"n_rows":27,"n_cols":5,"rows_kept":27,"cut":false,"hidden":true,"merged":[]}
["Type","Value",2,{"$f":"INDEX(A2:A27,$C$1,0)","v":"C-4 Untaged"},{"$f":"INDEX(B2:B27,$C$1,0)","v":2}]
["C-4 Taged",1]
["C-4 Untaged",2]
["Semtex Taged",3]
["DS PETN Taged",4]
["DS RDX Taged",5]
["Comp B",6]
["ANFO",7]
["Cast Booster",8]
["Unigel",9]
["DC PETN",10]
["DC RDX",11]
["Watergel",12]
["TNT Granular",13]
["Slip-on Booster",14]
["Nitro Dynamite",15]
["Nitro Methane",16]
["Black Powder",17]
["AN Prills",18]
["AP",19]
["PP",20]
["Pyrodex",21]
["SP Single Base",22]
["SP Double Base",23]
["Safety Fuse",24]
["Distractor",25]
["Other",26]

{"sheet":"HideType","index":16,"n_rows":11,"n_cols":5,"rows_kept":11,"cut":false,"hidden":true,"merged":[]}
["Type","Value",6,{"$f":"INDEX(A2:A10,$C$1,0)","v":"Deep Large"},{"$f":"INDEX(B2:B10,$C$1,0)","v":"DL"}]
["High Deep Small","HDS"]
["High Deep Medium","HDM"]
["High Deep Large","HDL"]
["Deep Small","DS"]
["Deep Medium","DM"]
["Deep Large","DL"]
["Trace","T"]
["Deep Trace","DT"]
["High Trace","HT"]
["Blank","B"]

{"sheet":"Sheet3","index":17,"n_rows":15,"n_cols":5,"rows_kept":15,"cut":false,"hidden":true,"merged":[]}
[false,null,"Last Name:","SMITH",{"$f":"COUNTBLANK(D1:D2)+COUNTBLANK(D4:D5)+COUNTBLANK(D7:D15)","v":0}]
[false,null,"First Name:","JOE"]
[null,null,"MI:"]
["10/2016 rev 1.2","UPDATE","SSN:",8888]
[null,null,"RDSA:","3EO1"]
[null,null,"Duty Station:","DEL RIO"]
[null,null,"ID:",1333]
[null,null,"Regular OT Index:",44444]
[null,null,"Salary Group:","C2"]
[null,null,"Step Number:",1]
[null,null,"Rank:","Trooper II"]
[null,null,"Function:","HP"]
[null,null,"Canine Name:","BARRETT"]
[null,null,"Canine Type:","FEMALE"]
[null,null,"> 12 Hr OT Index:",4444]

{"sheet":"Codes","index":18,"n_rows":56,"n_cols":4,"rows_kept":56,"cut":false,"hidden":true,"merged":[]}
["CAPPS Code","Description"]
["12CPT","12 NonExe Disaster Taken",null,"12CPT"]
["18CPT","18 Exempt Disaster Taken",null,"18CPT"]
["ADMLT","Administrative Leave Taken",null,"ADMLT"]
["ADOGT","Assistance Dog Training",null,"ADOGT"]
["ANLVT","Annual Leave Taken",null,"ANLVT"]
["CASAT","Court Appoint Spec Advoc Taken",null,"CASAT"]
["COMPT","Compensatory Time Taken",null,"COMPT"]
["CTE","Compensatory Time Earned",null,"DNRBL"]
["DNRBL","Blood Donor",null,"DNRBM"]
["DNRBM","Bone Marrow Donor",null,"DNROG"]
["DNROG","Organ Donor",null,"EDACT"]
["EDACT","Educational Activities",null,"EDSLT"]
["EDSLT","Donated Sick Leave Taken",null,"EDULV"]
["EDULV","Education Leave",null,"EMGNY"]
["EMGNY","Emergency Leave",null,"EMTTR"]
["EMTTR","Volunteer EMT Training",null,"ESCKT"]
["ESCKT","Extended Sick Leave Taken",null,"EXERT"]
["EXERT","Exercise Leave Taken",null,"FLSAP"]
["FLSAP","Banked Overtime Paid",null,"FLSAT"]
["FLSAT","Banked Overtime Taken",null,"FPRNT"]
["FPRNT","Foster Parent Leave",null,"FTNST"]
["FTNST","Emergency Fitness Leave Taken",null,"HCMPT"]
["HCMPT","Holiday Comp Taken",null,"HOB"]
["HOB","Holiday Observed",null,"JURYD"]
["JURYD","Jury Duty",null,"LWPDS"]
["LWPDS","Leave Without Pay - Discipline",null,"LWPEO"]
["LWPEO","Leave Without Pay - Employee",null,"LWPES"]
["LWPES","Leave Without Pay - Empl Sick",null,"LWPFS"]
["LWPFS","Leave Without Pay - Family Sick",null,"LWPMY"]
["LWPMY","Leave Without Pay - Military",null,"LWPPR"]
["LWPPR","Leave Without Pay - Parental",null,"LWPWC"]
["LWPWC","Leave Without Pay - Wrkrs Comp",null,"MLTYT"]
["MLTYT","Military Leave Taken",null,"NGADT"]
["NGADT","National Guard Active Duty Taken",null,"OHCPT"]
["OHCPT","Optional Holiday Comp Taken",null,"ONCLL"]
["ONCLL","On-Call Duty",null,"OTHER"]
["OTHER","Code Not Listed in CAPPS",null,"PRADT"]
["PRADT","Physical Readiness Admin Leave Taken",null,"RDCRS"]
["RDCRS","Red Cross Disaster Service",null,"REGDS"]
["REGDS","Reg Hrs Wrkd - Disaster Servcs",null,"SCKPT"]
["REGHR","Regular Hours Worked",null,"SHEIN"]
["REGHW","Reg Hrs Worked on Holiday",null,"SHNIN"]
["REGOH","Reg Hol Work in liew of Opt Hol",null,"SHWIN"]
["RLELV","Rsrv Law Enfrcmnt Off Training",null,"SICKT"]
["SCKPT","Sick Leave Pool Taken",null,"SNDEM"]
["SHEIN","Intermittent Shift - Evenings",null,"SPECT"]
["SHNIN","Intermittent Shift - Nights",null,"VFFTR"]
["SHWIN","Intermittent Shift - Weekends",null,"VOTES"]
["SICKT","Sick Leave Taken",null,"WELLT"]
["SNDEM","Secondary Employment"]
["SPECT","Special Leave Taken"]
["VFFTR","Volunteer Firefirghter Training"]
["VOTES","Leave to Vote"]
["WELLT","Wellness Leave Taken"]
["WKDHW","Weekend Holiday Worked"]

{"sheet":"CodesCU","index":19,"n_rows":8,"n_cols":6,"rows_kept":8,"cut":false,"hidden":true,"merged":[]}
["ANLVT","Annual Leave Taken",null,null,null,{"$f":"COUNTA(A1:A51)","v":8}]
["COMPT","Compensatory Time Taken"]
["CTE","Compensatory Time Earned"]
["HCMPT","Holiday Comp Taken"]
["HOB","Holiday Observed"]
["PRADT","Physical Readiness Admin Leave Taken"]
["SICKT","Sick Leave Taken"]
["SPECT","Special Leave Taken"]

{"sheet":"County","index":20,"n_rows":254,"n_cols":6,"rows_kept":254,"cut":false,"hidden":true,"merged":[]}
["ANDERSON",null,null,null,null,{"$f":"COUNTA(A1:A254)","v":254}]
["ANDREWS"]
["ANGELINA"]
["ARANSAS"]
["ARCHER"]
["ARMSTRONG"]
["ATASCOSA"]
["AUSTIN"]
["BAILEY"]
["BANDERA"]
["BASTROP"]
["BAYLOR"]
["BEE"]
["BELL"]
["BEXAR"]
["BLANCO"]
["BORDEN"]
["BOSQUE"]
["BOWIE"]
["BRAZORIA"]
["BRAZOS"]
["BREWSTER"]
["BRISCOE"]
["BROOKS"]
["BROWN"]
["BURLESON"]
["BURNET"]
["CALDWELL"]
["CALHOUN"]
["CALLAHAN"]
["CAMERON"]
["CAMP"]
["CARSON"]
["CASS"]
["CASTRO"]
["CHAMBERS"]
["CHEROKEE"]
["CHILDRESS"]
["CLAY"]
["COCHRAN"]
["COKE"]
["COLEMAN"]
["COLLIN"]
["COLLINGSWORTH"]
["COLORADO"]
["COMAL"]
["COMANCHE"]
["CONCHO"]
["COOKE"]
["CORYELL"]
["COTTLE"]
["CRANE"]
["CROCKETT"]
["CROSBY"]
["CULBERSON"]
["DALLAM"]
["DALLAS"]
["DAWSON"]
["DEAF SMITH"]
["DELTA"]
["DENTON"]
["DEWITT"]
["DICKENS"]
["DIMMIT"]
["DONLEY"]
["DUVAL"]
["EASTLAND"]
["ECTOR"]
["EDWARDS"]
["EL PASO"]
["ELLIS"]
["ERATH"]
["FALLS"]
["FANNIN"]
["FAYETTE"]
["FISHER"]
["FLOYD"]
["FOARD"]
["FORT BEND"]
["FRANKLIN"]
["FREESTONE"]
["FRIO"]
["GAINES"]
["GALVESTON"]
["GARZA"]
["GILLESPIE"]
["GLASSCOCK"]
["GOLIAD"]
["GONZALES"]
["GRAY"]
["GRAYSON"]
["GREGG"]
["GRIMES"]
["GUADALUPE"]
["HALE"]
["HALL"]
["HAMILTON"]
["HANSFORD"]
["HARDEMAN"]
["HARDIN"]
["HARRIS"]
["HARRISON"]
["HARTLEY"]
["HASKELL"]
["HAYS"]
["HEMPHILL"]
["HENDERSON"]
["HIDALGO"]
["HILL"]
["HOCKLEY"]
["HOOD"]
["HOPKINS"]
["HOUSTON"]
["HOWARD"]
["HUDSPETH"]
["HUNT"]
["HUTCHINSON"]
["IRION"]
["JACK"]
["JACKSON"]
["JASPER"]
["JEFF DAVIS"]
["JEFFERSON"]
["JIM HOGG"]
["JIM WELLS"]
["JOHNSON"]
["JONES"]
["KARNES"]
["KAUFMAN"]
["KENDALL"]
["KENEDY"]
["KENT"]
["KERR"]
["KIMBLE"]
["KING"]
["KINNEY"]
["KLEBERG"]
["KNOX"]
["LA SALLE"]
["LAMAR"]
["LAMB"]
["LAMPASAS"]
["LAVACA"]
["LEE"]
["LEON"]
["LIBERTY"]
["LIMESTONE"]
["LIPSCOMB"]
["LIVE OAK"]
["LLANO"]
["LOVING"]
["LUBBOCK"]
["LYNN"]
["MADISON"]
["MARION"]
["MARTIN"]
["MASON"]
["MATAGORDA"]
["MAVERICK"]
["MCCULLOCH"]
["MCLENNAN"]
["MCMULLEN"]
["MEDINA"]
["MENARD"]
["MIDLAND"]
["MILAM"]
["MILLS"]
["MITCHELL"]
["MONTAGUE"]
["MONTGOMERY"]
["MOORE"]
["MORRIS"]
["MOTLEY"]
["NACOGDOCHES"]
["NAVARRO"]
["NEWTON"]
["NOLAN"]
["NUECES"]
["OCHILTREE"]
["OLDHAM"]
["ORANGE"]
["PALO PINTO"]
["PANOLA"]
["PARKER"]
["PARMER"]
["PECOS"]
["POLK"]
["POTTER"]
["PRESIDIO"]
["RAINS"]
["RANDALL"]
["REAGAN"]
["REAL"]
["RED RIVER"]
["REEVES"]
["REFUGIO"]
["ROBERTS"]
["ROBERTSON"]
["ROCKWALL"]
["RUNNELS"]
["RUSK"]
["SABINE"]
["SAN AUGUSTINE"]
["SAN JACINTO"]
["SAN PATRICIO"]
["SAN SABA"]
["SCHLEICHER"]
["SCURRY"]
["SHACKELFORD"]
["SHELBY"]
["SHERMAN"]
["SMITH"]
["SOMERVELL"]
["STARR"]
["STEPHENS"]
["STERLING"]
["STONEWALL"]
["SUTTON"]
["SWISHER"]
["TARRANT"]
["TAYLOR"]
["TERRELL"]
["TERRY"]
["THROCKMORTON"]
["TITUS"]
["TOM GREEN"]
["TRAVIS"]
["TRINITY"]
["TYLER"]
["UPSHUR"]
["UPTON"]
["UVALDE"]
["VAL VERDE"]
["VAN ZANDT"]
["VICTORIA"]
["WALKER"]
["WALLER"]
["WARD"]
["WASHINGTON"]
["WEBB"]
["WHARTON"]
["WHEELER"]
["WICHITA"]
["WILBARGER"]
["WILLACY"]
["WILLIAMSON"]
["WILSON"]
["WINKLER"]
["WISE"]
["WOOD"]
["YOAKUM"]
["YOUNG"]
["ZAPATA"]
["ZAVALA"]

{"sheet":"CountyCU","index":21,"n_rows":2,"n_cols":6,"rows_kept":2,"cut":false,"hidden":true,"merged":[]}
["ARCHER",null,null,null,null,{"$f":"COUNTIFS(A1:A254,\"<>*TRAVELING*\",A1:A254,\"?*\")","v":1}]
["TRAVELING"]